Workbook

Sheet Recueil & Suivi
A1: Numéro de suivi | B1: Traitement0 | C1: Typologie principale | D1: Catégorie de rupture | E1: Catégorie classifiée1 | F1: Échelle de gravité ressentie par l'orienteur | G1: Récurrence | H1: Déclarant2 | M1: Situation | Q1: Rupture de parcours3 | W1: Fiche synthèse5 | Z1: Arbre des causes6 | AB1: Réponse mise en place par les acteurs ou Dossier envoyé aux autorités de tutelle7
H2: Structure | I2: Fonction | J2: NOM Prénom | K2: Téléphone | L2: Mail | M2: Date de l'évènement | N2: Âge de la personne3 | O2: Genre | P2: Secteur2 | Q2: Synthèse de la situation4 | R2: Conséquence pour la personne4 | S2: Alternative | T2: Si oui, laquelle ? | U2: Professionnels/Services concernés2 | V2: Axe d'amélioration proposé par l'orienteur | W2: Rédaction | X2: Envoi orienteur | Y2: Validation orienteur | Z2: Pré-analyse | AA2: Validation partenaires
A3: #0001 | B3: =COUNTIF(W3:AB3,"Oui") -> 4 | C3: Mobilité | D3: Secteur contraint du TAD | E3: Oui | F3: 3 - Impact prolongé sur le projet de vie/santé de la personne | G3: Oui | H3: DAC Exemple | I3: Coordinateur de parcours | J3: J. H. | K3: 02 33 00 00 00 | L3: j.h@dac-exemple.fr | M3: 45597 | N3: 35-44 ans | O3: Homme | P3: Territoire 4 | Q3: Monsieur n'a aucun moyen de se rendre à son rendez-vous chez le médecin. Aucun entourage à proximité et pas de permis de conduire. Sa mobilité est réduite suite à un accident (jambe raide). Le transport à la demande n'assure pas de transports hors CDC. Pas de médecin qui accepte de nouveaux patients sur la CDC. Zone rurale = car uniquement le matin et fin d'après-midi. L'arrêt de bus ne se trouve pas à proximité du domicile (2 km). | R3: Pas de suivi médical. | U3: TAD | V3: Que le TAD puisse accompagner des personnes à des rdv médicaux hors CDC. | W3: Oui | X3: Oui | Y3: Oui | Z3: Oui
A4: #0002 | B4: =COUNTIF(W4:AB4,"Oui") -> 6 | C4: Service défaillant | D4: Délais importants d'instruction APA | E4: Oui | F4: 2 - Préjudice temporaire sur le projet de vie/santé de la personne | G4: Oui | H4: SAD | I4: Responsable de secteur | J4: B. C. | K4: 02 33 00 00 01 | L4: bc@sadexemple.com | M4: 45444 | N4: 75-89 ans | O4: Femme | P4: Territoire 1 | Q4: Nous accompagnons une dame a 82 ans et l'avons aidé à réaliser sa demande de révision APA car sa situation s'est dégradée brutalement (chute). Demande de révision réalisée en février. Manque de professionnels à la MDA, demandes et révisions APA avec un délai de traitement très long (jusqu'à 6 mois). | R4: Refus de madame de mettre en place des interventions supplémentaires faute de moyens financiers malgré des besoins présents. | S4: Oui | T4: Sollicitation d'une demande d'aide financière exceptionnelle auprès de la mutuelle, en attente de réponse. | U4: MDA | V4: Réduire les délais d'instruction. | W4: Oui | X4: Oui | Y4: Oui | Z4: Oui | AA4: Oui | AB4: Oui
A5: #0003 | B5: =COUNTIF(W5:AB5,"Oui") -> 3 | C5: Refus de la personne | D5: Refus de prise en charge CMP | E5: Oui | F5: 2 - Préjudice temporaire sur le projet de vie/santé de la personne | G5: Oui | H5: Petits frères des pauvres | I5: Bénévole | J5: L. M. | K5: 02 33 00 00 02 | L5: m.l@departement-exemple.fr | M5: 45536 | N5: 65-74 ans | O5: Homme | P5: Territoire 3 | Q5: Le CPM n'intervient pas quand le patient refuse l'intervention. | R5: Le patient est en situation de refus d'intervention de professionnels alors qu'il a établi un bon lien de confiance avec moi. Mais je ne suis pas compétent pour l'accompagner dans sa dépression. Seul suite au décès brutal de sa compagne... il y a 3 ans !! | S5: Oui | T5: Je continue à faire des visites de courtoisie, mais je me sens démuni. | U5: CMP | V5: Intervenir au moins une fois pour travailler le refus. | W5: Oui | X5: Oui | Z5: Oui
A6: #0004 | B6: =COUNTIF(W6:AB6,"Oui") -> 1 | C6: Zone blanche & liste d'attente | D6: Place en crèche | F6: 3 - Impact prolongé sur le projet de vie/santé de la personne | H6: CIDFF | I6: Psychologue | J6: P. J. | K6: 02 33 00 00 03 | L6: p@exemple.org | M6: 45627 | N6: 18-24 ans | O6: Femme | P6: Territoire 5 | Q6: Madame a 19 ans et a un jeune enfant de 18 mois et a quitté le domicile cojugale suite à des violences verbales et financières. Elle vient de trouver un poste d'aide à domicile avec des horaires coupés. La prise de poste est programée dans 3 jours. | R6: Pas de place en crèche. Pas de possibilité de reprendre une vie équilibrée avec son enfant à charge. | S6: Oui | T6: Sa mère peut garder son fils le matin et/ou le soir mais pas en journée. | U6: Crèche | V6: Prévoir des places prioritaires pour les familles monoparentales. | W6: Oui
A7: #0005 | B7: =COUNTIF(W7:AB7,"Oui") -> 3 | C7: Attractivité | D7: Postes vacants SAD | E7: Oui | F7: 4 - Remise en question du projet de vie/santé de la personne | G7: Oui | H7: Mairie | I7: Maire adjoint | J7: D. R. | K7: 02 33 00 00 04 | L7: dr1974@gmail.com | M7: 45511 | N7: 90-99 ans | O7: Femme | P7: Territoire 9 | Q7: Madame X a fêté ses 91 ans à l'hôpital. Elle l'a très mal vécu. Elle souhaite rester au domicile. Son retour à domicile a été programmé début août, mais aucun SAD ne peut intervenir dans la maison, isolée dans le hameau Y. Il n'y a pas assez de personnel !! | R7: Pas de retour à domicile possible, Madame X déprime d'être à l'hôpital, et se sent coupable de bloquer un lit. | U7: SAD | V7: Recruter du personnel !! | W7: Oui | X7: Oui | Y7: Oui
A8: #0006 | B8: =COUNTIF(W8:AB8,"Oui") -> 0
A9: #0007 | B9: =COUNTIF(W9:AB9,"Oui") -> 0
A10: #0008 | B10: =COUNTIF(W10:AB10,"Oui") -> 0
A11: #0009 | B11: =COUNTIF(W11:AB11,"Oui") -> 0
A12: #0010 | B12: =COUNTIF(W12:AB12,"Oui") -> 0
A13: #0011 | B13: =COUNTIF(W13:AB13,"Oui") -> 0
A14: #0012 | B14: =COUNTIF(W14:AB14,"Oui") -> 0
A15: #0013 | B15: =COUNTIF(W15:AB15,"Oui") -> 0
A16: #0014 | B16: =COUNTIF(W16:AB16,"Oui") -> 0
A17: #0015 | B17: =COUNTIF(W17:AB17,"Oui") -> 0
A18: #0016 | B18: =COUNTIF(W18:AB18,"Oui") -> 0
A19: #0017 | B19: =COUNTIF(W19:AB19,"Oui") -> 0
... A152: #0150 | B152: =COUNTIF(W152:AB152,"Oui") -> 0

Sheet Traitement par acteur
A1: Animateur référent | B1: Acteur | C1: Ruptures concernées | D1: Professionnels impliqués | I1: Notes
D2: NOM Prénom | E2: Fonction | F2: Téléphone | G2: Mail | H2: Plexus
B3: ARS | Agence Régionale de Santé | C3: 0001 | 0003
B4: Associations | C4: 0001 | 0003
B5: Caisses de retraite complémentaires | C5: 0001
B6: CARSAT | Caisse d'Assurance Retraite et de la Santé Au Travail | C6: 0002
B7: CLIC | Centre Local d'Information et de Coordination | C7: 0003
B8: CMP | Centre Médico-Psychologique | C8: 0003
B9: CNSA | Caisse Nationale de Solidarité pour l'Autonomie | C9: 0002
B10: Conseil de l'Ordre des Médecins | C10: 0001 | 0003
B11: Conseil Départemental | C11: 0001
B12: CPAM | Caisse Primaire d'Assurance Maladie | C12: 0001 | 0003
B13: CPTS | Communauté Professionnelle Territoriale de Santé | C13: 0001
B14: Élus | C14: 0001
... B26: Université | C26: 0003

Sheet Statistiques
A1: Typologie principale
A2: Attractivité | B2: =COUNTIF('Recueil & Suivi'!C3:C152,"Attractivité") -> 1
A3: Mobilité | B3: =COUNTIF('Recueil & Suivi'!C3:C152,"Mobilité") -> 1
A4: Services cloisonnés | B4: =COUNTIF('Recueil & Suivi'!C3:C152,"Services cloisonnés") -> 0
A5: Zone blanche & liste d'attente | B5: =COUNTIF('Recueil & Suivi'!C3:C152,"Zone blanche & liste d'attente") -> 1
A6: Professionnel défaillant | B6: =COUNTIF('Recueil & Suivi'!C3:C152,"Professionnel défaillant") -> 0
A7: Service défaillant | B7: =COUNTIF('Recueil & Suivi'!C3:C152,"Service défaillant") -> 1
A8: Système défaillant | B8: =COUNTIF('Recueil & Suivi'!C3:C152,"Système défaillant") -> 0
A9: Refus de la personne | B9: =COUNTIF('Recueil & Suivi'!C3:C152,"Refus de la personne") -> 1
A10: Non-rupture | B10: =COUNTIF('Recueil & Suivi'!C3:C152,"Non-rupture") -> 0
A18: Échelle de gravité
A20: 1 - Mineure sans préjudice sur le projet de vie/santé de la personne | B20: =COUNTIF('Recueil & Suivi'!F3:F152,"1 - Mineure sans préjudice sur le projet de vie/santé de la personne") -> 0
A21: 2 - Préjudice temporaire sur le projet de vie/santé de la personne | B21: =COUNTIF('Recueil & Suivi'!F3:F152,"2 - Préjudice temporaire sur le projet de vie/santé de la personne") -> 2
A22: 3 - Impact prolongé sur le projet de vie/santé de la personne | B22: =COUNTIF('Recueil & Suivi'!F3:F152,"3 - Impact prolongé sur le projet de vie/santé de la personne") -> 2
A23: 4 - Remise en question du projet de vie/santé de la personne | B23: =COUNTIF('Recueil & Suivi'!F3:F152,"4 - Remise en question du projet de vie/santé de la personne") -> 1
A33: Âge de la personne
A34: Non renseigné | B34: =COUNTIF('Recueil & Suivi'!N3:N152,"Non renseigné") -> 0
A35: 0-3 ans | B35: =COUNTIF('Recueil & Suivi'!N3:N152,"0-3 ans") -> 0
A36: 4-6 ans | B36: =COUNTIF('Recueil & Suivi'!N3:N152,"4-6 ans") -> 0
A37: 7-12 ans | B37: =COUNTIF('Recueil & Suivi'!N3:N152,"7-12 ans") -> 0
A38: 13-17 ans | B38: =COUNTIF('Recueil & Suivi'!N3:N152,"13-17 ans") -> 0
A39: 18-24 ans | B39: =COUNTIF('Recueil & Suivi'!N3:N152,"18-24 ans") -> 1
A40: 25-34 ans | B40: =COUNTIF('Recueil & Suivi'!N3:N152,"25-34 ans") -> 0
A41: 35-44 ans | B41: =COUNTIF('Recueil & Suivi'!N3:N152,"35-44 ans") -> 1
A42: 45-59 ans | B42: =COUNTIF('Recueil & Suivi'!N3:N152,"45-59 ans") -> 0
A43: 60-64 ans | B43: =COUNTIF('Recueil & Suivi'!N3:N152,"60-64 ans") -> 0
A44: 65-74 ans | B44: =COUNTIF('Recueil & Suivi'!N3:N152,"65-74 ans") -> 1
A45: 75-89 ans | B45: =COUNTIF('Recueil & Suivi'!N3:N152,"75-89 ans") -> 1
A46: 90-99 ans | B46: =COUNTIF('Recueil & Suivi'!N3:N152,"90-99 ans") -> 1
A47: 100 ans et + | B47: =COUNTIF('Recueil & Suivi'!N3:N152,"100 ans et +") -> 0
A50: Âge de la personne (simplifié)
A51: Non renseigné | B51: =B34 -> 0
A52: 0-17 ans | B52: =SUM(B35:B38) -> 0
A53: 18-59 ans | B53: =SUM(B39:B42) -> 2
A54: 60-74 ans | B54: =SUM(B43:B44) -> 1
A55: 75 ans et + | B55: =SUM(B45:B47) -> 2
A65: Genre de la personne
A66: Femme | B66: =COUNTIF('Recueil & Suivi'!O3:O152,"Femme") -> 3
A67: Homme | B67: =COUNTIF('Recueil & Suivi'!O3:O152,"Homme") -> 2
A68: Non-binaire | B68: =COUNTIF('Recueil & Suivi'!O3:O152,"Non-binaire") -> 0
A69: Non renseigné | B69: =COUNTIF('Recueil & Suivi'!O3:O152,"Non renseigné") -> 0
A81: Nombre de ruptures | B81: =COUNTIF('Recueil & Suivi'!W3:W152,"Oui") -> 5
A82: Rupture résolue ou mise en lisibilité aux tutelles | B82: =COUNTIF('Recueil & Suivi'!AB3:AB152,"Oui") -> 1
A83: Taux de résolution | B83: =B82/B81 -> 0.2

Sheet Annotations
A1: 0 | B1: Étapes des colonnes W à AB.
A2: 1 | B2: Voir le fichier "Modèle - Catégories des ruptures de parcours".
A3: 2 | B3: Données confidentielles réservées aux animateurs territoriaux.
A4: 3 | B4: Les données sont anonymisées. Si des données individuelles ont été rédigées par l'orienteur, elles sont anonymisées.
A5: 4 | B5: Texte brut de l'orienteur, sauf anonymisations de données potentielles.
A6: 5 | B6: Voir le fichier "Modèle - Fiche de pré-analyse de rupture de parcours" et exemples associés.
A7: 6 | B7: Voir les fichiers exemples "Arbre des causes A | B | C".
A8: 7 | B8: Voir les fichiers "Modèle - Recueil partagé des tarifications" & "Dossier financier B"
A9: 8 | B9: Fichier partagé "Typologie des acteurs" de la FACS Régionale.

Sheet #DATA
A1: Typologie de ruptures | B1: Échelle de gravité
A3: Attractivité | B3: 1 - Mineure sans préjudice sur le projet de vie/santé de la personne
A4: Mobilité | B4: 2 - Préjudice temporaire sur le projet de vie/santé de la personne
A5: Services cloisonnés | B5: 3 - Impact prolongé sur le projet de vie/santé de la personne
A6: Zone blanche & liste d'attente | B6: 4 - Remise en question du projet de vie/santé de la personne
A7: Professionnel défaillant
A8: Service défaillant | B8: Secteur
A9: Système défaillant
A10: Refus de la personne | B10: Territoire 1
A11: Non-rupture | B11: Territoire 2
B12: Territoire 3
A13: Genre | B13: Territoire 4
B14: Territoire 5
A15: Femme | B15: Territoire 6
A16: Homme | B16: Territoire 7
A17: Non-binaire | B17: Territoire 8
A18: Non renseigné | B18: Territoire 9
B19: Territoire 10
A20: Âge de la personne | B20: Territoire 11
B21: Territoire 12
A22: Non renseigné | B22: Territoire 13
A23: 0-3 ans | B23: Territoire 14
A24: 4-6 ans | B24: Territoire 15
A25: 7-12 ans
A26: 13-17 ans | B26: Réponse
A27: 18-24 ans
A28: 25-34 ans | B28: Oui
A29: 35-44 ans
A30: 45-59 ans
A31: 60-64 ans
A32: 65-74 ans
A33: 75-89 ans
A34: 90-99 ans
A35: 100 ans et +
A37: Animateur référent
A39: Morgan
A40: Nicolas
A41: M&N
