Workbook
Name bdd_services: bdd!$1:$1048576
Name choix_service: 'Posters Trimestres'!$C$4
Name choix_service2: 'Posters mois'!$C$4
Name dt_autre: Saisie!$A$131:$C$139
Name dt_chirurgie: Saisie!$A$30:$C$33
Name dt_go: Saisie!$A$51:$C$55
Name dt_medecine: Saisie!$A$7:$C$12
Name dt_rea: Saisie!$A$74:$C$75
Name dt_sld: Saisie!$A$112:$C$113
Name dt_ssr: Saisie!$A$93:$C$94
Name etab: Infos!$D$3
Name liste_autre: Saisie!$A$143:$B$152
Name liste_chirurgie: Saisie!$A$37:$B$46
Name liste_go: Saisie!$A$59:$B$68
Name liste_medecine: Saisie!$A$16:$B$25
Name liste_rea: Saisie!$A$79:$B$88
Name liste_sld: Saisie!$A$117:$B$126
Name liste_ssr: Saisie!$A$98:$B$107
Name saisie: Saisie!$1:$1048576
Name volume_friction: 'Posters Trimestres'!$A$33

Sheet Infos
C1: ICSHA 3 | D1: Année 2025
C3: Etablissement : | D3: Nom de l'établissement
K4: 7
C5: Saisie | D5: La saisie se fait dans l'onglet "Saisie", dans les cases jaunes,
D6: soit pour chaque trimestre, soit pour chaque mois de l'année.
D7: Saisir : le nom des services, leur type d'activité (liste déroulante),
D8: la consommation de SHA en litres, et les données d'activité.
C10: Analyses | D10: Dans l'onglet "Saisie", la consommation théorique et le pourcentage
D11: d'atteinte de l'objectif sont calculés automatiquement soit pour chaque
D12: trimestre, soit pour chaque mois, et pour l'année.
D13: Dans les onglets "Poster" : choisir un type de service (liste déroulante)
D14: puis un service pour afficher le poster correspondant à ce service.
C18: © CPIAS NORMANDIE - 2019-2025

Sheet Saisie
A1: Saisie des consommations de SHA et de l'activité des services
B2: Saisir soit la consommations mensuelle, soit la consommation trimestrielle
A4: Services de médecine
A6: Type d'activité : | B6: Nombre de frictions à atteindre | C6: Activité mesurée par
A7: Médecine HC | B7: 10 | C7: Jour
A8: Médecine HJ | B8: 5 | C8: Jour
A9: Psychiatrie HC | B9: 4 | C9: Jour
A10: Psychiatrie HJ | B10: 2 | C10: Jour
A11: Chimiothérapie HC | B11: 6 | C11: Séance
A12: Hémodialyse | B12: 11 | C12: Séance
D14: Janvier | F14: Février | H14: Mars | J14: Trimestre 1 | L14: Avril | N14: Mai | P14: Juin | R14: Trimestre 2 | T14: Juillet | V14: Août | X14: Septembre | Z14: Trimestre 3 | AB14: Octobre | AD14: Novembre | AF14: Décembre | AH14: Trimestre 4
A15: Service | B15: Spécialité | C15: Frictions théoriques | D15: Litres | E15: Activité | F15: Litres | G15: Activité | H15: Litres | I15: Activité | J15: Litres | K15: Activité | L15: Litres | M15: Activité | N15: Litres | O15: Activité | P15: Litres | Q15: Activité | R15: Litres | S15: Activité | T15: Litres | U15: Activité | V15: Litres | W15: Activité | X15: Litres | Y15: Activité | Z15: Litres | AA15: Activité | AB15: Litres | AC15: Activité | AD15: Litres | AE15: Activité | AF15: Litres | AG15: Activité | AH15: Litres | AI15: Activité
C16: =IFERROR(VLOOKUP(B16,dt_medecine,2,FALSE),"")
C17: =IFERROR(VLOOKUP(B17,dt_medecine,2,FALSE),"")
C18: =IFERROR(VLOOKUP(B18,dt_medecine,2,FALSE),"")
C19: =IFERROR(VLOOKUP(B19,dt_medecine,2,FALSE),"")
C20: =IFERROR(VLOOKUP(B20,dt_medecine,2,FALSE),"")
C21: =IFERROR(VLOOKUP(B21,dt_medecine,2,FALSE),"")
C22: =IFERROR(VLOOKUP(B22,dt_medecine,2,FALSE),"")
C23: =IFERROR(VLOOKUP(B23,dt_medecine,2,FALSE),"")
C24: =IFERROR(VLOOKUP(B24,dt_medecine,2,FALSE),"")
C25: =IFERROR(VLOOKUP(B25,dt_medecine,2,FALSE),"")
A27: Services de chirurgie
A29: Type d'activité : | B29: Nombre de frictions à atteindre | C29: Activité mesurée par
A30: Chirurgie HC | B30: 12 | C30: Jour
A31: Chirurgie HJ | B31: 5 | C31: Jour
A32: Chimiothérapie HC | B32: 6 | C32: Séance
A33: Bloc + SSPI | B33: 14 | C33: Acte
D35: Janvier | F35: Février | H35: Mars | J35: Trimestre 1 | L35: Avril | N35: Mai | P35: Juin | R35: Trimestre 2 | T35: Juillet | V35: Août | X35: Septembre | Z35: Trimestre 3 | AB35: Octobre | AD35: Novembre | AF35: Décembre | AH35: Trimestre 4
A36: Service | B36: Spécialité | C36: Frictions théoriques | D36: Litres | E36: Activité | F36: Litres | G36: Activité | H36: Litres | I36: Activité | J36: Litres | K36: Activité | L36: Litres | M36: Activité | N36: Litres | O36: Activité | P36: Litres | Q36: Activité | R36: Litres | S36: Activité | T36: Litres | U36: Activité | V36: Litres | W36: Activité | X36: Litres | Y36: Activité | Z36: Litres | AA36: Activité | AB36: Litres | AC36: Activité | AD36: Litres | AE36: Activité | AF36: Litres | AG36: Activité | AH36: Litres | AI36: Activité
C37: =IFERROR(VLOOKUP(B37,dt_chirurgie,2,FALSE),"")
C38: =IFERROR(VLOOKUP(B38,dt_chirurgie,2,FALSE),"")
C39: =IFERROR(VLOOKUP(B39,dt_chirurgie,2,FALSE),"")
C40: =IFERROR(VLOOKUP(B40,dt_chirurgie,2,FALSE),"")
C41: =IFERROR(VLOOKUP(B41,dt_chirurgie,2,FALSE),"")
C42: =IFERROR(VLOOKUP(B42,dt_chirurgie,2,FALSE),"")
C43: =IFERROR(VLOOKUP(B43,dt_chirurgie,2,FALSE),"")
C44: =IFERROR(VLOOKUP(B44,dt_chirurgie,2,FALSE),"")
C45: =IFERROR(VLOOKUP(B45,dt_chirurgie,2,FALSE),"")
C46: =IFERROR(VLOOKUP(B46,dt_chirurgie,2,FALSE),"")
A48: Services de gynécologie et obstétrique
A50: Type d'activité : | B50: Nombre de frictions à atteindre | C50: Activité mesurée par
A51: Obstétrique / Gynécologie HC | B51: 12 | C51: Jour
A52: Obstétrique / Gynécologie HJ | B52: 6 | C52: Jour
A53: Chimiothérapie HC | B53: 6 | C53: Séance
A54: Accouchement avec césarienne + SSPI | B54: 16 | C54: Accouchement
A55: Accouchement sans césarienne | B55: 14 | C55: Accouchement
D57: Janvier | F57: Février | H57: Mars | J57: Trimestre 1 | L57: Avril | N57: Mai | P57: Juin | R57: Trimestre 2 | T57: Juillet | V57: Août | X57: Septembre | Z57: Trimestre 3 | AB57: Octobre | AD57: Novembre | AF57: Décembre | AH57: Trimestre 4
A58: Service | B58: Spécialité | C58: Frictions théoriques | D58: Litres | E58: Activité | F58: Litres | G58: Activité | H58: Litres | I58: Activité | J58: Litres | K58: Activité | L58: Litres | M58: Activité | N58: Litres | O58: Activité | P58: Litres | Q58: Activité | R58: Litres | S58: Activité | T58: Litres | U58: Activité | V58: Litres | W58: Activité | X58: Litres | Y58: Activité | Z58: Litres | AA58: Activité | AB58: Litres | AC58: Activité | AD58: Litres | AE58: Activité | AF58: Litres | AG58: Activité | AH58: Litres | AI58: Activité
C59: =IFERROR(VLOOKUP(B59,dt_go,2,FALSE),"")
C60: =IFERROR(VLOOKUP(B60,dt_go,2,FALSE),"")
C61: =IFERROR(VLOOKUP(B61,dt_go,2,FALSE),"")
C62: =IFERROR(VLOOKUP(B62,dt_go,2,FALSE),"")
C63: =IFERROR(VLOOKUP(B63,dt_go,2,FALSE),"")
C64: =IFERROR(VLOOKUP(B64,dt_go,2,FALSE),"")
C65: =IFERROR(VLOOKUP(B65,dt_go,2,FALSE),"")
C66: =IFERROR(VLOOKUP(B66,dt_go,2,FALSE),"")
C67: =IFERROR(VLOOKUP(B67,dt_go,2,FALSE),"")
C68: =IFERROR(VLOOKUP(B68,dt_go,2,FALSE),"")
A70: Services de Réanimation / Soins continus
A73: Type d'activité : | B73: Nombre de frictions à atteindre | C73: Activité mesurée par
A74: Réanimation | B74: 43 | C74: Jour
A75: USI-USC | B75: 28 | C75: Jour
D77: Janvier | F77: Février | H77: Mars | J77: Trimestre 1 | L77: Avril | N77: Mai | P77: Juin | R77: Trimestre 2 | T77: Juillet | V77: Août | X77: Septembre | Z77: Trimestre 3 | AB77: Octobre | AD77: Novembre | AF77: Décembre | AH77: Trimestre 4
A78: Service | B78: Spécialité | C78: Frictions théoriques | D78: Litres | E78: Activité | F78: Litres | G78: Activité | H78: Litres | I78: Activité | J78: Litres | K78: Activité | L78: Litres | M78: Activité | N78: Litres | O78: Activité | P78: Litres | Q78: Activité | R78: Litres | S78: Activité | T78: Litres | U78: Activité | V78: Litres | W78: Activité | X78: Litres | Y78: Activité | Z78: Litres | AA78: Activité | AB78: Litres | AC78: Activité | AD78: Litres | AE78: Activité | AF78: Litres | AG78: Activité | AH78: Litres | AI78: Activité
A79: Réa1 | B79: Réanimation | C79: =IFERROR(VLOOKUP(B79,dt_rea,2,FALSE),"") -> 43 | D79: 42 | E79: 580 | F79: 44 | G79: 610 | H79: 44 | I79: 605 | J79: =D79+F79+H79 -> 130 | K79: =E79+G79+I79 -> 1795
C80: =IFERROR(VLOOKUP(B80,dt_rea,2,FALSE),"")
C81: =IFERROR(VLOOKUP(B81,dt_rea,2,FALSE),"")
C82: =IFERROR(VLOOKUP(B82,dt_rea,2,FALSE),"")
C83: =IFERROR(VLOOKUP(B83,dt_rea,2,FALSE),"")
C84: =IFERROR(VLOOKUP(B84,dt_rea,2,FALSE),"")
C85: =IFERROR(VLOOKUP(B85,dt_rea,2,FALSE),"")
C86: =IFERROR(VLOOKUP(B86,dt_rea,2,FALSE),"")
C87: =IFERROR(VLOOKUP(B87,dt_rea,2,FALSE),"")
C88: =IFERROR(VLOOKUP(B88,dt_rea,2,FALSE),"")
A90: Services de SSR
A92: Type d'activité : | B92: Nombre de frictions à atteindre | C92: Activité mesurée par
A93: SSR HC | B93: 8 | C93: Jour
A94: SSR HJ | B94: 5 | C94: Jour
D96: Janvier | F96: Février | H96: Mars | J96: Trimestre 1 | L96: Avril | N96: Mai | P96: Juin | R96: Trimestre 2 | T96: Juillet | V96: Août | X96: Septembre | Z96: Trimestre 3 | AB96: Octobre | AD96: Novembre | AF96: Décembre | AH96: Trimestre 4
A97: Service | B97: Spécialité | C97: Frictions théoriques | D97: Litres | E97: Activité | F97: Litres | G97: Activité | H97: Litres | I97: Activité | J97: Litres | K97: Activité | L97: Litres | M97: Activité | N97: Litres | O97: Activité | P97: Litres | Q97: Activité | R97: Litres | S97: Activité | T97: Litres | U97: Activité | V97: Litres | W97: Activité | X97: Litres | Y97: Activité | Z97: Litres | AA97: Activité | AB97: Litres | AC97: Activité | AD97: Litres | AE97: Activité | AF97: Litres | AG97: Activité | AH97: Litres | AI97: Activité
C98: =IFERROR(VLOOKUP(B98,dt_ssr,2,FALSE),"")
C99: =IFERROR(VLOOKUP(B99,dt_ssr,2,FALSE),"")
C100: =IFERROR(VLOOKUP(B100,dt_ssr,2,FALSE),"")
C101: =IFERROR(VLOOKUP(B101,dt_ssr,2,FALSE),"")
C102: =IFERROR(VLOOKUP(B102,dt_ssr,2,FALSE),"")
C103: =IFERROR(VLOOKUP(B103,dt_ssr,2,FALSE),"")
C104: =IFERROR(VLOOKUP(B104,dt_ssr,2,FALSE),"")
C105: =IFERROR(VLOOKUP(B105,dt_ssr,2,FALSE),"")
C106: =IFERROR(VLOOKUP(B106,dt_ssr,2,FALSE),"")
C107: =IFERROR(VLOOKUP(B107,dt_ssr,2,FALSE),"")
A109: Services de SLD - EHPAD
A111: Type d'activité : | B111: Nombre de frictions à atteindre | C111: Activité mesurée par
A112: SLD | B112: 7 | C112: Jour
A113: EHPAD HC* | B113: 4 | C113: Jour | D113: *Activité non prise en compte dans le calcul de l'ICSHA3
D115: Janvier | F115: Février | H115: Mars | J115: Trimestre 1 | L115: Avril | N115: Mai | P115: Juin | R115: Trimestre 2 | T115: Juillet | V115: Août | X115: Septembre | Z115: Trimestre 3 | AB115: Octobre | AD115: Novembre | AF115: Décembre | AH115: Trimestre 4
A116: Service | B116: Spécialité | C116: Frictions théoriques | D116: Litres | E116: Activité | F116: Litres | G116: Activité | H116: Litres | I116: Activité | J116: Litres | K116: Activité | L116: Litres | M116: Activité | N116: Litres | O116: Activité | P116: Litres | Q116: Activité | R116: Litres | S116: Activité | T116: Litres | U116: Activité | V116: Litres | W116: Activité | X116: Litres | Y116: Activité | Z116: Litres | AA116: Activité | AB116: Litres | AC116: Activité | AD116: Litres | AE116: Activité | AF116: Litres | AG116: Activité | AH116: Litres | AI116: Activité
C117: =IFERROR(VLOOKUP(B117,dt_sld,2,FALSE),"")
C118: =IFERROR(VLOOKUP(B118,dt_sld,2,FALSE),"")
C119: =IFERROR(VLOOKUP(B119,dt_sld,2,FALSE),"")
...

Sheet Posters mois
A1: Choisir un service puis imprimer le poster | G1: Zone d'impression :
B2: Choix du service : | H2: Indicateur ICSHA 3 | K2: =etab -> Nom de l'établissement
B3: 1/ Choisir le type de service : | C3: Médecine | H3: 2025 | I3: Service : | J3: =choix_service2 -> 0
B4: 2/ Choisir le service : | I4: Activité : | J4: =IFERROR(B68,"")
K5: Nombre de frictions théoriques : | L5: =IFERROR(B69,"") | M5: par patient et par jour
B6: ="Liste des service pour l'activité : "&C3 -> Liste des service pour l'activité : Médecine
B7: Service | C7: Activité | I7: Consommation (en litres) | J7: Atteinte de l'objectif | L7: Frictions réalisées
B8: =IF(A45=0,"",A45) | C8: =IF(A56=0,"",A56) | H8: Janvier | I8: =IFERROR(IF(OR(B71="",B71=0),"",B71),"") | J8: =IFERROR(IF(OR(C71="",C71=0),"",C71),"") | K8: =IF(J8<>"",IF(J8<0.8,"L",IF(J8<1,"J","JJ")),"") | L8: =IFERROR(IF(OR(D71="",D71=0),"",D71),"")
B9: =IF(A46=0,"",A46) | C9: =IF(A57=0,"",A57) | H9: Février | I9: =IFERROR(IF(OR(B72="",B72=0),"",B72),"") | J9: =IFERROR(IF(OR(C72="",C72=0),"",C72),"") | K9: =IF(J9<>"",IF(J9<0.8,"L",IF(J9<1,"J","JJ")),"") | L9: =IFERROR(IF(OR(D72="",D72=0),"",D72),"")
B10: =IF(A47=0,"",A47) | C10: =IF(A58=0,"",A58) | H10: Mars | I10: =IFERROR(IF(OR(B73="",B73=0),"",B73),"") | J10: =IFERROR(IF(OR(C73="",C73=0),"",C73),"") | K10: =IF(J10<>"",IF(J10<0.8,"L",IF(J10<1,"J","JJ")),"") | L10: =IFERROR(IF(OR(D73="",D73=0),"",D73),"")
B11: =IF(A48=0,"",A48) | C11: =IF(A59=0,"",A59) | H11: Avril | I11: =IFERROR(IF(OR(B74="",B74=0),"",B74),"") | J11: =IFERROR(IF(OR(C74="",C74=0),"",C74),"") | K11: =IF(J11<>"",IF(J11<0.8,"L",IF(J11<1,"J","JJ")),"") | L11: =IFERROR(IF(OR(D74="",D74=0),"",D74),"")
B12: =IF(A49=0,"",A49) | C12: =IF(A60=0,"",A60) | H12: Mai | I12: =IFERROR(IF(OR(B75="",B75=0),"",B75),"") | J12: =IFERROR(IF(OR(C75="",C75=0),"",C75),"") | K12: =IF(J12<>"",IF(J12<0.8,"L",IF(J12<1,"J","JJ")),"") | L12: =IFERROR(IF(OR(D75="",D75=0),"",D75),"")
B13: =IF(A50=0,"",A50) | C13: =IF(A61=0,"",A61) | H13: Juin | I13: =IFERROR(IF(OR(B76="",B76=0),"",B76),"") | J13: =IFERROR(IF(OR(C76="",C76=0),"",C76),"") | K13: =IF(J13<>"",IF(J13<0.8,"L",IF(J13<1,"J","JJ")),"") | L13: =IFERROR(IF(OR(D76="",D76=0),"",D76),"")
B14: =IF(A51=0,"",A51) | C14: =IF(A62=0,"",A62) | H14: Juillet | I14: =IFERROR(IF(OR(B77="",B77=0),"",B77),"") | J14: =IFERROR(IF(OR(C77="",C77=0),"",C77),"") | K14: =IF(J14<>"",IF(J14<0.8,"L",IF(J14<1,"J","JJ")),"") | L14: =IFERROR(IF(OR(D77="",D77=0),"",D77),"")
B15: =IF(A52=0,"",A52) | C15: =IF(A63=0,"",A63) | H15: Août | I15: =IFERROR(IF(OR(B78="",B78=0),"",B78),"") | J15: =IFERROR(IF(OR(C78="",C78=0),"",C78),"") | K15: =IF(J15<>"",IF(J15<0.8,"L",IF(J15<1,"J","JJ")),"") | L15: =IFERROR(IF(OR(D78="",D78=0),"",D78),"")
B16: =IF(A53=0,"",A53) | C16: =IF(A64=0,"",A64) | H16: Sept, | I16: =IFERROR(IF(OR(B79="",B79=0),"",B79),"") | J16: =IFERROR(IF(OR(C79="",C79=0),"",C79),"") | K16: =IF(J16<>"",IF(J16<0.8,"L",IF(J16<1,"J","JJ")),"") | L16: =IFERROR(IF(OR(D79="",D79=0),"",D79),"")
B17: =IF(A54=0,"",A54) | C17: =IF(A65=0,"",A65) | H17: Octobre | I17: =IFERROR(IF(OR(B80="",B80=0),"",B80),"") | J17: =IFERROR(IF(OR(C80="",C80=0),"",C80),"") | K17: =IF(J17<>"",IF(J17<0.8,"L",IF(J17<1,"J","JJ")),"") | L17: =IFERROR(IF(OR(D80="",D80=0),"",D80),"")
H18: Nov. | I18: =IFERROR(IF(OR(B81="",B81=0),"",B81),"") | J18: =IFERROR(IF(OR(C81="",C81=0),"",C81),"") | K18: =IF(J18<>"",IF(J18<0.8,"L",IF(J18<1,"J","JJ")),"") | L18: =IFERROR(IF(OR(D81="",D81=0),"",D81),"")
H19: Déc. | I19: =IFERROR(IF(OR(B82="",B82=0),"",B82),"") | J19: =IFERROR(IF(OR(C82="",C82=0),"",C82),"") | K19: =IF(J19<>"",IF(J19<0.8,"L",IF(J19<1,"J","JJ")),"") | L19: =IFERROR(IF(OR(D82="",D82=0),"",D82),"")
B20: Rappel : | H20: Année | I20: =IFERROR(IF(OR(B87="",B87=0),"",B87),"") | J20: =IFERROR(IF(OR(C87="",C87=0),"",C87),"") | K20: =IF(J20<>"",IF(J20<0.8,"L",IF(J20<1,"J","JJ")),"") | L20: =IFERROR(IF(OR(D87="",D87=0),"",D87),"")
B21: Choisir un type de service (liste déroulante en jaune | Q21: Version 2 - 2024
B22: ci-dessus), puis un service pour afficher le poster
B23: correspondant à ce service.
A31: Réglages :
A32: Volume d'une friction (ml) :
A33: 3
A35: Types de services :
A36: Médecine
A37: Chirurgie
A38: Gynéco-Obst
A39: Réa-SC
A40: SSR
A41: SLD-EHPAD
A42: Autre
A44: Choix des services :
A45: =DGET(bdd_services,"nom",B45:C46) -> 0 | B45: type | C45: n | D45: type | E45: n
A46: =DGET(bdd_services,"nom",D45:E46) -> 0 | B46: =C3 -> Médecine | C46: 1 | D46: =B46 -> Médecine | E46: 2
A47: =DGET(bdd_services,"nom",B47:C48) -> 0 | B47: type | C47: n | D47: type | E47: n
A48: =DGET(bdd_services,"nom",D47:E48) -> 0 | B48: =B46 -> Médecine | C48: 3 | D48: =B48 -> Médecine | E48: 4
A49: =DGET(bdd_services,"nom",B49:C50) -> 0 | B49: type | C49: n | D49: type | E49: n
A50: =DGET(bdd_services,"nom",D49:E50) -> 0 | B50: =B46 -> Médecine | C50: 5 | D50: =B50 -> Médecine | E50: 6
A51: =DGET(bdd_services,"nom",B51:C52) -> 0 | B51: type | C51: n | D51: type | E51: n
A52: =DGET(bdd_services,"nom",D51:E52) -> 0 | B52: =B46 -> Médecine | C52: 7 | D52: =B52 -> Médecine | E52: 8
A53: =DGET(bdd_services,"nom",B53:C54) -> 0 | B53: type | C53: n | D53: type | E53: n
A54: =DGET(bdd_services,"nom",D53:E54) -> 0 | B54: =B46 -> Médecine | C54: 9 | D54: =B54 -> Médecine | E54: 10
A55: Spécialités des services :
A56: =DGET(bdd_services,"activite",B56:C57) -> 0 | B56: type | C56: n | D56: type | E56: n
A57: =DGET(bdd_services,"activite",D56:E57) -> 0 | B57: =C3 -> Médecine | C57: 1 | D57: =B57 -> Médecine | E57: 2
A58: =DGET(bdd_services,"activite",B58:C59) -> 0 | B58: type | C58: n | D58: type | E58: n
A59: =DGET(bdd_services,"activite",D58:E59) -> 0 | B59: =B57 -> Médecine | C59: 3 | D59: =B59 -> Médecine | E59: 4
A60: =DGET(bdd_services,"activite",B60:C61) -> 0 | B60: type | C60: n | D60: type | E60: n
A61: =DGET(bdd_services,"activite",D60:E61) -> 0 | B61: =B57 -> Médecine | C61: 5 | D61: =B61 -> Médecine | E61: 6
A62: =DGET(bdd_services,"activite",B62:C63) -> 0 | B62: type | C62: n | D62: type | E62: n
A63: =DGET(bdd_services,"activite",D62:E63) -> 0 | B63: =B57 -> Médecine | C63: 7 | D63: =B63 -> Médecine | E63: 8
A64: =DGET(bdd_services,"activite",B64:C65) -> 0 | B64: type | C64: n | D64: type | E64: n
A65: =DGET(bdd_services,"activite",D64:E65) -> 0 | B65: =B57 -> Médecine | C65: 9 | D65: =B65 -> Médecine | E65: 10
A67: Données pour poster :
A68: Activité | B68: =DGET(bdd_services,"activite",C68:C69) -> #NUM! | C68: nom
A69: frictions th | B69: =DGET(bdd_services,"dt",C68:C69) -> #NUM! | C69: =choix_service2 -> 0
B70: conso | C70: objectif | D70: dose réelle
A71: m1 | B71: =DGET(bdd_services,"m1c",$C$68:$C$69) -> #NUM! | C71: =DGET(bdd_services,"m1_ob",$C$68:$C$69) -> #NUM! | D71: =DGET(bdd_services,"m1_do",$C$68:$C$69) -> #NUM!
A72: m2 | B72: =DGET(bdd_services,"m2c",$C$68:$C$69) -> #NUM! | C72: =DGET(bdd_services,"m2_ob",$C$68:$C$69) -> #NUM! | D72: =DGET(bdd_services,"m2_do",$C$68:$C$69) -> #NUM!
A73: m3 | B73: =DGET(bdd_services,"m3c",$C$68:$C$69) -> #NUM! | C73: =DGET(bdd_services,"m3_ob",$C$68:$C$69) -> #NUM! | D73: =DGET(bdd_services,"m3_do",$C$68:$C$69) -> #NUM!
A74: m4 | B74: =DGET(bdd_services,"m4c",$C$68:$C$69) -> #NUM! | C74: =DGET(bdd_services,"m4_ob",$C$68:$C$69) -> #NUM! | D74: =DGET(bdd_services,"m4_do",$C$68:$C$69) -> #NUM!
A75: m5 | B75: =DGET(bdd_services,"m5c",$C$68:$C$69) -> #NUM! | C75: =DGET(bdd_services,"m5_ob",$C$68:$C$69) -> #NUM! | D75: =DGET(bdd_services,"m5_do",$C$68:$C$69) -> #NUM!
A76: m6 | B76: =DGET(bdd_services,"m6c",$C$68:$C$69) -> #NUM! | C76: =DGET(bdd_services,"m6_ob",$C$68:$C$69) -> #NUM! | D76: =DGET(bdd_services,"m6_do",$C$68:$C$69) -> #NUM!
A77: m7 | B77: =DGET(bdd_services,"m7c",$C$68:$C$69) -> #NUM! | C77: =DGET(bdd_services,"m7_ob",$C$68:$C$69) -> #NUM! | D77: =DGET(bdd_services,"m7_do",$C$68:$C$69) -> #NUM!
A78: m8 | B78: =DGET(bdd_services,"m8c",$C$68:$C$69) -> #NUM! | C78: =DGET(bdd_services,"m8_ob",$C$68:$C$69) -> #NUM! | D78: =DGET(bdd_services,"m8_do",$C$68:$C$69) -> #NUM!
A79: m9 | B79: =DGET(bdd_services,"m9c",$C$68:$C$69) -> #NUM! | C79: =DGET(bdd_services,"m9_ob",$C$68:$C$69) -> #NUM! | D79: =DGET(bdd_services,"m9_do",$C$68:$C$69) -> #NUM!
A80: m10 | B80: =DGET(bdd_services,"m10c",$C$68:$C$69) -> #NUM! | C80: =DGET(bdd_services,"m10_ob",$C$68:$C$69) -> #NUM! | D80: =DGET(bdd_services,"m10_do",$C$68:$C$69) -> #NUM!
A81: m11 | B81: =DGET(bdd_services,"m11c",$C$68:$C$69) -> #NUM! | C81: =DGET(bdd_services,"m11_ob",$C$68:$C$69) -> #NUM! | D81: =DGET(bdd_services,"m11_do",$C$68:$C$69) -> #NUM!
A82: m12 | B82: =DGET(bdd_services,"m12c",$C$68:$C$69) -> #NUM! | C82: =DGET(bdd_services,"m12_ob",$C$68:$C$69) -> #NUM! | D82: =DGET(bdd_services,"m12_do",$C$68:$C$69) -> #NUM!
A83: t1 | B83: =DGET(bdd_services,"t1c",$C$68:$C$69) -> #NUM! | C83: =DGET(bdd_services,"t1_ob",$C$68:$C$69) -> #NUM! | D83: =DGET(bdd_services,"t1_do",$C$68:$C$69) -> #NUM!
A84: t2 | B84: =DGET(bdd_services,"t2c",$C$68:$C$69) -> #NUM! | C84: =DGET(bdd_services,"t2_ob",$C$68:$C$69) -> #NUM! | D84: =DGET(bdd_services,"t2_do",$C$68:$C$69) -> #NUM!
A85: t3 | B85: =DGET(bdd_services,"t3c",$C$68:$C$69) -> #NUM! | C85: =DGET(bdd_services,"t3_ob",$C$68:$C$69) -> #NUM! | D85: =DGET(bdd_services,"t3_do",$C$68:$C$69) -> #NUM!
A86: t4 | B86: =DGET(bdd_services,"t4c",$C$68:$C$69) -> #NUM! | C86: =DGET(bdd_services,"t4_ob",$C$68:$C$69) -> #NUM! | D86: =DGET(bdd_services,"t4_do",$C$68:$C$69) -> #NUM!
A87: annee | B87: =DGET(bdd_services,"a_c",$C$68:$C$69) -> #NUM! | C87: =DGET(bdd_services,"a_ob",$C$68:$C$69) -> #NUM! | D87: =DGET(bdd_services,"a_do",$C$68:$C$69) -> #NUM!

Sheet Posters Trimestres
A1: Choisir un service puis imprimer le poster | G1: Zone d'impression :
B2: Choix du service : | H2: Indicateur ICSHA 3 | K2: =etab -> Nom de l'établissement
B3: 1/ Choisir le type de service : | C3: Médecine | H3: 2025
B4: 2/ Choisir le service : | I4: Service : | J4: =choix_service -> 0
I5: Activité : | J5: =IFERROR(B68,"")
B6: ="Liste des service pour l'activité : "&C3 -> Liste des service pour l'activité : Médecine
B7: Service | C7: Activité | K7: Nombre de frictions théoriques : | L7: =IFERROR(B69,"") | M7: par patient et par jour
B8: =IF(A45=0,"",A45) | C8: =IF(A56=0,"",A56)
B9: =IF(A46=0,"",A46) | C9: =IF(A57=0,"",A57) | I9: Consommation (en litres) | J9: Atteinte de l'objectif | L9: Frictions réalisées
B10: =IF(A47=0,"",A47) | C10: =IF(A58=0,"",A58) | H10: T1 | I10: =IFERROR(IF(OR(B83="",B83=0),"",B83),"") | J10: =IFERROR(IF(OR(C83="",C83=0),"",C83),"") | K10: =IF(J10<>"",IF(J10<0.8,"L",IF(J10<1,"J","JJ")),"") | L10: =IFERROR(IF(OR(D83="",D83=0),"",D83),"")
B11: =IF(A48=0,"",A48) | C11: =IF(A59=0,"",A59) | H11: T2 | I11: =IFERROR(IF(OR(B84="",B84=0),"",B84),"") | J11: =IFERROR(IF(OR(C84="",C84=0),"",C84),"") | K11: =IF(J11<>"",IF(J11<0.8,"L",IF(J11<1,"J","JJ")),"") | L11: =IFERROR(IF(OR(D84="",D84=0),"",D84),"")
B12: =IF(A49=0,"",A49) | C12: =IF(A60=0,"",A60) | H12: T3 | I12: =IFERROR(IF(OR(B85="",B85=0),"",B85),"") | J12: =IFERROR(IF(OR(C85="",C85=0),"",C85),"") | K12: =IF(J12<>"",IF(J12<0.8,"L",IF(J12<1,"J","JJ")),"") | L12: =IFERROR(IF(OR(D85="",D85=0),"",D85),"")
B13: =IF(A50=0,"",A50) | C13: =IF(A61=0,"",A61) | H13: T4 | I13: =IFERROR(IF(OR(B86="",B86=0),"",B86),"") | J13: =IFERROR(IF(OR(C86="",C86=0),"",C86),"") | K13: =IF(J13<>"",IF(J13<0.8,"L",IF(J13<1,"J","JJ")),"") | L13: =IFERROR(IF(OR(D86="",D86=0),"",D86),"")
B14: =IF(A51=0,"",A51) | C14: =IF(A62=0,"",A62) | H14: Année | I14: =IFERROR(IF(OR(B87="",B87=0),"",B87),"") | J14: =IFERROR(IF(OR(C87="",C87=0),"",C87),"") | K14: =IF(J14<>"",IF(J14<0.8,"L",IF(J14<1,"J","JJ")),"") | L14: =IFERROR(IF(OR(D87="",D87=0),"",D87),"")
B15: =IF(A52=0,"",A52) | C15: =IF(A63=0,"",A63)
B16: =IF(A53=0,"",A53) | C16: =IF(A64=0,"",A64)
B17: =IF(A54=0,"",A54) | C17: =IF(A65=0,"",A65)
B20: Rappel :
B21: Choisir un type de service (liste déroulante en jaune | Q21: Version 2 - 2024
B22: ci-dessus), puis un service pour afficher le poster
B23: correspondant à ce service.
A31: Réglages :
A32: Volume d'une friction (ml) :
A33: 3
A35: Types de services :
A36: Médecine
A37: Chirurgie
A38: Gynéco-Obst
A39: Réa-SC
A40: SSR
A41: SLD-EHPAD
A42: Autre
A44: Choix des services :
A45: =DGET(bdd_services,"nom",B45:C46) -> 0 | B45: type | C45: n | D45: type | E45: n
A46: =DGET(bdd_services,"nom",D45:E46) -> 0 | B46: =C3 -> Médecine | C46: 1 | D46: =B46 -> Médecine | E46: 2
A47: =DGET(bdd_services,"nom",B47:C48) -> 0 | B47: type | C47: n | D47: type | E47: n
A48: =DGET(bdd_services,"nom",D47:E48) -> 0 | B48: =B46 -> Médecine | C48: 3 | D48: =B48 -> Médecine | E48: 4
A49: =DGET(bdd_services,"nom",B49:C50) -> 0 | B49: type | C49: n | D49: type | E49: n
A50: =DGET(bdd_services,"nom",D49:E50) -> 0 | B50: =B46 -> Médecine | C50: 5 | D50: =B50 -> Médecine | E50: 6
A51: =DGET(bdd_services,"nom",B51:C52) -> 0 | B51: type | C51: n | D51: type | E51: n
A52: =DGET(bdd_services,"nom",D51:E52) -> 0 | B52: =B46 -> Médecine | C52: 7 | D52: =B52 -> Médecine | E52: 8
A53: =DGET(bdd_services,"nom",B53:C54) -> 0 | B53: type | C53: n | D53: type | E53: n
A54: =DGET(bdd_services,"nom",D53:E54) -> 0 | B54: =B46 -> Médecine | C54: 9 | D54: =B54 -> Médecine | E54: 10
A55: Spécialités des services :
A56: =DGET(bdd_services,"activite",B56:C57) -> 0 | B56: type | C56: n | D56: type | E56: n
A57: =DGET(bdd_services,"activite",D56:E57) -> 0 | B57: =C3 -> Médecine | C57: 1 | D57: =B57 -> Médecine | E57: 2
A58: =DGET(bdd_services,"activite",B58:C59) -> 0 | B58: type | C58: n | D58: type | E58: n
A59: =DGET(bdd_services,"activite",D58:E59) -> 0 | B59: =B57 -> Médecine | C59: 3 | D59: =B59 -> Médecine | E59: 4
A60: =DGET(bdd_services,"activite",B60:C61) -> 0 | B60: type | C60: n | D60: type | E60: n
A61: =DGET(bdd_services,"activite",D60:E61) -> 0 | B61: =B57 -> Médecine | C61: 5 | D61: =B61 -> Médecine | E61: 6
A62: =DGET(bdd_services,"activite",B62:C63) -> 0 | B62: type | C62: n | D62: type | E62: n
A63: =DGET(bdd_services,"activite",D62:E63) -> 0 | B63: =B57 -> Médecine | C63: 7 | D63: =B63 -> Médecine | E63: 8
A64: =DGET(bdd_services,"activite",B64:C65) -> 0 | B64: type | C64: n | D64: type | E64: n
A65: =DGET(bdd_services,"activite",D64:E65) -> 0 | B65: =B57 -> Médecine | C65: 9 | D65: =B65 -> Médecine | E65: 10
A67: Données pour poster :
A68: Activité | B68: =DGET(bdd_services,"activite",C68:C69) -> #NUM! | C68: nom
A69: frictions th | B69: =DGET(bdd_services,"dt",C68:C69) -> #NUM! | C69: =choix_service -> 0
B70: conso | C70: objectif | D70: dose réelle
A71: m1 | B71: =DGET(bdd_services,"m1c",$C$68:$C$69) -> #NUM! | C71: =DGET(bdd_services,"m1_ob",$C$68:$C$69) -> #NUM! | D71: =DGET(bdd_services,"m1_do",$C$68:$C$69) -> #NUM!
A72: m2 | B72: =DGET(bdd_services,"m2c",$C$68:$C$69) -> #NUM! | C72: =DGET(bdd_services,"m2_ob",$C$68:$C$69) -> #NUM! | D72: =DGET(bdd_services,"m2_do",$C$68:$C$69) -> #NUM!
A73: m3 | B73: =DGET(bdd_services,"m3c",$C$68:$C$69) -> #NUM! | C73: =DGET(bdd_services,"m3_ob",$C$68:$C$69) -> #NUM! | D73: =DGET(bdd_services,"m3_do",$C$68:$C$69) -> #NUM!
A74: m4 | B74: =DGET(bdd_services,"m4c",$C$68:$C$69) -> #NUM! | C74: =DGET(bdd_services,"m4_ob",$C$68:$C$69) -> #NUM! | D74: =DGET(bdd_services,"m4_do",$C$68:$C$69) -> #NUM!
A75: m5 | B75: =DGET(bdd_services,"m5c",$C$68:$C$69) -> #NUM! | C75: =DGET(bdd_services,"m5_ob",$C$68:$C$69) -> #NUM! | D75: =DGET(bdd_services,"m5_do",$C$68:$C$69) -> #NUM!
A76: m6 | B76: =DGET(bdd_services,"m6c",$C$68:$C$69) -> #NUM! | C76: =DGET(bdd_services,"m6_ob",$C$68:$C$69) -> #NUM! | D76: =DGET(bdd_services,"m6_do",$C$68:$C$69) -> #NUM!
A77: m7 | B77: =DGET(bdd_services,"m7c",$C$68:$C$69) -> #NUM! | C77: =DGET(bdd_services,"m7_ob",$C$68:$C$69) -> #NUM! | D77: =DGET(bdd_services,"m7_do",$C$68:$C$69) -> #NUM!
A78: m8 | B78: =DGET(bdd_services,"m8c",$C$68:$C$69) -> #NUM! | C78: =DGET(bdd_services,"m8_ob",$C$68:$C$69) -> #NUM! | D78: =DGET(bdd_services,"m8_do",$C$68:$C$69) -> #NUM!
A79: m9 | B79: =DGET(bdd_services,"m9c",$C$68:$C$69) -> #NUM! | C79: =DGET(bdd_services,"m9_ob",$C$68:$C$69) -> #NUM! | D79: =DGET(bdd_services,"m9_do",$C$68:$C$69) -> #NUM!
A80: m10 | B80: =DGET(bdd_services,"m10c",$C$68:$C$69) -> #NUM! | C80: =DGET(bdd_services,"m10_ob",$C$68:$C$69) -> #NUM! | D80: =DGET(bdd_services,"m10_do",$C$68:$C$69) -> #NUM!
A81: m11 | B81: =DGET(bdd_services,"m11c",$C$68:$C$69) -> #NUM! | C81: =DGET(bdd_services,"m11_ob",$C$68:$C$69) -> #NUM! | D81: =DGET(bdd_services,"m11_do",$C$68:$C$69) -> #NUM!
A82: m12 | B82: =DGET(bdd_services,"m12c",$C$68:$C$69) -> #NUM! | C82: =DGET(bdd_services,"m12_ob",$C$68:$C$69) -> #NUM! | D82: =DGET(bdd_services,"m12_do",$C$68:$C$69) -> #NUM!
A83: t1 | B83: =DGET(bdd_services,"t1c",$C$68:$C$69) -> #NUM! | C83: =DGET(bdd_services,"t1_ob",$C$68:$C$69) -> #NUM! | D83: =DGET(bdd_services,"t1_do",$C$68:$C$69) -> #NUM!
A84: t2 | B84: =DGET(bdd_services,"t2c",$C$68:$C$69) -> #NUM! | C84: =DGET(bdd_services,"t2_ob",$C$68:$C$69) -> #NUM! | D84: =DGET(bdd_services,"t2_do",$C$68:$C$69) -> #NUM!
A85: t3 | B85: =DGET(bdd_services,"t3c",$C$68:$C$69) -> #NUM! | C85: =DGET(bdd_services,"t3_ob",$C$68:$C$69) -> #NUM! | D85: =DGET(bdd_services,"t3_do",$C$68:$C$69) -> #NUM!
A86: t4 | B86: =DGET(bdd_services,"t4c",$C$68:$C$69) -> #NUM! | C86: =DGET(bdd_services,"t4_ob",$C$68:$C$69) -> #NUM! | D86: =DGET(bdd_services,"t4_do",$C$68:$C$69) -> #NUM!
A87: annee | B87: =DGET(bdd_services,"a_c",$C$68:$C$69) -> #NUM! | C87: =DGET(bdd_services,"a_ob",$C$68:$C$69) -> #NUM! | D87: =DGET(bdd_services,"a_do",$C$68:$C$69) -> #NUM!

Sheet bdd
A1: n | B1: type | C1: nom | D1: activite | E1: dt | F1: m1c | G1: m1a | H1: m2c | I1: m2a | J1: m3c | K1: m3a | L1: t1c | M1: t1a | N1: m4c | O1: m4a | P1: m5c | Q1: m5a | R1: m6c | S1: m6a | T1: t2c | U1: t2a | V1: m7c | W1: m7a | X1: m8c | Y1: m8a | Z1: m9c | AA1: m9a | AB1: t3c | AC1: t3a | AD1: m10c | AE1: m10a | AF1: m11c | AG1: m11a | AH1: m12c | AI1: m12a | AJ1: t4c | AK1: t4a | AL1: a_c | AM1: a_a | AN1: m1_th | AO1: m1_ob | AP1: m1_do | AQ1: m2_th | AR1: m2_ob | AS1: m2_do | AT1: m3_th | AU1: m3_ob | AV1: m3_do | AW1: t1_th | AX1: t1_ob | AY1: t1_do | AZ1: m4_th | BA1: m4_ob | BB1: m4_do | BC1: m5_th | BD1: m5_ob | BE1: m5_do | BF1: m6_th | BG1: m6_ob | BH1: m6_do | BI1: t2_th | BJ1: t2_ob | BK1: t2_do | BL1: m7_th | BM1: m7_ob | BN1: m7_do | BO1: m8_th | BP1: m8_ob | BQ1: m8_do | BR1: m9_th | BS1: m9_ob | BT1: m9_do | BU1: t3_th | BV1: t3_ob | BW1: t3_do | BX1: m10_th | BY1: m10_ob | BZ1: m10_do | CA1: m111_th | CB1: m11_ob | CC1: m11_do | CD1: m12_th | CE1: m12_ob | CF1: m12_do | CG1: t4_th | CH1: t4_ob | CI1: t4_do | CJ1: a_th | CK1: a_ob | CL1: a_do
A2: 1 | B2: ='Posters Trimestres'!A36 -> Médecine | C2: =Saisie!A16 -> 0 | D2: =Saisie!B16 -> 0 | E2: =Saisie!C16 | F2: =Saisie!D16 -> 0 | G2: =Saisie!E16 -> 0 | H2: =Saisie!F16 -> 0 | I2: =Saisie!G16 -> 0 | J2: =Saisie!H16 -> 0 | K2: =Saisie!I16 -> 0 | L2: =IF(Saisie!J16="",F2+H2+J2,Saisie!J16) -> 0 | M2: =IF(Saisie!K16="",G2+I2+K2,Saisie!K16) -> 0 | N2: =Saisie!L16 -> 0 | O2: =Saisie!M16 -> 0 | P2: =Saisie!N16 -> 0 | Q2: =Saisie!O16 -> 0 | R2: =Saisie!P16 -> 0 | S2: =Saisie!Q16 -> 0 | T2: =IF(Saisie!R16="",N2+P2+R2,Saisie!R16) -> 0 | U2: =IF(Saisie!S16="",O2+Q2+S2,Saisie!S16) -> 0 | V2: =Saisie!T16 -> 0 | W2: =Saisie!U16 -> 0 | X2: =Saisie!V16 -> 0 | Y2: =Saisie!W16 -> 0 | Z2: =Saisie!X16 -> 0 | AA2: =Saisie!Y16 -> 0 | AB2: =IF(Saisie!Z16="",V2+X2+Z2,Saisie!Z16) -> 0 | AC2: =IF(Saisie!AA16="",W2+Y2+AA2,Saisie!AA16) -> 0 | AD2: =Saisie!AB16 -> 0 | AE2: =Saisie!AC16 -> 0 | AF2: =Saisie!AD16 -> 0 | AG2: =Saisie!AE16 -> 0 | AH2: =Saisie!AF16 -> 0 | AI2: =Saisie!AG16 -> 0 | AJ2: =IF(Saisie!AH16="",AD2+AF2+AH2,Saisie!AH16) -> 0 | AK2: =IF(Saisie!AI16="",AE2+AG2+AI2,Saisie!AI16) -> 0 | AL2: =L2+T2+AB2+AJ2 -> 0 | AM2: =M2+U2+AC2+AK2 -> 0 | AN2: =E2*G2*(volume_friction/1000) -> #VALUE! | AO2: =F2/AN2 -> #VALUE! | AP2: =F2/G2/(volume_friction/1000) -> #DIV/0! | AQ2: =E2*I2*(volume_friction/1000) -> #VALUE! | AR2: =H2/AQ2 -> #VALUE! | AS2: =H2/I2/(volume_friction/1000) -> #DIV/0! | AT2: =E2*K2*(volume_friction/1000) -> #VALUE! | AU2: =J2/AT2 -> #VALUE! | AV2: =J2/K2/(volume_friction/1000) -> #DIV/0! | AW2: =E2*M2*(volume_friction/1000) -> #VALUE! | AX2: =L2/AW2 -> #VALUE! | AY2: =L2/M2/(volume_friction/1000) -> #DIV/0! | AZ2: =E2*O2*(volume_friction/1000) -> #VALUE! | BA2: =N2/AZ2 -> #VALUE! | BB2: =N2/O2/(volume_friction/1000) -> #DIV/0! | BC2: =E2*Q2*(volume_friction/1000) -> #VALUE! | BD2: =P2/BC2 -> #VALUE! | BE2: =P2/Q2/(volume_friction/1000) -> #DIV/0! | BF2: =E2*S2*(volume_friction/1000) -> #VALUE! | BG2: =R2/BF2 -> #VALUE! | BH2: =R2/S2/(volume_friction/1000) -> #DIV/0! | BI2: =E2*U2*(volume_friction/1000) -> #VALUE! | BJ2: =T2/BI2 -> #VALUE! | BK2: =T2/U2/(volume_friction/1000) -> #DIV/0! | BL2: =E2*W2*(volume_friction/1000) -> #VALUE! | BM2: =V2/BL2 -> #VALUE! | BN2: =V2/W2/(volume_friction/1000) -> #DIV/0! | BO2: =E2*Y2*(volume_friction/1000) -> #VALUE! | BP2: =X2/BO2 -> #VALUE! | BQ2: =X2/Y2/(volume_friction/1000) -> #DIV/0! | BR2: =E2*AA2*(volume_friction/1000) -> #VALUE! | BS2: =Z2/BR2 -> #VALUE! | BT2: =Z2/AA2/(volume_friction/1000) -> #DIV/0! | BU2: =E2*AC2*(volume_friction/1000) -> #VALUE! | BV2: =AB2/BU2 -> #VALUE! | BW2: =AB2/AC2/(volume_friction/1000) -> #DIV/0! | BX2: =E2*AE2*(volume_friction/1000) -> #VALUE! | BY2: =AD2/BX2 -> #VALUE! | BZ2: =AD2/AE2/(volume_friction/1000) -> #DIV/0! | CA2: =E2*AG2*(volume_friction/1000) -> #VALUE! | CB2: =AF2/CA2 -> #VALUE! | CC2: =AF2/AG2/(volume_friction/1000) -> #DIV/0! | CD2: =E2*AI2*(volume_friction/1000) -> #VALUE! | CE2: =AH2/CD2 -> #VALUE! | CF2: =AH2/AI2/(volume_friction/1000) -> #DIV/0! | CG2: =E2*AK2*(volume_friction/1000) -> #VALUE! | CH2: =AJ2/CG2 -> #VALUE! | CI2: =AJ2/AK2/(volume_friction/1000) -> #DIV/0! | CJ2: =E2*AM2*(volume_friction/1000) -> #VALUE! | CK2: =AL2/CJ2 -> #VALUE! | CL2: =AL2/AM2/(volume_friction/1000) -> #DIV/0!
A3: 2 | B3: ='Posters Trimestres'!A36 -> Médecine | C3: =Saisie!A17 -> 0 | D3: =Saisie!B17 -> 0 | E3: =Saisie!C17 | F3: =Saisie!D17 -> 0 | G3: =Saisie!E17 -> 0 | H3: =Saisie!F17 -> 0 | I3: =Saisie!G17 -> 0 | J3: =Saisie!H17 -> 0 | K3: =Saisie!I17 -> 0 | L3: =IF(Saisie!J17="",F3+H3+J3,Saisie!J17) -> 0 | M3: =IF(Saisie!K17="",G3+I3+K3,Saisie!K17) -> 0 | N3: =Saisie!L17 -> 0 | O3: =Saisie!M17 -> 0 | P3: =Saisie!N17 -> 0 | Q3: =Saisie!O17 -> 0 | R3: =Saisie!P17 -> 0 | S3: =Saisie!Q17 -> 0 | T3: =IF(Saisie!R17="",N3+P3+R3,Saisie!R17) -> 0 | U3: =IF(Saisie!S17="",O3+Q3+S3,Saisie!S17) -> 0 | V3: =Saisie!T17 -> 0 | W3: =Saisie!U17 -> 0 | X3: =Saisie!V17 -> 0 | Y3: =Saisie!W17 -> 0 | Z3: =Saisie!X17 -> 0 | AA3: =Saisie!Y17 -> 0 | AB3: =IF(Saisie!Z17="",V3+X3+Z3,Saisie!Z17) -> 0 | AC3: =IF(Saisie!AA17="",W3+Y3+AA3,Saisie!AA17) -> 0 | AD3: =Saisie!AB17 -> 0 | AE3: =Saisie!AC17 -> 0 | AF3: =Saisie!AD17 -> 0 | AG3: =Saisie!AE17 -> 0 | AH3: =Saisie!AF17 -> 0 | AI3: =Saisie!AG17 -> 0 | AJ3: =IF(Saisie!AH17="",AD3+AF3+AH3,Saisie!AH17) -> 0 | AK3: =IF(Saisie!AI17="",AE3+AG3+AI3,Saisie!AI17) -> 0 | AL3: =L3+T3+AB3+AJ3 -> 0 | AM3: =M3+U3+AC3+AK3 -> 0 | AN3: =E3*G3*(volume_friction/1000) -> #VALUE! | AO3: =F3/AN3 -> #VALUE! | AP3: =F3/G3/(volume_friction/1000) -> #DIV/0! | AQ3: =E3*I3*(volume_friction/1000) -> #VALUE! | AR3: =H3/AQ3 -> #VALUE! | AS3: =H3/I3/(volume_friction/1000) -> #DIV/0! | AT3: =E3*K3*(volume_friction/1000) -> #VALUE! | AU3: =J3/AT3 -> #VALUE! | AV3: =J3/K3/(volume_friction/1000) -> #DIV/0! | AW3: =E3*M3*(volume_friction/1000) -> #VALUE! | AX3: =L3/AW3 -> #VALUE! | AY3: =L3/M3/(volume_friction/1000) -> #DIV/0! | AZ3: =E3*O3*(volume_friction/1000) -> #VALUE! | BA3: =N3/AZ3 -> #VALUE! | BB3: =N3/O3/(volume_friction/1000) -> #DIV/0! | BC3: =E3*Q3*(volume_friction/1000) -> #VALUE! | BD3: =P3/BC3 -> #VALUE! | BE3: =P3/Q3/(volume_friction/1000) -> #DIV/0! | BF3: =E3*S3*(volume_friction/1000) -> #VALUE! | BG3: =R3/BF3 -> #VALUE! | BH3: =R3/S3/(volume_friction/1000) -> #DIV/0! | BI3: =E3*U3*(volume_friction/1000) -> #VALUE! | BJ3: =T3/BI3 -> #VALUE! | BK3: =T3/U3/(volume_friction/1000) -> #DIV/0! | BL3: =E3*W3*(volume_friction/1000) -> #VALUE! | BM3: =V3/BL3 -> #VALUE! | BN3: =V3/W3/(volume_friction/1000) -> #DIV/0! | BO3: =E3*Y3*(volume_friction/1000) -> #VALUE! | BP3: =X3/BO3 -> #VALUE! | BQ3: =X3/Y3/(volume_friction/1000) -> #DIV/0! | BR3: =E3*AA3*(volume_friction/1000) -> #VALUE! | BS3: =Z3/BR3 -> #VALUE! | BT3: =Z3/AA3/(volume_friction/1000) -> #DIV/0! | BU3: =E3*AC3*(volume_friction/1000) -> #VALUE! | BV3: =AB3/BU3 -> #VALUE! | BW3: =AB3/AC3/(volume_friction/1000) -> #DIV/0! | BX3: =E3*AE3*(volume_friction/1000) -> #VALUE! | BY3: =AD3/BX3 -> #VALUE! | BZ3: =AD3/AE3/(volume_friction/1000) -> #DIV/0! | CA3: =E3*AG3*(volume_friction/1000) -> #VALUE! | CB3: =AF3/CA3 -> #VALUE! | CC3: =AF3/AG3/(volume_friction/1000) -> #DIV/0! | CD3: =E3*AI3*(volume_friction/1000) -> #VALUE! | CE3: =AH3/CD3 -> #VALUE! | CF3: =AH3/AI3/(volume_friction/1000) -> #DIV/0! | CG3: =E3*AK3*(volume_friction/1000) -> #VALUE! | CH3: =AJ3/CG3 -> #VALUE! | CI3: =AJ3/AK3/(volume_friction/1000) -> #DIV/0! | CJ3: =E3*AM3*(volume_friction/1000) -> #VALUE! | CK3: =AL3/CJ3 -> #VALUE! | CL3: =AL3/AM3/(volume_friction/1000) -> #DIV/0!
A4: 3 | B4: ='Posters Trimestres'!A36 -> Médecine | C4: =Saisie!A18 -> 0 | D4: =Saisie!B18 -> 0 | E4: =Saisie!C18 | F4: =Saisie!D18 -> 0 | G4: =Saisie!E18 -> 0 | H4: =Saisie!F18 -> 0 | I4: =Saisie!G18 -> 0 | J4: =Saisie!H18 -> 0 | K4: =Saisie!I18 -> 0 | L4: =IF(Saisie!J18="",F4+H4+J4,Saisie!J18) -> 0 | M4: =IF(Saisie!K18="",G4+I4+K4,Saisie!K18) -> 0 | N4: =Saisie!L18 -> 0 | O4: =Saisie!M18 -> 0 | P4: =Saisie!N18 -> 0 | Q4: =Saisie!O18 -> 0 | R4: =Saisie!P18 -> 0 | S4: =Saisie!Q18 -> 0 | T4: =IF(Saisie!R18="",N4+P4+R4,Saisie!R18) -> 0 | U4: =IF(Saisie!S18="",O4+Q4+S4,Saisie!S18) -> 0 | V4: =Saisie!T18 -> 0 | W4: =Saisie!U18 -> 0 | X4: =Saisie!V18 -> 0 | Y4: =Saisie!W18 -> 0 | Z4: =Saisie!X18 -> 0 | AA4: =Saisie!Y18 -> 0 | AB4: =IF(Saisie!Z18="",V4+X4+Z4,Saisie!Z18) -> 0 | AC4: =IF(Saisie!AA18="",W4+Y4+AA4,Saisie!AA18) -> 0 | AD4: =Saisie!AB18 -> 0 | AE4: =Saisie!AC18 -> 0 | AF4: =Saisie!AD18 -> 0 | AG4: =Saisie!AE18 -> 0 | AH4: =Saisie!AF18 -> 0 | AI4: =Saisie!AG18 -> 0 | AJ4: =IF(Saisie!AH18="",AD4+AF4+AH4,Saisie!AH18) -> 0 | AK4: =IF(Saisie!AI18="",AE4+AG4+AI4,Saisie!AI18) -> 0 | AL4: =L4+T4+AB4+AJ4 -> 0 | AM4: =M4+U4+AC4+AK4 -> 0 | AN4: =E4*G4*(volume_friction/1000) -> #VALUE! | AO4: =F4/AN4 -> #VALUE! | AP4: =F4/G4/(volume_friction/1000) -> #DIV/0! | AQ4: =E4*I4*(volume_friction/1000) -> #VALUE! | AR4: =H4/AQ4 -> #VALUE! | AS4: =H4/I4/(volume_friction/1000) -> #DIV/0! | AT4: =E4*K4*(volume_friction/1000) -> #VALUE! | AU4: =J4/AT4 -> #VALUE! | AV4: =J4/K4/(volume_friction/1000) -> #DIV/0! | AW4: =E4*M4*(volume_friction/1000) -> #VALUE! | AX4: =L4/AW4 -> #VALUE! | AY4: =L4/M4/(volume_friction/1000) -> #DIV/0! | AZ4: =E4*O4*(volume_friction/1000) -> #VALUE! | BA4: =N4/AZ4 -> #VALUE! | BB4: =N4/O4/(volume_friction/1000) -> #DIV/0! | BC4: =E4*Q4*(volume_friction/1000) -> #VALUE! | BD4: =P4/BC4 -> #VALUE! | BE4: =P4/Q4/(volume_friction/1000) -> #DIV/0! | BF4: =E4*S4*(volume_friction/1000) -> #VALUE! | BG4: =R4/BF4 -> #VALUE! | BH4: =R4/S4/(volume_friction/1000) -> #DIV/0! | BI4: =E4*U4*(volume_friction/1000) -> #VALUE! | BJ4: =T4/BI4 -> #VALUE! | BK4: =T4/U4/(volume_friction/1000) -> #DIV/0! | BL4: =E4*W4*(volume_friction/1000) -> #VALUE! | BM4: =V4/BL4 -> #VALUE! | BN4: =V4/W4/(volume_friction/1000) -> #DIV/0! | BO4: =E4*Y4*(volume_friction/1000) -> #VALUE! | BP4: =X4/BO4 -> #VALUE! | BQ4: =X4/Y4/(volume_friction/1000) -> #DIV/0! | BR4: =E4*AA4*(volume_friction/1000) -> #VALUE! | BS4: =Z4/BR4 -> #VALUE! | BT4: =Z4/AA4/(volume_friction/1000) -> #DIV/0! | BU4: =E4*AC4*(volume_friction/1000) -> #VALUE! | BV4: =AB4/BU4 -> #VALUE! | BW4: =AB4/AC4/(volume_friction/1000) -> #DIV/0! | BX4: =E4*AE4*(volume_friction/1000) -> #VALUE! | BY4: =AD4/BX4 -> #VALUE! | BZ4: =AD4/AE4/(volume_friction/1000) -> #DIV/0! | CA4: =E4*AG4*(volume_friction/1000) -> #VALUE! | CB4: =AF4/CA4 -> #VALUE! | CC4: =AF4/AG4/(volume_friction/1000) -> #DIV/0! | CD4: =E4*AI4*(volume_friction/1000) -> #VALUE! | CE4: =AH4/CD4 -> #VALUE! | CF4: =AH4/AI4/(volume_friction/1000) -> #DIV/0! | CG4: =E4*AK4*(volume_friction/1000) -> #VALUE! | CH4: =AJ4/CG4 -> #VALUE! | CI4: =AJ4/AK4/(volume_friction/1000) -> #DIV/0! | CJ4: =E4*AM4*(volume_friction/1000) -> #VALUE! | CK4: =AL4/CJ4 -> #VALUE! | CL4: =AL4/AM4/(volume_friction/1000) -> #DIV/0!
A5: 4 | B5: ='Posters Trimestres'!A36 -> Médecine | C5: =Saisie!A19 -> 0 | D5: =Saisie!B19 -> 0 | E5: =Saisie!C19 | F5: =Saisie!D19 -> 0 | G5: =Saisie!E19 -> 0 | H5: =Saisie!F19 -> 0 | I5: =Saisie!G19 -> 0 | J5: =Saisie!H19 -> 0 | K5: =Saisie!I19 -> 0 | L5: =IF(Saisie!J19="",F5+H5+J5,Saisie!J19) -> 0 | M5: =IF(Saisie!K19="",G5+I5+K5,Saisie!K19) -> 0 | N5: =Saisie!L19 -> 0 | O5: =Saisie!M19 -> 0 | P5: =Saisie!N19 -> 0 | Q5: =Saisie!O19 -> 0 | R5: =Saisie!P19 -> 0 | S5: =Saisie!Q19 -> 0 | T5: =IF(Saisie!R19="",N5+P5+R5,Saisie!R19) -> 0 | U5: =IF(Saisie!S19="",O5+Q5+S5,Saisie!S19) -> 0 | V5: =Saisie!T19 -> 0 | W5: =Saisie!U19 -> 0 | X5: =Saisie!V19 -> 0 | Y5: =Saisie!W19 -> 0 | Z5: =Saisie!X19 -> 0 | AA5: =Saisie!Y19 -> 0 | AB5: =IF(Saisie!Z19="",V5+X5+Z5,Saisie!Z19) -> 0 | AC5: =IF(Saisie!AA19="",W5+Y5+AA5,Saisie!AA19) -> 0 | AD5: =Saisie!AB19 -> 0 | AE5: =Saisie!AC19 -> 0 | AF5: =Saisie!AD19 -> 0 | AG5: =Saisie!AE19 -> 0 | AH5: =Saisie!AF19 -> 0 | AI5: =Saisie!AG19 -> 0 | AJ5: =IF(Saisie!AH19="",AD5+AF5+AH5,Saisie!AH19) -> 0 | AK5: =IF(Saisie!AI19="",AE5+AG5+AI5,Saisie!AI19) -> 0 | AL5: =L5+T5+AB5+AJ5 -> 0 | AM5: =M5+U5+AC5+AK5 -> 0 | AN5: =E5*G5*(volume_friction/1000) -> #VALUE! | AO5: =F5/AN5 -> #VALUE! | AP5: =F5/G5/(volume_friction/1000) -> #DIV/0! | AQ5: =E5*I5*(volume_friction/1000) -> #VALUE! | AR5: =H5/AQ5 -> #VALUE! | AS5: =H5/I5/(volume_friction/1000) -> #DIV/0! | AT5: =E5*K5*(volume_friction/1000) -> #VALUE! | AU5: =J5/AT5 -> #VALUE! | AV5: =J5/K5/(volume_friction/1000) -> #DIV/0! | AW5: =E5*M5*(volume_friction/1000) -> #VALUE! | AX5: =L5/AW5 -> #VALUE! | AY5: =L5/M5/(volume_friction/1000) -> #DIV/0! | AZ5: =E5*O5*(volume_friction/1000) -> #VALUE! | BA5: =N5/AZ5 -> #VALUE! | BB5: =N5/O5/(volume_friction/1000) -> #DIV/0! | BC5: =E5*Q5*(volume_friction/1000) -> #VALUE! | BD5: =P5/BC5 -> #VALUE! | BE5: =P5/Q5/(volume_friction/1000) -> #DIV/0! | BF5: =E5*S5*(volume_friction/1000) -> #VALUE! | BG5: =R5/BF5 -> #VALUE! | BH5: =R5/S5/(volume_friction/1000) -> #DIV/0! | BI5: =E5*U5*(volume_friction/1000) -> #VALUE! | BJ5: =T5/BI5 -> #VALUE! | BK5: =T5/U5/(volume_friction/1000) -> #DIV/0! | BL5: =E5*W5*(volume_friction/1000) -> #VALUE! | BM5: =V5/BL5 -> #VALUE! | BN5: =V5/W5/(volume_friction/1000) -> #DIV/0! | BO5: =E5*Y5*(volume_friction/1000) -> #VALUE! | BP5: =X5/BO5 -> #VALUE! | BQ5: =X5/Y5/(volume_friction/1000) -> #DIV/0! | BR5: =E5*AA5*(volume_friction/1000) -> #VALUE! | BS5: =Z5/BR5 -> #VALUE! | BT5: =Z5/AA5/(volume_friction/1000) -> #DIV/0! | BU5: =E5*AC5*(volume_friction/1000) -> #VALUE! | BV5: =AB5/BU5 -> #VALUE! | BW5: =AB5/AC5/(volume_friction/1000) -> #DIV/0! | BX5: =E5*AE5*(volume_friction/1000) -> #VALUE! | BY5: =AD5/BX5 -> #VALUE! | BZ5: =AD5/AE5/(volume_friction/1000) -> #DIV/0! | CA5: =E5*AG5*(volume_friction/1000) -> #VALUE! | CB5: =AF5/CA5 -> #VALUE! | CC5: =AF5/AG5/(volume_friction/1000) -> #DIV/0! | CD5: =E5*AI5*(volume_friction/1000) -> #VALUE! | CE5: =AH5/CD5 -> #VALUE! | CF5: =AH5/AI5/(volume_friction/1000) -> #DIV/0! | CG5: =E5*AK5*(volume_friction/1000) -> #VALUE! | CH5: =AJ5/CG5 -> #VALUE! | CI5: =AJ5/AK5/(volume_friction/1000) -> #DIV/0! | CJ5: =E5*AM5*(volume_friction/1000) -> #VALUE! | CK5: =AL5/CJ5 -> #VALUE! | CL5: =AL5/AM5/(volume_friction/1000) -> #DIV/0!
A6: 5 | B6: ='Posters Trimestres'!A36 -> Médecine | C6: =Saisie!A20 -> 0 | D6: =Saisie!B20 -> 0 | E6: =Saisie!C20 | F6: =Saisie!D20 -> 0 | G6: =Saisie!E20 -> 0 | H6: =Saisie!F20 -> 0 | I6: =Saisie!G20 -> 0 | J6: =Saisie!H20 -> 0 | K6: =Saisie!I20 -> 0 | L6: =IF(Saisie!J20="",F6+H6+J6,Saisie!J20) -> 0 | M6: =IF(Saisie!K20="",G6+I6+K6,Saisie!K20) -> 0 | N6: =Saisie!L20 -> 0 | O6: =Saisie!M20 -> 0 | P6: =Saisie!N20 -> 0 | Q6: =Saisie!O20 -> 0 | R6: =Saisie!P20 -> 0 | S6: =Saisie!Q20 -> 0 | T6: =IF(Saisie!R20="",N6+P6+R6,Saisie!R20) -> 0 | U6: =IF(Saisie!S20="",O6+Q6+S6,Saisie!S20) -> 0 | V6: =Saisie!T20 -> 0 | W6: =Saisie!U20 -> 0 | X6: =Saisie!V20 -> 0 | Y6: =Saisie!W20 -> 0 | Z6: =Saisie!X20 -> 0 | AA6: =Saisie!Y20 -> 0 | AB6: =IF(Saisie!Z20="",V6+X6+Z6,Saisie!Z20) -> 0 | AC6: =IF(Saisie!AA20="",W6+Y6+AA6,Saisie!AA20) -> 0 | AD6: =Saisie!AB20 -> 0 | AE6: =Saisie!AC20 -> 0 | AF6: =Saisie!AD20 -> 0 | AG6: =Saisie!AE20 -> 0 | AH6: =Saisie!AF20 -> 0 | AI6: =Saisie!AG20 -> 0 | AJ6: =IF(Saisie!AH20="",AD6+AF6+AH6,Saisie!AH20) -> 0 | AK6: =IF(Saisie!AI20="",AE6+AG6+AI6,Saisie!AI20) -> 0 | AL6: =L6+T6+AB6+AJ6 -> 0 | AM6: =M6+U6+AC6+AK6 -> 0 | AN6: =E6*G6*(volume_friction/1000) -> #VALUE! | AO6: =F6/AN6 -> #VALUE! | AP6: =F6/G6/(volume_friction/1000) -> #DIV/0! | AQ6: =E6*I6*(volume_friction/1000) -> #VALUE! | AR6: =H6/AQ6 -> #VALUE! | AS6: =H6/I6/(volume_friction/1000) -> #DIV/0! | AT6: =E6*K6*(volume_friction/1000) -> #VALUE! | AU6: =J6/AT6 -> #VALUE! | AV6: =J6/K6/(volume_friction/1000) -> #DIV/0! | AW6: =E6*M6*(volume_friction/1000) -> #VALUE! | AX6: =L6/AW6 -> #VALUE! | AY6: =L6/M6/(volume_friction/1000) -> #DIV/0! | AZ6: =E6*O6*(volume_friction/1000) -> #VALUE! | BA6: =N6/AZ6 -> #VALUE! | BB6: =N6/O6/(volume_friction/1000) -> #DIV/0! | BC6: =E6*Q6*(volume_friction/1000) -> #VALUE! | BD6: =P6/BC6 -> #VALUE! | BE6: =P6/Q6/(volume_friction/1000) -> #DIV/0! | BF6: =E6*S6*(volume_friction/1000) -> #VALUE! | BG6: =R6/BF6 -> #VALUE! | BH6: =R6/S6/(volume_friction/1000) -> #DIV/0! | BI6: =E6*U6*(volume_friction/1000) -> #VALUE! | BJ6: =T6/BI6 -> #VALUE! | BK6: =T6/U6/(volume_friction/1000) -> #DIV/0! | BL6: =E6*W6*(volume_friction/1000) -> #VALUE! | BM6: =V6/BL6 -> #VALUE! | BN6: =V6/W6/(volume_friction/1000) -> #DIV/0! | BO6: =E6*Y6*(volume_friction/1000) -> #VALUE! | BP6: =X6/BO6 -> #VALUE! | BQ6: =X6/Y6/(volume_friction/1000) -> #DIV/0! | BR6: =E6*AA6*(volume_friction/1000) -> #VALUE! | BS6: =Z6/BR6 -> #VALUE! | BT6: =Z6/AA6/(volume_friction/1000) -> #DIV/0! | BU6: =E6*AC6*(volume_friction/1000) -> #VALUE! | BV6: =AB6/BU6 -> #VALUE! | BW6: =AB6/AC6/(volume_friction/1000) -> #DIV/0! | BX6: =E6*AE6*(volume_friction/1000) -> #VALUE! | BY6: =AD6/BX6 -> #VALUE! | BZ6: =AD6/AE6/(volume_friction/1000) -> #DIV/0! | CA6: =E6*AG6*(volume_friction/1000) -> #VALUE! | CB6: =AF6/CA6 -> #VALUE! | CC6: =AF6/AG6/(volume_friction/1000) -> #DIV/0! | CD6: =E6*AI6*(volume_friction/1000) -> #VALUE! | CE6: =AH6/CD6 -> #VALUE! | CF6: =AH6/AI6/(volume_friction/1000) -> #DIV/0! | CG6: =E6*AK6*(volume_friction/1000) -> #VALUE! | CH6: =AJ6/CG6 -> #VALUE! | CI6: =AJ6/AK6/(volume_friction/1000) -> #DIV/0! | CJ6: =E6*AM6*(volume_friction/1000) -> #VALUE! | CK6: =AL6/CJ6 -> #VALUE! | CL6: =AL6/AM6/(volume_friction/1000) -> #DIV/0!
A7: 6 | B7: ='Posters Trimestres'!A36 -> Médecine | C7: =Saisie!A21 -> 0 | D7: =Saisie!B21 -> 0 | E7: =Saisie!C21 | F7: =Saisie!D21 -> 0 | G7: =Saisie!E21 -> 0 | H7: =Saisie!F21 -> 0 | I7: =Saisie!G21 -> 0 | J7: =Saisie!H21 -> 0 | K7: =Saisie!I21 -> 0 | L7: =IF(Saisie!J21="",F7+H7+J7,Saisie!J21) -> 0 | M7: =IF(Saisie!K21="",G7+I7+K7,Saisie!K21) -> 0 | N7: =Saisie!L21 -> 0 | O7: =Saisie!M21 -> 0 | P7: =Saisie!N21 -> 0 | Q7: =Saisie!O21 -> 0 | R7: =Saisie!P21 -> 0 | S7: =Saisie!Q21 -> 0 | T7: =IF(Saisie!R21="",N7+P7+R7,Saisie!R21) -> 0 | U7: =IF(Saisie!S21="",O7+Q7+S7,Saisie!S21) -> 0 | V7: =Saisie!T21 -> 0 | W7: =Saisie!U21 -> 0 | X7: =Saisie!V21 -> 0 | Y7: =Saisie!W21 -> 0 | Z7: =Saisie!X21 -> 0 | AA7: =Saisie!Y21 -> 0 | AB7: =IF(Saisie!Z21="",V7+X7+Z7,Saisie!Z21) -> 0 | AC7: =IF(Saisie!AA21="",W7+Y7+AA7,Saisie!AA21) -> 0 | AD7: =Saisie!AB21 -> 0 | AE7: =Saisie!AC21 -> 0 | AF7: =Saisie!AD21 -> 0 | AG7: =Saisie!AE21 -> 0 | AH7: =Saisie!AF21 -> 0 | AI7: =Saisie!AG21 -> 0 | AJ7: =IF(Saisie!AH21="",AD7+AF7+AH7,Saisie!AH21) -> 0 | AK7: =IF(Saisie!AI21="",AE7+AG7+AI7,Saisie!AI21) -> 0 | AL7: =L7+T7+AB7+AJ7 -> 0 | AM7: =M7+U7+AC7+AK7 -> 0 | AN7: =E7*G7*(volume_friction/1000) -> #VALUE! | AO7: =F7/AN7 -> #VALUE! | AP7: =F7/G7/(volume_friction/1000) -> #DIV/0! | AQ7: =E7*I7*(volume_friction/1000) -> #VALUE! | AR7: =H7/AQ7 -> #VALUE! | AS7: =H7/I7/(volume_friction/1000) -> #DIV/0! | AT7: =E7*K7*(volume_friction/1000) -> #VALUE! | AU7: =J7/AT7 -> #VALUE! | AV7: =J7/K7/(volume_friction/1000) -> #DIV/0! | AW7: =E7*M7*(volume_friction/1000) -> #VALUE! | AX7: =L7/AW7 -> #VALUE! | AY7: =L7/M7/(volume_friction/1000) -> #DIV/0! | AZ7: =E7*O7*(volume_friction/1000) -> #VALUE! | BA7: =N7/AZ7 -> #VALUE! | BB7: =N7/O7/(volume_friction/1000) -> #DIV/0! | BC7: =E7*Q7*(volume_friction/1000) -> #VALUE! | BD7: =P7/BC7 -> #VALUE! | BE7: =P7/Q7/(volume_friction/1000) -> #DIV/0! | BF7: =E7*S7*(volume_friction/1000) -> #VALUE! | BG7: =R7/BF7 -> #VALUE! | BH7: =R7/S7/(volume_friction/1000) -> #DIV/0! | BI7: =E7*U7*(volume_friction/1000) -> #VALUE! | BJ7: =T7/BI7 -> #VALUE! | BK7: =T7/U7/(volume_friction/1000) -> #DIV/0! | BL7: =E7*W7*(volume_friction/1000) -> #VALUE! | BM7: =V7/BL7 -> #VALUE! | BN7: =V7/W7/(volume_friction/1000) -> #DIV/0! | BO7: =E7*Y7*(volume_friction/1000) -> #VALUE! | BP7: =X7/BO7 -> #VALUE! | BQ7: =X7/Y7/(volume_friction/1000) -> #DIV/0! | BR7: =E7*AA7*(volume_friction/1000) -> #VALUE! | BS7: =Z7/BR7 -> #VALUE! | BT7: =Z7/AA7/(volume_friction/1000) -> #DIV/0! | BU7: =E7*AC7*(volume_friction/1000) -> #VALUE! | BV7: =AB7/BU7 -> #VALUE! | BW7: =AB7/AC7/(volume_friction/1000) -> #DIV/0! | BX7: =E7*AE7*(volume_friction/1000) -> #VALUE! | BY7: =AD7/BX7 -> #VALUE! | BZ7: =AD7/AE7/(volume_friction/1000) -> #DIV/0! | CA7: =E7*AG7*(volume_friction/1000) -> #VALUE! | CB7: =AF7/CA7 -> #VALUE! | CC7: =AF7/AG7/(volume_friction/1000) -> #DIV/0! | CD7: =E7*AI7*(volume_friction/1000) -> #VALUE! | CE7: =AH7/CD7 -> #VALUE! | CF7: =AH7/AI7/(volume_friction/1000) -> #DIV/0! | CG7: =E7*AK7*(volume_friction/1000) -> #VALUE! | CH7: =AJ7/CG7 -> #VALUE! | CI7: =AJ7/AK7/(volume_friction/1000) -> #DIV/0! | CJ7: =E7*AM7*(volume_friction/1000) -> #VALUE! | CK7: =AL7/CJ7 -> #VALUE! | CL7: =AL7/AM7/(volume_friction/1000) -> #DIV/0!
A8: 7 | B8: ='Posters Trimestres'!A36 -> Médecine | C8: =Saisie!A22 -> 0 | D8: =Saisie!B22 -> 0 | E8: =Saisie!C22 | F8: =Saisie!D22 -> 0 | G8: =Saisie!E22 -> 0 | H8: =Saisie!F22 -> 0 | I8: =Saisie!G22 -> 0 | J8: =Saisie!H22 -> 0 | K8: =Saisie!I22 -> 0 | L8: =IF(Saisie!J22="",F8+H8+J8,Saisie!J22) -> 0 | M8: =IF(Saisie!K22="",G8+I8+K8,Saisie!K22) -> 0 | N8: =Saisie!L22 -> 0 | O8: =Saisie!M22 -> 0 | P8: =Saisie!N22 -> 0 | Q8: =Saisie!O22 -> 0 | R8: =Saisie!P22 -> 0 | S8: =Saisie!Q22 -> 0 | T8: =IF(Saisie!R22="",N8+P8+R8,Saisie!R22) -> 0 | U8: =IF(Saisie!S22="",O8+Q8+S8,Saisie!S22) -> 0 | V8: =Saisie!T22 -> 0 | W8: =Saisie!U22 -> 0 | X8: =Saisie!V22 -> 0 | Y8: =Saisie!W22 -> 0 | Z8: =Saisie!X22 -> 0 | AA8: =Saisie!Y22 -> 0 | AB8: =IF(Saisie!Z22="",V8+X8+Z8,Saisie!Z22) -> 0 | AC8: =IF(Saisie!AA22="",W8+Y8+AA8,Saisie!AA22) -> 0 | AD8: =Saisie!AB22 -> 0 | AE8: =Saisie!AC22 -> 0 | AF8: =Saisie!AD22 -> 0 | AG8: =Saisie!AE22 -> 0 | AH8: =Saisie!AF22 -> 0 | AI8: =Saisie!AG22 -> 0 | AJ8: =IF(Saisie!AH22="",AD8+AF8+AH8,Saisie!AH22) -> 0 | AK8: =IF(Saisie!AI22="",AE8+AG8+AI8,Saisie!AI22) -> 0 | AL8: =L8+T8+AB8+AJ8 -> 0 | AM8: =M8+U8+AC8+AK8 -> 0 | AN8: =E8*G8*(volume_friction/1000) -> #VALUE! | AO8: =F8/AN8 -> #VALUE! | AP8: =F8/G8/(volume_friction/1000) -> #DIV/0! | AQ8: =E8*I8*(volume_friction/1000) -> #VALUE! | AR8: =H8/AQ8 -> #VALUE! | AS8: =H8/I8/(volume_friction/1000) -> #DIV/0! | AT8: =E8*K8*(volume_friction/1000) -> #VALUE! | AU8: =J8/AT8 -> #VALUE! | AV8: =J8/K8/(volume_friction/1000) -> #DIV/0! | AW8: =E8*M8*(volume_friction/1000) -> #VALUE! | AX8: =L8/AW8 -> #VALUE! | AY8: =L8/M8/(volume_friction/1000) -> #DIV/0! | AZ8: =E8*O8*(volume_friction/1000) -> #VALUE! | BA8: =N8/AZ8 -> #VALUE! | BB8: =N8/O8/(volume_friction/1000) -> #DIV/0! | BC8: =E8*Q8*(volume_friction/1000) -> #VALUE! | BD8: =P8/BC8 -> #VALUE! | BE8: =P8/Q8/(volume_friction/1000) -> #DIV/0! | BF8: =E8*S8*(volume_friction/1000) -> #VALUE! | BG8: =R8/BF8 -> #VALUE! | BH8: =R8/S8/(volume_friction/1000) -> #DIV/0! | BI8: =E8*U8*(volume_friction/1000) -> #VALUE! | BJ8: =T8/BI8 -> #VALUE! | BK8: =T8/U8/(volume_friction/1000) -> #DIV/0! | BL8: =E8*W8*(volume_friction/1000) -> #VALUE! | BM8: =V8/BL8 -> #VALUE! | BN8: =V8/W8/(volume_friction/1000) -> #DIV/0! | BO8: =E8*Y8*(volume_friction/1000) -> #VALUE! | BP8: =X8/BO8 -> #VALUE! | BQ8: =X8/Y8/(volume_friction/1000) -> #DIV/0! | BR8: =E8*AA8*(volume_friction/1000) -> #VALUE! | BS8: =Z8/BR8 -> #VALUE! | BT8: =Z8/AA8/(volume_friction/1000) -> #DIV/0! | BU8: =E8*AC8*(volume_friction/1000) -> #VALUE! | BV8: =AB8/BU8 -> #VALUE! | BW8: =AB8/AC8/(volume_friction/1000) -> #DIV/0! | BX8: =E8*AE8*(volume_friction/1000) -> #VALUE! | BY8: =AD8/BX8 -> #VALUE! | BZ8: =AD8/AE8/(volume_friction/1000) -> #DIV/0! | CA8: =E8*AG8*(volume_friction/1000) -> #VALUE! | CB8: =AF8/CA8 -> #VALUE! | CC8: =AF8/AG8/(volume_friction/1000) -> #DIV/0! | CD8: =E8*AI8*(volume_friction/1000) -> #VALUE! | CE8: =AH8/CD8 -> #VALUE! | CF8: =AH8/AI8/(volume_friction/1000) -> #DIV/0! | CG8: =E8*AK8*(volume_friction/1000) -> #VALUE! | CH8: =AJ8/CG8 -> #VALUE! | CI8: =AJ8/AK8/(volume_friction/1000) -> #DIV/0! | CJ8: =E8*AM8*(volume_friction/1000) -> #VALUE! | CK8: =AL8/CJ8 -> #VALUE! | CL8: =AL8/AM8/(volume_friction/1000) -> #DIV/0!
A9: 8 | B9: ='Posters Trimestres'!A36 -> Médecine | C9: =Saisie!A23 -> 0 | D9: =Saisie!B23 -> 0 | E9: =Saisie!C23 | F9: =Saisie!D23 -> 0 | G9: =Saisie!E23 -> 0 | H9: =Saisie!F23 -> 0 | I9: =Saisie!G23 -> 0 | J9: =Saisie!H23 -> 0 | K9: =Saisie!I23 -> 0 | L9: =IF(Saisie!J23="",F9+H9+J9,Saisie!J23) -> 0 | M9: =IF(Saisie!K23="",G9+I9+K9,Saisie!K23) -> 0 | N9: =Saisie!L23 -> 0 | O9: =Saisie!M23 -> 0 | P9: =Saisie!N23 -> 0 | Q9: =Saisie!O23 -> 0 | R9: =Saisie!P23 -> 0 | S9: =Saisie!Q23 -> 0 | T9: =IF(Saisie!R23="",N9+P9+R9,Saisie!R23) -> 0 | U9: =IF(Saisie!S23="",O9+Q9+S9,Saisie!S23) -> 0 | V9: =Saisie!T23 -> 0 | W9: =Saisie!U23 -> 0 | X9: =Saisie!V23 -> 0 | Y9: =Saisie!W23 -> 0 | Z9: =Saisie!X23 -> 0 | AA9: =Saisie!Y23 -> 0 | AB9: =IF(Saisie!Z23="",V9+X9+Z9,Saisie!Z23) -> 0 | AC9: =IF(Saisie!AA23="",W9+Y9+AA9,Saisie!AA23) -> 0 | AD9: =Saisie!AB23 -> 0 | AE9: =Saisie!AC23 -> 0 | AF9: =Saisie!AD23 -> 0 | AG9: =Saisie!AE23 -> 0 | AH9: =Saisie!AF23 -> 0 | AI9: =Saisie!AG23 -> 0 | AJ9: =IF(Saisie!AH23="",AD9+AF9+AH9,Saisie!AH23) -> 0 | AK9: =IF(Saisie!AI23="",AE9+AG9+AI9,Saisie!AI23) -> 0 | AL9: =L9+T9+AB9+AJ9 -> 0 | AM9: =M9+U9+AC9+AK9 -> 0 | AN9: =E9*G9*(volume_friction/1000) -> #VALUE! | AO9: =F9/AN9 -> #VALUE! | AP9: =F9/G9/(volume_friction/1000) -> #DIV/0! | AQ9: =E9*I9*(volume_friction/1000) -> #VALUE! | AR9: =H9/AQ9 -> #VALUE! | AS9: =H9/I9/(volume_friction/1000) -> #DIV/0! | AT9: =E9*K9*(volume_friction/1000) -> #VALUE! | AU9: =J9/AT9 -> #VALUE! | AV9: =J9/K9/(volume_friction/1000) -> #DIV/0! | AW9: =E9*M9*(volume_friction/1000) -> #VALUE! | AX9: =L9/AW9 -> #VALUE! | AY9: =L9/M9/(volume_friction/1000) -> #DIV/0! | AZ9: =E9*O9*(volume_friction/1000) -> #VALUE! | BA9: =N9/AZ9 -> #VALUE! | BB9: =N9/O9/(volume_friction/1000) -> #DIV/0! | BC9: =E9*Q9*(volume_friction/1000) -> #VALUE! | BD9: =P9/BC9 -> #VALUE! | BE9: =P9/Q9/(volume_friction/1000) -> #DIV/0! | BF9: =E9*S9*(volume_friction/1000) -> #VALUE! | BG9: =R9/BF9 -> #VALUE! | BH9: =R9/S9/(volume_friction/1000) -> #DIV/0! | BI9: =E9*U9*(volume_friction/1000) -> #VALUE! | BJ9: =T9/BI9 -> #VALUE! | BK9: =T9/U9/(volume_friction/1000) -> #DIV/0! | BL9: =E9*W9*(volume_friction/1000) -> #VALUE! | BM9: =V9/BL9 -> #VALUE! | BN9: =V9/W9/(volume_friction/1000) -> #DIV/0! | BO9: =E9*Y9*(volume_friction/1000) -> #VALUE! | BP9: =X9/BO9 -> #VALUE! | BQ9: =X9/Y9/(volume_friction/1000) -> #DIV/0! | BR9: =E9*AA9*(volume_friction/1000) -> #VALUE! | BS9: =Z9/BR9 -> #VALUE! | BT9: =Z9/AA9/(volume_friction/1000) -> #DIV/0! | BU9: =E9*AC9*(volume_friction/1000) -> #VALUE! | BV9: =AB9/BU9 -> #VALUE! | BW9: =AB9/AC9/(volume_friction/1000) -> #DIV/0! | BX9: =E9*AE9*(volume_friction/1000) -> #VALUE! | BY9: =AD9/BX9 -> #VALUE! | BZ9: =AD9/AE9/(volume_friction/1000) -> #DIV/0! | CA9: =E9*AG9*(volume_friction/1000) -> #VALUE! | CB9: =AF9/CA9 -> #VALUE! | CC9: =AF9/AG9/(volume_friction/1000) -> #DIV/0! | CD9: =E9*AI9*(volume_friction/1000) -> #VALUE! | CE9: =AH9/CD9 -> #VALUE! | CF9: =AH9/AI9/(volume_friction/1000) -> #DIV/0! | CG9: =E9*AK9*(volume_friction/1000) -> #VALUE! | CH9: =AJ9/CG9 -> #VALUE! | CI9: =AJ9/AK9/(volume_friction/1000) -> #DIV/0! | CJ9: =E9*AM9*(volume_friction/1000) -> #VALUE! | CK9: =AL9/CJ9 -> #VALUE! | CL9: =AL9/AM9/(volume_friction/1000) -> #DIV/0!
A10: 9 | B10: ='Posters Trimestres'!A36 -> Médecine | C10: =Saisie!A24 -> 0 | D10: =Saisie!B24 -> 0 | E10: =Saisie!C24 | F10: =Saisie!D24 -> 0 | G10: =Saisie!E24 -> 0 | H10: =Saisie!F24 -> 0 | I10: =Saisie!G24 -> 0 | J10: =Saisie!H24 -> 0 | K10: =Saisie!I24 -> 0 | L10: =IF(Saisie!J24="",F10+H10+J10,Saisie!J24) -> 0 | M10: =IF(Saisie!K24="",G10+I10+K10,Saisie!K24) -> 0 | N10: =Saisie!L24 -> 0 | O10: =Saisie!M24 -> 0 | P10: =Saisie!N24 -> 0 | Q10: =Saisie!O24 -> 0 | R10: =Saisie!P24 -> 0 | S10: =Saisie!Q24 -> 0 | T10: =IF(Saisie!R24="",N10+P10+R10,Saisie!R24) -> 0 | U10: =IF(Saisie!S24="",O10+Q10+S10,Saisie!S24) -> 0 | V10: =Saisie!T24 -> 0 | W10: =Saisie!U24 -> 0 | X10: =Saisie!V24 -> 0 | Y10: =Saisie!W24 -> 0 | Z10: =Saisie!X24 -> 0 | AA10: =Saisie!Y24 -> 0 | AB10: =IF(Saisie!Z24="",V10+X10+Z10,Saisie!Z24) -> 0 | AC10: =IF(Saisie!AA24="",W10+Y10+AA10,Saisie!AA24) -> 0 | AD10: =Saisie!AB24 -> 0 | AE10: =Saisie!AC24 -> 0 | AF10: =Saisie!AD24 -> 0 | AG10: =Saisie!AE24 -> 0 | AH10: =Saisie!AF24 -> 0 | AI10: =Saisie!AG24 -> 0 | AJ10: =IF(Saisie!AH24="",AD10+AF10+AH10,Saisie!AH24) -> 0 | AK10: =IF(Saisie!AI24="",AE10+AG10+AI10,Saisie!AI24) -> 0 | AL10: =L10+T10+AB10+AJ10 -> 0 | AM10: =M10+U10+AC10+AK10 -> 0 | AN10: =E10*G10*(volume_friction/1000) -> #VALUE! | AO10: =F10/AN10 -> #VALUE! | AP10: =F10/G10/(volume_friction/1000) -> #DIV/0! | AQ10: =E10*I10*(volume_friction/1000) -> #VALUE! | AR10: =H10/AQ10 -> #VALUE! | AS10: =H10/I10/(volume_friction/1000) -> #DIV/0! | AT10: =E10*K10*(volume_friction/1000) -> #VALUE! | AU10: =J10/AT10 -> #VALUE! | AV10: =J10/K10/(volume_friction/1000) -> #DIV/0! | AW10: =E10*M10*(volume_friction/1000) -> #VALUE! | AX10: =L10/AW10 -> #VALUE! | AY10: =L10/M10/(volume_friction/1000) -> #DIV/0! | AZ10: =E10*O10*(volume_friction/1000) -> #VALUE! | BA10: =N10/AZ10 -> #VALUE! | BB10: =N10/O10/(volume_friction/1000) -> #DIV/0! | BC10: =E10*Q10*(volume_friction/1000) -> #VALUE! | BD10: =P10/BC10 -> #VALUE! | BE10: =P10/Q10/(volume_friction/1000) -> #DIV/0! | BF10: =E10*S10*(volume_friction/1000) -> #VALUE! | BG10: =R10/BF10 -> #VALUE! | BH10: =R10/S10/(volume_friction/1000) -> #DIV/0! | BI10: =E10*U10*(volume_friction/1000) -> #VALUE! | BJ10: =T10/BI10 -> #VALUE! | BK10: =T10/U10/(volume_friction/1000) -> #DIV/0! | BL10: =E10*W10*(volume_friction/1000) -> #VALUE! | BM10: =V10/BL10 -> #VALUE! | BN10: =V10/W10/(volume_friction/1000) -> #DIV/0! | BO10: =E10*Y10*(volume_friction/1000) -> #VALUE! | BP10: =X10/BO10 -> #VALUE! | BQ10: =X10/Y10/(volume_friction/1000) -> #DIV/0! | BR10: =E10*AA10*(volume_friction/1000) -> #VALUE! | BS10: =Z10/BR10 -> #VALUE! | BT10: =Z10/AA10/(volume_friction/1000) -> #DIV/0! | BU10: =E10*AC10*(volume_friction/1000) -> #VALUE! | BV10: =AB10/BU10 -> #VALUE! | BW10: =AB10/AC10/(volume_friction/1000) -> #DIV/0! | BX10: =E10*AE10*(volume_friction/1000) -> #VALUE! | BY10: =AD10/BX10 -> #VALUE! | BZ10: =AD10/AE10/(volume_friction/1000) -> #DIV/0! | CA10: =E10*AG10*(volume_friction/1000) -> #VALUE! | CB10: =AF10/CA10 -> #VALUE! | CC10: =AF10/AG10/(volume_friction/1000) -> #DIV/0! | CD10: =E10*AI10*(volume_friction/1000) -> #VALUE! | CE10: =AH10/CD10 -> #VALUE! | CF10: =AH10/AI10/(volume_friction/1000) -> #DIV/0! | CG10: =E10*AK10*(volume_friction/1000) -> #VALUE! | CH10: =AJ10/CG10 -> #VALUE! | CI10: =AJ10/AK10/(volume_friction/1000) -> #DIV/0! | CJ10: =E10*AM10*(volume_friction/1000) -> #VALUE! | CK10: =AL10/CJ10 -> #VALUE! | CL10: =AL10/AM10/(volume_friction/1000) -> #DIV/0!
A11: 10 | B11: ='Posters Trimestres'!A36 -> Médecine | C11: =Saisie!A25 -> 0 | D11: =Saisie!B25 -> 0 | E11: =Saisie!C25 | F11: =Saisie!D25 -> 0 | G11: =Saisie!E25 -> 0 | H11: =Saisie!F25 -> 0 | I11: =Saisie!G25 -> 0 | J11: =Saisie!H25 -> 0 | K11: =Saisie!I25 -> 0 | L11: =IF(Saisie!J25="",F11+H11+J11,Saisie!J25) -> 0 | M11: =IF(Saisie!K25="",G11+I11+K11,Saisie!K25) -> 0 | N11: =Saisie!L25 -> 0 | O11: =Saisie!M25 -> 0 | P11: =Saisie!N25 -> 0 | Q11: =Saisie!O25 -> 0 | R11: =Saisie!P25 -> 0 | S11: =Saisie!Q25 -> 0 | T11: =IF(Saisie!R25="",N11+P11+R11,Saisie!R25) -> 0 | U11: =IF(Saisie!S25="",O11+Q11+S11,Saisie!S25) -> 0 | V11: =Saisie!T25 -> 0 | W11: =Saisie!U25 -> 0 | X11: =Saisie!V25 -> 0 | Y11: =Saisie!W25 -> 0 | Z11: =Saisie!X25 -> 0 | AA11: =Saisie!Y25 -> 0 | AB11: =IF(Saisie!Z25="",V11+X11+Z11,Saisie!Z25) -> 0 | AC11: =IF(Saisie!AA25="",W11+Y11+AA11,Saisie!AA25) -> 0 | AD11: =Saisie!AB25 -> 0 | AE11: =Saisie!AC25 -> 0 | AF11: =Saisie!AD25 -> 0 | AG11: =Saisie!AE25 -> 0 | AH11: =Saisie!AF25 -> 0 | AI11: =Saisie!AG25 -> 0 | AJ11: =IF(Saisie!AH25="",AD11+AF11+AH11,Saisie!AH25) -> 0 | AK11: =IF(Saisie!AI25="",AE11+AG11+AI11,Saisie!AI25) -> 0 | AL11: =L11+T11+AB11+AJ11 -> 0 | AM11: =M11+U11+AC11+AK11 -> 0 | AN11: =E11*G11*(volume_friction/1000) -> #VALUE! | AO11: =F11/AN11 -> #VALUE! | AP11: =F11/G11/(volume_friction/1000) -> #DIV/0! | AQ11: =E11*I11*(volume_friction/1000) -> #VALUE! | AR11: =H11/AQ11 -> #VALUE! | AS11: =H11/I11/(volume_friction/1000) -> #DIV/0! | AT11: =E11*K11*(volume_friction/1000) -> #VALUE! | AU11: =J11/AT11 -> #VALUE! | AV11: =J11/K11/(volume_friction/1000) -> #DIV/0! | AW11: =E11*M11*(volume_friction/1000) -> #VALUE! | AX11: =L11/AW11 -> #VALUE! | AY11: =L11/M11/(volume_friction/1000) -> #DIV/0! | AZ11: =E11*O11*(volume_friction/1000) -> #VALUE! | BA11: =N11/AZ11 -> #VALUE! | BB11: =N11/O11/(volume_friction/1000) -> #DIV/0! | BC11: =E11*Q11*(volume_friction/1000) -> #VALUE! | BD11: =P11/BC11 -> #VALUE! | BE11: =P11/Q11/(volume_friction/1000) -> #DIV/0! | BF11: =E11*S11*(volume_friction/1000) -> #VALUE! | BG11: =R11/BF11 -> #VALUE! | BH11: =R11/S11/(volume_friction/1000) -> #DIV/0! | BI11: =E11*U11*(volume_friction/1000) -> #VALUE! | BJ11: =T11/BI11 -> #VALUE! | BK11: =T11/U11/(volume_friction/1000) -> #DIV/0! | BL11: =E11*W11*(volume_friction/1000) -> #VALUE! | BM11: =V11/BL11 -> #VALUE! | BN11: =V11/W11/(volume_friction/1000) -> #DIV/0! | BO11: =E11*Y11*(volume_friction/1000) -> #VALUE! | BP11: =X11/BO11 -> #VALUE! | BQ11: =X11/Y11/(volume_friction/1000) -> #DIV/0! | BR11: =E11*AA11*(volume_friction/1000) -> #VALUE! | BS11: =Z11/BR11 -> #VALUE! | BT11: =Z11/AA11/(volume_friction/1000) -> #DIV/0! | BU11: =E11*AC11*(volume_friction/1000) -> #VALUE! | BV11: =AB11/BU11 -> #VALUE! | BW11: =AB11/AC11/(volume_friction/1000) -> #DIV/0! | BX11: =E11*AE11*(volume_friction/1000) -> #VALUE! | BY11: =AD11/BX11 -> #VALUE! | BZ11: =AD11/AE11/(volume_friction/1000) -> #DIV/0! | CA11: =E11*AG11*(volume_friction/1000) -> #VALUE! | CB11: =AF11/CA11 -> #VALUE! | CC11: =AF11/AG11/(volume_friction/1000) -> #DIV/0! | CD11: =E11*AI11*(volume_friction/1000) -> #VALUE! | CE11: =AH11/CD11 -> #VALUE! | CF11: =AH11/AI11/(volume_friction/1000) -> #DIV/0! | CG11: =E11*AK11*(volume_friction/1000) -> #VALUE! | CH11: =AJ11/CG11 -> #VALUE! | CI11: =AJ11/AK11/(volume_friction/1000) -> #DIV/0! | CJ11: =E11*AM11*(volume_friction/1000) -> #VALUE! | CK11: =AL11/CJ11 -> #VALUE! | CL11: =AL11/AM11/(volume_friction/1000) -> #DIV/0!
A12: 1 | B12: ='Posters Trimestres'!A37 -> Chirurgie | C12: =Saisie!A37 -> 0 | D12: =Saisie!B37 -> 0 | E12: =Saisie!C37 | F12: =Saisie!D37 -> 0 | G12: =Saisie!E37 -> 0 | H12: =Saisie!F37 -> 0 | I12: =Saisie!G37 -> 0 | J12: =Saisie!H37 -> 0 | K12: =Saisie!I37 -> 0 | L12: =IF(Saisie!J37="",F12+H12+J12,Saisie!J37) -> 0 | M12: =IF(Saisie!K37="",G12+I12+K12,Saisie!K37) -> 0 | N12: =Saisie!L37 -> 0 | O12: =Saisie!M37 -> 0 | P12: =Saisie!N37 -> 0 | Q12: =Saisie!O37 -> 0 | R12: =Saisie!P37 -> 0 | S12: =Saisie!Q37 -> 0 | T12: =IF(Saisie!R37="",N12+P12+R12,Saisie!R37) -> 0 | U12: =IF(Saisie!S37="",O12+Q12+S12,Saisie!S37) -> 0 | V12: =Saisie!T37 -> 0 | W12: =Saisie!U37 -> 0 | X12: =Saisie!V37 -> 0 | Y12: =Saisie!W37 -> 0 | Z12: =Saisie!X37 -> 0 | AA12: =Saisie!Y37 -> 0 | AB12: =IF(Saisie!Z37="",V12+X12+Z12,Saisie!Z37) -> 0 | AC12: =IF(Saisie!AA37="",W12+Y12+AA12,Saisie!AA37) -> 0 | AD12: =Saisie!AB37 -> 0 | AE12: =Saisie!AC37 -> 0 | AF12: =Saisie!AD37 -> 0 | AG12: =Saisie!AE37 -> 0 | AH12: =Saisie!AF37 -> 0 | AI12: =Saisie!AG37 -> 0 | AJ12: =IF(Saisie!AH37="",AD12+AF12+AH12,Saisie!AH37) -> 0 | AK12: =IF(Saisie!AI37="",AE12+AG12+AI12,Saisie!AI37) -> 0 | AL12: =L12+T12+AB12+AJ12 -> 0 | AM12: =M12+U12+AC12+AK12 -> 0 | AN12: =E12*G12*(volume_friction/1000) -> #VALUE! | AO12: =F12/AN12 -> #VALUE! | AP12: =F12/G12/(volume_friction/1000) -> #DIV/0! | AQ12: =E12*I12*(volume_friction/1000) -> #VALUE! | AR12: =H12/AQ12 -> #VALUE! | AS12: =H12/I12/(volume_friction/1000) -> #DIV/0! | AT12: =E12*K12*(volume_friction/1000) -> #VALUE! | AU12: =J12/AT12 -> #VALUE! | AV12: =J12/K12/(volume_friction/1000) -> #DIV/0! | AW12: =E12*M12*(volume_friction/1000) -> #VALUE! | AX12: =L12/AW12 -> #VALUE! | AY12: =L12/M12/(volume_friction/1000) -> #DIV/0! | AZ12: =E12*O12*(volume_friction/1000) -> #VALUE! | BA12: =N12/AZ12 -> #VALUE! | BB12: =N12/O12/(volume_friction/1000) -> #DIV/0! | BC12: =E12*Q12*(volume_friction/1000) -> #VALUE! | BD12: =P12/BC12 -> #VALUE! | BE12: =P12/Q12/(volume_friction/1000) -> #DIV/0! | BF12: =E12*S12*(volume_friction/1000) -> #VALUE! | BG12: =R12/BF12 -> #VALUE! | BH12: =R12/S12/(volume_friction/1000) -> #DIV/0! | BI12: =E12*U12*(volume_friction/1000) -> #VALUE! | BJ12: =T12/BI12 -> #VALUE! | BK12: =T12/U12/(volume_friction/1000) -> #DIV/0! | BL12: =E12*W12*(volume_friction/1000) -> #VALUE! | BM12: =V12/BL12 -> #VALUE! | BN12: =V12/W12/(volume_friction/1000) -> #DIV/0! | BO12: =E12*Y12*(volume_friction/1000) -> #VALUE! | BP12: =X12/BO12 -> #VALUE! | BQ12: =X12/Y12/(volume_friction/1000) -> #DIV/0! | BR12: =E12*AA12*(volume_friction/1000) -> #VALUE! | BS12: =Z12/BR12 -> #VALUE! | BT12: =Z12/AA12/(volume_friction/1000) -> #DIV/0! | BU12: =E12*AC12*(volume_friction/1000) -> #VALUE! | BV12: =AB12/BU12 -> #VALUE! | BW12: =AB12/AC12/(volume_friction/1000) -> #DIV/0! | BX12: =E12*AE12*(volume_friction/1000) -> #VALUE! | BY12: =AD12/BX12 -> #VALUE! | BZ12: =AD12/AE12/(volume_friction/1000) -> #DIV/0! | CA12: =E12*AG12*(volume_friction/1000) -> #VALUE! | CB12: =AF12/CA12 -> #VALUE! | CC12: =AF12/AG12/(volume_friction/1000) -> #DIV/0! | CD12: =E12*AI12*(volume_friction/1000) -> #VALUE! | CE12: =AH12/CD12 -> #VALUE! | CF12: =AH12/AI12/(volume_friction/1000) -> #DIV/0! | CG12: =E12*AK12*(volume_friction/1000) -> #VALUE! | CH12: =AJ12/CG12 -> #VALUE! | CI12: =AJ12/AK12/(volume_friction/1000) -> #DIV/0! | CJ12: =E12*AM12*(volume_friction/1000) -> #VALUE! | CK12: =AL12/CJ12 -> #VALUE! | CL12: =AL12/AM12/(volume_friction/1000) -> #DIV/0!
A13: 2 | B13: ='Posters Trimestres'!A37 -> Chirurgie | C13: =Saisie!A38 -> 0 | D13: =Saisie!B38 -> 0 | E13: =Saisie!C38 | F13: =Saisie!D38 -> 0 | G13: =Saisie!E38 -> 0 | H13: =Saisie!F38 -> 0 | I13: =Saisie!G38 -> 0 | J13: =Saisie!H38 -> 0 | K13: =Saisie!I38 -> 0 | L13: =IF(Saisie!J38="",F13+H13+J13,Saisie!J38) -> 0 | M13: =IF(Saisie!K38="",G13+I13+K13,Saisie!K38) -> 0 | N13: =Saisie!L38 -> 0 | O13: =Saisie!M38 -> 0 | P13: =Saisie!N38 -> 0 | Q13: =Saisie!O38 -> 0 | R13: =Saisie!P38 -> 0 | S13: =Saisie!Q38 -> 0 | T13: =IF(Saisie!R38="",N13+P13+R13,Saisie!R38) -> 0 | U13: =IF(Saisie!S38="",O13+Q13+S13,Saisie!S38) -> 0 | V13: =Saisie!T38 -> 0 | W13: =Saisie!U38 -> 0 | X13: =Saisie!V38 -> 0 | Y13: =Saisie!W38 -> 0 | Z13: =Saisie!X38 -> 0 | AA13: =Saisie!Y38 -> 0 | AB13: =IF(Saisie!Z38="",V13+X13+Z13,Saisie!Z38) -> 0 | AC13: =IF(Saisie!AA38="",W13+Y13+AA13,Saisie!AA38) -> 0 | AD13: =Saisie!AB38 -> 0 | AE13: =Saisie!AC38 -> 0 | AF13: =Saisie!AD38 -> 0 | AG13: =Saisie!AE38 -> 0 | AH13: =Saisie!AF38 -> 0 | AI13: =Saisie!AG38 -> 0 | AJ13: =IF(Saisie!AH38="",AD13+AF13+AH13,Saisie!AH38) -> 0 | AK13: =IF(Saisie!AI38="",AE13+AG13+AI13,Saisie!AI38) -> 0 | AL13: =L13+T13+AB13+AJ13 -> 0 | AM13: =M13+U13+AC13+AK13 -> 0 | AN13: =E13*G13*(volume_friction/1000) -> #VALUE! | AO13: =F13/AN13 -> #VALUE! | AP13: =F13/G13/(volume_friction/1000) -> #DIV/0! | AQ13: =E13*I13*(volume_friction/1000) -> #VALUE! | AR13: =H13/AQ13 -> #VALUE! | AS13: =H13/I13/(volume_friction/1000) -> #DIV/0! | AT13: =E13*K13*(volume_friction/1000) -> #VALUE! | AU13: =J13/AT13 -> #VALUE! | AV13: =J13/K13/(volume_friction/1000) -> #DIV/0! | AW13: =E13*M13*(volume_friction/1000) -> #VALUE! | AX13: =L13/AW13 -> #VALUE! | AY13: =L13/M13/(volume_friction/1000) -> #DIV/0! | AZ13: =E13*O13*(volume_friction/1000) -> #VALUE! | BA13: =N13/AZ13 -> #VALUE! | BB13: =N13/O13/(volume_friction/1000) -> #DIV/0! | BC13: =E13*Q13*(volume_friction/1000) -> #VALUE! | BD13: =P13/BC13 -> #VALUE! | BE13: =P13/Q13/(volume_friction/1000) -> #DIV/0! | BF13: =E13*S13*(volume_friction/1000) -> #VALUE! | BG13: =R13/BF13 -> #VALUE! | BH13: =R13/S13/(volume_friction/1000) -> #DIV/0! | BI13: =E13*U13*(volume_friction/1000) -> #VALUE! | BJ13: =T13/BI13 -> #VALUE! | BK13: =T13/U13/(volume_friction/1000) -> #DIV/0! | BL13: =E13*W13*(volume_friction/1000) -> #VALUE! | BM13: =V13/BL13 -> #VALUE! | BN13: =V13/W13/(volume_friction/1000) -> #DIV/0! | BO13: =E13*Y13*(volume_friction/1000) -> #VALUE! | BP13: =X13/BO13 -> #VALUE! | BQ13: =X13/Y13/(volume_friction/1000) -> #DIV/0! | BR13: =E13*AA13*(volume_friction/1000) -> #VALUE! | BS13: =Z13/BR13 -> #VALUE! | BT13: =Z13/AA13/(volume_friction/1000) -> #DIV/0! | BU13: =E13*AC13*(volume_friction/1000) -> #VALUE! | BV13: =AB13/BU13 -> #VALUE! | BW13: =AB13/AC13/(volume_friction/1000) -> #DIV/0! | BX13: =E13*AE13*(volume_friction/1000) -> #VALUE! | BY13: =AD13/BX13 -> #VALUE! | BZ13: =AD13/AE13/(volume_friction/1000) -> #DIV/0! | CA13: =E13*AG13*(volume_friction/1000) -> #VALUE! | CB13: =AF13/CA13 -> #VALUE! | CC13: =AF13/AG13/(volume_friction/1000) -> #DIV/0! | CD13: =E13*AI13*(volume_friction/1000) -> #VALUE! | CE13: =AH13/CD13 -> #VALUE! | CF13: =AH13/AI13/(volume_friction/1000) -> #DIV/0! | CG13: =E13*AK13*(volume_friction/1000) -> #VALUE! | CH13: =AJ13/CG13 -> #VALUE! | CI13: =AJ13/AK13/(volume_friction/1000) -> #DIV/0! | CJ13: =E13*AM13*(volume_friction/1000) -> #VALUE! | CK13: =AL13/CJ13 -> #VALUE! | CL13: =AL13/AM13/(volume_friction/1000) -> #DIV/0!
A14: 3 | B14: ='Posters Trimestres'!A37 -> Chirurgie | C14: =Saisie!A39 -> 0 | D14: =Saisie!B39 -> 0 | E14: =Saisie!C39 | F14: =Saisie!D39 -> 0 | G14: =Saisie!E39 -> 0 | H14: =Saisie!F39 -> 0 | I14: =Saisie!G39 -> 0 | J14: =Saisie!H39 -> 0 | K14: =Saisie!I39 -> 0 | L14: =IF(Saisie!J39="",F14+H14+J14,Saisie!J39) -> 0 | M14: =IF(Saisie!K39="",G14+I14+K14,Saisie!K39) -> 0 | N14: =Saisie!L39 -> 0 | O14: =Saisie!M39 -> 0 | P14: =Saisie!N39 -> 0 | Q14: =Saisie!O39 -> 0 | R14: =Saisie!P39 -> 0 | S14: =Saisie!Q39 -> 0 | T14: =IF(Saisie!R39="",N14+P14+R14,Saisie!R39) -> 0 | U14: =IF(Saisie!S39="",O14+Q14+S14,Saisie!S39) -> 0 | V14: =Saisie!T39 -> 0 | W14: =Saisie!U39 -> 0 | X14: =Saisie!V39 -> 0 | Y14: =Saisie!W39 -> 0 | Z14: =Saisie!X39 -> 0 | AA14: =Saisie!Y39 -> 0 | AB14: =IF(Saisie!Z39="",V14+X14+Z14,Saisie!Z39) -> 0 | AC14: =IF(Saisie!AA39="",W14+Y14+AA14,Saisie!AA39) -> 0 | AD14: =Saisie!AB39 -> 0 | AE14: =Saisie!AC39 -> 0 | AF14: =Saisie!AD39 -> 0 | AG14: =Saisie!AE39 -> 0 | AH14: =Saisie!AF39 -> 0 | AI14: =Saisie!AG39 -> 0 | AJ14: =IF(Saisie!AH39="",AD14+AF14+AH14,Saisie!AH39) -> 0 | AK14: =IF(Saisie!AI39="",AE14+AG14+AI14,Saisie!AI39) -> 0 | AL14: =L14+T14+AB14+AJ14 -> 0 | AM14: =M14+U14+AC14+AK14 -> 0 | AN14: =E14*G14*(volume_friction/1000) -> #VALUE! | AO14: =F14/AN14 -> #VALUE! | AP14: =F14/G14/(volume_friction/1000) -> #DIV/0! | AQ14: =E14*I14*(volume_friction/1000) -> #VALUE! | AR14: =H14/AQ14 -> #VALUE! | AS14: =H14/I14/(volume_friction/1000) -> #DIV/0! | AT14: =E14*K14*(volume_friction/1000) -> #VALUE! | AU14: =J14/AT14 -> #VALUE! | AV14: =J14/K14/(volume_friction/1000) -> #DIV/0! | AW14: =E14*M14*(volume_friction/1000) -> #VALUE! | AX14: =L14/AW14 -> #VALUE! | AY14: =L14/M14/(volume_friction/1000) -> #DIV/0! | AZ14: =E14*O14*(volume_friction/1000) -> #VALUE! | BA14: =N14/AZ14 -> #VALUE! | BB14: =N14/O14/(volume_friction/1000) -> #DIV/0! | BC14: =E14*Q14*(volume_friction/1000) -> #VALUE! | BD14: =P14/BC14 -> #VALUE! | BE14: =P14/Q14/(volume_friction/1000) -> #DIV/0! | BF14: =E14*S14*(volume_friction/1000) -> #VALUE! | BG14: =R14/BF14 -> #VALUE! | BH14: =R14/S14/(volume_friction/1000) -> #DIV/0! | BI14: =E14*U14*(volume_friction/1000) -> #VALUE! | BJ14: =T14/BI14 -> #VALUE! | BK14: =T14/U14/(volume_friction/1000) -> #DIV/0! | BL14: =E14*W14*(volume_friction/1000) -> #VALUE! | BM14: =V14/BL14 -> #VALUE! | BN14: =V14/W14/(volume_friction/1000) -> #DIV/0! | BO14: =E14*Y14*(volume_friction/1000) -> #VALUE! | BP14: =X14/BO14 -> #VALUE! | BQ14: =X14/Y14/(volume_friction/1000) -> #DIV/0! | BR14: =E14*AA14*(volume_friction/1000) -> #VALUE! | BS14: =Z14/BR14 -> #VALUE! | BT14: =Z14/AA14/(volume_friction/1000) -> #DIV/0! | BU14: =E14*AC14*(volume_friction/1000) -> #VALUE! | BV14: =AB14/BU14 -> #VALUE! | BW14: =AB14/AC14/(volume_friction/1000) -> #DIV/0! | BX14: =E14*AE14*(volume_friction/1000) -> #VALUE! | BY14: =AD14/BX14 -> #VALUE! | BZ14: =AD14/AE14/(volume_friction/1000) -> #DIV/0! | CA14: =E14*AG14*(volume_friction/1000) -> #VALUE! | CB14: =AF14/CA14 -> #VALUE! | CC14: =AF14/AG14/(volume_friction/1000) -> #DIV/0! | CD14: =E14*AI14*(volume_friction/1000) -> #VALUE! | CE14: =AH14/CD14 -> #VALUE! | CF14: =AH14/AI14/(volume_friction/1000) -> #DIV/0! | CG14: =E14*AK14*(volume_friction/1000) -> #VALUE! | CH14: =AJ14/CG14 -> #VALUE! | CI14: =AJ14/AK14/(volume_friction/1000) -> #DIV/0! | CJ14: =E14*AM14*(volume_friction/1000) -> #VALUE! | CK14: =AL14/CJ14 -> #VALUE! | CL14: =AL14/AM14/(volume_friction/1000) -> #DIV/0!
A15: 4 | B15: ='Posters Trimestres'!A37 -> Chirurgie | C15: =Saisie!A40 -> 0 | D15: =Saisie!B40 -> 0 | E15: =Saisie!C40 | F15: =Saisie!D40 -> 0 | G15: =Saisie!E40 -> 0 | H15: =Saisie!F40 -> 0 | I15: =Saisie!G40 -> 0 | J15: =Saisie!H40 -> 0 | K15: =Saisie!I40 -> 0 | L15: =IF(Saisie!J40="",F15+H15+J15,Saisie!J40) -> 0 | M15: =IF(Saisie!K40="",G15+I15+K15,Saisie!K40) -> 0 | N15: =Saisie!L40 -> 0 | O15: =Saisie!M40 -> 0 | P15: =Saisie!N40 -> 0 | Q15: =Saisie!O40 -> 0 | R15: =Saisie!P40 -> 0 | S15: =Saisie!Q40 -> 0 | T15: =IF(Saisie!R40="",N15+P15+R15,Saisie!R40) -> 0 | U15: =IF(Saisie!S40="",O15+Q15+S15,Saisie!S40) -> 0 | V15: =Saisie!T40 -> 0 | W15: =Saisie!U40 -> 0 | X15: =Saisie!V40 -> 0 | Y15: =Saisie!W40 -> 0 | Z15: =Saisie!X40 -> 0 | AA15: =Saisie!Y40 -> 0 | AB15: =IF(Saisie!Z40="",V15+X15+Z15,Saisie!Z40) -> 0 | AC15: =IF(Saisie!AA40="",W15+Y15+AA15,Saisie!AA40) -> 0 | AD15: =Saisie!AB40 -> 0 | AE15: =Saisie!AC40 -> 0 | AF15: =Saisie!AD40 -> 0 | AG15: =Saisie!AE40 -> 0 | AH15: =Saisie!AF40 -> 0 | AI15: =Saisie!AG40 -> 0 | AJ15: =IF(Saisie!AH40="",AD15+AF15+AH15,Saisie!AH40) -> 0 | AK15: =IF(Saisie!AI40="",AE15+AG15+AI15,Saisie!AI40) -> 0 | AL15: =L15+T15+AB15+AJ15 -> 0 | AM15: =M15+U15+AC15+AK15 -> 0 | AN15: =E15*G15*(volume_friction/1000) -> #VALUE! | AO15: =F15/AN15 -> #VALUE! | AP15: =F15/G15/(volume_friction/1000) -> #DIV/0! | AQ15: =E15*I15*(volume_friction/1000) -> #VALUE! | AR15: =H15/AQ15 -> #VALUE! | AS15: =H15/I15/(volume_friction/1000) -> #DIV/0! | AT15: =E15*K15*(volume_friction/1000) -> #VALUE! | AU15: =J15/AT15 -> #VALUE! | AV15: =J15/K15/(volume_friction/1000) -> #DIV/0! | AW15: =E15*M15*(volume_friction/1000) -> #VALUE! | AX15: =L15/AW15 -> #VALUE! | AY15: =L15/M15/(volume_friction/1000) -> #DIV/0! | AZ15: =E15*O15*(volume_friction/1000) -> #VALUE! | BA15: =N15/AZ15 -> #VALUE! | BB15: =N15/O15/(volume_friction/1000) -> #DIV/0! | BC15: =E15*Q15*(volume_friction/1000) -> #VALUE! | BD15: =P15/BC15 -> #VALUE! | BE15: =P15/Q15/(volume_friction/1000) -> #DIV/0! | BF15: =E15*S15*(volume_friction/1000) -> #VALUE! | BG15: =R15/BF15 -> #VALUE! | BH15: =R15/S15/(volume_friction/1000) -> #DIV/0! | BI15: =E15*U15*(volume_friction/1000) -> #VALUE! | BJ15: =T15/BI15 -> #VALUE! | BK15: =T15/U15/(volume_friction/1000) -> #DIV/0! | BL15: =E15*W15*(volume_friction/1000) -> #VALUE! | BM15: =V15/BL15 -> #VALUE! | BN15: =V15/W15/(volume_friction/1000) -> #DIV/0! | BO15: =E15*Y15*(volume_friction/1000) -> #VALUE! | BP15: =X15/BO15 -> #VALUE! | BQ15: =X15/Y15/(volume_friction/1000) -> #DIV/0! | BR15: =E15*AA15*(volume_friction/1000) -> #VALUE! | BS15: =Z15/BR15 -> #VALUE! | BT15: =Z15/AA15/(volume_friction/1000) -> #DIV/0! | BU15: =E15*AC15*(volume_friction/1000) -> #VALUE! | BV15: =AB15/BU15 -> #VALUE! | BW15: =AB15/AC15/(volume_friction/1000) -> #DIV/0! | BX15: =E15*AE15*(volume_friction/1000) -> #VALUE! | BY15: =AD15/BX15 -> #VALUE! | BZ15: =AD15/AE15/(volume_friction/1000) -> #DIV/0! | CA15: =E15*AG15*(volume_friction/1000) -> #VALUE! | CB15: =AF15/CA15 -> #VALUE! | CC15: =AF15/AG15/(volume_friction/1000) -> #DIV/0! | CD15: =E15*AI15*(volume_friction/1000) -> #VALUE! | CE15: =AH15/CD15 -> #VALUE! | CF15: =AH15/AI15/(volume_friction/1000) -> #DIV/0! | CG15: =E15*AK15*(volume_friction/1000) -> #VALUE! | CH15: =AJ15/CG15 -> #VALUE! | CI15: =AJ15/AK15/(volume_friction/1000) -> #DIV/0! | CJ15: =E15*AM15*(volume_friction/1000) -> #VALUE! | CK15: =AL15/CJ15 -> #VALUE! | CL15: =AL15/AM15/(volume_friction/1000) -> #DIV/0!
A16: 5 | B16: ='Posters Trimestres'!A37 -> Chirurgie | C16: =Saisie!A41 -> 0 | D16: =Saisie!B41 -> 0 | E16: =Saisie!C41 | F16: =Saisie!D41 -> 0 | G16: =Saisie!E41 -> 0 | H16: =Saisie!F41 -> 0 | I16: =Saisie!G41 -> 0 | J16: =Saisie!H41 -> 0 | K16: =Saisie!I41 -> 0 | L16: =IF(Saisie!J41="",F16+H16+J16,Saisie!J41) -> 0 | M16: =IF(Saisie!K41="",G16+I16+K16,Saisie!K41) -> 0 | N16: =Saisie!L41 -> 0 | O16: =Saisie!M41 -> 0 | P16: =Saisie!N41 -> 0 | Q16: =Saisie!O41 -> 0 | R16: =Saisie!P41 -> 0 | S16: =Saisie!Q41 -> 0 | T16: =IF(Saisie!R41="",N16+P16+R16,Saisie!R41) -> 0 | U16: =IF(Saisie!S41="",O16+Q16+S16,Saisie!S41) -> 0 | V16: =Saisie!T41 -> 0 | W16: =Saisie!U41 -> 0 | X16: =Saisie!V41 -> 0 | Y16: =Saisie!W41 -> 0 | Z16: =Saisie!X41 -> 0 | AA16: =Saisie!Y41 -> 0 | AB16: =IF(Saisie!Z41="",V16+X16+Z16,Saisie!Z41) -> 0 | AC16: =IF(Saisie!AA41="",W16+Y16+AA16,Saisie!AA41) -> 0 | AD16: =Saisie!AB41 -> 0 | AE16: =Saisie!AC41 -> 0 | AF16: =Saisie!AD41 -> 0 | AG16: =Saisie!AE41 -> 0 | AH16: =Saisie!AF41 -> 0 | AI16: =Saisie!AG41 -> 0 | AJ16: =IF(Saisie!AH41="",AD16+AF16+AH16,Saisie!AH41) -> 0 | AK16: =IF(Saisie!AI41="",AE16+AG16+AI16,Saisie!AI41) -> 0 | AL16: =L16+T16+AB16+AJ16 -> 0 | AM16: =M16+U16+AC16+AK16 -> 0 | AN16: =E16*G16*(volume_friction/1000) -> #VALUE! | AO16: =F16/AN16 -> #VALUE! | AP16: =F16/G16/(volume_friction/1000) -> #DIV/0! | AQ16: =E16*I16*(volume_friction/1000) -> #VALUE! | AR16: =H16/AQ16 -> #VALUE! | AS16: =H16/I16/(volume_friction/1000) -> #DIV/0! | AT16: =E16*K16*(volume_friction/1000) -> #VALUE! | AU16: =J16/AT16 -> #VALUE! | AV16: =J16/K16/(volume_friction/1000) -> #DIV/0! | AW16: =E16*M16*(volume_friction/1000) -> #VALUE! | AX16: =L16/AW16 -> #VALUE! | AY16: =L16/M16/(volume_friction/1000) -> #DIV/0! | AZ16: =E16*O16*(volume_friction/1000) -> #VALUE! | BA16: =N16/AZ16 -> #VALUE! | BB16: =N16/O16/(volume_friction/1000) -> #DIV/0! | BC16: =E16*Q16*(volume_friction/1000) -> #VALUE! | BD16: =P16/BC16 -> #VALUE! | BE16: =P16/Q16/(volume_friction/1000) -> #DIV/0! | BF16: =E16*S16*(volume_friction/1000) -> #VALUE! | BG16: =R16/BF16 -> #VALUE! | BH16: =R16/S16/(volume_friction/1000) -> #DIV/0! | BI16: =E16*U16*(volume_friction/1000) -> #VALUE! | BJ16: =T16/BI16 -> #VALUE! | BK16: =T16/U16/(volume_friction/1000) -> #DIV/0! | BL16: =E16*W16*(volume_friction/1000) -> #VALUE! | BM16: =V16/BL16 -> #VALUE! | BN16: =V16/W16/(volume_friction/1000) -> #DIV/0! | BO16: =E16*Y16*(volume_friction/1000) -> #VALUE! | BP16: =X16/BO16 -> #VALUE! | BQ16: =X16/Y16/(volume_friction/1000) -> #DIV/0! | BR16: =E16*AA16*(volume_friction/1000) -> #VALUE! | BS16: =Z16/BR16 -> #VALUE! | BT16: =Z16/AA16/(volume_friction/1000) -> #DIV/0! | BU16: =E16*AC16*(volume_friction/1000) -> #VALUE! | BV16: =AB16/BU16 -> #VALUE! | BW16: =AB16/AC16/(volume_friction/1000) -> #DIV/0! | BX16: =E16*AE16*(volume_friction/1000) -> #VALUE! | BY16: =AD16/BX16 -> #VALUE! | BZ16: =AD16/AE16/(volume_friction/1000) -> #DIV/0! | CA16: =E16*AG16*(volume_friction/1000) -> #VALUE! | CB16: =AF16/CA16 -> #VALUE! | CC16: =AF16/AG16/(volume_friction/1000) -> #DIV/0! | CD16: =E16*AI16*(volume_friction/1000) -> #VALUE! | CE16: =AH16/CD16 -> #VALUE! | CF16: =AH16/AI16/(volume_friction/1000) -> #DIV/0! | CG16: =E16*AK16*(volume_friction/1000) -> #VALUE! | CH16: =AJ16/CG16 -> #VALUE! | CI16: =AJ16/AK16/(volume_friction/1000) -> #DIV/0! | CJ16: =E16*AM16*(volume_friction/1000) -> #VALUE! | CK16: =AL16/CJ16 -> #VALUE! | CL16: =AL16/AM16/(volume_friction/1000) -> #DIV/0!
A17: 6 | B17: ='Posters Trimestres'!A37 -> Chirurgie | C17: =Saisie!A42 -> 0 | D17: =Saisie!B42 -> 0 | E17: =Saisie!C42 | F17: =Saisie!D42 -> 0 | G17: =Saisie!E42 -> 0 | H17: =Saisie!F42 -> 0 | I17: =Saisie!G42 -> 0 | J17: =Saisie!H42 -> 0 | K17: =Saisie!I42 -> 0 | L17: =IF(Saisie!J42="",F17+H17+J17,Saisie!J42) -> 0 | M17: =IF(Saisie!K42="",G17+I17+K17,Saisie!K42) -> 0 | N17: =Saisie!L42 -> 0 | O17: =Saisie!M42 -> 0 | P17: =Saisie!N42 -> 0 | Q17: =Saisie!O42 -> 0 | R17: =Saisie!P42 -> 0 | S17: =Saisie!Q42 -> 0 | T17: =IF(Saisie!R42="",N17+P17+R17,Saisie!R42) -> 0 | U17: =IF(Saisie!S42="",O17+Q17+S17,Saisie!S42) -> 0 | V17: =Saisie!T42 -> 0 | W17: =Saisie!U42 -> 0 | X17: =Saisie!V42 -> 0 | Y17: =Saisie!W42 -> 0 | Z17: =Saisie!X42 -> 0 | AA17: =Saisie!Y42 -> 0 | AB17: =IF(Saisie!Z42="",V17+X17+Z17,Saisie!Z42) -> 0 | AC17: =IF(Saisie!AA42="",W17+Y17+AA17,Saisie!AA42) -> 0 | AD17: =Saisie!AB42 -> 0 | AE17: =Saisie!AC42 -> 0 | AF17: =Saisie!AD42 -> 0 | AG17: =Saisie!AE42 -> 0 | AH17: =Saisie!AF42 -> 0 | AI17: =Saisie!AG42 -> 0 | AJ17: =IF(Saisie!AH42="",AD17+AF17+AH17,Saisie!AH42) -> 0 | AK17: =IF(Saisie!AI42="",AE17+AG17+AI17,Saisie!AI42) -> 0 | AL17: =L17+T17+AB17+AJ17 -> 0 | AM17: =M17+U17+AC17+AK17 -> 0 | AN17: =E17*G17*(volume_friction/1000) -> #VALUE! | AO17: =F17/AN17 -> #VALUE! | AP17: =F17/G17/(volume_friction/1000) -> #DIV/0! | AQ17: =E17*I17*(volume_friction/1000) -> #VALUE! | AR17: =H17/AQ17 -> #VALUE! | AS17: =H17/I17/(volume_friction/1000) -> #DIV/0! | AT17: =E17*K17*(volume_friction/1000) -> #VALUE! | AU17: =J17/AT17 -> #VALUE! | AV17: =J17/K17/(volume_friction/1000) -> #DIV/0! | AW17: =E17*M17*(volume_friction/1000) -> #VALUE! | AX17: =L17/AW17 -> #VALUE! | AY17: =L17/M17/(volume_friction/1000) -> #DIV/0! | AZ17: =E17*O17*(volume_friction/1000) -> #VALUE! | BA17: =N17/AZ17 -> #VALUE! | BB17: =N17/O17/(volume_friction/1000) -> #DIV/0! | BC17: =E17*Q17*(volume_friction/1000) -> #VALUE! | BD17: =P17/BC17 -> #VALUE! | BE17: =P17/Q17/(volume_friction/1000) -> #DIV/0! | BF17: =E17*S17*(volume_friction/1000) -> #VALUE! | BG17: =R17/BF17 -> #VALUE! | BH17: =R17/S17/(volume_friction/1000) -> #DIV/0! | BI17: =E17*U17*(volume_friction/1000) -> #VALUE! | BJ17: =T17/BI17 -> #VALUE! | BK17: =T17/U17/(volume_friction/1000) -> #DIV/0! | BL17: =E17*W17*(volume_friction/1000) -> #VALUE! | BM17: =V17/BL17 -> #VALUE! | BN17: =V17/W17/(volume_friction/1000) -> #DIV/0! | BO17: =E17*Y17*(volume_friction/1000) -> #VALUE! | BP17: =X17/BO17 -> #VALUE! | BQ17: =X17/Y17/(volume_friction/1000) -> #DIV/0! | BR17: =E17*AA17*(volume_friction/1000) -> #VALUE! | BS17: =Z17/BR17 -> #VALUE! | BT17: =Z17/AA17/(volume_friction/1000) -> #DIV/0! | BU17: =E17*AC17*(volume_friction/1000) -> #VALUE! | BV17: =AB17/BU17 -> #VALUE! | BW17: =AB17/AC17/(volume_friction/1000) -> #DIV/0! | BX17: =E17*AE17*(volume_friction/1000) -> #VALUE! | BY17: =AD17/BX17 -> #VALUE! | BZ17: =AD17/AE17/(volume_friction/1000) -> #DIV/0! | CA17: =E17*AG17*(volume_friction/1000) -> #VALUE! | CB17: =AF17/CA17 -> #VALUE! | CC17: =AF17/AG17/(volume_friction/1000) -> #DIV/0! | CD17: =E17*AI17*(volume_friction/1000) -> #VALUE! | CE17: =AH17/CD17 -> #VALUE! | CF17: =AH17/AI17/(volume_friction/1000) -> #DIV/0! | CG17: =E17*AK17*(volume_friction/1000) -> #VALUE! | CH17: =AJ17/CG17 -> #VALUE! | CI17: =AJ17/AK17/(volume_friction/1000) -> #DIV/0! | CJ17: =E17*AM17*(volume_friction/1000) -> #VALUE! | CK17: =AL17/CJ17 -> #VALUE! | CL17: =AL17/AM17/(volume_friction/1000) -> #DIV/0!
A18: 7 | B18: ='Posters Trimestres'!A37 -> Chirurgie | C18: =Saisie!A43 -> 0 | D18: =Saisie!B43 -> 0 | E18: =Saisie!C43 | F18: =Saisie!D43 -> 0 | G18: =Saisie!E43 -> 0 | H18: =Saisie!F43 -> 0 | I18: =Saisie!G43 -> 0 | J18: =Saisie!H43 -> 0 | K18: =Saisie!I43 -> 0 | L18: =IF(Saisie!J43="",F18+H18+J18,Saisie!J43) -> 0 | M18: =IF(Saisie!K43="",G18+I18+K18,Saisie!K43) -> 0 | N18: =Saisie!L43 -> 0 | O18: =Saisie!M43 -> 0 | P18: =Saisie!N43 -> 0 | Q18: =Saisie!O43 -> 0 | R18: =Saisie!P43 -> 0 | S18: =Saisie!Q43 -> 0 | T18: =IF(Saisie!R43="",N18+P18+R18,Saisie!R43) -> 0 | U18: =IF(Saisie!S43="",O18+Q18+S18,Saisie!S43) -> 0 | V18: =Saisie!T43 -> 0 | W18: =Saisie!U43 -> 0 | X18: =Saisie!V43 -> 0 | Y18: =Saisie!W43 -> 0 | Z18: =Saisie!X43 -> 0 | AA18: =Saisie!Y43 -> 0 | AB18: =IF(Saisie!Z43="",V18+X18+Z18,Saisie!Z43) -> 0 | AC18: =IF(Saisie!AA43="",W18+Y18+AA18,Saisie!AA43) -> 0 | AD18: =Saisie!AB43 -> 0 | AE18: =Saisie!AC43 -> 0 | AF18: =Saisie!AD43 -> 0 | AG18: =Saisie!AE43 -> 0 | AH18: =Saisie!AF43 -> 0 | AI18: =Saisie!AG43 -> 0 | AJ18: =IF(Saisie!AH43="",AD18+AF18+AH18,Saisie!AH43) -> 0 | AK18: =IF(Saisie!AI43="",AE18+AG18+AI18,Saisie!AI43) -> 0 | AL18: =L18+T18+AB18+AJ18 -> 0 | AM18: =M18+U18+AC18+AK18 -> 0 | AN18: =E18*G18*(volume_friction/1000) -> #VALUE! | AO18: =F18/AN18 -> #VALUE! | AP18: =F18/G18/(volume_friction/1000) -> #DIV/0! | AQ18: =E18*I18*(volume_friction/1000) -> #VALUE! | AR18: =H18/AQ18 -> #VALUE! | AS18: =H18/I18/(volume_friction/1000) -> #DIV/0! | AT18: =E18*K18*(volume_friction/1000) -> #VALUE! | AU18: =J18/AT18 -> #VALUE! | AV18: =J18/K18/(volume_friction/1000) -> #DIV/0! | AW18: =E18*M18*(volume_friction/1000) -> #VALUE! | AX18: =L18/AW18 -> #VALUE! | AY18: =L18/M18/(volume_friction/1000) -> #DIV/0! | AZ18: =E18*O18*(volume_friction/1000) -> #VALUE! | BA18: =N18/AZ18 -> #VALUE! | BB18: =N18/O18/(volume_friction/1000) -> #DIV/0! | BC18: =E18*Q18*(volume_friction/1000) -> #VALUE! | BD18: =P18/BC18 -> #VALUE! | BE18: =P18/Q18/(volume_friction/1000) -> #DIV/0! | BF18: =E18*S18*(volume_friction/1000) -> #VALUE! | BG18: =R18/BF18 -> #VALUE! | BH18: =R18/S18/(volume_friction/1000) -> #DIV/0! | BI18: =E18*U18*(volume_friction/1000) -> #VALUE! | BJ18: =T18/BI18 -> #VALUE! | BK18: =T18/U18/(volume_friction/1000) -> #DIV/0! | BL18: =E18*W18*(volume_friction/1000) -> #VALUE! | BM18: =V18/BL18 -> #VALUE! | BN18: =V18/W18/(volume_friction/1000) -> #DIV/0! | BO18: =E18*Y18*(volume_friction/1000) -> #VALUE! | BP18: =X18/BO18 -> #VALUE! | BQ18: =X18/Y18/(volume_friction/1000) -> #DIV/0! | BR18: =E18*AA18*(volume_friction/1000) -> #VALUE! | BS18: =Z18/BR18 -> #VALUE! | BT18: =Z18/AA18/(volume_friction/1000) -> #DIV/0! | BU18: =E18*AC18*(volume_friction/1000) -> #VALUE! | BV18: =AB18/BU18 -> #VALUE! | BW18: =AB18/AC18/(volume_friction/1000) -> #DIV/0! | BX18: =E18*AE18*(volume_friction/1000) -> #VALUE! | BY18: =AD18/BX18 -> #VALUE! | BZ18: =AD18/AE18/(volume_friction/1000) -> #DIV/0! | CA18: =E18*AG18*(volume_friction/1000) -> #VALUE! | CB18: =AF18/CA18 -> #VALUE! | CC18: =AF18/AG18/(volume_friction/1000) -> #DIV/0! | CD18: =E18*AI18*(volume_friction/1000) -> #VALUE! | CE18: =AH18/CD18 -> #VALUE! | CF18: =AH18/AI18/(volume_friction/1000) -> #DIV/0! | CG18: =E18*AK18*(volume_friction/1000) -> #VALUE! | CH18: =AJ18/CG18 -> #VALUE! | CI18: =AJ18/AK18/(volume_friction/1000) -> #DIV/0! | CJ18: =E18*AM18*(volume_friction/1000) -> #VALUE! | CK18: =AL18/CJ18 -> #VALUE! | CL18: =AL18/AM18/(volume_friction/1000) -> #DIV/0!
A19: 8 | B19: ='Posters Trimestres'!A37 -> Chirurgie | C19: =Saisie!A44 -> 0 | D19: =Saisie!B44 -> 0 | E19: =Saisie!C44 | F19: =Saisie!D44 -> 0 | G19: =Saisie!E44 -> 0 | H19: =Saisie!F44 -> 0 | I19: =Saisie!G44 -> 0 | J19: =Saisie!H44 -> 0 | K19: =Saisie!I44 -> 0 | L19: =IF(Saisie!J44="",F19+H19+J19,Saisie!J44) -> 0 | M19: =IF(Saisie!K44="",G19+I19+K19,Saisie!K44) -> 0 | N19: =Saisie!L44 -> 0 | O19: =Saisie!M44 -> 0 | P19: =Saisie!N44 -> 0 | Q19: =Saisie!O44 -> 0 | R19: =Saisie!P44 -> 0 | S19: =Saisie!Q44 -> 0 | T19: =IF(Saisie!R44="",N19+P19+R19,Saisie!R44) -> 0 | U19: =IF(Saisie!S44="",O19+Q19+S19,Saisie!S44) -> 0 | V19: =Saisie!T44 -> 0 | W19: =Saisie!U44 -> 0 | X19: =Saisie!V44 -> 0 | Y19: =Saisie!W44 -> 0 | Z19: =Saisie!X44 -> 0 | AA19: =Saisie!Y44 -> 0 | AB19: =IF(Saisie!Z44="",V19+X19+Z19,Saisie!Z44) -> 0 | AC19: =IF(Saisie!AA44="",W19+Y19+AA19,Saisie!AA44) -> 0 | AD19: =Saisie!AB44 -> 0 | AE19: =Saisie!AC44 -> 0 | AF19: =Saisie!AD44 -> 0 | AG19: =Saisie!AE44 -> 0 | AH19: =Saisie!AF44 -> 0 | AI19: =Saisie!AG44 -> 0 | AJ19: =IF(Saisie!AH44="",AD19+AF19+AH19,Saisie!AH44) -> 0 | AK19: =IF(Saisie!AI44="",AE19+AG19+AI19,Saisie!AI44) -> 0 | AL19: =L19+T19+AB19+AJ19 -> 0 | AM19: =M19+U19+AC19+AK19 -> 0 | AN19: =E19*G19*(volume_friction/1000) -> #VALUE! | AO19: =F19/AN19 -> #VALUE! | AP19: =F19/G19/(volume_friction/1000) -> #DIV/0! | AQ19: =E19*I19*(volume_friction/1000) -> #VALUE! | AR19: =H19/AQ19 -> #VALUE! | AS19: =H19/I19/(volume_friction/1000) -> #DIV/0! | AT19: =E19*K19*(volume_friction/1000) -> #VALUE! | AU19: =J19/AT19 -> #VALUE! | AV19: =J19/K19/(volume_friction/1000) -> #DIV/0! | AW19: =E19*M19*(volume_friction/1000) -> #VALUE! | AX19: =L19/AW19 -> #VALUE! | AY19: =L19/M19/(volume_friction/1000) -> #DIV/0! | AZ19: =E19*O19*(volume_friction/1000) -> #VALUE! | BA19: =N19/AZ19 -> #VALUE! | BB19: =N19/O19/(volume_friction/1000) -> #DIV/0! | BC19: =E19*Q19*(volume_friction/1000) -> #VALUE! | BD19: =P19/BC19 -> #VALUE! | BE19: =P19/Q19/(volume_friction/1000) -> #DIV/0! | BF19: =E19*S19*(volume_friction/1000) -> #VALUE! | BG19: =R19/BF19 -> #VALUE! | BH19: =R19/S19/(volume_friction/1000) -> #DIV/0! | BI19: =E19*U19*(volume_friction/1000) -> #VALUE! | BJ19: =T19/BI19 -> #VALUE! | BK19: =T19/U19/(volume_friction/1000) -> #DIV/0! | BL19: =E19*W19*(volume_friction/1000) -> #VALUE! | BM19: =V19/BL19 -> #VALUE! | BN19: =V19/W19/(volume_friction/1000) -> #DIV/0! | BO19: =E19*Y19*(volume_friction/1000) -> #VALUE! | BP19: =X19/BO19 -> #VALUE! | BQ19: =X19/Y19/(volume_friction/1000) -> #DIV/0! | BR19: =E19*AA19*(volume_friction/1000) -> #VALUE! | BS19: =Z19/BR19 -> #VALUE! | BT19: =Z19/AA19/(volume_friction/1000) -> #DIV/0! | BU19: =E19*AC19*(volume_friction/1000) -> #VALUE! | BV19: =AB19/BU19 -> #VALUE! | BW19: =AB19/AC19/(volume_friction/1000) -> #DIV/0! | BX19: =E19*AE19*(volume_friction/1000) -> #VALUE! | BY19: =AD19/BX19 -> #VALUE! | BZ19: =AD19/AE19/(volume_friction/1000) -> #DIV/0! | CA19: =E19*AG19*(volume_friction/1000) -> #VALUE! | CB19: =AF19/CA19 -> #VALUE! | CC19: =AF19/AG19/(volume_friction/1000) -> #DIV/0! | CD19: =E19*AI19*(volume_friction/1000) -> #VALUE! | CE19: =AH19/CD19 -> #VALUE! | CF19: =AH19/AI19/(volume_friction/1000) -> #DIV/0! | CG19: =E19*AK19*(volume_friction/1000) -> #VALUE! | CH19: =AJ19/CG19 -> #VALUE! | CI19: =AJ19/AK19/(volume_friction/1000) -> #DIV/0! | CJ19: =E19*AM19*(volume_friction/1000) -> #VALUE! | CK19: =AL19/CJ19 -> #VALUE! | CL19: =AL19/AM19/(volume_friction/1000) -> #DIV/0!
A20: 9 | B20: ='Posters Trimestres'!A37 -> Chirurgie | C20: =Saisie!A45 -> 0 | D20: =Saisie!B45 -> 0 | E20: =Saisie!C45 | F20: =Saisie!D45 -> 0 | G20: =Saisie!E45 -> 0 | H20: =Saisie!F45 -> 0 | I20: =Saisie!G45 -> 0 | J20: =Saisie!H45 -> 0 | K20: =Saisie!I45 -> 0 | L20: =IF(Saisie!J45="",F20+H20+J20,Saisie!J45) -> 0 | M20: =IF(Saisie!K45="",G20+I20+K20,Saisie!K45) -> 0 | N20: =Saisie!L45 -> 0 | O20: =Saisie!M45 -> 0 | P20: =Saisie!N45 -> 0 | Q20: =Saisie!O45 -> 0 | R20: =Saisie!P45 -> 0 | S20: =Saisie!Q45 -> 0 | T20: =IF(Saisie!R45="",N20+P20+R20,Saisie!R45) -> 0 | U20: =IF(Saisie!S45="",O20+Q20+S20,Saisie!S45) -> 0 | V20: =Saisie!T45 -> 0 | W20: =Saisie!U45 -> 0 | X20: =Saisie!V45 -> 0 | Y20: =Saisie!W45 -> 0 | Z20: =Saisie!X45 -> 0 | AA20: =Saisie!Y45 -> 0 | AB20: =IF(Saisie!Z45="",V20+X20+Z20,Saisie!Z45) -> 0 | AC20: =IF(Saisie!AA45="",W20+Y20+AA20,Saisie!AA45) -> 0 | AD20: =Saisie!AB45 -> 0 | AE20: =Saisie!AC45 -> 0 | AF20: =Saisie!AD45 -> 0 | AG20: =Saisie!AE45 -> 0 | AH20: =Saisie!AF45 -> 0 | AI20: =Saisie!AG45 -> 0 | AJ20: =IF(Saisie!AH45="",AD20+AF20+AH20,Saisie!AH45) -> 0 | AK20: =IF(Saisie!AI45="",AE20+AG20+AI20,Saisie!AI45) -> 0 | AL20: =L20+T20+AB20+AJ20 -> 0 | AM20: =M20+U20+AC20+AK20 -> 0 | AN20: =E20*G20*(volume_friction/1000) -> #VALUE! | AO20: =F20/AN20 -> #VALUE! | AP20: =F20/G20/(volume_friction/1000) -> #DIV/0! | AQ20: =E20*I20*(volume_friction/1000) -> #VALUE! | AR20: =H20/AQ20 -> #VALUE! | AS20: =H20/I20/(volume_friction/1000) -> #DIV/0! | AT20: =E20*K20*(volume_friction/1000) -> #VALUE! | AU20: =J20/AT20 -> #VALUE! | AV20: =J20/K20/(volume_friction/1000) -> #DIV/0! | AW20: =E20*M20*(volume_friction/1000) -> #VALUE! | AX20: =L20/AW20 -> #VALUE! | AY20: =L20/M20/(volume_friction/1000) -> #DIV/0! | AZ20: =E20*O20*(volume_friction/1000) -> #VALUE! | BA20: =N20/AZ20 -> #VALUE! | BB20: =N20/O20/(volume_friction/1000) -> #DIV/0! | BC20: =E20*Q20*(volume_friction/1000) -> #VALUE! | BD20: =P20/BC20 -> #VALUE! | BE20: =P20/Q20/(volume_friction/1000) -> #DIV/0! | BF20: =E20*S20*(volume_friction/1000) -> #VALUE! | BG20: =R20/BF20 -> #VALUE! | BH20: =R20/S20/(volume_friction/1000) -> #DIV/0! | BI20: =E20*U20*(volume_friction/1000) -> #VALUE! | BJ20: =T20/BI20 -> #VALUE! | BK20: =T20/U20/(volume_friction/1000) -> #DIV/0! | BL20: =E20*W20*(volume_friction/1000) -> #VALUE! | BM20: =V20/BL20 -> #VALUE! | BN20: =V20/W20/(volume_friction/1000) -> #DIV/0! | BO20: =E20*Y20*(volume_friction/1000) -> #VALUE! | BP20: =X20/BO20 -> #VALUE! | BQ20: =X20/Y20/(volume_friction/1000) -> #DIV/0! | BR20: =E20*AA20*(volume_friction/1000) -> #VALUE! | BS20: =Z20/BR20 -> #VALUE! | BT20: =Z20/AA20/(volume_friction/1000) -> #DIV/0! | BU20: =E20*AC20*(volume_friction/1000) -> #VALUE! | BV20: =AB20/BU20 -> #VALUE! | BW20: =AB20/AC20/(volume_friction/1000) -> #DIV/0! | BX20: =E20*AE20*(volume_friction/1000) -> #VALUE! | BY20: =AD20/BX20 -> #VALUE! | BZ20: =AD20/AE20/(volume_friction/1000) -> #DIV/0! | CA20: =E20*AG20*(volume_friction/1000) -> #VALUE! | CB20: =AF20/CA20 -> #VALUE! | CC20: =AF20/AG20/(volume_friction/1000) -> #DIV/0! | CD20: =E20*AI20*(volume_friction/1000) -> #VALUE! | CE20: =AH20/CD20 -> #VALUE! | CF20: =AH20/AI20/(volume_friction/1000) -> #DIV/0! | CG20: =E20*AK20*(volume_friction/1000) -> #VALUE! | CH20: =AJ20/CG20 -> #VALUE! | CI20: =AJ20/AK20/(volume_friction/1000) -> #DIV/0! | CJ20: =E20*AM20*(volume_friction/1000) -> #VALUE! | CK20: =AL20/CJ20 -> #VALUE! | CL20: =AL20/AM20/(volume_friction/1000) -> #DIV/0!
A21: 10 | B21: ='Posters Trimestres'!A37 -> Chirurgie | C21: =Saisie!A46 -> 0 | D21: =Saisie!B46 -> 0 | E21: =Saisie!C46 | F21: =Saisie!D46 -> 0 | G21: =Saisie!E46 -> 0 | H21: =Saisie!F46 -> 0 | I21: =Saisie!G46 -> 0 | J21: =Saisie!H46 -> 0 | K21: =Saisie!I46 -> 0 | L21: =IF(Saisie!J46="",F21+H21+J21,Saisie!J46) -> 0 | M21: =IF(Saisie!K46="",G21+I21+K21,Saisie!K46) -> 0 | N21: =Saisie!L46 -> 0 | O21: =Saisie!M46 -> 0 | P21: =Saisie!N46 -> 0 | Q21: =Saisie!O46 -> 0 | R21: =Saisie!P46 -> 0 | S21: =Saisie!Q46 -> 0 | T21: =IF(Saisie!R46="",N21+P21+R21,Saisie!R46) -> 0 | U21: =IF(Saisie!S46="",O21+Q21+S21,Saisie!S46) -> 0 | V21: =Saisie!T46 -> 0 | W21: =Saisie!U46 -> 0 | X21: =Saisie!V46 -> 0 | Y21: =Saisie!W46 -> 0 | Z21: =Saisie!X46 -> 0 | AA21: =Saisie!Y46 -> 0 | AB21: =IF(Saisie!Z46="",V21+X21+Z21,Saisie!Z46) -> 0 | AC21: =IF(Saisie!AA46="",W21+Y21+AA21,Saisie!AA46) -> 0 | AD21: =Saisie!AB46 -> 0 | AE21: =Saisie!AC46 -> 0 | AF21: =Saisie!AD46 -> 0 | AG21: =Saisie!AE46 -> 0 | AH21: =Saisie!AF46 -> 0 | AI21: =Saisie!AG46 -> 0 | AJ21: =IF(Saisie!AH46="",AD21+AF21+AH21,Saisie!AH46) -> 0 | AK21: =IF(Saisie!AI46="",AE21+AG21+AI21,Saisie!AI46) -> 0 | AL21: =L21+T21+AB21+AJ21 -> 0 | AM21: =M21+U21+AC21+AK21 -> 0 | AN21: =E21*G21*(volume_friction/1000) -> #VALUE! | AO21: =F21/AN21 -> #VALUE! | AP21: =F21/G21/(volume_friction/1000) -> #DIV/0! | AQ21: =E21*I21*(volume_friction/1000) -> #VALUE! | AR21: =H21/AQ21 -> #VALUE! | AS21: =H21/I21/(volume_friction/1000) -> #DIV/0! | AT21: =E21*K21*(volume_friction/1000) -> #VALUE! | AU21: =J21/AT21 -> #VALUE! | AV21: =J21/K21/(volume_friction/1000) -> #DIV/0! | AW21: =E21*M21*(volume_friction/1000) -> #VALUE! | AX21: =L21/AW21 -> #VALUE! | AY21: =L21/M21/(volume_friction/1000) -> #DIV/0! | AZ21: =E21*O21*(volume_friction/1000) -> #VALUE! | BA21: =N21/AZ21 -> #VALUE! | BB21: =N21/O21/(volume_friction/1000) -> #DIV/0! | BC21: =E21*Q21*(volume_friction/1000) -> #VALUE! | BD21: =P21/BC21 -> #VALUE! | BE21: =P21/Q21/(volume_friction/1000) -> #DIV/0! | BF21: =E21*S21*(volume_friction/1000) -> #VALUE! | BG21: =R21/BF21 -> #VALUE! | BH21: =R21/S21/(volume_friction/1000) -> #DIV/0! | BI21: =E21*U21*(volume_friction/1000) -> #VALUE! | BJ21: =T21/BI21 -> #VALUE! | BK21: =T21/U21/(volume_friction/1000) -> #DIV/0! | BL21: =E21*W21*(volume_friction/1000) -> #VALUE! | BM21: =V21/BL21 -> #VALUE! | BN21: =V21/W21/(volume_friction/1000) -> #DIV/0! | BO21: =E21*Y21*(volume_friction/1000) -> #VALUE! | BP21: =X21/BO21 -> #VALUE! | BQ21: =X21/Y21/(volume_friction/1000) -> #DIV/0! | BR21: =E21*AA21*(volume_friction/1000) -> #VALUE! | BS21: =Z21/BR21 -> #VALUE! | BT21: =Z21/AA21/(volume_friction/1000) -> #DIV/0! | BU21: =E21*AC21*(volume_friction/1000) -> #VALUE! | BV21: =AB21/BU21 -> #VALUE! | BW21: =AB21/AC21/(volume_friction/1000) -> #DIV/0! | BX21: =E21*AE21*(volume_friction/1000) -> #VALUE! | BY21: =AD21/BX21 -> #VALUE! | BZ21: =AD21/AE21/(volume_friction/1000) -> #DIV/0! | CA21: =E21*AG21*(volume_friction/1000) -> #VALUE! | CB21: =AF21/CA21 -> #VALUE! | CC21: =AF21/AG21/(volume_friction/1000) -> #DIV/0! | CD21: =E21*AI21*(volume_friction/1000) -> #VALUE! | CE21: =AH21/CD21 -> #VALUE! | CF21: =AH21/AI21/(volume_friction/1000) -> #DIV/0! | CG21: =E21*AK21*(volume_friction/1000) -> #VALUE! | CH21: =AJ21/CG21 -> #VALUE! | CI21: =AJ21/AK21/(volume_friction/1000) -> #DIV/0! | CJ21: =E21*AM21*(volume_friction/1000) -> #VALUE! | CK21: =AL21/CJ21 -> #VALUE! | CL21: =AL21/AM21/(volume_friction/1000) -> #DIV/0!
A22: 1 | B22: ='Posters Trimestres'!A38 -> Gynéco-Obst | C22: =Saisie!A59 -> 0 | D22: =Saisie!B59 -> 0 | E22: =Saisie!C59 | F22: =Saisie!D59 -> 0 | G22: =Saisie!E59 -> 0 | H22: =Saisie!F59 -> 0 | I22: =Saisie!G59 -> 0 | J22: =Saisie!H59 -> 0 | K22: =Saisie!I59 -> 0 | L22: =IF(Saisie!J59="",F22+H22+J22,Saisie!J59) -> 0 | M22: =IF(Saisie!K59="",G22+I22+K22,Saisie!K59) -> 0 | N22: =Saisie!L59 -> 0 | O22: =Saisie!M59 -> 0 | P22: =Saisie!N59 -> 0 | Q22: =Saisie!O59 -> 0 | R22: =Saisie!P59 -> 0 | S22: =Saisie!Q59 -> 0 | T22: =IF(Saisie!R59="",N22+P22+R22,Saisie!R59) -> 0 | U22: =IF(Saisie!S59="",O22+Q22+S22,Saisie!S59) -> 0 | V22: =Saisie!T59 -> 0 | W22: =Saisie!U59 -> 0 | X22: =Saisie!V59 -> 0 | Y22: =Saisie!W59 -> 0 | Z22: =Saisie!X59 -> 0 | AA22: =Saisie!Y59 -> 0 | AB22: =IF(Saisie!Z59="",V22+X22+Z22,Saisie!Z59) -> 0 | AC22: =IF(Saisie!AA59="",W22+Y22+AA22,Saisie!AA59) -> 0 | AD22: =Saisie!AB59 -> 0 | AE22: =Saisie!AC59 -> 0 | AF22: =Saisie!AD59 -> 0 | AG22: =Saisie!AE59 -> 0 | AH22: =Saisie!AF59 -> 0 | AI22: =Saisie!AG59 -> 0 | AJ22: =IF(Saisie!AH59="",AD22+AF22+AH22,Saisie!AH59) -> 0 | AK22: =IF(Saisie!AI59="",AE22+AG22+AI22,Saisie!AI59) -> 0 | AL22: =L22+T22+AB22+AJ22 -> 0 | AM22: =M22+U22+AC22+AK22 -> 0 | AN22: =E22*G22*(volume_friction/1000) -> #VALUE! | AO22: =F22/AN22 -> #VALUE! | AP22: =F22/G22/(volume_friction/1000) -> #DIV/0! | AQ22: =E22*I22*(volume_friction/1000) -> #VALUE! | AR22: =H22/AQ22 -> #VALUE! | AS22: =H22/I22/(volume_friction/1000) -> #DIV/0! | AT22: =E22*K22*(volume_friction/1000) -> #VALUE! | AU22: =J22/AT22 -> #VALUE! | AV22: =J22/K22/(volume_friction/1000) -> #DIV/0! | AW22: =E22*M22*(volume_friction/1000) -> #VALUE! | AX22: =L22/AW22 -> #VALUE! | AY22: =L22/M22/(volume_friction/1000) -> #DIV/0! | AZ22: =E22*O22*(volume_friction/1000) -> #VALUE! | BA22: =N22/AZ22 -> #VALUE! | BB22: =N22/O22/(volume_friction/1000) -> #DIV/0! | BC22: =E22*Q22*(volume_friction/1000) -> #VALUE! | BD22: =P22/BC22 -> #VALUE! | BE22: =P22/Q22/(volume_friction/1000) -> #DIV/0! | BF22: =E22*S22*(volume_friction/1000) -> #VALUE! | BG22: =R22/BF22 -> #VALUE! | BH22: =R22/S22/(volume_friction/1000) -> #DIV/0! | BI22: =E22*U22*(volume_friction/1000) -> #VALUE! | BJ22: =T22/BI22 -> #VALUE! | BK22: =T22/U22/(volume_friction/1000) -> #DIV/0! | BL22: =E22*W22*(volume_friction/1000) -> #VALUE! | BM22: =V22/BL22 -> #VALUE! | BN22: =V22/W22/(volume_friction/1000) -> #DIV/0! | BO22: =E22*Y22*(volume_friction/1000) -> #VALUE! | BP22: =X22/BO22 -> #VALUE! | BQ22: =X22/Y22/(volume_friction/1000) -> #DIV/0! | BR22: =E22*AA22*(volume_friction/1000) -> #VALUE! | BS22: =Z22/BR22 -> #VALUE! | BT22: =Z22/AA22/(volume_friction/1000) -> #DIV/0! | BU22: =E22*AC22*(volume_friction/1000) -> #VALUE! | BV22: =AB22/BU22 -> #VALUE! | BW22: =AB22/AC22/(volume_friction/1000) -> #DIV/0! | BX22: =E22*AE22*(volume_friction/1000) -> #VALUE! | BY22: =AD22/BX22 -> #VALUE! | BZ22: =AD22/AE22/(volume_friction/1000) -> #DIV/0! | CA22: =E22*AG22*(volume_friction/1000) -> #VALUE! | CB22: =AF22/CA22 -> #VALUE! | CC22: =AF22/AG22/(volume_friction/1000) -> #DIV/0! | CD22: =E22*AI22*(volume_friction/1000) -> #VALUE! | CE22: =AH22/CD22 -> #VALUE! | CF22: =AH22/AI22/(volume_friction/1000) -> #DIV/0! | CG22: =E22*AK22*(volume_friction/1000) -> #VALUE! | CH22: =AJ22/CG22 -> #VALUE! | CI22: =AJ22/AK22/(volume_friction/1000) -> #DIV/0! | CJ22: =E22*AM22*(volume_friction/1000) -> #VALUE! | CK22: =AL22/CJ22 -> #VALUE! | CL22: =AL22/AM22/(volume_friction/1000) -> #DIV/0!
A23: 2 | B23: ='Posters Trimestres'!A38 -> Gynéco-Obst | C23: =Saisie!A60 -> 0 | D23: =Saisie!B60 -> 0 | E23: =Saisie!C60 | F23: =Saisie!D60 -> 0 | G23: =Saisie!E60 -> 0 | H23: =Saisie!F60 -> 0 | I23: =Saisie!G60 -> 0 | J23: =Saisie!H60 -> 0 | K23: =Saisie!I60 -> 0 | L23: =IF(Saisie!J60="",F23+H23+J23,Saisie!J60) -> 0 | M23: =IF(Saisie!K60="",G23+I23+K23,Saisie!K60) -> 0 | N23: =Saisie!L60 -> 0 | O23: =Saisie!M60 -> 0 | P23: =Saisie!N60 -> 0 | Q23: =Saisie!O60 -> 0 | R23: =Saisie!P60 -> 0 | S23: =Saisie!Q60 -> 0 | T23: =IF(Saisie!R60="",N23+P23+R23,Saisie!R60) -> 0 | U23: =IF(Saisie!S60="",O23+Q23+S23,Saisie!S60) -> 0 | V23: =Saisie!T60 -> 0 | W23: =Saisie!U60 -> 0 | X23: =Saisie!V60 -> 0 | Y23: =Saisie!W60 -> 0 | Z23: =Saisie!X60 -> 0 | AA23: =Saisie!Y60 -> 0 | AB23: =IF(Saisie!Z60="",V23+X23+Z23,Saisie!Z60) -> 0 | AC23: =IF(Saisie!AA60="",W23+Y23+AA23,Saisie!AA60) -> 0 | AD23: =Saisie!AB60 -> 0 | AE23: =Saisie!AC60 -> 0 | AF23: =Saisie!AD60 -> 0 | AG23: =Saisie!AE60 -> 0 | AH23: =Saisie!AF60 -> 0 | AI23: =Saisie!AG60 -> 0 | AJ23: =IF(Saisie!AH60="",AD23+AF23+AH23,Saisie!AH60) -> 0 | AK23: =IF(Saisie!AI60="",AE23+AG23+AI23,Saisie!AI60) -> 0 | AL23: =L23+T23+AB23+AJ23 -> 0 | AM23: =M23+U23+AC23+AK23 -> 0 | AN23: =E23*G23*(volume_friction/1000) -> #VALUE! | AO23: =F23/AN23 -> #VALUE! | AP23: =F23/G23/(volume_friction/1000) -> #DIV/0! | AQ23: =E23*I23*(volume_friction/1000) -> #VALUE! | AR23: =H23/AQ23 -> #VALUE! | AS23: =H23/I23/(volume_friction/1000) -> #DIV/0! | AT23: =E23*K23*(volume_friction/1000) -> #VALUE! | AU23: =J23/AT23 -> #VALUE! | AV23: =J23/K23/(volume_friction/1000) -> #DIV/0! | AW23: =E23*M23*(volume_friction/1000) -> #VALUE! | AX23: =L23/AW23 -> #VALUE! | AY23: =L23/M23/(volume_friction/1000) -> #DIV/0! | AZ23: =E23*O23*(volume_friction/1000) -> #VALUE! | BA23: =N23/AZ23 -> #VALUE! | BB23: =N23/O23/(volume_friction/1000) -> #DIV/0! | BC23: =E23*Q23*(volume_friction/1000) -> #VALUE! | BD23: =P23/BC23 -> #VALUE! | BE23: =P23/Q23/(volume_friction/1000) -> #DIV/0! | BF23: =E23*S23*(volume_friction/1000) -> #VALUE! | BG23: =R23/BF23 -> #VALUE! | BH23: =R23/S23/(volume_friction/1000) -> #DIV/0! | BI23: =E23*U23*(volume_friction/1000) -> #VALUE! | BJ23: =T23/BI23 -> #VALUE! | BK23: =T23/U23/(volume_friction/1000) -> #DIV/0! | BL23: =E23*W23*(volume_friction/1000) -> #VALUE! | BM23: =V23/BL23 -> #VALUE! | BN23: =V23/W23/(volume_friction/1000) -> #DIV/0! | BO23: =E23*Y23*(volume_friction/1000) -> #VALUE! | BP23: =X23/BO23 -> #VALUE! | BQ23: =X23/Y23/(volume_friction/1000) -> #DIV/0! | BR23: =E23*AA23*(volume_friction/1000) -> #VALUE! | BS23: =Z23/BR23 -> #VALUE! | BT23: =Z23/AA23/(volume_friction/1000) -> #DIV/0! | BU23: =E23*AC23*(volume_friction/1000) -> #VALUE! | BV23: =AB23/BU23 -> #VALUE! | BW23: =AB23/AC23/(volume_friction/1000) -> #DIV/0! | BX23: =E23*AE23*(volume_friction/1000) -> #VALUE! | BY23: =AD23/BX23 -> #VALUE! | BZ23: =AD23/AE23/(volume_friction/1000) -> #DIV/0! | CA23: =E23*AG23*(volume_friction/1000) -> #VALUE! | CB23: =AF23/CA23 -> #VALUE! | CC23: =AF23/AG23/(volume_friction/1000) -> #DIV/0! | CD23: =E23*AI23*(volume_friction/1000) -> #VALUE! | CE23: =AH23/CD23 -> #VALUE! | CF23: =AH23/AI23/(volume_friction/1000) -> #DIV/0! | CG23: =E23*AK23*(volume_friction/1000) -> #VALUE! | CH23: =AJ23/CG23 -> #VALUE! | CI23: =AJ23/AK23/(volume_friction/1000) -> #DIV/0! | CJ23: =E23*AM23*(volume_friction/1000) -> #VALUE! | CK23: =AL23/CJ23 -> #VALUE! | CL23: =AL23/AM23/(volume_friction/1000) -> #DIV/0!
A24: 3 | B24: ='Posters Trimestres'!A38 -> Gynéco-Obst | C24: =Saisie!A61 -> 0 | D24: =Saisie!B61 -> 0 | E24: =Saisie!C61 | F24: =Saisie!D61 -> 0 | G24: =Saisie!E61 -> 0 | H24: =Saisie!F61 -> 0 | I24: =Saisie!G61 -> 0 | J24: =Saisie!H61 -> 0 | K24: =Saisie!I61 -> 0 | L24: =IF(Saisie!J61="",F24+H24+J24,Saisie!J61) -> 0 | M24: =IF(Saisie!K61="",G24+I24+K24,Saisie!K61) -> 0 | N24: =Saisie!L61 -> 0 | O24: =Saisie!M61 -> 0 | P24: =Saisie!N61 -> 0 | Q24: =Saisie!O61 -> 0 | R24: =Saisie!P61 -> 0 | S24: =Saisie!Q61 -> 0 | T24: =IF(Saisie!R61="",N24+P24+R24,Saisie!R61) -> 0 | U24: =IF(Saisie!S61="",O24+Q24+S24,Saisie!S61) -> 0 | V24: =Saisie!T61 -> 0 | W24: =Saisie!U61 -> 0 | X24: =Saisie!V61 -> 0 | Y24: =Saisie!W61 -> 0 | Z24: =Saisie!X61 -> 0 | AA24: =Saisie!Y61 -> 0 | AB24: =IF(Saisie!Z61="",V24+X24+Z24,Saisie!Z61) -> 0 | AC24: =IF(Saisie!AA61="",W24+Y24+AA24,Saisie!AA61) -> 0 | AD24: =Saisie!AB61 -> 0 | AE24: =Saisie!AC61 -> 0 | AF24: =Saisie!AD61 -> 0 | AG24: =Saisie!AE61 -> 0 | AH24: =Saisie!AF61 -> 0 | AI24: =Saisie!AG61 -> 0 | AJ24: =IF(Saisie!AH61="",AD24+AF24+AH24,Saisie!AH61) -> 0 | AK24: =IF(Saisie!AI61="",AE24+AG24+AI24,Saisie!AI61) -> 0 | AL24: =L24+T24+AB24+AJ24 -> 0 | AM24: =M24+U24+AC24+AK24 -> 0 | AN24: =E24*G24*(volume_friction/1000) -> #VALUE! | AO24: =F24/AN24 -> #VALUE! | AP24: =F24/G24/(volume_friction/1000) -> #DIV/0! | AQ24: =E24*I24*(volume_friction/1000) -> #VALUE! | AR24: =H24/AQ24 -> #VALUE! | AS24: =H24/I24/(volume_friction/1000) -> #DIV/0! | AT24: =E24*K24*(volume_friction/1000) -> #VALUE! | AU24: =J24/AT24 -> #VALUE! | AV24: =J24/K24/(volume_friction/1000) -> #DIV/0! | AW24: =E24*M24*(volume_friction/1000) -> #VALUE! | AX24: =L24/AW24 -> #VALUE! | AY24: =L24/M24/(volume_friction/1000) -> #DIV/0! | AZ24: =E24*O24*(volume_friction/1000) -> #VALUE! | BA24: =N24/AZ24 -> #VALUE! | BB24: =N24/O24/(volume_friction/1000) -> #DIV/0! | BC24: =E24*Q24*(volume_friction/1000) -> #VALUE! | BD24: =P24/BC24 -> #VALUE! | BE24: =P24/Q24/(volume_friction/1000) -> #DIV/0! | BF24: =E24*S24*(volume_friction/1000) -> #VALUE! | BG24: =R24/BF24 -> #VALUE! | BH24: =R24/S24/(volume_friction/1000) -> #DIV/0! | BI24: =E24*U24*(volume_friction/1000) -> #VALUE! | BJ24: =T24/BI24 -> #VALUE! | BK24: =T24/U24/(volume_friction/1000) -> #DIV/0! | BL24: =E24*W24*(volume_friction/1000) -> #VALUE! | BM24: =V24/BL24 -> #VALUE! | BN24: =V24/W24/(volume_friction/1000) -> #DIV/0! | BO24: =E24*Y24*(volume_friction/1000) -> #VALUE! | BP24: =X24/BO24 -> #VALUE! | BQ24: =X24/Y24/(volume_friction/1000) -> #DIV/0! | BR24: =E24*AA24*(volume_friction/1000) -> #VALUE! | BS24: =Z24/BR24 -> #VALUE! | BT24: =Z24/AA24/(volume_friction/1000) -> #DIV/0! | BU24: =E24*AC24*(volume_friction/1000) -> #VALUE! | BV24: =AB24/BU24 -> #VALUE! | BW24: =AB24/AC24/(volume_friction/1000) -> #DIV/0! | BX24: =E24*AE24*(volume_friction/1000) -> #VALUE! | BY24: =AD24/BX24 -> #VALUE! | BZ24: =AD24/AE24/(volume_friction/1000) -> #DIV/0! | CA24: =E24*AG24*(volume_friction/1000) -> #VALUE! | CB24: =AF24/CA24 -> #VALUE! | CC24: =AF24/AG24/(volume_friction/1000) -> #DIV/0! | CD24: =E24*AI24*(volume_friction/1000) -> #VALUE! | CE24: =AH24/CD24 -> #VALUE! | CF24: =AH24/AI24/(volume_friction/1000) -> #DIV/0! | CG24: =E24*AK24*(volume_friction/1000) -> #VALUE! | CH24: =AJ24/CG24 -> #VALUE! | CI24: =AJ24/AK24/(volume_friction/1000) -> #DIV/0! | CJ24: =E24*AM24*(volume_friction/1000) -> #VALUE! | CK24: =AL24/CJ24 -> #VALUE! | CL24: =AL24/AM24/(volume_friction/1000) -> #DIV/0!
A25: 4 | B25: ='Posters Trimestres'!A38 -> Gynéco-Obst | C25: =Saisie!A62 -> 0 | D25: =Saisie!B62 -> 0 | E25: =Saisie!C62 | F25: =Saisie!D62 -> 0 | G25: =Saisie!E62 -> 0 | H25: =Saisie!F62 -> 0 | I25: =Saisie!G62 -> 0 | J25: =Saisie!H62 -> 0 | K25: =Saisie!I62 -> 0 | L25: =IF(Saisie!J62="",F25+H25+J25,Saisie!J62) -> 0 | M25: =IF(Saisie!K62="",G25+I25+K25,Saisie!K62) -> 0 | N25: =Saisie!L62 -> 0 | O25: =Saisie!M62 -> 0 | P25: =Saisie!N62 -> 0 | Q25: =Saisie!O62 -> 0 | R25: =Saisie!P62 -> 0 | S25: =Saisie!Q62 -> 0 | T25: =IF(Saisie!R62="",N25+P25+R25,Saisie!R62) -> 0 | U25: =IF(Saisie!S62="",O25+Q25+S25,Saisie!S62) -> 0 | V25: =Saisie!T62 -> 0 | W25: =Saisie!U62 -> 0 | X25: =Saisie!V62 -> 0 | Y25: =Saisie!W62 -> 0 | Z25: =Saisie!X62 -> 0 | AA25: =Saisie!Y62 -> 0 | AB25: =IF(Saisie!Z62="",V25+X25+Z25,Saisie!Z62) -> 0 | AC25: =IF(Saisie!AA62="",W25+Y25+AA25,Saisie!AA62) -> 0 | AD25: =Saisie!AB62 -> 0 | AE25: =Saisie!AC62 -> 0 | AF25: =Saisie!AD62 -> 0 | AG25: =Saisie!AE62 -> 0 | AH25: =Saisie!AF62 -> 0 | AI25: =Saisie!AG62 -> 0 | AJ25: =IF(Saisie!AH62="",AD25+AF25+AH25,Saisie!AH62) -> 0 | AK25: =IF(Saisie!AI62="",AE25+AG25+AI25,Saisie!AI62) -> 0 | AL25: =L25+T25+AB25+AJ25 -> 0 | AM25: =M25+U25+AC25+AK25 -> 0 | AN25: =E25*G25*(volume_friction/1000) -> #VALUE! | AO25: =F25/AN25 -> #VALUE! | AP25: =F25/G25/(volume_friction/1000) -> #DIV/0! | AQ25: =E25*I25*(volume_friction/1000) -> #VALUE! | AR25: =H25/AQ25 -> #VALUE! | AS25: =H25/I25/(volume_friction/1000) -> #DIV/0! | AT25: =E25*K25*(volume_friction/1000) -> #VALUE! | AU25: =J25/AT25 -> #VALUE! | AV25: =J25/K25/(volume_friction/1000) -> #DIV/0! | AW25: =E25*M25*(volume_friction/1000) -> #VALUE! | AX25: =L25/AW25 -> #VALUE! | AY25: =L25/M25/(volume_friction/1000) -> #DIV/0! | AZ25: =E25*O25*(volume_friction/1000) -> #VALUE! | BA25: =N25/AZ25 -> #VALUE! | BB25: =N25/O25/(volume_friction/1000) -> #DIV/0! | BC25: =E25*Q25*(volume_friction/1000) -> #VALUE! | BD25: =P25/BC25 -> #VALUE! | BE25: =P25/Q25/(volume_friction/1000) -> #DIV/0! | BF25: =E25*S25*(volume_friction/1000) -> #VALUE! | BG25: =R25/BF25 -> #VALUE! | BH25: =R25/S25/(volume_friction/1000) -> #DIV/0! | BI25: =E25*U25*(volume_friction/1000) -> #VALUE! | BJ25: =T25/BI25 -> #VALUE! | BK25: =T25/U25/(volume_friction/1000) -> #DIV/0! | BL25: =E25*W25*(volume_friction/1000) -> #VALUE! | BM25: =V25/BL25 -> #VALUE! | BN25: =V25/W25/(volume_friction/1000) -> #DIV/0! | BO25: =E25*Y25*(volume_friction/1000) -> #VALUE! | BP25: =X25/BO25 -> #VALUE! | BQ25: =X25/Y25/(volume_friction/1000) -> #DIV/0! | BR25: =E25*AA25*(volume_friction/1000) -> #VALUE! | BS25: =Z25/BR25 -> #VALUE! | BT25: =Z25/AA25/(volume_friction/1000) -> #DIV/0! | BU25: =E25*AC25*(volume_friction/1000) -> #VALUE! | BV25: =AB25/BU25 -> #VALUE! | BW25: =AB25/AC25/(volume_friction/1000) -> #DIV/0! | BX25: =E25*AE25*(volume_friction/1000) -> #VALUE! | BY25: =AD25/BX25 -> #VALUE! | BZ25: =AD25/AE25/(volume_friction/1000) -> #DIV/0! | CA25: =E25*AG25*(volume_friction/1000) -> #VALUE! | CB25: =AF25/CA25 -> #VALUE! | CC25: =AF25/AG25/(volume_friction/1000) -> #DIV/0! | CD25: =E25*AI25*(volume_friction/1000) -> #VALUE! | CE25: =AH25/CD25 -> #VALUE! | CF25: =AH25/AI25/(volume_friction/1000) -> #DIV/0! | CG25: =E25*AK25*(volume_friction/1000) -> #VALUE! | CH25: =AJ25/CG25 -> #VALUE! | CI25: =AJ25/AK25/(volume_friction/1000) -> #DIV/0! | CJ25: =E25*AM25*(volume_friction/1000) -> #VALUE! | CK25: =AL25/CJ25 -> #VALUE! | CL25: =AL25/AM25/(volume_friction/1000) -> #DIV/0!
A26: 5 | B26: ='Posters Trimestres'!A38 -> Gynéco-Obst | C26: =Saisie!A63 -> 0 | D26: =Saisie!B63 -> 0 | E26: =Saisie!C63 | F26: =Saisie!D63 -> 0 | G26: =Saisie!E63 -> 0 | H26: =Saisie!F63 -> 0 | I26: =Saisie!G63 -> 0 | J26: =Saisie!H63 -> 0 | K26: =Saisie!I63 -> 0 | L26: =IF(Saisie!J63="",F26+H26+J26,Saisie!J63) -> 0 | M26: =IF(Saisie!K63="",G26+I26+K26,Saisie!K63) -> 0 | N26: =Saisie!L63 -> 0 | O26: =Saisie!M63 -> 0 | P26: =Saisie!N63 -> 0 | Q26: =Saisie!O63 -> 0 | R26: =Saisie!P63 -> 0 | S26: =Saisie!Q63 -> 0 | T26: =IF(Saisie!R63="",N26+P26+R26,Saisie!R63) -> 0 | U26: =IF(Saisie!S63="",O26+Q26+S26,Saisie!S63) -> 0 | V26: =Saisie!T63 -> 0 | W26: =Saisie!U63 -> 0 | X26: =Saisie!V63 -> 0 | Y26: =Saisie!W63 -> 0 | Z26: =Saisie!X63 -> 0 | AA26: =Saisie!Y63 -> 0 | AB26: =IF(Saisie!Z63="",V26+X26+Z26,Saisie!Z63) -> 0 | AC26: =IF(Saisie!AA63="",W26+Y26+AA26,Saisie!AA63) -> 0 | AD26: =Saisie!AB63 -> 0 | AE26: =Saisie!AC63 -> 0 | AF26: =Saisie!AD63 -> 0 | AG26: =Saisie!AE63 -> 0 | AH26: =Saisie!AF63 -> 0 | AI26: =Saisie!AG63 -> 0 | AJ26: =IF(Saisie!AH63="",AD26+AF26+AH26,Saisie!AH63) -> 0 | AK26: =IF(Saisie!AI63="",AE26+AG26+AI26,Saisie!AI63) -> 0 | AL26: =L26+T26+AB26+AJ26 -> 0 | AM26: =M26+U26+AC26+AK26 -> 0 | AN26: =E26*G26*(volume_friction/1000) -> #VALUE! | AO26: =F26/AN26 -> #VALUE! | AP26: =F26/G26/(volume_friction/1000) -> #DIV/0! | AQ26: =E26*I26*(volume_friction/1000) -> #VALUE! | AR26: =H26/AQ26 -> #VALUE! | AS26: =H26/I26/(volume_friction/1000) -> #DIV/0! | AT26: =E26*K26*(volume_friction/1000) -> #VALUE! | AU26: =J26/AT26 -> #VALUE! | AV26: =J26/K26/(volume_friction/1000) -> #DIV/0! | AW26: =E26*M26*(volume_friction/1000) -> #VALUE! | AX26: =L26/AW26 -> #VALUE! | AY26: =L26/M26/(volume_friction/1000) -> #DIV/0! | AZ26: =E26*O26*(volume_friction/1000) -> #VALUE! | BA26: =N26/AZ26 -> #VALUE! | BB26: =N26/O26/(volume_friction/1000) -> #DIV/0! | BC26: =E26*Q26*(volume_friction/1000) -> #VALUE! | BD26: =P26/BC26 -> #VALUE! | BE26: =P26/Q26/(volume_friction/1000) -> #DIV/0! | BF26: =E26*S26*(volume_friction/1000) -> #VALUE! | BG26: =R26/BF26 -> #VALUE! | BH26: =R26/S26/(volume_friction/1000) -> #DIV/0! | BI26: =E26*U26*(volume_friction/1000) -> #VALUE! | BJ26: =T26/BI26 -> #VALUE! | BK26: =T26/U26/(volume_friction/1000) -> #DIV/0! | BL26: =E26*W26*(volume_friction/1000) -> #VALUE! | BM26: =V26/BL26 -> #VALUE! | BN26: =V26/W26/(volume_friction/1000) -> #DIV/0! | BO26: =E26*Y26*(volume_friction/1000) -> #VALUE! | BP26: =X26/BO26 -> #VALUE! | BQ26: =X26/Y26/(volume_friction/1000) -> #DIV/0! | BR26: =E26*AA26*(volume_friction/1000) -> #VALUE! | BS26: =Z26/BR26 -> #VALUE! | BT26: =Z26/AA26/(volume_friction/1000) -> #DIV/0! | BU26: =E26*AC26*(volume_friction/1000) -> #VALUE! | BV26: =AB26/BU26 -> #VALUE! | BW26: =AB26/AC26/(volume_friction/1000) -> #DIV/0! | BX26: =E26*AE26*(volume_friction/1000) -> #VALUE! | BY26: =AD26/BX26 -> #VALUE! | BZ26: =AD26/AE26/(volume_friction/1000) -> #DIV/0! | CA26: =E26*AG26*(volume_friction/1000) -> #VALUE! | CB26: =AF26/CA26 -> #VALUE! | CC26: =AF26/AG26/(volume_friction/1000) -> #DIV/0! | CD26: =E26*AI26*(volume_friction/1000) -> #VALUE! | CE26: =AH26/CD26 -> #VALUE! | CF26: =AH26/AI26/(volume_friction/1000) -> #DIV/0! | CG26: =E26*AK26*(volume_friction/1000) -> #VALUE! | CH26: =AJ26/CG26 -> #VALUE! | CI26: =AJ26/AK26/(volume_friction/1000) -> #DIV/0! | CJ26: =E26*AM26*(volume_friction/1000) -> #VALUE! | CK26: =AL26/CJ26 -> #VALUE! | CL26: =AL26/AM26/(volume_friction/1000) -> #DIV/0!
A27: 6 | B27: ='Posters Trimestres'!A38 -> Gynéco-Obst | C27: =Saisie!A64 -> 0 | D27: =Saisie!B64 -> 0 | E27: =Saisie!C64 | F27: =Saisie!D64 -> 0 | G27: =Saisie!E64 -> 0 | H27: =Saisie!F64 -> 0 | I27: =Saisie!G64 -> 0 | J27: =Saisie!H64 -> 0 | K27: =Saisie!I64 -> 0 | L27: =IF(Saisie!J64="",F27+H27+J27,Saisie!J64) -> 0 | M27: =IF(Saisie!K64="",G27+I27+K27,Saisie!K64) -> 0 | N27: =Saisie!L64 -> 0 | O27: =Saisie!M64 -> 0 | P27: =Saisie!N64 -> 0 | Q27: =Saisie!O64 -> 0 | R27: =Saisie!P64 -> 0 | S27: =Saisie!Q64 -> 0 | T27: =IF(Saisie!R64="",N27+P27+R27,Saisie!R64) -> 0 | U27: =IF(Saisie!S64="",O27+Q27+S27,Saisie!S64) -> 0 | V27: =Saisie!T64 -> 0 | W27: =Saisie!U64 -> 0 | X27: =Saisie!V64 -> 0 | Y27: =Saisie!W64 -> 0 | Z27: =Saisie!X64 -> 0 | AA27: =Saisie!Y64 -> 0 | AB27: =IF(Saisie!Z64="",V27+X27+Z27,Saisie!Z64) -> 0 | AC27: =IF(Saisie!AA64="",W27+Y27+AA27,Saisie!AA64) -> 0 | AD27: =Saisie!AB64 -> 0 | AE27: =Saisie!AC64 -> 0 | AF27: =Saisie!AD64 -> 0 | AG27: =Saisie!AE64 -> 0 | AH27: =Saisie!AF64 -> 0 | AI27: =Saisie!AG64 -> 0 | AJ27: =IF(Saisie!AH64="",AD27+AF27+AH27,Saisie!AH64) -> 0 | AK27: =IF(Saisie!AI64="",AE27+AG27+AI27,Saisie!AI64) -> 0 | AL27: =L27+T27+AB27+AJ27 -> 0 | AM27: =M27+U27+AC27+AK27 -> 0 | AN27: =E27*G27*(volume_friction/1000) -> #VALUE! | AO27: =F27/AN27 -> #VALUE! | AP27: =F27/G27/(volume_friction/1000) -> #DIV/0! | AQ27: =E27*I27*(volume_friction/1000) -> #VALUE! | AR27: =H27/AQ27 -> #VALUE! | AS27: =H27/I27/(volume_friction/1000) -> #DIV/0! | AT27: =E27*K27*(volume_friction/1000) -> #VALUE! | AU27: =J27/AT27 -> #VALUE! | AV27: =J27/K27/(volume_friction/1000) -> #DIV/0! | AW27: =E27*M27*(volume_friction/1000) -> #VALUE! | AX27: =L27/AW27 -> #VALUE! | AY27: =L27/M27/(volume_friction/1000) -> #DIV/0! | AZ27: =E27*O27*(volume_friction/1000) -> #VALUE! | BA27: =N27/AZ27 -> #VALUE! | BB27: =N27/O27/(volume_friction/1000) -> #DIV/0! | BC27: =E27*Q27*(volume_friction/1000) -> #VALUE! | BD27: =P27/BC27 -> #VALUE! | BE27: =P27/Q27/(volume_friction/1000) -> #DIV/0! | BF27: =E27*S27*(volume_friction/1000) -> #VALUE! | BG27: =R27/BF27 -> #VALUE! | BH27: =R27/S27/(volume_friction/1000) -> #DIV/0! | BI27: =E27*U27*(volume_friction/1000) -> #VALUE! | BJ27: =T27/BI27 -> #VALUE! | BK27: =T27/U27/(volume_friction/1000) -> #DIV/0! | BL27: =E27*W27*(volume_friction/1000) -> #VALUE! | BM27: =V27/BL27 -> #VALUE! | BN27: =V27/W27/(volume_friction/1000) -> #DIV/0! | BO27: =E27*Y27*(volume_friction/1000) -> #VALUE! | BP27: =X27/BO27 -> #VALUE! | BQ27: =X27/Y27/(volume_friction/1000) -> #DIV/0! | BR27: =E27*AA27*(volume_friction/1000) -> #VALUE! | BS27: =Z27/BR27 -> #VALUE! | BT27: =Z27/AA27/(volume_friction/1000) -> #DIV/0! | BU27: =E27*AC27*(volume_friction/1000) -> #VALUE! | BV27: =AB27/BU27 -> #VALUE! | BW27: =AB27/AC27/(volume_friction/1000) -> #DIV/0! | BX27: =E27*AE27*(volume_friction/1000) -> #VALUE! | BY27: =AD27/BX27 -> #VALUE! | BZ27: =AD27/AE27/(volume_friction/1000) -> #DIV/0! | CA27: =E27*AG27*(volume_friction/1000) -> #VALUE! | CB27: =AF27/CA27 -> #VALUE! | CC27: =AF27/AG27/(volume_friction/1000) -> #DIV/0! | CD27: =E27*AI27*(volume_friction/1000) -> #VALUE! | CE27: =AH27/CD27 -> #VALUE! | CF27: =AH27/AI27/(volume_friction/1000) -> #DIV/0! | CG27: =E27*AK27*(volume_friction/1000) -> #VALUE! | CH27: =AJ27/CG27 -> #VALUE! | CI27: =AJ27/AK27/(volume_friction/1000) -> #DIV/0! | CJ27: =E27*AM27*(volume_friction/1000) -> #VALUE! | CK27: =AL27/CJ27 -> #VALUE! | CL27: =AL27/AM27/(volume_friction/1000) -> #DIV/0!
A28: 7 | B28: ='Posters Trimestres'!A38 -> Gynéco-Obst | C28: =Saisie!A65 -> 0 | D28: =Saisie!B65 -> 0 | E28: =Saisie!C65 | F28: =Saisie!D65 -> 0 | G28: =Saisie!E65 -> 0 | H28: =Saisie!F65 -> 0 | I28: =Saisie!G65 -> 0 | J28: =Saisie!H65 -> 0 | K28: =Saisie!I65 -> 0 | L28: =IF(Saisie!J65="",F28+H28+J28,Saisie!J65) -> 0 | M28: =IF(Saisie!K65="",G28+I28+K28,Saisie!K65) -> 0 | N28: =Saisie!L65 -> 0 | O28: =Saisie!M65 -> 0 | P28: =Saisie!N65 -> 0 | Q28: =Saisie!O65 -> 0 | R28: =Saisie!P65 -> 0 | S28: =Saisie!Q65 -> 0 | T28: =IF(Saisie!R65="",N28+P28+R28,Saisie!R65) -> 0 | U28: =IF(Saisie!S65="",O28+Q28+S28,Saisie!S65) -> 0 | V28: =Saisie!T65 -> 0 | W28: =Saisie!U65 -> 0 | X28: =Saisie!V65 -> 0 | Y28: =Saisie!W65 -> 0 | Z28: =Saisie!X65 -> 0 | AA28: =Saisie!Y65 -> 0 | AB28: =IF(Saisie!Z65="",V28+X28+Z28,Saisie!Z65) -> 0 | AC28: =IF(Saisie!AA65="",W28+Y28+AA28,Saisie!AA65) -> 0 | AD28: =Saisie!AB65 -> 0 | AE28: =Saisie!AC65 -> 0 | AF28: =Saisie!AD65 -> 0 | AG28: =Saisie!AE65 -> 0 | AH28: =Saisie!AF65 -> 0 | AI28: =Saisie!AG65 -> 0 | AJ28: =IF(Saisie!AH65="",AD28+AF28+AH28,Saisie!AH65) -> 0 | AK28: =IF(Saisie!AI65="",AE28+AG28+AI28,Saisie!AI65) -> 0 | AL28: =L28+T28+AB28+AJ28 -> 0 | AM28: =M28+U28+AC28+AK28 -> 0 | AN28: =E28*G28*(volume_friction/1000) -> #VALUE! | AO28: =F28/AN28 -> #VALUE! | AP28: =F28/G28/(volume_friction/1000) -> #DIV/0! | AQ28: =E28*I28*(volume_friction/1000) -> #VALUE! | AR28: =H28/AQ28 -> #VALUE! | AS28: =H28/I28/(volume_friction/1000) -> #DIV/0! | AT28: =E28*K28*(volume_friction/1000) -> #VALUE! | AU28: =J28/AT28 -> #VALUE! | AV28: =J28/K28/(volume_friction/1000) -> #DIV/0! | AW28: =E28*M28*(volume_friction/1000) -> #VALUE! | AX28: =L28/AW28 -> #VALUE! | AY28: =L28/M28/(volume_friction/1000) -> #DIV/0! | AZ28: =E28*O28*(volume_friction/1000) -> #VALUE! | BA28: =N28/AZ28 -> #VALUE! | BB28: =N28/O28/(volume_friction/1000) -> #DIV/0! | BC28: =E28*Q28*(volume_friction/1000) -> #VALUE! | BD28: =P28/BC28 -> #VALUE! | BE28: =P28/Q28/(volume_friction/1000) -> #DIV/0! | BF28: =E28*S28*(volume_friction/1000) -> #VALUE! | BG28: =R28/BF28 -> #VALUE! | BH28: =R28/S28/(volume_friction/1000) -> #DIV/0! | BI28: =E28*U28*(volume_friction/1000) -> #VALUE! | BJ28: =T28/BI28 -> #VALUE! | BK28: =T28/U28/(volume_friction/1000) -> #DIV/0! | BL28: =E28*W28*(volume_friction/1000) -> #VALUE! | BM28: =V28/BL28 -> #VALUE! | BN28: =V28/W28/(volume_friction/1000) -> #DIV/0! | BO28: =E28*Y28*(volume_friction/1000) -> #VALUE! | BP28: =X28/BO28 -> #VALUE! | BQ28: =X28/Y28/(volume_friction/1000) -> #DIV/0! | BR28: =E28*AA28*(volume_friction/1000) -> #VALUE! | BS28: =Z28/BR28 -> #VALUE! | BT28: =Z28/AA28/(volume_friction/1000) -> #DIV/0! | BU28: =E28*AC28*(volume_friction/1000) -> #VALUE! | BV28: =AB28/BU28 -> #VALUE! | BW28: =AB28/AC28/(volume_friction/1000) -> #DIV/0! | BX28: =E28*AE28*(volume_friction/1000) -> #VALUE! | BY28: =AD28/BX28 -> #VALUE! | BZ28: =AD28/AE28/(volume_friction/1000) -> #DIV/0! | CA28: =E28*AG28*(volume_friction/1000) -> #VALUE! | CB28: =AF28/CA28 -> #VALUE! | CC28: =AF28/AG28/(volume_friction/1000) -> #DIV/0! | CD28: =E28*AI28*(volume_friction/1000) -> #VALUE! | CE28: =AH28/CD28 -> #VALUE! | CF28: =AH28/AI28/(volume_friction/1000) -> #DIV/0! | CG28: =E28*AK28*(volume_friction/1000) -> #VALUE! | CH28: =AJ28/CG28 -> #VALUE! | CI28: =AJ28/AK28/(volume_friction/1000) -> #DIV/0! | CJ28: =E28*AM28*(volume_friction/1000) -> #VALUE! | CK28: =AL28/CJ28 -> #VALUE! | CL28: =AL28/AM28/(volume_friction/1000) -> #DIV/0!
A29: 8 | B29: ='Posters Trimestres'!A38 -> Gynéco-Obst | C29: =Saisie!A66 -> 0 | D29: =Saisie!B66 -> 0 | E29: =Saisie!C66 | F29: =Saisie!D66 -> 0 | G29: =Saisie!E66 -> 0 | H29: =Saisie!F66 -> 0 | I29: =Saisie!G66 -> 0 | J29: =Saisie!H66 -> 0 | K29: =Saisie!I66 -> 0 | L29: =IF(Saisie!J66="",F29+H29+J29,Saisie!J66) -> 0 | M29: =IF(Saisie!K66="",G29+I29+K29,Saisie!K66) -> 0 | N29: =Saisie!L66 -> 0 | O29: =Saisie!M66 -> 0 | P29: =Saisie!N66 -> 0 | Q29: =Saisie!O66 -> 0 | R29: =Saisie!P66 -> 0 | S29: =Saisie!Q66 -> 0 | T29: =IF(Saisie!R66="",N29+P29+R29,Saisie!R66) -> 0 | U29: =IF(Saisie!S66="",O29+Q29+S29,Saisie!S66) -> 0 | V29: =Saisie!T66 -> 0 | W29: =Saisie!U66 -> 0 | X29: =Saisie!V66 -> 0 | Y29: =Saisie!W66 -> 0 | Z29: =Saisie!X66 -> 0 | AA29: =Saisie!Y66 -> 0 | AB29: =IF(Saisie!Z66="",V29+X29+Z29,Saisie!Z66) -> 0 | AC29: =IF(Saisie!AA66="",W29+Y29+AA29,Saisie!AA66) -> 0 | AD29: =Saisie!AB66 -> 0 | AE29: =Saisie!AC66 -> 0 | AF29: =Saisie!AD66 -> 0 | AG29: =Saisie!AE66 -> 0 | AH29: =Saisie!AF66 -> 0 | AI29: =Saisie!AG66 -> 0 | AJ29: =IF(Saisie!AH66="",AD29+AF29+AH29,Saisie!AH66) -> 0 | AK29: =IF(Saisie!AI66="",AE29+AG29+AI29,Saisie!AI66) -> 0 | AL29: =L29+T29+AB29+AJ29 -> 0 | AM29: =M29+U29+AC29+AK29 -> 0 | AN29: =E29*G29*(volume_friction/1000) -> #VALUE! | AO29: =F29/AN29 -> #VALUE! | AP29: =F29/G29/(volume_friction/1000) -> #DIV/0! | AQ29: =E29*I29*(volume_friction/1000) -> #VALUE! | AR29: =H29/AQ29 -> #VALUE! | AS29: =H29/I29/(volume_friction/1000) -> #DIV/0! | AT29: =E29*K29*(volume_friction/1000) -> #VALUE! | AU29: =J29/AT29 -> #VALUE! | AV29: =J29/K29/(volume_friction/1000) -> #DIV/0! | AW29: =E29*M29*(volume_friction/1000) -> #VALUE! | AX29: =L29/AW29 -> #VALUE! | AY29: =L29/M29/(volume_friction/1000) -> #DIV/0! | AZ29: =E29*O29*(volume_friction/1000) -> #VALUE! | BA29: =N29/AZ29 -> #VALUE! | BB29: =N29/O29/(volume_friction/1000) -> #DIV/0! | BC29: =E29*Q29*(volume_friction/1000) -> #VALUE! | BD29: =P29/BC29 -> #VALUE! | BE29: =P29/Q29/(volume_friction/1000) -> #DIV/0! | BF29: =E29*S29*(volume_friction/1000) -> #VALUE! | BG29: =R29/BF29 -> #VALUE! | BH29: =R29/S29/(volume_friction/1000) -> #DIV/0! | BI29: =E29*U29*(volume_friction/1000) -> #VALUE! | BJ29: =T29/BI29 -> #VALUE! | BK29: =T29/U29/(volume_friction/1000) -> #DIV/0! | BL29: =E29*W29*(volume_friction/1000) -> #VALUE! | BM29: =V29/BL29 -> #VALUE! | BN29: =V29/W29/(volume_friction/1000) -> #DIV/0! | BO29: =E29*Y29*(volume_friction/1000) -> #VALUE! | BP29: =X29/BO29 -> #VALUE! | BQ29: =X29/Y29/(volume_friction/1000) -> #DIV/0! | BR29: =E29*AA29*(volume_friction/1000) -> #VALUE! | BS29: =Z29/BR29 -> #VALUE! | BT29: =Z29/AA29/(volume_friction/1000) -> #DIV/0! | BU29: =E29*AC29*(volume_friction/1000) -> #VALUE! | BV29: =AB29/BU29 -> #VALUE! | BW29: =AB29/AC29/(volume_friction/1000) -> #DIV/0! | BX29: =E29*AE29*(volume_friction/1000) -> #VALUE! | BY29: =AD29/BX29 -> #VALUE! | BZ29: =AD29/AE29/(volume_friction/1000) -> #DIV/0! | CA29: =E29*AG29*(volume_friction/1000) -> #VALUE! | CB29: =AF29/CA29 -> #VALUE! | CC29: =AF29/AG29/(volume_friction/1000) -> #DIV/0! | CD29: =E29*AI29*(volume_friction/1000) -> #VALUE! | CE29: =AH29/CD29 -> #VALUE! | CF29: =AH29/AI29/(volume_friction/1000) -> #DIV/0! | CG29: =E29*AK29*(volume_friction/1000) -> #VALUE! | CH29: =AJ29/CG29 -> #VALUE! | CI29: =AJ29/AK29/(volume_friction/1000) -> #DIV/0! | CJ29: =E29*AM29*(volume_friction/1000) -> #VALUE! | CK29: =AL29/CJ29 -> #VALUE! | CL29: =AL29/AM29/(volume_friction/1000) -> #DIV/0!
A30: 9 | B30: ='Posters Trimestres'!A38 -> Gynéco-Obst | C30: =Saisie!A67 -> 0 | D30: =Saisie!B67 -> 0 | E30: =Saisie!C67 | F30: =Saisie!D67 -> 0 | G30: =Saisie!E67 -> 0 | H30: =Saisie!F67 -> 0 | I30: =Saisie!G67 -> 0 | J30: =Saisie!H67 -> 0 | K30: =Saisie!I67 -> 0 | L30: =IF(Saisie!J67="",F30+H30+J30,Saisie!J67) -> 0 | M30: =IF(Saisie!K67="",G30+I30+K30,Saisie!K67) -> 0 | N30: =Saisie!L67 -> 0 | O30: =Saisie!M67 -> 0 | P30: =Saisie!N67 -> 0 | Q30: =Saisie!O67 -> 0 | R30: =Saisie!P67 -> 0 | S30: =Saisie!Q67 -> 0 | T30: =IF(Saisie!R67="",N30+P30+R30,Saisie!R67) -> 0 | U30: =IF(Saisie!S67="",O30+Q30+S30,Saisie!S67) -> 0 | V30: =Saisie!T67 -> 0 | W30: =Saisie!U67 -> 0 | X30: =Saisie!V67 -> 0 | Y30: =Saisie!W67 -> 0 | Z30: =Saisie!X67 -> 0 | AA30: =Saisie!Y67 -> 0 | AB30: =IF(Saisie!Z67="",V30+X30+Z30,Saisie!Z67) -> 0 | AC30: =IF(Saisie!AA67="",W30+Y30+AA30,Saisie!AA67) -> 0 | AD30: =Saisie!AB67 -> 0 | AE30: =Saisie!AC67 -> 0 | AF30: =Saisie!AD67 -> 0 | AG30: =Saisie!AE67 -> 0 | AH30: =Saisie!AF67 -> 0 | AI30: =Saisie!AG67 -> 0 | AJ30: =IF(Saisie!AH67="",AD30+AF30+AH30,Saisie!AH67) -> 0 | AK30: =IF(Saisie!AI67="",AE30+AG30+AI30,Saisie!AI67) -> 0 | AL30: =L30+T30+AB30+AJ30 -> 0 | AM30: =M30+U30+AC30+AK30 -> 0 | AN30: =E30*G30*(volume_friction/1000) -> #VALUE! | AO30: =F30/AN30 -> #VALUE! | AP30: =F30/G30/(volume_friction/1000) -> #DIV/0! | AQ30: =E30*I30*(volume_friction/1000) -> #VALUE! | AR30: =H30/AQ30 -> #VALUE! | AS30: =H30/I30/(volume_friction/1000) -> #DIV/0! | AT30: =E30*K30*(volume_friction/1000) -> #VALUE! | AU30: =J30/AT30 -> #VALUE! | AV30: =J30/K30/(volume_friction/1000) -> #DIV/0! | AW30: =E30*M30*(volume_friction/1000) -> #VALUE! | AX30: =L30/AW30 -> #VALUE! | AY30: =L30/M30/(volume_friction/1000) -> #DIV/0! | AZ30: =E30*O30*(volume_friction/1000) -> #VALUE! | BA30: =N30/AZ30 -> #VALUE! | BB30: =N30/O30/(volume_friction/1000) -> #DIV/0! | BC30: =E30*Q30*(volume_friction/1000) -> #VALUE! | BD30: =P30/BC30 -> #VALUE! | BE30: =P30/Q30/(volume_friction/1000) -> #DIV/0! | BF30: =E30*S30*(volume_friction/1000) -> #VALUE! | BG30: =R30/BF30 -> #VALUE! | BH30: =R30/S30/(volume_friction/1000) -> #DIV/0! | BI30: =E30*U30*(volume_friction/1000) -> #VALUE! | BJ30: =T30/BI30 -> #VALUE! | BK30: =T30/U30/(volume_friction/1000) -> #DIV/0! | BL30: =E30*W30*(volume_friction/1000) -> #VALUE! | BM30: =V30/BL30 -> #VALUE! | BN30: =V30/W30/(volume_friction/1000) -> #DIV/0! | BO30: =E30*Y30*(volume_friction/1000) -> #VALUE! | BP30: =X30/BO30 -> #VALUE! | BQ30: =X30/Y30/(volume_friction/1000) -> #DIV/0! | BR30: =E30*AA30*(volume_friction/1000) -> #VALUE! | BS30: =Z30/BR30 -> #VALUE! | BT30: =Z30/AA30/(volume_friction/1000) -> #DIV/0! | BU30: =E30*AC30*(volume_friction/1000) -> #VALUE! | BV30: =AB30/BU30 -> #VALUE! | BW30: =AB30/AC30/(volume_friction/1000) -> #DIV/0! | BX30: =E30*AE30*(volume_friction/1000) -> #VALUE! | BY30: =AD30/BX30 -> #VALUE! | BZ30: =AD30/AE30/(volume_friction/1000) -> #DIV/0! | CA30: =E30*AG30*(volume_friction/1000) -> #VALUE! | CB30: =AF30/CA30 -> #VALUE! | CC30: =AF30/AG30/(volume_friction/1000) -> #DIV/0! | CD30: =E30*AI30*(volume_friction/1000) -> #VALUE! | CE30: =AH30/CD30 -> #VALUE! | CF30: =AH30/AI30/(volume_friction/1000) -> #DIV/0! | CG30: =E30*AK30*(volume_friction/1000) -> #VALUE! | CH30: =AJ30/CG30 -> #VALUE! | CI30: =AJ30/AK30/(volume_friction/1000) -> #DIV/0! | CJ30: =E30*AM30*(volume_friction/1000) -> #VALUE! | CK30: =AL30/CJ30 -> #VALUE! | CL30: =AL30/AM30/(volume_friction/1000) -> #DIV/0!
A31: 10 | B31: ='Posters Trimestres'!A38 -> Gynéco-Obst | C31: =Saisie!A68 -> 0 | D31: =Saisie!B68 -> 0 | E31: =Saisie!C68 | F31: =Saisie!D68 -> 0 | G31: =Saisie!E68 -> 0 | H31: =Saisie!F68 -> 0 | I31: =Saisie!G68 -> 0 | J31: =Saisie!H68 -> 0 | K31: =Saisie!I68 -> 0 | L31: =IF(Saisie!J79="",F31+H31+J31,Saisie!J79) -> 130 | M31: =IF(Saisie!K68="",G31+I31+K31,Saisie!K68) -> 0 | N31: =Saisie!L68 -> 0 | O31: =Saisie!M68 -> 0 | P31: =Saisie!N68 -> 0 | Q31: =Saisie!O68 -> 0 | R31: =Saisie!P68 -> 0 | S31: =Saisie!Q68 -> 0 | T31: =IF(Saisie!R68="",N31+P31+R31,Saisie!R68) -> 0 | U31: =IF(Saisie!S68="",O31+Q31+S31,Saisie!S68) -> 0 | V31: =Saisie!T68 -> 0 | W31: =Saisie!U68 -> 0 | X31: =Saisie!V68 -> 0 | Y31: =Saisie!W68 -> 0 | Z31: =Saisie!X68 -> 0 | AA31: =Saisie!Y68 -> 0 | AB31: =IF(Saisie!Z68="",V31+X31+Z31,Saisie!Z68) -> 0 | AC31: =IF(Saisie!AA68="",W31+Y31+AA31,Saisie!AA68) -> 0 | AD31: =Saisie!AB68 -> 0 | AE31: =Saisie!AC68 -> 0 | AF31: =Saisie!AD68 -> 0 | AG31: =Saisie!AE68 -> 0 | AH31: =Saisie!AF68 -> 0 | AI31: =Saisie!AG68 -> 0 | AJ31: =IF(Saisie!AH68="",AD31+AF31+AH31,Saisie!AH68) -> 0 | AK31: =IF(Saisie!AI68="",AE31+AG31+AI31,Saisie!AI68) -> 0 | AL31: =L31+T31+AB31+AJ31 -> 130 | AM31: =M31+U31+AC31+AK31 -> 0 | AN31: =E31*G31*(volume_friction/1000) -> #VALUE! | AO31: =F31/AN31 -> #VALUE! | AP31: =F31/G31/(volume_friction/1000) -> #DIV/0! | AQ31: =E31*I31*(volume_friction/1000) -> #VALUE! | AR31: =H31/AQ31 -> #VALUE! | AS31: =H31/I31/(volume_friction/1000) -> #DIV/0! | AT31: =E31*K31*(volume_friction/1000) -> #VALUE! | AU31: =J31/AT31 -> #VALUE! | AV31: =J31/K31/(volume_friction/1000) -> #DIV/0! | AW31: =E31*M31*(volume_friction/1000) -> #VALUE! | AX31: =L31/AW31 -> #VALUE! | AY31: =L31/M31/(volume_friction/1000) -> #DIV/0! | AZ31: =E31*O31*(volume_friction/1000) -> #VALUE! | BA31: =N31/AZ31 -> #VALUE! | BB31: =N31/O31/(volume_friction/1000) -> #DIV/0! | BC31: =E31*Q31*(volume_friction/1000) -> #VALUE! | BD31: =P31/BC31 -> #VALUE! | BE31: =P31/Q31/(volume_friction/1000) -> #DIV/0! | BF31: =E31*S31*(volume_friction/1000) -> #VALUE! | BG31: =R31/BF31 -> #VALUE! | BH31: =R31/S31/(volume_friction/1000) -> #DIV/0! | BI31: =E31*U31*(volume_friction/1000) -> #VALUE! | BJ31: =T31/BI31 -> #VALUE! | BK31: =T31/U31/(volume_friction/1000) -> #DIV/0! | BL31: =E31*W31*(volume_friction/1000) -> #VALUE! | BM31: =V31/BL31 -> #VALUE! | BN31: =V31/W31/(volume_friction/1000) -> #DIV/0! | BO31: =E31*Y31*(volume_friction/1000) -> #VALUE! | BP31: =X31/BO31 -> #VALUE! | BQ31: =X31/Y31/(volume_friction/1000) -> #DIV/0! | BR31: =E31*AA31*(volume_friction/1000) -> #VALUE! | BS31: =Z31/BR31 -> #VALUE! | BT31: =Z31/AA31/(volume_friction/1000) -> #DIV/0! | BU31: =E31*AC31*(volume_friction/1000) -> #VALUE! | BV31: =AB31/BU31 -> #VALUE! | BW31: =AB31/AC31/(volume_friction/1000) -> #DIV/0! | BX31: =E31*AE31*(volume_friction/1000) -> #VALUE! | BY31: =AD31/BX31 -> #VALUE! | BZ31: =AD31/AE31/(volume_friction/1000) -> #DIV/0! | CA31: =E31*AG31*(volume_friction/1000) -> #VALUE! | CB31: =AF31/CA31 -> #VALUE! | CC31: =AF31/AG31/(volume_friction/1000) -> #DIV/0! | CD31: =E31*AI31*(volume_friction/1000) -> #VALUE! | CE31: =AH31/CD31 -> #VALUE! | CF31: =AH31/AI31/(volume_friction/1000) -> #DIV/0! | CG31: =E31*AK31*(volume_friction/1000) -> #VALUE! | CH31: =AJ31/CG31 -> #VALUE! | CI31: =AJ31/AK31/(volume_friction/1000) -> #DIV/0! | CJ31: =E31*AM31*(volume_friction/1000) -> #VALUE! | CK31: =AL31/CJ31 -> #VALUE! | CL31: =AL31/AM31/(volume_friction/1000) -> #DIV/0!
A32: 1 | B32: ='Posters Trimestres'!A39 -> Réa-SC | C32: =Saisie!A79 -> Réa1 | D32: =Saisie!B79 -> Réanimation | E32: =Saisie!C79 -> 43 | F32: =Saisie!D79 -> 42 | G32: =Saisie!E79 -> 580 | H32: =Saisie!F79 -> 44 | I32: =Saisie!G79 -> 610 | J32: =Saisie!H79 -> 44 | K32: =Saisie!I79 -> 605 | L32: =IF(Saisie!J79="",F32+H32+J32,Saisie!J79) -> 130 | M32: =IF(Saisie!K79="",G32+I32+K32,Saisie!K79) -> 1795 | N32: =Saisie!L79 -> 0 | O32: =Saisie!M79 -> 0 | P32: =Saisie!N79 -> 0 | Q32: =Saisie!O79 -> 0 | R32: =Saisie!P79 -> 0 | S32: =Saisie!Q79 -> 0 | T32: =IF(Saisie!R79="",N32+P32+R32,Saisie!R79) -> 0 | U32: =IF(Saisie!S79="",O32+Q32+S32,Saisie!S79) -> 0 | V32: =Saisie!T79 -> 0 | W32: =Saisie!U79 -> 0 | X32: =Saisie!V79 -> 0 | Y32: =Saisie!W79 -> 0 | Z32: =Saisie!X79 -> 0 | AA32: =Saisie!Y79 -> 0 | AB32: =IF(Saisie!Z79="",V32+X32+Z32,Saisie!Z79) -> 0 | AC32: =IF(Saisie!AA79="",W32+Y32+AA32,Saisie!AA79) -> 0 | AD32: =Saisie!AB79 -> 0 | AE32: =Saisie!AC79 -> 0 | AF32: =Saisie!AD79 -> 0 | AG32: =Saisie!AE79 -> 0 | AH32: =Saisie!AF79 -> 0 | AI32: =Saisie!AG79 -> 0 | AJ32: =IF(Saisie!AH79="",AD32+AF32+AH32,Saisie!AH79) -> 0 | AK32: =IF(Saisie!AI79="",AE32+AG32+AI32,Saisie!AI79) -> 0 | AL32: =L32+T32+AB32+AJ32 -> 130 | AM32: =M32+U32+AC32+AK32 -> 1795 | AN32: =E32*G32*(volume_friction/1000) -> 74.82 | AO32: =F32/AN32 -> 0.56134723 | AP32: =F32/G32/(volume_friction/1000) -> 24.137931 | AQ32: =E32*I32*(volume_friction/1000) -> 78.69 | AR32: =H32/AQ32 -> 0.55915618 | AS32: =H32/I32/(volume_friction/1000) -> 24.043716 | AT32: =E32*K32*(volume_friction/1000) -> 78.045 | AU32: =J32/AT32 -> 0.56377731 | AV32: =J32/K32/(volume_friction/1000) -> 24.242424 | AW32: =E32*M32*(volume_friction/1000) -> 231.555 | AX32: =L32/AW32 -> 0.56142169 | AY32: =L32/M32/(volume_friction/1000) -> 24.141133 | AZ32: =E32*O32*(volume_friction/1000) -> 0 | BA32: =N32/AZ32 -> #DIV/0! | BB32: =N32/O32/(volume_friction/1000) -> #DIV/0! | BC32: =E32*Q32*(volume_friction/1000) -> 0 | BD32: =P32/BC32 -> #DIV/0! | BE32: =P32/Q32/(volume_friction/1000) -> #DIV/0! | BF32: =E32*S32*(volume_friction/1000) -> 0 | BG32: =R32/BF32 -> #DIV/0! | BH32: =R32/S32/(volume_friction/1000) -> #DIV/0! | BI32: =E32*U32*(volume_friction/1000) -> 0 | BJ32: =T32/BI32 -> #DIV/0! | BK32: =T32/U32/(volume_friction/1000) -> #DIV/0! | BL32: =E32*W32*(volume_friction/1000) -> 0 | BM32: =V32/BL32 -> #DIV/0! | BN32: =V32/W32/(volume_friction/1000) -> #DIV/0! | BO32: =E32*Y32*(volume_friction/1000) -> 0 | BP32: =X32/BO32 -> #DIV/0! | BQ32: =X32/Y32/(volume_friction/1000) -> #DIV/0! | BR32: =E32*AA32*(volume_friction/1000) -> 0 | BS32: =Z32/BR32 -> #DIV/0! | BT32: =Z32/AA32/(volume_friction/1000) -> #DIV/0! | BU32: =E32*AC32*(volume_friction/1000) -> 0 | BV32: =AB32/BU32 -> #DIV/0! | BW32: =AB32/AC32/(volume_friction/1000) -> #DIV/0! | BX32: =E32*AE32*(volume_friction/1000) -> 0 | BY32: =AD32/BX32 -> #DIV/0! | BZ32: =AD32/AE32/(volume_friction/1000) -> #DIV/0! | CA32: =E32*AG32*(volume_friction/1000) -> 0 | CB32: =AF32/CA32 -> #DIV/0! | CC32: =AF32/AG32/(volume_friction/1000) -> #DIV/0! | CD32: =E32*AI32*(volume_friction/1000) -> 0 | CE32: =AH32/CD32 -> #DIV/0! | CF32: =AH32/AI32/(volume_friction/1000) -> #DIV/0! | CG32: =E32*AK32*(volume_friction/1000) -> 0 | CH32: =AJ32/CG32 -> #DIV/0! | CI32: =AJ32/AK32/(volume_friction/1000) -> #DIV/0! | CJ32: =E32*AM32*(volume_friction/1000) -> 231.555 | CK32: =AL32/CJ32 -> 0.56142169 | CL32: =AL32/AM32/(volume_friction/1000) -> 24.141133
A33: 2 | B33: ='Posters Trimestres'!A39 -> Réa-SC | C33: =Saisie!A80 -> 0 | D33: =Saisie!B80 -> 0 | E33: =Saisie!C80 | F33: =Saisie!D80 -> 0 | G33: =Saisie!E80 -> 0 | H33: =Saisie!F80 -> 0 | I33: =Saisie!G80 -> 0 | J33: =Saisie!H80 -> 0 | K33: =Saisie!I80 -> 0 | L33: =IF(Saisie!J80="",F33+H33+J33,Saisie!J80) -> 0 | M33: =IF(Saisie!K80="",G33+I33+K33,Saisie!K80) -> 0 | N33: =Saisie!L80 -> 0 | O33: =Saisie!M80 -> 0 | P33: =Saisie!N80 -> 0 | Q33: =Saisie!O80 -> 0 | R33: =Saisie!P80 -> 0 | S33: =Saisie!Q80 -> 0 | T33: =IF(Saisie!R80="",N33+P33+R33,Saisie!R80) -> 0 | U33: =IF(Saisie!S80="",O33+Q33+S33,Saisie!S80) -> 0 | V33: =Saisie!T80 -> 0 | W33: =Saisie!U80 -> 0 | X33: =Saisie!V80 -> 0 | Y33: =Saisie!W80 -> 0 | Z33: =Saisie!X80 -> 0 | AA33: =Saisie!Y80 -> 0 | AB33: =IF(Saisie!Z80="",V33+X33+Z33,Saisie!Z80) -> 0 | AC33: =IF(Saisie!AA80="",W33+Y33+AA33,Saisie!AA80) -> 0 | AD33: =Saisie!AB80 -> 0 | AE33: =Saisie!AC80 -> 0 | AF33: =Saisie!AD80 -> 0 | AG33: =Saisie!AE80 -> 0 | AH33: =Saisie!AF80 -> 0 | AI33: =Saisie!AG80 -> 0 | AJ33: =IF(Saisie!AH80="",AD33+AF33+AH33,Saisie!AH80) -> 0 | AK33: =IF(Saisie!AI80="",AE33+AG33+AI33,Saisie!AI80) -> 0 | AL33: =L33+T33+AB33+AJ33 -> 0 | AM33: =M33+U33+AC33+AK33 -> 0 | AN33: =E33*G33*(volume_friction/1000) -> #VALUE! | AO33: =F33/AN33 -> #VALUE! | AP33: =F33/G33/(volume_friction/1000) -> #DIV/0! | AQ33: =E33*I33*(volume_friction/1000) -> #VALUE! | AR33: =H33/AQ33 -> #VALUE! | AS33: =H33/I33/(volume_friction/1000) -> #DIV/0! | AT33: =E33*K33*(volume_friction/1000) -> #VALUE! | AU33: =J33/AT33 -> #VALUE! | AV33: =J33/K33/(volume_friction/1000) -> #DIV/0! | AW33: =E33*M33*(volume_friction/1000) -> #VALUE! | AX33: =L33/AW33 -> #VALUE! | AY33: =L33/M33/(volume_friction/1000) -> #DIV/0! | AZ33: =E33*O33*(volume_friction/1000) -> #VALUE! | BA33: =N33/AZ33 -> #VALUE! | BB33: =N33/O33/(volume_friction/1000) -> #DIV/0! | BC33: =E33*Q33*(volume_friction/1000) -> #VALUE! | BD33: =P33/BC33 -> #VALUE! | BE33: =P33/Q33/(volume_friction/1000) -> #DIV/0! | BF33: =E33*S33*(volume_friction/1000) -> #VALUE! | BG33: =R33/BF33 -> #VALUE! | BH33: =R33/S33/(volume_friction/1000) -> #DIV/0! | BI33: =E33*U33*(volume_friction/1000) -> #VALUE! | BJ33: =T33/BI33 -> #VALUE! | BK33: =T33/U33/(volume_friction/1000) -> #DIV/0! | BL33: =E33*W33*(volume_friction/1000) -> #VALUE! | BM33: =V33/BL33 -> #VALUE! | BN33: =V33/W33/(volume_friction/1000) -> #DIV/0! | BO33: =E33*Y33*(volume_friction/1000) -> #VALUE! | BP33: =X33/BO33 -> #VALUE! | BQ33: =X33/Y33/(volume_friction/1000) -> #DIV/0! | BR33: =E33*AA33*(volume_friction/1000) -> #VALUE! | BS33: =Z33/BR33 -> #VALUE! | BT33: =Z33/AA33/(volume_friction/1000) -> #DIV/0! | BU33: =E33*AC33*(volume_friction/1000) -> #VALUE! | BV33: =AB33/BU33 -> #VALUE! | BW33: =AB33/AC33/(volume_friction/1000) -> #DIV/0! | BX33: =E33*AE33*(volume_friction/1000) -> #VALUE! | BY33: =AD33/BX33 -> #VALUE! | BZ33: =AD33/AE33/(volume_friction/1000) -> #DIV/0! | CA33: =E33*AG33*(volume_friction/1000) -> #VALUE! | CB33: =AF33/CA33 -> #VALUE! | CC33: =AF33/AG33/(volume_friction/1000) -> #DIV/0! | CD33: =E33*AI33*(volume_friction/1000) -> #VALUE! | CE33: =AH33/CD33 -> #VALUE! | CF33: =AH33/AI33/(volume_friction/1000) -> #DIV/0! | CG33: =E33*AK33*(volume_friction/1000) -> #VALUE! | CH33: =AJ33/CG33 -> #VALUE! | CI33: =AJ33/AK33/(volume_friction/1000) -> #DIV/0! | CJ33: =E33*AM33*(volume_friction/1000) -> #VALUE! | CK33: =AL33/CJ33 -> #VALUE! | CL33: =AL33/AM33/(volume_friction/1000) -> #DIV/0!
A34: 3 | B34: ='Posters Trimestres'!A39 -> Réa-SC | C34: =Saisie!A81 -> 0 | D34: =Saisie!B81 -> 0 | E34: =Saisie!C81 | F34: =Saisie!D81 -> 0 | G34: =Saisie!E81 -> 0 | H34: =Saisie!F81 -> 0 | I34: =Saisie!G81 -> 0 | J34: =Saisie!H81 -> 0 | K34: =Saisie!I81 -> 0 | L34: =IF(Saisie!J81="",F34+H34+J34,Saisie!J81) -> 0 | M34: =IF(Saisie!K81="",G34+I34+K34,Saisie!K81) -> 0 | N34: =Saisie!L81 -> 0 | O34: =Saisie!M81 -> 0 | P34: =Saisie!N81 -> 0 | Q34: =Saisie!O81 -> 0 | R34: =Saisie!P81 -> 0 | S34: =Saisie!Q81 -> 0 | T34: =IF(Saisie!R81="",N34+P34+R34,Saisie!R81) -> 0 | U34: =IF(Saisie!S81="",O34+Q34+S34,Saisie!S81) -> 0 | V34: =Saisie!T81 -> 0 | W34: =Saisie!U81 -> 0 | X34: =Saisie!V81 -> 0 | Y34: =Saisie!W81 -> 0 | Z34: =Saisie!X81 -> 0 | AA34: =Saisie!Y81 -> 0 | AB34: =IF(Saisie!Z81="",V34+X34+Z34,Saisie!Z81) -> 0 | AC34: =IF(Saisie!AA81="",W34+Y34+AA34,Saisie!AA81) -> 0 | AD34: =Saisie!AB81 -> 0 | AE34: =Saisie!AC81 -> 0 | AF34: =Saisie!AD81 -> 0 | AG34: =Saisie!AE81 -> 0 | AH34: =Saisie!AF81 -> 0 | AI34: =Saisie!AG81 -> 0 | AJ34: =IF(Saisie!AH81="",AD34+AF34+AH34,Saisie!AH81) -> 0 | AK34: =IF(Saisie!AI81="",AE34+AG34+AI34,Saisie!AI81) -> 0 | AL34: =L34+T34+AB34+AJ34 -> 0 | AM34: =M34+U34+AC34+AK34 -> 0 | AN34: =E34*G34*(volume_friction/1000) -> #VALUE! | AO34: =F34/AN34 -> #VALUE! | AP34: =F34/G34/(volume_friction/1000) -> #DIV/0! | AQ34: =E34*I34*(volume_friction/1000) -> #VALUE! | AR34: =H34/AQ34 -> #VALUE! | AS34: =H34/I34/(volume_friction/1000) -> #DIV/0! | AT34: =E34*K34*(volume_friction/1000) -> #VALUE! | AU34: =J34/AT34 -> #VALUE! | AV34: =J34/K34/(volume_friction/1000) -> #DIV/0! | AW34: =E34*M34*(volume_friction/1000) -> #VALUE! | AX34: =L34/AW34 -> #VALUE! | AY34: =L34/M34/(volume_friction/1000) -> #DIV/0! | AZ34: =E34*O34*(volume_friction/1000) -> #VALUE! | BA34: =N34/AZ34 -> #VALUE! | BB34: =N34/O34/(volume_friction/1000) -> #DIV/0! | BC34: =E34*Q34*(volume_friction/1000) -> #VALUE! | BD34: =P34/BC34 -> #VALUE! | BE34: =P34/Q34/(volume_friction/1000) -> #DIV/0! | BF34: =E34*S34*(volume_friction/1000) -> #VALUE! | BG34: =R34/BF34 -> #VALUE! | BH34: =R34/S34/(volume_friction/1000) -> #DIV/0! | BI34: =E34*U34*(volume_friction/1000) -> #VALUE! | BJ34: =T34/BI34 -> #VALUE! | BK34: =T34/U34/(volume_friction/1000) -> #DIV/0! | BL34: =E34*W34*(volume_friction/1000) -> #VALUE! | BM34: =V34/BL34 -> #VALUE! | BN34: =V34/W34/(volume_friction/1000) -> #DIV/0! | BO34: =E34*Y34*(volume_friction/1000) -> #VALUE! | BP34: =X34/BO34 -> #VALUE! | BQ34: =X34/Y34/(volume_friction/1000) -> #DIV/0! | BR34: =E34*AA34*(volume_friction/1000) -> #VALUE! | BS34: =Z34/BR34 -> #VALUE! | BT34: =Z34/AA34/(volume_friction/1000) -> #DIV/0! | BU34: =E34*AC34*(volume_friction/1000) -> #VALUE! | BV34: =AB34/BU34 -> #VALUE! | BW34: =AB34/AC34/(volume_friction/1000) -> #DIV/0! | BX34: =E34*AE34*(volume_friction/1000) -> #VALUE! | BY34: =AD34/BX34 -> #VALUE! | BZ34: =AD34/AE34/(volume_friction/1000) -> #DIV/0! | CA34: =E34*AG34*(volume_friction/1000) -> #VALUE! | CB34: =AF34/CA34 -> #VALUE! | CC34: =AF34/AG34/(volume_friction/1000) -> #DIV/0! | CD34: =E34*AI34*(volume_friction/1000) -> #VALUE! | CE34: =AH34/CD34 -> #VALUE! | CF34: =AH34/AI34/(volume_friction/1000) -> #DIV/0! | CG34: =E34*AK34*(volume_friction/1000) -> #VALUE! | CH34: =AJ34/CG34 -> #VALUE! | CI34: =AJ34/AK34/(volume_friction/1000) -> #DIV/0! | CJ34: =E34*AM34*(volume_friction/1000) -> #VALUE! | CK34: =AL34/CJ34 -> #VALUE! | CL34: =AL34/AM34/(volume_friction/1000) -> #DIV/0!
A35: 4 | B35: ='Posters Trimestres'!A39 -> Réa-SC | C35: =Saisie!A82 -> 0 | D35: =Saisie!B82 -> 0 | E35: =Saisie!C82 | F35: =Saisie!D82 -> 0 | G35: =Saisie!E82 -> 0 | H35: =Saisie!F82 -> 0 | I35: =Saisie!G82 -> 0 | J35: =Saisie!H82 -> 0 | K35: =Saisie!I82 -> 0 | L35: =IF(Saisie!J82="",F35+H35+J35,Saisie!J82) -> 0 | M35: =IF(Saisie!K82="",G35+I35+K35,Saisie!K82) -> 0 | N35: =Saisie!L82 -> 0 | O35: =Saisie!M82 -> 0 | P35: =Saisie!N82 -> 0 | Q35: =Saisie!O82 -> 0 | R35: =Saisie!P82 -> 0 | S35: =Saisie!Q82 -> 0 | T35: =IF(Saisie!R82="",N35+P35+R35,Saisie!R82) -> 0 | U35: =IF(Saisie!S82="",O35+Q35+S35,Saisie!S82) -> 0 | V35: =Saisie!T82 -> 0 | W35: =Saisie!U82 -> 0 | X35: =Saisie!V82 -> 0 | Y35: =Saisie!W82 -> 0 | Z35: =Saisie!X82 -> 0 | AA35: =Saisie!Y82 -> 0 | AB35: =IF(Saisie!Z82="",V35+X35+Z35,Saisie!Z82) -> 0 | AC35: =IF(Saisie!AA82="",W35+Y35+AA35,Saisie!AA82) -> 0 | AD35: =Saisie!AB82 -> 0 | AE35: =Saisie!AC82 -> 0 | AF35: =Saisie!AD82 -> 0 | AG35: =Saisie!AE82 -> 0 | AH35: =Saisie!AF82 -> 0 | AI35: =Saisie!AG82 -> 0 | AJ35: =IF(Saisie!AH82="",AD35+AF35+AH35,Saisie!AH82) -> 0 | AK35: =IF(Saisie!AI82="",AE35+AG35+AI35,Saisie!AI82) -> 0 | AL35: =L35+T35+AB35+AJ35 -> 0 | AM35: =M35+U35+AC35+AK35 -> 0 | AN35: =E35*G35*(volume_friction/1000) -> #VALUE! | AO35: =F35/AN35 -> #VALUE! | AP35: =F35/G35/(volume_friction/1000) -> #DIV/0! | AQ35: =E35*I35*(volume_friction/1000) -> #VALUE! | AR35: =H35/AQ35 -> #VALUE! | AS35: =H35/I35/(volume_friction/1000) -> #DIV/0! | AT35: =E35*K35*(volume_friction/1000) -> #VALUE! | AU35: =J35/AT35 -> #VALUE! | AV35: =J35/K35/(volume_friction/1000) -> #DIV/0! | AW35: =E35*M35*(volume_friction/1000) -> #VALUE! | AX35: =L35/AW35 -> #VALUE! | AY35: =L35/M35/(volume_friction/1000) -> #DIV/0! | AZ35: =E35*O35*(volume_friction/1000) -> #VALUE! | BA35: =N35/AZ35 -> #VALUE! | BB35: =N35/O35/(volume_friction/1000) -> #DIV/0! | BC35: =E35*Q35*(volume_friction/1000) -> #VALUE! | BD35: =P35/BC35 -> #VALUE! | BE35: =P35/Q35/(volume_friction/1000) -> #DIV/0! | BF35: =E35*S35*(volume_friction/1000) -> #VALUE! | BG35: =R35/BF35 -> #VALUE! | BH35: =R35/S35/(volume_friction/1000) -> #DIV/0! | BI35: =E35*U35*(volume_friction/1000) -> #VALUE! | BJ35: =T35/BI35 -> #VALUE! | BK35: =T35/U35/(volume_friction/1000) -> #DIV/0! | BL35: =E35*W35*(volume_friction/1000) -> #VALUE! | BM35: =V35/BL35 -> #VALUE! | BN35: =V35/W35/(volume_friction/1000) -> #DIV/0! | BO35: =E35*Y35*(volume_friction/1000) -> #VALUE! | BP35: =X35/BO35 -> #VALUE! | BQ35: =X35/Y35/(volume_friction/1000) -> #DIV/0! | BR35: =E35*AA35*(volume_friction/1000) -> #VALUE! | BS35: =Z35/BR35 -> #VALUE! | BT35: =Z35/AA35/(volume_friction/1000) -> #DIV/0! | BU35: =E35*AC35*(volume_friction/1000) -> #VALUE! | BV35: =AB35/BU35 -> #VALUE! | BW35: =AB35/AC35/(volume_friction/1000) -> #DIV/0! | BX35: =E35*AE35*(volume_friction/1000) -> #VALUE! | BY35: =AD35/BX35 -> #VALUE! | BZ35: =AD35/AE35/(volume_friction/1000) -> #DIV/0! | CA35: =E35*AG35*(volume_friction/1000) -> #VALUE! | CB35: =AF35/CA35 -> #VALUE! | CC35: =AF35/AG35/(volume_friction/1000) -> #DIV/0! | CD35: =E35*AI35*(volume_friction/1000) -> #VALUE! | CE35: =AH35/CD35 -> #VALUE! | CF35: =AH35/AI35/(volume_friction/1000) -> #DIV/0! | CG35: =E35*AK35*(volume_friction/1000) -> #VALUE! | CH35: =AJ35/CG35 -> #VALUE! | CI35: =AJ35/AK35/(volume_friction/1000) -> #DIV/0! | CJ35: =E35*AM35*(volume_friction/1000) -> #VALUE! | CK35: =AL35/CJ35 -> #VALUE! | CL35: =AL35/AM35/(volume_friction/1000) -> #DIV/0!
A36: 5 | B36: ='Posters Trimestres'!A39 -> Réa-SC | C36: =Saisie!A83 -> 0 | D36: =Saisie!B83 -> 0 | E36: =Saisie!C83 | F36: =Saisie!D83 -> 0 | G36: =Saisie!E83 -> 0 | H36: =Saisie!F83 -> 0 | I36: =Saisie!G83 -> 0 | J36: =Saisie!H83 -> 0 | K36: =Saisie!I83 -> 0 | L36: =IF(Saisie!J83="",F36+H36+J36,Saisie!J83) -> 0 | M36: =IF(Saisie!K83="",G36+I36+K36,Saisie!K83) -> 0 | N36: =Saisie!L83 -> 0 | O36: =Saisie!M83 -> 0 | P36: =Saisie!N83 -> 0 | Q36: =Saisie!O83 -> 0 | R36: =Saisie!P83 -> 0 | S36: =Saisie!Q83 -> 0 | T36: =IF(Saisie!R83="",N36+P36+R36,Saisie!R83) -> 0 | U36: =IF(Saisie!S83="",O36+Q36+S36,Saisie!S83) -> 0 | V36: =Saisie!T83 -> 0 | W36: =Saisie!U83 -> 0 | X36: =Saisie!V83 -> 0 | Y36: =Saisie!W83 -> 0 | Z36: =Saisie!X83 -> 0 | AA36: =Saisie!Y83 -> 0 | AB36: =IF(Saisie!Z83="",V36+X36+Z36,Saisie!Z83) -> 0 | AC36: =IF(Saisie!AA83="",W36+Y36+AA36,Saisie!AA83) -> 0 | AD36: =Saisie!AB83 -> 0 | AE36: =Saisie!AC83 -> 0 | AF36: =Saisie!AD83 -> 0 | AG36: =Saisie!AE83 -> 0 | AH36: =Saisie!AF83 -> 0 | AI36: =Saisie!AG83 -> 0 | AJ36: =IF(Saisie!AH83="",AD36+AF36+AH36,Saisie!AH83) -> 0 | AK36: =IF(Saisie!AI83="",AE36+AG36+AI36,Saisie!AI83) -> 0 | AL36: =L36+T36+AB36+AJ36 -> 0 | AM36: =M36+U36+AC36+AK36 -> 0 | AN36: =E36*G36*(volume_friction/1000) -> #VALUE! | AO36: =F36/AN36 -> #VALUE! | AP36: =F36/G36/(volume_friction/1000) -> #DIV/0! | AQ36: =E36*I36*(volume_friction/1000) -> #VALUE! | AR36: =H36/AQ36 -> #VALUE! | AS36: =H36/I36/(volume_friction/1000) -> #DIV/0! | AT36: =E36*K36*(volume_friction/1000) -> #VALUE! | AU36: =J36/AT36 -> #VALUE! | AV36: =J36/K36/(volume_friction/1000) -> #DIV/0! | AW36: =E36*M36*(volume_friction/1000) -> #VALUE! | AX36: =L36/AW36 -> #VALUE! | AY36: =L36/M36/(volume_friction/1000) -> #DIV/0! | AZ36: =E36*O36*(volume_friction/1000) -> #VALUE! | BA36: =N36/AZ36 -> #VALUE! | BB36: =N36/O36/(volume_friction/1000) -> #DIV/0! | BC36: =E36*Q36*(volume_friction/1000) -> #VALUE! | BD36: =P36/BC36 -> #VALUE! | BE36: =P36/Q36/(volume_friction/1000) -> #DIV/0! | BF36: =E36*S36*(volume_friction/1000) -> #VALUE! | BG36: =R36/BF36 -> #VALUE! | BH36: =R36/S36/(volume_friction/1000) -> #DIV/0! | BI36: =E36*U36*(volume_friction/1000) -> #VALUE! | BJ36: =T36/BI36 -> #VALUE! | BK36: =T36/U36/(volume_friction/1000) -> #DIV/0! | BL36: =E36*W36*(volume_friction/1000) -> #VALUE! | BM36: =V36/BL36 -> #VALUE! | BN36: =V36/W36/(volume_friction/1000) -> #DIV/0! | BO36: =E36*Y36*(volume_friction/1000) -> #VALUE! | BP36: =X36/BO36 -> #VALUE! | BQ36: =X36/Y36/(volume_friction/1000) -> #DIV/0! | BR36: =E36*AA36*(volume_friction/1000) -> #VALUE! | BS36: =Z36/BR36 -> #VALUE! | BT36: =Z36/AA36/(volume_friction/1000) -> #DIV/0! | BU36: =E36*AC36*(volume_friction/1000) -> #VALUE! | BV36: =AB36/BU36 -> #VALUE! | BW36: =AB36/AC36/(volume_friction/1000) -> #DIV/0! | BX36: =E36*AE36*(volume_friction/1000) -> #VALUE! | BY36: =AD36/BX36 -> #VALUE! | BZ36: =AD36/AE36/(volume_friction/1000) -> #DIV/0! | CA36: =E36*AG36*(volume_friction/1000) -> #VALUE! | CB36: =AF36/CA36 -> #VALUE! | CC36: =AF36/AG36/(volume_friction/1000) -> #DIV/0! | CD36: =E36*AI36*(volume_friction/1000) -> #VALUE! | CE36: =AH36/CD36 -> #VALUE! | CF36: =AH36/AI36/(volume_friction/1000) -> #DIV/0! | CG36: =E36*AK36*(volume_friction/1000) -> #VALUE! | CH36: =AJ36/CG36 -> #VALUE! | CI36: =AJ36/AK36/(volume_friction/1000) -> #DIV/0! | CJ36: =E36*AM36*(volume_friction/1000) -> #VALUE! | CK36: =AL36/CJ36 -> #VALUE! | CL36: =AL36/AM36/(volume_friction/1000) -> #DIV/0!
A37: 6 | B37: ='Posters Trimestres'!A39 -> Réa-SC | C37: =Saisie!A84 -> 0 | D37: =Saisie!B84 -> 0 | E37: =Saisie!C84 | F37: =Saisie!D84 -> 0 | G37: =Saisie!E84 -> 0 | H37: =Saisie!F84 -> 0 | I37: =Saisie!G84 -> 0 | J37: =Saisie!H84 -> 0 | K37: =Saisie!I84 -> 0 | L37: =IF(Saisie!J84="",F37+H37+J37,Saisie!J84) -> 0 | M37: =IF(Saisie!K84="",G37+I37+K37,Saisie!K84) -> 0 | N37: =Saisie!L84 -> 0 | O37: =Saisie!M84 -> 0 | P37: =Saisie!N84 -> 0 | Q37: =Saisie!O84 -> 0 | R37: =Saisie!P84 -> 0 | S37: =Saisie!Q84 -> 0 | T37: =IF(Saisie!R84="",N37+P37+R37,Saisie!R84) -> 0 | U37: =IF(Saisie!S84="",O37+Q37+S37,Saisie!S84) -> 0 | V37: =Saisie!T84 -> 0 | W37: =Saisie!U84 -> 0 | X37: =Saisie!V84 -> 0 | Y37: =Saisie!W84 -> 0 | Z37: =Saisie!X84 -> 0 | AA37: =Saisie!Y84 -> 0 | AB37: =IF(Saisie!Z84="",V37+X37+Z37,Saisie!Z84) -> 0 | AC37: =IF(Saisie!AA84="",W37+Y37+AA37,Saisie!AA84) -> 0 | AD37: =Saisie!AB84 -> 0 | AE37: =Saisie!AC84 -> 0 | AF37: =Saisie!AD84 -> 0 | AG37: =Saisie!AE84 -> 0 | AH37: =Saisie!AF84 -> 0 | AI37: =Saisie!AG84 -> 0 | AJ37: =IF(Saisie!AH84="",AD37+AF37+AH37,Saisie!AH84) -> 0 | AK37: =IF(Saisie!AI84="",AE37+AG37+AI37,Saisie!AI84) -> 0 | AL37: =L37+T37+AB37+AJ37 -> 0 | AM37: =M37+U37+AC37+AK37 -> 0 | AN37: =E37*G37*(volume_friction/1000) -> #VALUE! | AO37: =F37/AN37 -> #VALUE! | AP37: =F37/G37/(volume_friction/1000) -> #DIV/0! | AQ37: =E37*I37*(volume_friction/1000) -> #VALUE! | AR37: =H37/AQ37 -> #VALUE! | AS37: =H37/I37/(volume_friction/1000) -> #DIV/0! | AT37: =E37*K37*(volume_friction/1000) -> #VALUE! | AU37: =J37/AT37 -> #VALUE! | AV37: =J37/K37/(volume_friction/1000) -> #DIV/0! | AW37: =E37*M37*(volume_friction/1000) -> #VALUE! | AX37: =L37/AW37 -> #VALUE! | AY37: =L37/M37/(volume_friction/1000) -> #DIV/0! | AZ37: =E37*O37*(volume_friction/1000) -> #VALUE! | BA37: =N37/AZ37 -> #VALUE! | BB37: =N37/O37/(volume_friction/1000) -> #DIV/0! | BC37: =E37*Q37*(volume_friction/1000) -> #VALUE! | BD37: =P37/BC37 -> #VALUE! | BE37: =P37/Q37/(volume_friction/1000) -> #DIV/0! | BF37: =E37*S37*(volume_friction/1000) -> #VALUE! | BG37: =R37/BF37 -> #VALUE! | BH37: =R37/S37/(volume_friction/1000) -> #DIV/0! | BI37: =E37*U37*(volume_friction/1000) -> #VALUE! | BJ37: =T37/BI37 -> #VALUE! | BK37: =T37/U37/(volume_friction/1000) -> #DIV/0! | BL37: =E37*W37*(volume_friction/1000) -> #VALUE! | BM37: =V37/BL37 -> #VALUE! | BN37: =V37/W37/(volume_friction/1000) -> #DIV/0! | BO37: =E37*Y37*(volume_friction/1000) -> #VALUE! | BP37: =X37/BO37 -> #VALUE! | BQ37: =X37/Y37/(volume_friction/1000) -> #DIV/0! | BR37: =E37*AA37*(volume_friction/1000) -> #VALUE! | BS37: =Z37/BR37 -> #VALUE! | BT37: =Z37/AA37/(volume_friction/1000) -> #DIV/0! | BU37: =E37*AC37*(volume_friction/1000) -> #VALUE! | BV37: =AB37/BU37 -> #VALUE! | BW37: =AB37/AC37/(volume_friction/1000) -> #DIV/0! | BX37: =E37*AE37*(volume_friction/1000) -> #VALUE! | BY37: =AD37/BX37 -> #VALUE! | BZ37: =AD37/AE37/(volume_friction/1000) -> #DIV/0! | CA37: =E37*AG37*(volume_friction/1000) -> #VALUE! | CB37: =AF37/CA37 -> #VALUE! | CC37: =AF37/AG37/(volume_friction/1000) -> #DIV/0! | CD37: =E37*AI37*(volume_friction/1000) -> #VALUE! | CE37: =AH37/CD37 -> #VALUE! | CF37: =AH37/AI37/(volume_friction/1000) -> #DIV/0! | CG37: =E37*AK37*(volume_friction/1000) -> #VALUE! | CH37: =AJ37/CG37 -> #VALUE! | CI37: =AJ37/AK37/(volume_friction/1000) -> #DIV/0! | CJ37: =E37*AM37*(volume_friction/1000) -> #VALUE! | CK37: =AL37/CJ37 -> #VALUE! | CL37: =AL37/AM37/(volume_friction/1000) -> #DIV/0!
A38: 7 | B38: ='Posters Trimestres'!A39 -> Réa-SC | C38: =Saisie!A85 -> 0 | D38: =Saisie!B85 -> 0 | E38: =Saisie!C85 | F38: =Saisie!D85 -> 0 | G38: =Saisie!E85 -> 0 | H38: =Saisie!F85 -> 0 | I38: =Saisie!G85 -> 0 | J38: =Saisie!H85 -> 0 | K38: =Saisie!I85 -> 0 | L38: =IF(Saisie!J85="",F38+H38+J38,Saisie!J85) -> 0 | M38: =IF(Saisie!K85="",G38+I38+K38,Saisie!K85) -> 0 | N38: =Saisie!L85 -> 0 | O38: =Saisie!M85 -> 0 | P38: =Saisie!N85 -> 0 | Q38: =Saisie!O85 -> 0 | R38: =Saisie!P85 -> 0 | S38: =Saisie!Q85 -> 0 | T38: =IF(Saisie!R85="",N38+P38+R38,Saisie!R85) -> 0 | U38: =IF(Saisie!S85="",O38+Q38+S38,Saisie!S85) -> 0 | V38: =Saisie!T85 -> 0 | W38: =Saisie!U85 -> 0 | X38: =Saisie!V85 -> 0 | Y38: =Saisie!W85 -> 0 | Z38: =Saisie!X85 -> 0 | AA38: =Saisie!Y85 -> 0 | AB38: =IF(Saisie!Z85="",V38+X38+Z38,Saisie!Z85) -> 0 | AC38: =IF(Saisie!AA85="",W38+Y38+AA38,Saisie!AA85) -> 0 | AD38: =Saisie!AB85 -> 0 | AE38: =Saisie!AC85 -> 0 | AF38: =Saisie!AD85 -> 0 | AG38: =Saisie!AE85 -> 0 | AH38: =Saisie!AF85 -> 0 | AI38: =Saisie!AG85 -> 0 | AJ38: =IF(Saisie!AH85="",AD38+AF38+AH38,Saisie!AH85) -> 0 | AK38: =IF(Saisie!AI85="",AE38+AG38+AI38,Saisie!AI85) -> 0 | AL38: =L38+T38+AB38+AJ38 -> 0 | AM38: =M38+U38+AC38+AK38 -> 0 | AN38: =E38*G38*(volume_friction/1000) -> #VALUE! | AO38: =F38/AN38 -> #VALUE! | AP38: =F38/G38/(volume_friction/1000) -> #DIV/0! | AQ38: =E38*I38*(volume_friction/1000) -> #VALUE! | AR38: =H38/AQ38 -> #VALUE! | AS38: =H38/I38/(volume_friction/1000) -> #DIV/0! | AT38: =E38*K38*(volume_friction/1000) -> #VALUE! | AU38: =J38/AT38 -> #VALUE! | AV38: =J38/K38/(volume_friction/1000) -> #DIV/0! | AW38: =E38*M38*(volume_friction/1000) -> #VALUE! | AX38: =L38/AW38 -> #VALUE! | AY38: =L38/M38/(volume_friction/1000) -> #DIV/0! | AZ38: =E38*O38*(volume_friction/1000) -> #VALUE! | BA38: =N38/AZ38 -> #VALUE! | BB38: =N38/O38/(volume_friction/1000) -> #DIV/0! | BC38: =E38*Q38*(volume_friction/1000) -> #VALUE! | BD38: =P38/BC38 -> #VALUE! | BE38: =P38/Q38/(volume_friction/1000) -> #DIV/0! | BF38: =E38*S38*(volume_friction/1000) -> #VALUE! | BG38: =R38/BF38 -> #VALUE! | BH38: =R38/S38/(volume_friction/1000) -> #DIV/0! | BI38: =E38*U38*(volume_friction/1000) -> #VALUE! | BJ38: =T38/BI38 -> #VALUE! | BK38: =T38/U38/(volume_friction/1000) -> #DIV/0! | BL38: =E38*W38*(volume_friction/1000) -> #VALUE! | BM38: =V38/BL38 -> #VALUE! | BN38: =V38/W38/(volume_friction/1000) -> #DIV/0! | BO38: =E38*Y38*(volume_friction/1000) -> #VALUE! | BP38: =X38/BO38 -> #VALUE! | BQ38: =X38/Y38/(volume_friction/1000) -> #DIV/0! | BR38: =E38*AA38*(volume_friction/1000) -> #VALUE! | BS38: =Z38/BR38 -> #VALUE! | BT38: =Z38/AA38/(volume_friction/1000) -> #DIV/0! | BU38: =E38*AC38*(volume_friction/1000) -> #VALUE! | BV38: =AB38/BU38 -> #VALUE! | BW38: =AB38/AC38/(volume_friction/1000) -> #DIV/0! | BX38: =E38*AE38*(volume_friction/1000) -> #VALUE! | BY38: =AD38/BX38 -> #VALUE! | BZ38: =AD38/AE38/(volume_friction/1000) -> #DIV/0! | CA38: =E38*AG38*(volume_friction/1000) -> #VALUE! | CB38: =AF38/CA38 -> #VALUE! | CC38: =AF38/AG38/(volume_friction/1000) -> #DIV/0! | CD38: =E38*AI38*(volume_friction/1000) -> #VALUE! | CE38: =AH38/CD38 -> #VALUE! | CF38: =AH38/AI38/(volume_friction/1000) -> #DIV/0! | CG38: =E38*AK38*(volume_friction/1000) -> #VALUE! | CH38: =AJ38/CG38 -> #VALUE! | CI38: =AJ38/AK38/(volume_friction/1000) -> #DIV/0! | CJ38: =E38*AM38*(volume_friction/1000) -> #VALUE! | CK38: =AL38/CJ38 -> #VALUE! | CL38: =AL38/AM38/(volume_friction/1000) -> #DIV/0!
A39: 8 | B39: ='Posters Trimestres'!A39 -> Réa-SC | C39: =Saisie!A86 -> 0 | D39: =Saisie!B86 -> 0 | E39: =Saisie!C86 | F39: =Saisie!D86 -> 0 | G39: =Saisie!E86 -> 0 | H39: =Saisie!F86 -> 0 | I39: =Saisie!G86 -> 0 | J39: =Saisie!H86 -> 0 | K39: =Saisie!I86 -> 0 | L39: =IF(Saisie!J86="",F39+H39+J39,Saisie!J86) -> 0 | M39: =IF(Saisie!K86="",G39+I39+K39,Saisie!K86) -> 0 | N39: =Saisie!L86 -> 0 | O39: =Saisie!M86 -> 0 | P39: =Saisie!N86 -> 0 | Q39: =Saisie!O86 -> 0 | R39: =Saisie!P86 -> 0 | S39: =Saisie!Q86 -> 0 | T39: =IF(Saisie!R86="",N39+P39+R39,Saisie!R86) -> 0 | U39: =IF(Saisie!S86="",O39+Q39+S39,Saisie!S86) -> 0 | V39: =Saisie!T86 -> 0 | W39: =Saisie!U86 -> 0 | X39: =Saisie!V86 -> 0 | Y39: =Saisie!W86 -> 0 | Z39: =Saisie!X86 -> 0 | AA39: =Saisie!Y86 -> 0 | AB39: =IF(Saisie!Z86="",V39+X39+Z39,Saisie!Z86) -> 0 | AC39: =IF(Saisie!AA86="",W39+Y39+AA39,Saisie!AA86) -> 0 | AD39: =Saisie!AB86 -> 0 | AE39: =Saisie!AC86 -> 0 | AF39: =Saisie!AD86 -> 0 | AG39: =Saisie!AE86 -> 0 | AH39: =Saisie!AF86 -> 0 | AI39: =Saisie!AG86 -> 0 | AJ39: =IF(Saisie!AH86="",AD39+AF39+AH39,Saisie!AH86) -> 0 | AK39: =IF(Saisie!AI86="",AE39+AG39+AI39,Saisie!AI86) -> 0 | AL39: =L39+T39+AB39+AJ39 -> 0 | AM39: =M39+U39+AC39+AK39 -> 0 | AN39: =E39*G39*(volume_friction/1000) -> #VALUE! | AO39: =F39/AN39 -> #VALUE! | AP39: =F39/G39/(volume_friction/1000) -> #DIV/0! | AQ39: =E39*I39*(volume_friction/1000) -> #VALUE! | AR39: =H39/AQ39 -> #VALUE! | AS39: =H39/I39/(volume_friction/1000) -> #DIV/0! | AT39: =E39*K39*(volume_friction/1000) -> #VALUE! | AU39: =J39/AT39 -> #VALUE! | AV39: =J39/K39/(volume_friction/1000) -> #DIV/0! | AW39: =E39*M39*(volume_friction/1000) -> #VALUE! | AX39: =L39/AW39 -> #VALUE! | AY39: =L39/M39/(volume_friction/1000) -> #DIV/0! | AZ39: =E39*O39*(volume_friction/1000) -> #VALUE! | BA39: =N39/AZ39 -> #VALUE! | BB39: =N39/O39/(volume_friction/1000) -> #DIV/0! | BC39: =E39*Q39*(volume_friction/1000) -> #VALUE! | BD39: =P39/BC39 -> #VALUE! | BE39: =P39/Q39/(volume_friction/1000) -> #DIV/0! | BF39: =E39*S39*(volume_friction/1000) -> #VALUE! | BG39: =R39/BF39 -> #VALUE! | BH39: =R39/S39/(volume_friction/1000) -> #DIV/0! | BI39: =E39*U39*(volume_friction/1000) -> #VALUE! | BJ39: =T39/BI39 -> #VALUE! | BK39: =T39/U39/(volume_friction/1000) -> #DIV/0! | BL39: =E39*W39*(volume_friction/1000) -> #VALUE! | BM39: =V39/BL39 -> #VALUE! | BN39: =V39/W39/(volume_friction/1000) -> #DIV/0! | BO39: =E39*Y39*(volume_friction/1000) -> #VALUE! | BP39: =X39/BO39 -> #VALUE! | BQ39: =X39/Y39/(volume_friction/1000) -> #DIV/0! | BR39: =E39*AA39*(volume_friction/1000) -> #VALUE! | BS39: =Z39/BR39 -> #VALUE! | BT39: =Z39/AA39/(volume_friction/1000) -> #DIV/0! | BU39: =E39*AC39*(volume_friction/1000) -> #VALUE! | BV39: =AB39/BU39 -> #VALUE! | BW39: =AB39/AC39/(volume_friction/1000) -> #DIV/0! | BX39: =E39*AE39*(volume_friction/1000) -> #VALUE! | BY39: =AD39/BX39 -> #VALUE! | BZ39: =AD39/AE39/(volume_friction/1000) -> #DIV/0! | CA39: =E39*AG39*(volume_friction/1000) -> #VALUE! | CB39: =AF39/CA39 -> #VALUE! | CC39: =AF39/AG39/(volume_friction/1000) -> #DIV/0! | CD39: =E39*AI39*(volume_friction/1000) -> #VALUE! | CE39: =AH39/CD39 -> #VALUE! | CF39: =AH39/AI39/(volume_friction/1000) -> #DIV/0! | CG39: =E39*AK39*(volume_friction/1000) -> #VALUE! | CH39: =AJ39/CG39 -> #VALUE! | CI39: =AJ39/AK39/(volume_friction/1000) -> #DIV/0! | CJ39: =E39*AM39*(volume_friction/1000) -> #VALUE! | CK39: =AL39/CJ39 -> #VALUE! | CL39: =AL39/AM39/(volume_friction/1000) -> #DIV/0!
A40: 9 | B40: ='Posters Trimestres'!A39 -> Réa-SC | C40: =Saisie!A87 -> 0 | D40: =Saisie!B87 -> 0 | E40: =Saisie!C87 | F40: =Saisie!D87 -> 0 | G40: =Saisie!E87 -> 0 | H40: =Saisie!F87 -> 0 | I40: =Saisie!G87 -> 0 | J40: =Saisie!H87 -> 0 | K40: =Saisie!I87 -> 0 | L40: =IF(Saisie!J87="",F40+H40+J40,Saisie!J87) -> 0 | M40: =IF(Saisie!K87="",G40+I40+K40,Saisie!K87) -> 0 | N40: =Saisie!L87 -> 0 | O40: =Saisie!M87 -> 0 | P40: =Saisie!N87 -> 0 | Q40: =Saisie!O87 -> 0 | R40: =Saisie!P87 -> 0 | S40: =Saisie!Q87 -> 0 | T40: =IF(Saisie!R87="",N40+P40+R40,Saisie!R87) -> 0 | U40: =IF(Saisie!S87="",O40+Q40+S40,Saisie!S87) -> 0 | V40: =Saisie!T87 -> 0 | W40: =Saisie!U87 -> 0 | X40: =Saisie!V87 -> 0 | Y40: =Saisie!W87 -> 0 | Z40: =Saisie!X87 -> 0 | AA40: =Saisie!Y87 -> 0 | AB40: =IF(Saisie!Z87="",V40+X40+Z40,Saisie!Z87) -> 0 | AC40: =IF(Saisie!AA87="",W40+Y40+AA40,Saisie!AA87) -> 0 | AD40: =Saisie!AB87 -> 0 | AE40: =Saisie!AC87 -> 0 | AF40: =Saisie!AD87 -> 0 | AG40: =Saisie!AE87 -> 0 | AH40: =Saisie!AF87 -> 0 | AI40: =Saisie!AG87 -> 0 | AJ40: =IF(Saisie!AH87="",AD40+AF40+AH40,Saisie!AH87) -> 0 | AK40: =IF(Saisie!AI87="",AE40+AG40+AI40,Saisie!AI87) -> 0 | AL40: =L40+T40+AB40+AJ40 -> 0 | AM40: =M40+U40+AC40+AK40 -> 0 | AN40: =E40*G40*(volume_friction/1000) -> #VALUE! | AO40: =F40/AN40 -> #VALUE! | AP40: =F40/G40/(volume_friction/1000) -> #DIV/0! | AQ40: =E40*I40*(volume_friction/1000) -> #VALUE! | AR40: =H40/AQ40 -> #VALUE! | AS40: =H40/I40/(volume_friction/1000) -> #DIV/0! | AT40: =E40*K40*(volume_friction/1000) -> #VALUE! | AU40: =J40/AT40 -> #VALUE! | AV40: =J40/K40/(volume_friction/1000) -> #DIV/0! | AW40: =E40*M40*(volume_friction/1000) -> #VALUE! | AX40: =L40/AW40 -> #VALUE! | AY40: =L40/M40/(volume_friction/1000) -> #DIV/0! | AZ40: =E40*O40*(volume_friction/1000) -> #VALUE! | BA40: =N40/AZ40 -> #VALUE! | BB40: =N40/O40/(volume_friction/1000) -> #DIV/0! | BC40: =E40*Q40*(volume_friction/1000) -> #VALUE! | BD40: =P40/BC40 -> #VALUE! | BE40: =P40/Q40/(volume_friction/1000) -> #DIV/0! | BF40: =E40*S40*(volume_friction/1000) -> #VALUE! | BG40: =R40/BF40 -> #VALUE! | BH40: =R40/S40/(volume_friction/1000) -> #DIV/0! | BI40: =E40*U40*(volume_friction/1000) -> #VALUE! | BJ40: =T40/BI40 -> #VALUE! | BK40: =T40/U40/(volume_friction/1000) -> #DIV/0! | BL40: =E40*W40*(volume_friction/1000) -> #VALUE! | BM40: =V40/BL40 -> #VALUE! | BN40: =V40/W40/(volume_friction/1000) -> #DIV/0! | BO40: =E40*Y40*(volume_friction/1000) -> #VALUE! | BP40: =X40/BO40 -> #VALUE! | BQ40: =X40/Y40/(volume_friction/1000) -> #DIV/0! | BR40: =E40*AA40*(volume_friction/1000) -> #VALUE! | BS40: =Z40/BR40 -> #VALUE! | BT40: =Z40/AA40/(volume_friction/1000) -> #DIV/0! | BU40: =E40*AC40*(volume_friction/1000) -> #VALUE! | BV40: =AB40/BU40 -> #VALUE! | BW40: =AB40/AC40/(volume_friction/1000) -> #DIV/0! | BX40: =E40*AE40*(volume_friction/1000) -> #VALUE! | BY40: =AD40/BX40 -> #VALUE! | BZ40: =AD40/AE40/(volume_friction/1000) -> #DIV/0! | CA40: =E40*AG40*(volume_friction/1000) -> #VALUE! | CB40: =AF40/CA40 -> #VALUE! | CC40: =AF40/AG40/(volume_friction/1000) -> #DIV/0! | CD40: =E40*AI40*(volume_friction/1000) -> #VALUE! | CE40: =AH40/CD40 -> #VALUE! | CF40: =AH40/AI40/(volume_friction/1000) -> #DIV/0! | CG40: =E40*AK40*(volume_friction/1000) -> #VALUE! | CH40: =AJ40/CG40 -> #VALUE! | CI40: =AJ40/AK40/(volume_friction/1000) -> #DIV/0! | CJ40: =E40*AM40*(volume_friction/1000) -> #VALUE! | CK40: =AL40/CJ40 -> #VALUE! | CL40: =AL40/AM40/(volume_friction/1000) -> #DIV/0!
A41: 10 | B41: ='Posters Trimestres'!A39 -> Réa-SC | C41: =Saisie!A88 -> 0 | D41: =Saisie!B88 -> 0 | E41: =Saisie!C88 | F41: =Saisie!D88 -> 0 | G41: =Saisie!E88 -> 0 | H41: =Saisie!F88 -> 0 | I41: =Saisie!G88 -> 0 | J41: =Saisie!H88 -> 0 | K41: =Saisie!I88 -> 0 | L41: =IF(Saisie!J88="",F41+H41+J41,Saisie!J88) -> 0 | M41: =IF(Saisie!K88="",G41+I41+K41,Saisie!K88) -> 0 | N41: =Saisie!L88 -> 0 | O41: =Saisie!M88 -> 0 | P41: =Saisie!N88 -> 0 | Q41: =Saisie!O88 -> 0 | R41: =Saisie!P88 -> 0 | S41: =Saisie!Q88 -> 0 | T41: =IF(Saisie!R88="",N41+P41+R41,Saisie!R88) -> 0 | U41: =IF(Saisie!S88="",O41+Q41+S41,Saisie!S88) -> 0 | V41: =Saisie!T88 -> 0 | W41: =Saisie!U88 -> 0 | X41: =Saisie!V88 -> 0 | Y41: =Saisie!W88 -> 0 | Z41: =Saisie!X88 -> 0 | AA41: =Saisie!Y88 -> 0 | AB41: =IF(Saisie!Z88="",V41+X41+Z41,Saisie!Z88) -> 0 | AC41: =IF(Saisie!AA88="",W41+Y41+AA41,Saisie!AA88) -> 0 | AD41: =Saisie!AB88 -> 0 | AE41: =Saisie!AC88 -> 0 | AF41: =Saisie!AD88 -> 0 | AG41: =Saisie!AE88 -> 0 | AH41: =Saisie!AF88 -> 0 | AI41: =Saisie!AG88 -> 0 | AJ41: =IF(Saisie!AH88="",AD41+AF41+AH41,Saisie!AH88) -> 0 | AK41: =IF(Saisie!AI88="",AE41+AG41+AI41,Saisie!AI88) -> 0 | AL41: =L41+T41+AB41+AJ41 -> 0 | AM41: =M41+U41+AC41+AK41 -> 0 | AN41: =E41*G41*(volume_friction/1000) -> #VALUE! | AO41: =F41/AN41 -> #VALUE! | AP41: =F41/G41/(volume_friction/1000) -> #DIV/0! | AQ41: =E41*I41*(volume_friction/1000) -> #VALUE! | AR41: =H41/AQ41 -> #VALUE! | AS41: =H41/I41/(volume_friction/1000) -> #DIV/0! | AT41: =E41*K41*(volume_friction/1000) -> #VALUE! | AU41: =J41/AT41 -> #VALUE! | AV41: =J41/K41/(volume_friction/1000) -> #DIV/0! | AW41: =E41*M41*(volume_friction/1000) -> #VALUE! | AX41: =L41/AW41 -> #VALUE! | AY41: =L41/M41/(volume_friction/1000) -> #DIV/0! | AZ41: =E41*O41*(volume_friction/1000) -> #VALUE! | BA41: =N41/AZ41 -> #VALUE! | BB41: =N41/O41/(volume_friction/1000) -> #DIV/0! | BC41: =E41*Q41*(volume_friction/1000) -> #VALUE! | BD41: =P41/BC41 -> #VALUE! | BE41: =P41/Q41/(volume_friction/1000) -> #DIV/0! | BF41: =E41*S41*(volume_friction/1000) -> #VALUE! | BG41: =R41/BF41 -> #VALUE! | BH41: =R41/S41/(volume_friction/1000) -> #DIV/0! | BI41: =E41*U41*(volume_friction/1000) -> #VALUE! | BJ41: =T41/BI41 -> #VALUE! | BK41: =T41/U41/(volume_friction/1000) -> #DIV/0! | BL41: =E41*W41*(volume_friction/1000) -> #VALUE! | BM41: =V41/BL41 -> #VALUE! | BN41: =V41/W41/(volume_friction/1000) -> #DIV/0! | BO41: =E41*Y41*(volume_friction/1000) -> #VALUE! | BP41: =X41/BO41 -> #VALUE! | BQ41: =X41/Y41/(volume_friction/1000) -> #DIV/0! | BR41: =E41*AA41*(volume_friction/1000) -> #VALUE! | BS41: =Z41/BR41 -> #VALUE! | BT41: =Z41/AA41/(volume_friction/1000) -> #DIV/0! | BU41: =E41*AC41*(volume_friction/1000) -> #VALUE! | BV41: =AB41/BU41 -> #VALUE! | BW41: =AB41/AC41/(volume_friction/1000) -> #DIV/0! | BX41: =E41*AE41*(volume_friction/1000) -> #VALUE! | BY41: =AD41/BX41 -> #VALUE! | BZ41: =AD41/AE41/(volume_friction/1000) -> #DIV/0! | CA41: =E41*AG41*(volume_friction/1000) -> #VALUE! | CB41: =AF41/CA41 -> #VALUE! | CC41: =AF41/AG41/(volume_friction/1000) -> #DIV/0! | CD41: =E41*AI41*(volume_friction/1000) -> #VALUE! | CE41: =AH41/CD41 -> #VALUE! | CF41: =AH41/AI41/(volume_friction/1000) -> #DIV/0! | CG41: =E41*AK41*(volume_friction/1000) -> #VALUE! | CH41: =AJ41/CG41 -> #VALUE! | CI41: =AJ41/AK41/(volume_friction/1000) -> #DIV/0! | CJ41: =E41*AM41*(volume_friction/1000) -> #VALUE! | CK41: =AL41/CJ41 -> #VALUE! | CL41: =AL41/AM41/(volume_friction/1000) -> #DIV/0!
A42: 1 | B42: ='Posters Trimestres'!A40 -> SSR | C42: =Saisie!A98 -> 0 | D42: =Saisie!B98 -> 0 | E42: =Saisie!C98 | F42: =Saisie!D98 -> 0 | G42: =Saisie!E98 -> 0 | H42: =Saisie!F98 -> 0 | I42: =Saisie!G98 -> 0 | J42: =Saisie!H98 -> 0 | K42: =Saisie!I98 -> 0 | L42: =IF(Saisie!J98="",F42+H42+J42,Saisie!J98) -> 0 | M42: =IF(Saisie!K98="",G42+I42+K42,Saisie!K98) -> 0 | N42: =Saisie!L98 -> 0 | O42: =Saisie!M98 -> 0 | P42: =Saisie!N98 -> 0 | Q42: =Saisie!O98 -> 0 | R42: =Saisie!P98 -> 0 | S42: =Saisie!Q98 -> 0 | T42: =IF(Saisie!R98="",N42+P42+R42,Saisie!R98) -> 0 | U42: =IF(Saisie!S98="",O42+Q42+S42,Saisie!S98) -> 0 | V42: =Saisie!T98 -> 0 | W42: =Saisie!U98 -> 0 | X42: =Saisie!V98 -> 0 | Y42: =Saisie!W98 -> 0 | Z42: =Saisie!X98 -> 0 | AA42: =Saisie!Y98 -> 0 | AB42: =IF(Saisie!Z98="",V42+X42+Z42,Saisie!Z98) -> 0 | AC42: =IF(Saisie!AA98="",W42+Y42+AA42,Saisie!AA98) -> 0 | AD42: =Saisie!AB98 -> 0 | AE42: =Saisie!AC98 -> 0 | AF42: =Saisie!AD98 -> 0 | AG42: =Saisie!AE98 -> 0 | AH42: =Saisie!AF98 -> 0 | AI42: =Saisie!AG98 -> 0 | AJ42: =IF(Saisie!AH98="",AD42+AF42+AH42,Saisie!AH98) -> 0 | AK42: =IF(Saisie!AI98="",AE42+AG42+AI42,Saisie!AI98) -> 0 | AL42: =L42+T42+AB42+AJ42 -> 0 | AM42: =M42+U42+AC42+AK42 -> 0 | AN42: =E42*G42*(volume_friction/1000) -> #VALUE! | AO42: =F42/AN42 -> #VALUE! | AP42: =F42/G42/(volume_friction/1000) -> #DIV/0! | AQ42: =E42*I42*(volume_friction/1000) -> #VALUE! | AR42: =H42/AQ42 -> #VALUE! | AS42: =H42/I42/(volume_friction/1000) -> #DIV/0! | AT42: =E42*K42*(volume_friction/1000) -> #VALUE! | AU42: =J42/AT42 -> #VALUE! | AV42: =J42/K42/(volume_friction/1000) -> #DIV/0! | AW42: =E42*M42*(volume_friction/1000) -> #VALUE! | AX42: =L42/AW42 -> #VALUE! | AY42: =L42/M42/(volume_friction/1000) -> #DIV/0! | AZ42: =E42*O42*(volume_friction/1000) -> #VALUE! | BA42: =N42/AZ42 -> #VALUE! | BB42: =N42/O42/(volume_friction/1000) -> #DIV/0! | BC42: =E42*Q42*(volume_friction/1000) -> #VALUE! | BD42: =P42/BC42 -> #VALUE! | BE42: =P42/Q42/(volume_friction/1000) -> #DIV/0! | BF42: =E42*S42*(volume_friction/1000) -> #VALUE! | BG42: =R42/BF42 -> #VALUE! | BH42: =R42/S42/(volume_friction/1000) -> #DIV/0! | BI42: =E42*U42*(volume_friction/1000) -> #VALUE! | BJ42: =T42/BI42 -> #VALUE! | BK42: =T42/U42/(volume_friction/1000) -> #DIV/0! | BL42: =E42*W42*(volume_friction/1000) -> #VALUE! | BM42: =V42/BL42 -> #VALUE! | BN42: =V42/W42/(volume_friction/1000) -> #DIV/0! | BO42: =E42*Y42*(volume_friction/1000) -> #VALUE! | BP42: =X42/BO42 -> #VALUE! | BQ42: =X42/Y42/(volume_friction/1000) -> #DIV/0! | BR42: =E42*AA42*(volume_friction/1000) -> #VALUE! | BS42: =Z42/BR42 -> #VALUE! | BT42: =Z42/AA42/(volume_friction/1000) -> #DIV/0! | BU42: =E42*AC42*(volume_friction/1000) -> #VALUE! | BV42: =AB42/BU42 -> #VALUE! | BW42: =AB42/AC42/(volume_friction/1000) -> #DIV/0! | BX42: =E42*AE42*(volume_friction/1000) -> #VALUE! | BY42: =AD42/BX42 -> #VALUE! | BZ42: =AD42/AE42/(volume_friction/1000) -> #DIV/0! | CA42: =E42*AG42*(volume_friction/1000) -> #VALUE! | CB42: =AF42/CA42 -> #VALUE! | CC42: =AF42/AG42/(volume_friction/1000) -> #DIV/0! | CD42: =E42*AI42*(volume_friction/1000) -> #VALUE! | CE42: =AH42/CD42 -> #VALUE! | CF42: =AH42/AI42/(volume_friction/1000) -> #DIV/0! | CG42: =E42*AK42*(volume_friction/1000) -> #VALUE! | CH42: =AJ42/CG42 -> #VALUE! | CI42: =AJ42/AK42/(volume_friction/1000) -> #DIV/0! | CJ42: =E42*AM42*(volume_friction/1000) -> #VALUE! | CK42: =AL42/CJ42 -> #VALUE! | CL42: =AL42/AM42/(volume_friction/1000) -> #DIV/0!
A43: 2 | B43: ='Posters Trimestres'!A40 -> SSR | C43: =Saisie!A99 -> 0 | D43: =Saisie!B99 -> 0 | E43: =Saisie!C99 | F43: =Saisie!D99 -> 0 | G43: =Saisie!E99 -> 0 | H43: =Saisie!F99 -> 0 | I43: =Saisie!G99 -> 0 | J43: =Saisie!H99 -> 0 | K43: =Saisie!I99 -> 0 | L43: =IF(Saisie!J99="",F43+H43+J43,Saisie!J99) -> 0 | M43: =IF(Saisie!K99="",G43+I43+K43,Saisie!K99) -> 0 | N43: =Saisie!L99 -> 0 | O43: =Saisie!M99 -> 0 | P43: =Saisie!N99 -> 0 | Q43: =Saisie!O99 -> 0 | R43: =Saisie!P99 -> 0 | S43: =Saisie!Q99 -> 0 | T43: =IF(Saisie!R99="",N43+P43+R43,Saisie!R99) -> 0 | U43: =IF(Saisie!S99="",O43+Q43+S43,Saisie!S99) -> 0 | V43: =Saisie!T99 -> 0 | W43: =Saisie!U99 -> 0 | X43: =Saisie!V99 -> 0 | Y43: =Saisie!W99 -> 0 | Z43: =Saisie!X99 -> 0 | AA43: =Saisie!Y99 -> 0 | AB43: =IF(Saisie!Z99="",V43+X43+Z43,Saisie!Z99) -> 0 | AC43: =IF(Saisie!AA99="",W43+Y43+AA43,Saisie!AA99) -> 0 | AD43: =Saisie!AB99 -> 0 | AE43: =Saisie!AC99 -> 0 | AF43: =Saisie!AD99 -> 0 | AG43: =Saisie!AE99 -> 0 | AH43: =Saisie!AF99 -> 0 | AI43: =Saisie!AG99 -> 0 | AJ43: =IF(Saisie!AH99="",AD43+AF43+AH43,Saisie!AH99) -> 0 | AK43: =IF(Saisie!AI99="",AE43+AG43+AI43,Saisie!AI99) -> 0 | AL43: =L43+T43+AB43+AJ43 -> 0 | AM43: =M43+U43+AC43+AK43 -> 0 | AN43: =E43*G43*(volume_friction/1000) -> #VALUE! | AO43: =F43/AN43 -> #VALUE! | AP43: =F43/G43/(volume_friction/1000) -> #DIV/0! | AQ43: =E43*I43*(volume_friction/1000) -> #VALUE! | AR43: =H43/AQ43 -> #VALUE! | AS43: =H43/I43/(volume_friction/1000) -> #DIV/0! | AT43: =E43*K43*(volume_friction/1000) -> #VALUE! | AU43: =J43/AT43 -> #VALUE! | AV43: =J43/K43/(volume_friction/1000) -> #DIV/0! | AW43: =E43*M43*(volume_friction/1000) -> #VALUE! | AX43: =L43/AW43 -> #VALUE! | AY43: =L43/M43/(volume_friction/1000) -> #DIV/0! | AZ43: =E43*O43*(volume_friction/1000) -> #VALUE! | BA43: =N43/AZ43 -> #VALUE! | BB43: =N43/O43/(volume_friction/1000) -> #DIV/0! | BC43: =E43*Q43*(volume_friction/1000) -> #VALUE! | BD43: =P43/BC43 -> #VALUE! | BE43: =P43/Q43/(volume_friction/1000) -> #DIV/0! | BF43: =E43*S43*(volume_friction/1000) -> #VALUE! | BG43: =R43/BF43 -> #VALUE! | BH43: =R43/S43/(volume_friction/1000) -> #DIV/0! | BI43: =E43*U43*(volume_friction/1000) -> #VALUE! | BJ43: =T43/BI43 -> #VALUE! | BK43: =T43/U43/(volume_friction/1000) -> #DIV/0! | BL43: =E43*W43*(volume_friction/1000) -> #VALUE! | BM43: =V43/BL43 -> #VALUE! | BN43: =V43/W43/(volume_friction/1000) -> #DIV/0! | BO43: =E43*Y43*(volume_friction/1000) -> #VALUE! | BP43: =X43/BO43 -> #VALUE! | BQ43: =X43/Y43/(volume_friction/1000) -> #DIV/0! | BR43: =E43*AA43*(volume_friction/1000) -> #VALUE! | BS43: =Z43/BR43 -> #VALUE! | BT43: =Z43/AA43/(volume_friction/1000) -> #DIV/0! | BU43: =E43*AC43*(volume_friction/1000) -> #VALUE! | BV43: =AB43/BU43 -> #VALUE! | BW43: =AB43/AC43/(volume_friction/1000) -> #DIV/0! | BX43: =E43*AE43*(volume_friction/1000) -> #VALUE! | BY43: =AD43/BX43 -> #VALUE! | BZ43: =AD43/AE43/(volume_friction/1000) -> #DIV/0! | CA43: =E43*AG43*(volume_friction/1000) -> #VALUE! | CB43: =AF43/CA43 -> #VALUE! | CC43: =AF43/AG43/(volume_friction/1000) -> #DIV/0! | CD43: =E43*AI43*(volume_friction/1000) -> #VALUE! | CE43: =AH43/CD43 -> #VALUE! | CF43: =AH43/AI43/(volume_friction/1000) -> #DIV/0! | CG43: =E43*AK43*(volume_friction/1000) -> #VALUE! | CH43: =AJ43/CG43 -> #VALUE! | CI43: =AJ43/AK43/(volume_friction/1000) -> #DIV/0! | CJ43: =E43*AM43*(volume_friction/1000) -> #VALUE! | CK43: =AL43/CJ43 -> #VALUE! | CL43: =AL43/AM43/(volume_friction/1000) -> #DIV/0!
A44: 3 | B44: ='Posters Trimestres'!A40 -> SSR | C44: =Saisie!A100 -> 0 | D44: =Saisie!B100 -> 0 | E44: =Saisie!C100 | F44: =Saisie!D100 -> 0 | G44: =Saisie!E100 -> 0 | H44: =Saisie!F100 -> 0 | I44: =Saisie!G100 -> 0 | J44: =Saisie!H100 -> 0 | K44: =Saisie!I100 -> 0 | L44: =IF(Saisie!J100="",F44+H44+J44,Saisie!J100) -> 0 | M44: =IF(Saisie!K100="",G44+I44+K44,Saisie!K100) -> 0 | N44: =Saisie!L100 -> 0 | O44: =Saisie!M100 -> 0 | P44: =Saisie!N100 -> 0 | Q44: =Saisie!O100 -> 0 | R44: =Saisie!P100 -> 0 | S44: =Saisie!Q100 -> 0 | T44: =IF(Saisie!R100="",N44+P44+R44,Saisie!R100) -> 0 | U44: =IF(Saisie!S100="",O44+Q44+S44,Saisie!S100) -> 0 | V44: =Saisie!T100 -> 0 | W44: =Saisie!U100 -> 0 | X44: =Saisie!V100 -> 0 | Y44: =Saisie!W100 -> 0 | Z44: =Saisie!X100 -> 0 | AA44: =Saisie!Y100 -> 0 | AB44: =IF(Saisie!Z100="",V44+X44+Z44,Saisie!Z100) -> 0 | AC44: =IF(Saisie!AA100="",W44+Y44+AA44,Saisie!AA100) -> 0 | AD44: =Saisie!AB100 -> 0 | AE44: =Saisie!AC100 -> 0 | AF44: =Saisie!AD100 -> 0 | AG44: =Saisie!AE100 -> 0 | AH44: =Saisie!AF100 -> 0 | AI44: =Saisie!AG100 -> 0 | AJ44: =IF(Saisie!AH100="",AD44+AF44+AH44,Saisie!AH100) -> 0 | AK44: =IF(Saisie!AI100="",AE44+AG44+AI44,Saisie!AI100) -> 0 | AL44: =L44+T44+AB44+AJ44 -> 0 | AM44: =M44+U44+AC44+AK44 -> 0 | AN44: =E44*G44*(volume_friction/1000) -> #VALUE! | AO44: =F44/AN44 -> #VALUE! | AP44: =F44/G44/(volume_friction/1000) -> #DIV/0! | AQ44: =E44*I44*(volume_friction/1000) -> #VALUE! | AR44: =H44/AQ44 -> #VALUE! | AS44: =H44/I44/(volume_friction/1000) -> #DIV/0! | AT44: =E44*K44*(volume_friction/1000) -> #VALUE! | AU44: =J44/AT44 -> #VALUE! | AV44: =J44/K44/(volume_friction/1000) -> #DIV/0! | AW44: =E44*M44*(volume_friction/1000) -> #VALUE! | AX44: =L44/AW44 -> #VALUE! | AY44: =L44/M44/(volume_friction/1000) -> #DIV/0! | AZ44: =E44*O44*(volume_friction/1000) -> #VALUE! | BA44: =N44/AZ44 -> #VALUE! | BB44: =N44/O44/(volume_friction/1000) -> #DIV/0! | BC44: =E44*Q44*(volume_friction/1000) -> #VALUE! | BD44: =P44/BC44 -> #VALUE! | BE44: =P44/Q44/(volume_friction/1000) -> #DIV/0! | BF44: =E44*S44*(volume_friction/1000) -> #VALUE! | BG44: =R44/BF44 -> #VALUE! | BH44: =R44/S44/(volume_friction/1000) -> #DIV/0! | BI44: =E44*U44*(volume_friction/1000) -> #VALUE! | BJ44: =T44/BI44 -> #VALUE! | BK44: =T44/U44/(volume_friction/1000) -> #DIV/0! | BL44: =E44*W44*(volume_friction/1000) -> #VALUE! | BM44: =V44/BL44 -> #VALUE! | BN44: =V44/W44/(volume_friction/1000) -> #DIV/0! | BO44: =E44*Y44*(volume_friction/1000) -> #VALUE! | BP44: =X44/BO44 -> #VALUE! | BQ44: =X44/Y44/(volume_friction/1000) -> #DIV/0! | BR44: =E44*AA44*(volume_friction/1000) -> #VALUE! | BS44: =Z44/BR44 -> #VALUE! | BT44: =Z44/AA44/(volume_friction/1000) -> #DIV/0! | BU44: =E44*AC44*(volume_friction/1000) -> #VALUE! | BV44: =AB44/BU44 -> #VALUE! | BW44: =AB44/AC44/(volume_friction/1000) -> #DIV/0! | BX44: =E44*AE44*(volume_friction/1000) -> #VALUE! | BY44: =AD44/BX44 -> #VALUE! | BZ44: =AD44/AE44/(volume_friction/1000) -> #DIV/0! | CA44: =E44*AG44*(volume_friction/1000) -> #VALUE! | CB44: =AF44/CA44 -> #VALUE! | CC44: =AF44/AG44/(volume_friction/1000) -> #DIV/0! | CD44: =E44*AI44*(volume_friction/1000) -> #VALUE! | CE44: =AH44/CD44 -> #VALUE! | CF44: =AH44/AI44/(volume_friction/1000) -> #DIV/0! | CG44: =E44*AK44*(volume_friction/1000) -> #VALUE! | CH44: =AJ44/CG44 -> #VALUE! | CI44: =AJ44/AK44/(volume_friction/1000) -> #DIV/0! | CJ44: =E44*AM44*(volume_friction/1000) -> #VALUE! | CK44: =AL44/CJ44 -> #VALUE! | CL44: =AL44/AM44/(volume_friction/1000) -> #DIV/0!
A45: 4 | B45: ='Posters Trimestres'!A40 -> SSR | C45: =Saisie!A101 -> 0 | D45: =Saisie!B101 -> 0 | E45: =Saisie!C101 | F45: =Saisie!D101 -> 0 | G45: =Saisie!E101 -> 0 | H45: =Saisie!F101 -> 0 | I45: =Saisie!G101 -> 0 | J45: =Saisie!H101 -> 0 | K45: =Saisie!I101 -> 0 | L45: =IF(Saisie!J101="",F45+H45+J45,Saisie!J101) -> 0 | M45: =IF(Saisie!K101="",G45+I45+K45,Saisie!K101) -> 0 | N45: =Saisie!L101 -> 0 | O45: =Saisie!M101 -> 0 | P45: =Saisie!N101 -> 0 | Q45: =Saisie!O101 -> 0 | R45: =Saisie!P101 -> 0 | S45: =Saisie!Q101 -> 0 | T45: =IF(Saisie!R101="",N45+P45+R45,Saisie!R101) -> 0 | U45: =IF(Saisie!S101="",O45+Q45+S45,Saisie!S101) -> 0 | V45: =Saisie!T101 -> 0 | W45: =Saisie!U101 -> 0 | X45: =Saisie!V101 -> 0 | Y45: =Saisie!W101 -> 0 | Z45: =Saisie!X101 -> 0 | AA45: =Saisie!Y101 -> 0 | AB45: =IF(Saisie!Z101="",V45+X45+Z45,Saisie!Z101) -> 0 | AC45: =IF(Saisie!AA101="",W45+Y45+AA45,Saisie!AA101) -> 0 | AD45: =Saisie!AB101 -> 0 | AE45: =Saisie!AC101 -> 0 | AF45: =Saisie!AD101 -> 0 | AG45: =Saisie!AE101 -> 0 | AH45: =Saisie!AF101 -> 0 | AI45: =Saisie!AG101 -> 0 | AJ45: =IF(Saisie!AH101="",AD45+AF45+AH45,Saisie!AH101) -> 0 | AK45: =IF(Saisie!AI101="",AE45+AG45+AI45,Saisie!AI101) -> 0 | AL45: =L45+T45+AB45+AJ45 -> 0 | AM45: =M45+U45+AC45+AK45 -> 0 | AN45: =E45*G45*(volume_friction/1000) -> #VALUE! | AO45: =F45/AN45 -> #VALUE! | AP45: =F45/G45/(volume_friction/1000) -> #DIV/0! | AQ45: =E45*I45*(volume_friction/1000) -> #VALUE! | AR45: =H45/AQ45 -> #VALUE! | AS45: =H45/I45/(volume_friction/1000) -> #DIV/0! | AT45: =E45*K45*(volume_friction/1000) -> #VALUE! | AU45: =J45/AT45 -> #VALUE! | AV45: =J45/K45/(volume_friction/1000) -> #DIV/0! | AW45: =E45*M45*(volume_friction/1000) -> #VALUE! | AX45: =L45/AW45 -> #VALUE! | AY45: =L45/M45/(volume_friction/1000) -> #DIV/0! | AZ45: =E45*O45*(volume_friction/1000) -> #VALUE! | BA45: =N45/AZ45 -> #VALUE! | BB45: =N45/O45/(volume_friction/1000) -> #DIV/0! | BC45: =E45*Q45*(volume_friction/1000) -> #VALUE! | BD45: =P45/BC45 -> #VALUE! | BE45: =P45/Q45/(volume_friction/1000) -> #DIV/0! | BF45: =E45*S45*(volume_friction/1000) -> #VALUE! | BG45: =R45/BF45 -> #VALUE! | BH45: =R45/S45/(volume_friction/1000) -> #DIV/0! | BI45: =E45*U45*(volume_friction/1000) -> #VALUE! | BJ45: =T45/BI45 -> #VALUE! | BK45: =T45/U45/(volume_friction/1000) -> #DIV/0! | BL45: =E45*W45*(volume_friction/1000) -> #VALUE! | BM45: =V45/BL45 -> #VALUE! | BN45: =V45/W45/(volume_friction/1000) -> #DIV/0! | BO45: =E45*Y45*(volume_friction/1000) -> #VALUE! | BP45: =X45/BO45 -> #VALUE! | BQ45: =X45/Y45/(volume_friction/1000) -> #DIV/0! | BR45: =E45*AA45*(volume_friction/1000) -> #VALUE! | BS45: =Z45/BR45 -> #VALUE! | BT45: =Z45/AA45/(volume_friction/1000) -> #DIV/0! | BU45: =E45*AC45*(volume_friction/1000) -> #VALUE! | BV45: =AB45/BU45 -> #VALUE! | BW45: =AB45/AC45/(volume_friction/1000) -> #DIV/0! | BX45: =E45*AE45*(volume_friction/1000) -> #VALUE! | BY45: =AD45/BX45 -> #VALUE! | BZ45: =AD45/AE45/(volume_friction/1000) -> #DIV/0! | CA45: =E45*AG45*(volume_friction/1000) -> #VALUE! | CB45: =AF45/CA45 -> #VALUE! | CC45: =AF45/AG45/(volume_friction/1000) -> #DIV/0! | CD45: =E45*AI45*(volume_friction/1000) -> #VALUE! | CE45: =AH45/CD45 -> #VALUE! | CF45: =AH45/AI45/(volume_friction/1000) -> #DIV/0! | CG45: =E45*AK45*(volume_friction/1000) -> #VALUE! | CH45: =AJ45/CG45 -> #VALUE! | CI45: =AJ45/AK45/(volume_friction/1000) -> #DIV/0! | CJ45: =E45*AM45*(volume_friction/1000) -> #VALUE! | CK45: =AL45/CJ45 -> #VALUE! | CL45: =AL45/AM45/(volume_friction/1000) -> #DIV/0!
A46: 5 | B46: ='Posters Trimestres'!A40 -> SSR | C46: =Saisie!A102 -> 0 | D46: =Saisie!B102 -> 0 | E46: =Saisie!C102 | F46: =Saisie!D102 -> 0 | G46: =Saisie!E102 -> 0 | H46: =Saisie!F102 -> 0 | I46: =Saisie!G102 -> 0 | J46: =Saisie!H102 -> 0 | K46: =Saisie!I102 -> 0 | L46: =IF(Saisie!J102="",F46+H46+J46,Saisie!J102) -> 0 | M46: =IF(Saisie!K102="",G46+I46+K46,Saisie!K102) -> 0 | N46: =Saisie!L102 -> 0 | O46: =Saisie!M102 -> 0 | P46: =Saisie!N102 -> 0 | Q46: =Saisie!O102 -> 0 | R46: =Saisie!P102 -> 0 | S46: =Saisie!Q102 -> 0 | T46: =IF(Saisie!R102="",N46+P46+R46,Saisie!R102) -> 0 | U46: =IF(Saisie!S102="",O46+Q46+S46,Saisie!S102) -> 0 | V46: =Saisie!T102 -> 0 | W46: =Saisie!U102 -> 0 | X46: =Saisie!V102 -> 0 | Y46: =Saisie!W102 -> 0 | Z46: =Saisie!X102 -> 0 | AA46: =Saisie!Y102 -> 0 | AB46: =IF(Saisie!Z102="",V46+X46+Z46,Saisie!Z102) -> 0 | AC46: =IF(Saisie!AA102="",W46+Y46+AA46,Saisie!AA102) -> 0 | AD46: =Saisie!AB102 -> 0 | AE46: =Saisie!AC102 -> 0 | AF46: =Saisie!AD102 -> 0 | AG46: =Saisie!AE102 -> 0 | AH46: =Saisie!AF102 -> 0 | AI46: =Saisie!AG102 -> 0 | AJ46: =IF(Saisie!AH102="",AD46+AF46+AH46,Saisie!AH102) -> 0 | AK46: =IF(Saisie!AI102="",AE46+AG46+AI46,Saisie!AI102) -> 0 | AL46: =L46+T46+AB46+AJ46 -> 0 | AM46: =M46+U46+AC46+AK46 -> 0 | AN46: =E46*G46*(volume_friction/1000) -> #VALUE! | AO46: =F46/AN46 -> #VALUE! | AP46: =F46/G46/(volume_friction/1000) -> #DIV/0! | AQ46: =E46*I46*(volume_friction/1000) -> #VALUE! | AR46: =H46/AQ46 -> #VALUE! | AS46: =H46/I46/(volume_friction/1000) -> #DIV/0! | AT46: =E46*K46*(volume_friction/1000) -> #VALUE! | AU46: =J46/AT46 -> #VALUE! | AV46: =J46/K46/(volume_friction/1000) -> #DIV/0! | AW46: =E46*M46*(volume_friction/1000) -> #VALUE! | AX46: =L46/AW46 -> #VALUE! | AY46: =L46/M46/(volume_friction/1000) -> #DIV/0! | AZ46: =E46*O46*(volume_friction/1000) -> #VALUE! | BA46: =N46/AZ46 -> #VALUE! | BB46: =N46/O46/(volume_friction/1000) -> #DIV/0! | BC46: =E46*Q46*(volume_friction/1000) -> #VALUE! | BD46: =P46/BC46 -> #VALUE! | BE46: =P46/Q46/(volume_friction/1000) -> #DIV/0! | BF46: =E46*S46*(volume_friction/1000) -> #VALUE! | BG46: =R46/BF46 -> #VALUE! | BH46: =R46/S46/(volume_friction/1000) -> #DIV/0! | BI46: =E46*U46*(volume_friction/1000) -> #VALUE! | BJ46: =T46/BI46 -> #VALUE! | BK46: =T46/U46/(volume_friction/1000) -> #DIV/0! | BL46: =E46*W46*(volume_friction/1000) -> #VALUE! | BM46: =V46/BL46 -> #VALUE! | BN46: =V46/W46/(volume_friction/1000) -> #DIV/0! | BO46: =E46*Y46*(volume_friction/1000) -> #VALUE! | BP46: =X46/BO46 -> #VALUE! | BQ46: =X46/Y46/(volume_friction/1000) -> #DIV/0! | BR46: =E46*AA46*(volume_friction/1000) -> #VALUE! | BS46: =Z46/BR46 -> #VALUE! | BT46: =Z46/AA46/(volume_friction/1000) -> #DIV/0! | BU46: =E46*AC46*(volume_friction/1000) -> #VALUE! | BV46: =AB46/BU46 -> #VALUE! | BW46: =AB46/AC46/(volume_friction/1000) -> #DIV/0! | BX46: =E46*AE46*(volume_friction/1000) -> #VALUE! | BY46: =AD46/BX46 -> #VALUE! | BZ46: =AD46/AE46/(volume_friction/1000) -> #DIV/0! | CA46: =E46*AG46*(volume_friction/1000) -> #VALUE! | CB46: =AF46/CA46 -> #VALUE! | CC46: =AF46/AG46/(volume_friction/1000) -> #DIV/0! | CD46: =E46*AI46*(volume_friction/1000) -> #VALUE! | CE46: =AH46/CD46 -> #VALUE! | CF46: =AH46/AI46/(volume_friction/1000) -> #DIV/0! | CG46: =E46*AK46*(volume_friction/1000) -> #VALUE! | CH46: =AJ46/CG46 -> #VALUE! | CI46: =AJ46/AK46/(volume_friction/1000) -> #DIV/0! | CJ46: =E46*AM46*(volume_friction/1000) -> #VALUE! | CK46: =AL46/CJ46 -> #VALUE! | CL46: =AL46/AM46/(volume_friction/1000) -> #DIV/0!
A47: 6 | B47: ='Posters Trimestres'!A40 -> SSR | C47: =Saisie!A103 -> 0 | D47: =Saisie!B103 -> 0 | E47: =Saisie!C103 | F47: =Saisie!D103 -> 0 | G47: =Saisie!E103 -> 0 | H47: =Saisie!F103 -> 0 | I47: =Saisie!G103 -> 0 | J47: =Saisie!H103 -> 0 | K47: =Saisie!I103 -> 0 | L47: =IF(Saisie!J103="",F47+H47+J47,Saisie!J103) -> 0 | M47: =IF(Saisie!K103="",G47+I47+K47,Saisie!K103) -> 0 | N47: =Saisie!L103 -> 0 | O47: =Saisie!M103 -> 0 | P47: =Saisie!N103 -> 0 | Q47: =Saisie!O103 -> 0 | R47: =Saisie!P103 -> 0 | S47: =Saisie!Q103 -> 0 | T47: =IF(Saisie!R103="",N47+P47+R47,Saisie!R103) -> 0 | U47: =IF(Saisie!S103="",O47+Q47+S47,Saisie!S103) -> 0 | V47: =Saisie!T103 -> 0 | W47: =Saisie!U103 -> 0 | X47: =Saisie!V103 -> 0 | Y47: =Saisie!W103 -> 0 | Z47: =Saisie!X103 -> 0 | AA47: =Saisie!Y103 -> 0 | AB47: =IF(Saisie!Z103="",V47+X47+Z47,Saisie!Z103) -> 0 | AC47: =IF(Saisie!AA103="",W47+Y47+AA47,Saisie!AA103) -> 0 | AD47: =Saisie!AB103 -> 0 | AE47: =Saisie!AC103 -> 0 | AF47: =Saisie!AD103 -> 0 | AG47: =Saisie!AE103 -> 0 | AH47: =Saisie!AF103 -> 0 | AI47: =Saisie!AG103 -> 0 | AJ47: =IF(Saisie!AH103="",AD47+AF47+AH47,Saisie!AH103) -> 0 | AK47: =IF(Saisie!AI103="",AE47+AG47+AI47,Saisie!AI103) -> 0 | AL47: =L47+T47+AB47+AJ47 -> 0 | AM47: =M47+U47+AC47+AK47 -> 0 | AN47: =E47*G47*(volume_friction/1000) -> #VALUE! | AO47: =F47/AN47 -> #VALUE! | AP47: =F47/G47/(volume_friction/1000) -> #DIV/0! | AQ47: =E47*I47*(volume_friction/1000) -> #VALUE! | AR47: =H47/AQ47 -> #VALUE! | AS47: =H47/I47/(volume_friction/1000) -> #DIV/0! | AT47: =E47*K47*(volume_friction/1000) -> #VALUE! | AU47: =J47/AT47 -> #VALUE! | AV47: =J47/K47/(volume_friction/1000) -> #DIV/0! | AW47: =E47*M47*(volume_friction/1000) -> #VALUE! | AX47: =L47/AW47 -> #VALUE! | AY47: =L47/M47/(volume_friction/1000) -> #DIV/0! | AZ47: =E47*O47*(volume_friction/1000) -> #VALUE! | BA47: =N47/AZ47 -> #VALUE! | BB47: =N47/O47/(volume_friction/1000) -> #DIV/0! | BC47: =E47*Q47*(volume_friction/1000) -> #VALUE! | BD47: =P47/BC47 -> #VALUE! | BE47: =P47/Q47/(volume_friction/1000) -> #DIV/0! | BF47: =E47*S47*(volume_friction/1000) -> #VALUE! | BG47: =R47/BF47 -> #VALUE! | BH47: =R47/S47/(volume_friction/1000) -> #DIV/0! | BI47: =E47*U47*(volume_friction/1000) -> #VALUE! | BJ47: =T47/BI47 -> #VALUE! | BK47: =T47/U47/(volume_friction/1000) -> #DIV/0! | BL47: =E47*W47*(volume_friction/1000) -> #VALUE! | BM47: =V47/BL47 -> #VALUE! | BN47: =V47/W47/(volume_friction/1000) -> #DIV/0! | BO47: =E47*Y47*(volume_friction/1000) -> #VALUE! | BP47: =X47/BO47 -> #VALUE! | BQ47: =X47/Y47/(volume_friction/1000) -> #DIV/0! | BR47: =E47*AA47*(volume_friction/1000) -> #VALUE! | BS47: =Z47/BR47 -> #VALUE! | BT47: =Z47/AA47/(volume_friction/1000) -> #DIV/0! | BU47: =E47*AC47*(volume_friction/1000) -> #VALUE! | BV47: =AB47/BU47 -> #VALUE! | BW47: =AB47/AC47/(volume_friction/1000) -> #DIV/0! | BX47: =E47*AE47*(volume_friction/1000) -> #VALUE! | BY47: =AD47/BX47 -> #VALUE! | BZ47: =AD47/AE47/(volume_friction/1000) -> #DIV/0! | CA47: =E47*AG47*(volume_friction/1000) -> #VALUE! | CB47: =AF47/CA47 -> #VALUE! | CC47: =AF47/AG47/(volume_friction/1000) -> #DIV/0! | CD47: =E47*AI47*(volume_friction/1000) -> #VALUE! | CE47: =AH47/CD47 -> #VALUE! | CF47: =AH47/AI47/(volume_friction/1000) -> #DIV/0! | CG47: =E47*AK47*(volume_friction/1000) -> #VALUE! | CH47: =AJ47/CG47 -> #VALUE! | CI47: =AJ47/AK47/(volume_friction/1000) -> #DIV/0! | CJ47: =E47*AM47*(volume_friction/1000) -> #VALUE! | CK47: =AL47/CJ47 -> #VALUE! | CL47: =AL47/AM47/(volume_friction/1000) -> #DIV/0!
A48: 7 | B48: ='Posters Trimestres'!A40 -> SSR | C48: =Saisie!A104 -> 0 | D48: =Saisie!B104 -> 0 | E48: =Saisie!C104 | F48: =Saisie!D104 -> 0 | G48: =Saisie!E104 -> 0 | H48: =Saisie!F104 -> 0 | I48: =Saisie!G104 -> 0 | J48: =Saisie!H104 -> 0 | K48: =Saisie!I104 -> 0 | L48: =IF(Saisie!J104="",F48+H48+J48,Saisie!J104) -> 0 | M48: =IF(Saisie!K104="",G48+I48+K48,Saisie!K104) -> 0 | N48: =Saisie!L104 -> 0 | O48: =Saisie!M104 -> 0 | P48: =Saisie!N104 -> 0 | Q48: =Saisie!O104 -> 0 | R48: =Saisie!P104 -> 0 | S48: =Saisie!Q104 -> 0 | T48: =IF(Saisie!R104="",N48+P48+R48,Saisie!R104) -> 0 | U48: =IF(Saisie!S104="",O48+Q48+S48,Saisie!S104) -> 0 | V48: =Saisie!T104 -> 0 | W48: =Saisie!U104 -> 0 | X48: =Saisie!V104 -> 0 | Y48: =Saisie!W104 -> 0 | Z48: =Saisie!X104 -> 0 | AA48: =Saisie!Y104 -> 0 | AB48: =IF(Saisie!Z104="",V48+X48+Z48,Saisie!Z104) -> 0 | AC48: =IF(Saisie!AA104="",W48+Y48+AA48,Saisie!AA104) -> 0 | AD48: =Saisie!AB104 -> 0 | AE48: =Saisie!AC104 -> 0 | AF48: =Saisie!AD104 -> 0 | AG48: =Saisie!AE104 -> 0 | AH48: =Saisie!AF104 -> 0 | AI48: =Saisie!AG104 -> 0 | AJ48: =IF(Saisie!AH104="",AD48+AF48+AH48,Saisie!AH104) -> 0 | AK48: =IF(Saisie!AI104="",AE48+AG48+AI48,Saisie!AI104) -> 0 | AL48: =L48+T48+AB48+AJ48 -> 0 | AM48: =M48+U48+AC48+AK48 -> 0 | AN48: =E48*G48*(volume_friction/1000) -> #VALUE! | AO48: =F48/AN48 -> #VALUE! | AP48: =F48/G48/(volume_friction/1000) -> #DIV/0! | AQ48: =E48*I48*(volume_friction/1000) -> #VALUE! | AR48: =H48/AQ48 -> #VALUE! | AS48: =H48/I48/(volume_friction/1000) -> #DIV/0! | AT48: =E48*K48*(volume_friction/1000) -> #VALUE! | AU48: =J48/AT48 -> #VALUE! | AV48: =J48/K48/(volume_friction/1000) -> #DIV/0! | AW48: =E48*M48*(volume_friction/1000) -> #VALUE! | AX48: =L48/AW48 -> #VALUE! | AY48: =L48/M48/(volume_friction/1000) -> #DIV/0! | AZ48: =E48*O48*(volume_friction/1000) -> #VALUE! | BA48: =N48/AZ48 -> #VALUE! | BB48: =N48/O48/(volume_friction/1000) -> #DIV/0! | BC48: =E48*Q48*(volume_friction/1000) -> #VALUE! | BD48: =P48/BC48 -> #VALUE! | BE48: =P48/Q48/(volume_friction/1000) -> #DIV/0! | BF48: =E48*S48*(volume_friction/1000) -> #VALUE! | BG48: =R48/BF48 -> #VALUE! | BH48: =R48/S48/(volume_friction/1000) -> #DIV/0! | BI48: =E48*U48*(volume_friction/1000) -> #VALUE! | BJ48: =T48/BI48 -> #VALUE! | BK48: =T48/U48/(volume_friction/1000) -> #DIV/0! | BL48: =E48*W48*(volume_friction/1000) -> #VALUE! | BM48: =V48/BL48 -> #VALUE! | BN48: =V48/W48/(volume_friction/1000) -> #DIV/0! | BO48: =E48*Y48*(volume_friction/1000) -> #VALUE! | BP48: =X48/BO48 -> #VALUE! | BQ48: =X48/Y48/(volume_friction/1000) -> #DIV/0! | BR48: =E48*AA48*(volume_friction/1000) -> #VALUE! | BS48: =Z48/BR48 -> #VALUE! | BT48: =Z48/AA48/(volume_friction/1000) -> #DIV/0! | BU48: =E48*AC48*(volume_friction/1000) -> #VALUE! | BV48: =AB48/BU48 -> #VALUE! | BW48: =AB48/AC48/(volume_friction/1000) -> #DIV/0! | BX48: =E48*AE48*(volume_friction/1000) -> #VALUE! | BY48: =AD48/BX48 -> #VALUE! | BZ48: =AD48/AE48/(volume_friction/1000) -> #DIV/0! | CA48: =E48*AG48*(volume_friction/1000) -> #VALUE! | CB48: =AF48/CA48 -> #VALUE! | CC48: =AF48/AG48/(volume_friction/1000) -> #DIV/0! | CD48: =E48*AI48*(volume_friction/1000) -> #VALUE! | CE48: =AH48/CD48 -> #VALUE! | CF48: =AH48/AI48/(volume_friction/1000) -> #DIV/0! | CG48: =E48*AK48*(volume_friction/1000) -> #VALUE! | CH48: =AJ48/CG48 -> #VALUE! | CI48: =AJ48/AK48/(volume_friction/1000) -> #DIV/0! | CJ48: =E48*AM48*(volume_friction/1000) -> #VALUE! | CK48: =AL48/CJ48 -> #VALUE! | CL48: =AL48/AM48/(volume_friction/1000) -> #DIV/0!
A49: 8 | B49: ='Posters Trimestres'!A40 -> SSR | C49: =Saisie!A105 -> 0 | D49: =Saisie!B105 -> 0 | E49: =Saisie!C105 | F49: =Saisie!D105 -> 0 | G49: =Saisie!E105 -> 0 | H49: =Saisie!F105 -> 0 | I49: =Saisie!G105 -> 0 | J49: =Saisie!H105 -> 0 | K49: =Saisie!I105 -> 0 | L49: =IF(Saisie!J105="",F49+H49+J49,Saisie!J105) -> 0 | M49: =IF(Saisie!K105="",G49+I49+K49,Saisie!K105) -> 0 | N49: =Saisie!L105 -> 0 | O49: =Saisie!M105 -> 0 | P49: =Saisie!N105 -> 0 | Q49: =Saisie!O105 -> 0 | R49: =Saisie!P105 -> 0 | S49: =Saisie!Q105 -> 0 | T49: =IF(Saisie!R105="",N49+P49+R49,Saisie!R105) -> 0 | U49: =IF(Saisie!S105="",O49+Q49+S49,Saisie!S105) -> 0 | V49: =Saisie!T105 -> 0 | W49: =Saisie!U105 -> 0 | X49: =Saisie!V105 -> 0 | Y49: =Saisie!W105 -> 0 | Z49: =Saisie!X105 -> 0 | AA49: =Saisie!Y105 -> 0 | AB49: =IF(Saisie!Z105="",V49+X49+Z49,Saisie!Z105) -> 0 | AC49: =IF(Saisie!AA105="",W49+Y49+AA49,Saisie!AA105) -> 0 | AD49: =Saisie!AB105 -> 0 | AE49: =Saisie!AC105 -> 0 | AF49: =Saisie!AD105 -> 0 | AG49: =Saisie!AE105 -> 0 | AH49: =Saisie!AF105 -> 0 | AI49: =Saisie!AG105 -> 0 | AJ49: =IF(Saisie!AH105="",AD49+AF49+AH49,Saisie!AH105) -> 0 | AK49: =IF(Saisie!AI105="",AE49+AG49+AI49,Saisie!AI105) -> 0 | AL49: =L49+T49+AB49+AJ49 -> 0 | AM49: =M49+U49+AC49+AK49 -> 0 | AN49: =E49*G49*(volume_friction/1000) -> #VALUE! | AO49: =F49/AN49 -> #VALUE! | AP49: =F49/G49/(volume_friction/1000) -> #DIV/0! | AQ49: =E49*I49*(volume_friction/1000) -> #VALUE! | AR49: =H49/AQ49 -> #VALUE! | AS49: =H49/I49/(volume_friction/1000) -> #DIV/0! | AT49: =E49*K49*(volume_friction/1000) -> #VALUE! | AU49: =J49/AT49 -> #VALUE! | AV49: =J49/K49/(volume_friction/1000) -> #DIV/0! | AW49: =E49*M49*(volume_friction/1000) -> #VALUE! | AX49: =L49/AW49 -> #VALUE! | AY49: =L49/M49/(volume_friction/1000) -> #DIV/0! | AZ49: =E49*O49*(volume_friction/1000) -> #VALUE! | BA49: =N49/AZ49 -> #VALUE! | BB49: =N49/O49/(volume_friction/1000) -> #DIV/0! | BC49: =E49*Q49*(volume_friction/1000) -> #VALUE! | BD49: =P49/BC49 -> #VALUE! | BE49: =P49/Q49/(volume_friction/1000) -> #DIV/0! | BF49: =E49*S49*(volume_friction/1000) -> #VALUE! | BG49: =R49/BF49 -> #VALUE! | BH49: =R49/S49/(volume_friction/1000) -> #DIV/0! | BI49: =E49*U49*(volume_friction/1000) -> #VALUE! | BJ49: =T49/BI49 -> #VALUE! | BK49: =T49/U49/(volume_friction/1000) -> #DIV/0! | BL49: =E49*W49*(volume_friction/1000) -> #VALUE! | BM49: =V49/BL49 -> #VALUE! | BN49: =V49/W49/(volume_friction/1000) -> #DIV/0! | BO49: =E49*Y49*(volume_friction/1000) -> #VALUE! | BP49: =X49/BO49 -> #VALUE! | BQ49: =X49/Y49/(volume_friction/1000) -> #DIV/0! | BR49: =E49*AA49*(volume_friction/1000) -> #VALUE! | BS49: =Z49/BR49 -> #VALUE! | BT49: =Z49/AA49/(volume_friction/1000) -> #DIV/0! | BU49: =E49*AC49*(volume_friction/1000) -> #VALUE! | BV49: =AB49/BU49 -> #VALUE! | BW49: =AB49/AC49/(volume_friction/1000) -> #DIV/0! | BX49: =E49*AE49*(volume_friction/1000) -> #VALUE! | BY49: =AD49/BX49 -> #VALUE! | BZ49: =AD49/AE49/(volume_friction/1000) -> #DIV/0! | CA49: =E49*AG49*(volume_friction/1000) -> #VALUE! | CB49: =AF49/CA49 -> #VALUE! | CC49: =AF49/AG49/(volume_friction/1000) -> #DIV/0! | CD49: =E49*AI49*(volume_friction/1000) -> #VALUE! | CE49: =AH49/CD49 -> #VALUE! | CF49: =AH49/AI49/(volume_friction/1000) -> #DIV/0! | CG49: =E49*AK49*(volume_friction/1000) -> #VALUE! | CH49: =AJ49/CG49 -> #VALUE! | CI49: =AJ49/AK49/(volume_friction/1000) -> #DIV/0! | CJ49: =E49*AM49*(volume_friction/1000) -> #VALUE! | CK49: =AL49/CJ49 -> #VALUE! | CL49: =AL49/AM49/(volume_friction/1000) -> #DIV/0!
A50: 9 | B50: ='Posters Trimestres'!A40 -> SSR | C50: =Saisie!A106 -> 0 | D50: =Saisie!B106 -> 0 | E50: =Saisie!C106 | F50: =Saisie!D106 -> 0 | G50: =Saisie!E106 -> 0 | H50: =Saisie!F106 -> 0 | I50: =Saisie!G106 -> 0 | J50: =Saisie!H106 -> 0 | K50: =Saisie!I106 -> 0 | L50: =IF(Saisie!J106="",F50+H50+J50,Saisie!J106) -> 0 | M50: =IF(Saisie!K106="",G50+I50+K50,Saisie!K106) -> 0 | N50: =Saisie!L106 -> 0 | O50: =Saisie!M106 -> 0 | P50: =Saisie!N106 -> 0 | Q50: =Saisie!O106 -> 0 | R50: =Saisie!P106 -> 0 | S50: =Saisie!Q106 -> 0 | T50: =IF(Saisie!R106="",N50+P50+R50,Saisie!R106) -> 0 | U50: =IF(Saisie!S106="",O50+Q50+S50,Saisie!S106) -> 0 | V50: =Saisie!T106 -> 0 | W50: =Saisie!U106 -> 0 | X50: =Saisie!V106 -> 0 | Y50: =Saisie!W106 -> 0 | Z50: =Saisie!X106 -> 0 | AA50: =Saisie!Y106 -> 0 | AB50: =IF(Saisie!Z106="",V50+X50+Z50,Saisie!Z106) -> 0 | AC50: =IF(Saisie!AA106="",W50+Y50+AA50,Saisie!AA106) -> 0 | AD50: =Saisie!AB106 -> 0 | AE50: =Saisie!AC106 -> 0 | AF50: =Saisie!AD106 -> 0 | AG50: =Saisie!AE106 -> 0 | AH50: =Saisie!AF106 -> 0 | AI50: =Saisie!AG106 -> 0 | AJ50: =IF(Saisie!AH106="",AD50+AF50+AH50,Saisie!AH106) -> 0 | AK50: =IF(Saisie!AI106="",AE50+AG50+AI50,Saisie!AI106) -> 0 | AL50: =L50+T50+AB50+AJ50 -> 0 | AM50: =M50+U50+AC50+AK50 -> 0 | AN50: =E50*G50*(volume_friction/1000) -> #VALUE! | AO50: =F50/AN50 -> #VALUE! | AP50: =F50/G50/(volume_friction/1000) -> #DIV/0! | AQ50: =E50*I50*(volume_friction/1000) -> #VALUE! | AR50: =H50/AQ50 -> #VALUE! | AS50: =H50/I50/(volume_friction/1000) -> #DIV/0! | AT50: =E50*K50*(volume_friction/1000) -> #VALUE! | AU50: =J50/AT50 -> #VALUE! | AV50: =J50/K50/(volume_friction/1000) -> #DIV/0! | AW50: =E50*M50*(volume_friction/1000) -> #VALUE! | AX50: =L50/AW50 -> #VALUE! | AY50: =L50/M50/(volume_friction/1000) -> #DIV/0! | AZ50: =E50*O50*(volume_friction/1000) -> #VALUE! | BA50: =N50/AZ50 -> #VALUE! | BB50: =N50/O50/(volume_friction/1000) -> #DIV/0! | BC50: =E50*Q50*(volume_friction/1000) -> #VALUE! | BD50: =P50/BC50 -> #VALUE! | BE50: =P50/Q50/(volume_friction/1000) -> #DIV/0! | BF50: =E50*S50*(volume_friction/1000) -> #VALUE! | BG50: =R50/BF50 -> #VALUE! | BH50: =R50/S50/(volume_friction/1000) -> #DIV/0! | BI50: =E50*U50*(volume_friction/1000) -> #VALUE! | BJ50: =T50/BI50 -> #VALUE! | BK50: =T50/U50/(volume_friction/1000) -> #DIV/0! | BL50: =E50*W50*(volume_friction/1000) -> #VALUE! | BM50: =V50/BL50 -> #VALUE! | BN50: =V50/W50/(volume_friction/1000) -> #DIV/0! | BO50: =E50*Y50*(volume_friction/1000) -> #VALUE! | BP50: =X50/BO50 -> #VALUE! | BQ50: =X50/Y50/(volume_friction/1000) -> #DIV/0! | BR50: =E50*AA50*(volume_friction/1000) -> #VALUE! | BS50: =Z50/BR50 -> #VALUE! | BT50: =Z50/AA50/(volume_friction/1000) -> #DIV/0! | BU50: =E50*AC50*(volume_friction/1000) -> #VALUE! | BV50: =AB50/BU50 -> #VALUE! | BW50: =AB50/AC50/(volume_friction/1000) -> #DIV/0! | BX50: =E50*AE50*(volume_friction/1000) -> #VALUE! | BY50: =AD50/BX50 -> #VALUE! | BZ50: =AD50/AE50/(volume_friction/1000) -> #DIV/0! | CA50: =E50*AG50*(volume_friction/1000) -> #VALUE! | CB50: =AF50/CA50 -> #VALUE! | CC50: =AF50/AG50/(volume_friction/1000) -> #DIV/0! | CD50: =E50*AI50*(volume_friction/1000) -> #VALUE! | CE50: =AH50/CD50 -> #VALUE! | CF50: =AH50/AI50/(volume_friction/1000) -> #DIV/0! | CG50: =E50*AK50*(volume_friction/1000) -> #VALUE! | CH50: =AJ50/CG50 -> #VALUE! | CI50: =AJ50/AK50/(volume_friction/1000) -> #DIV/0! | CJ50: =E50*AM50*(volume_friction/1000) -> #VALUE! | CK50: =AL50/CJ50 -> #VALUE! | CL50: =AL50/AM50/(volume_friction/1000) -> #DIV/0!
