Workbook
Name bdd_services: bdd!$1:$1048576
Name choix_service: 'Posters Trimestres'!$C$4
Name choix_service2: 'Posters mois'!$C$4
Name dt_autre: Saisie!$A$131:$C$139
Name dt_chirurgie: Saisie!$A$30:$C$33
Name dt_go: Saisie!$A$51:$C$55
Name dt_medecine: Saisie!$A$7:$C$12
Name dt_rea: Saisie!$A$74:$C$75
Name dt_sld: Saisie!$A$112:$C$113
Name dt_ssr: Saisie!$A$93:$C$94
Name etab: Infos!$D$3
Name liste_autre: Saisie!$A$143:$B$152
Name liste_chirurgie: Saisie!$A$37:$B$46
Name liste_go: Saisie!$A$59:$B$68
Name liste_medecine: Saisie!$A$16:$B$25
Name liste_rea: Saisie!$A$79:$B$88
Name liste_sld: Saisie!$A$117:$B$126
Name liste_ssr: Saisie!$A$98:$B$107
Name saisie: Saisie!$1:$1048576
Name volume_friction: 'Posters Trimestres'!$A$33

Sheet Infos
C1: ICSHA 3 | D1: Année 2025
C3: Etablissement : | D3: Nom de l'établissement
K4: 7
C5: Saisie | D5: La saisie se fait dans l'onglet "Saisie", dans les cases jaunes,
D6: soit pour chaque trimestre, soit pour chaque mois de l'année.
D7: Saisir : le nom des services, leur type d'activité (liste déroulante),
D8: la consommation de SHA en litres, et les données d'activité.
C10: Analyses | D10: Dans l'onglet "Saisie", la consommation théorique et le pourcentage
D11: d'atteinte de l'objectif sont calculés automatiquement soit pour chaque
D12: trimestre, soit pour chaque mois, et pour l'année.
D13: Dans les onglets "Poster" : choisir un type de service (liste déroulante)
D14: puis un service pour afficher le poster correspondant à ce service.
C18: © CPIAS NORMANDIE - 2019-2025

Sheet Saisie
A1: Saisie des consommations de SHA et de l'activité des services
B2: Saisir soit la consommations mensuelle, soit la consommation trimestrielle
A4: Services de médecine
A6: Type d'activité : | B6: Nombre de frictions à atteindre | C6: Activité mesurée par
A7: Médecine HC | B7: 10 | C7: Jour
A8: Médecine HJ | B8: 5 | C8: Jour
A9: Psychiatrie HC | B9: 4 | C9: Jour
A10: Psychiatrie HJ | B10: 2 | C10: Jour
A11: Chimiothérapie HC | B11: 6 | C11: Séance
A12: Hémodialyse | B12: 11 | C12: Séance
D14: Janvier | F14: Février | H14: Mars | J14: Trimestre 1 | L14: Avril | N14: Mai | P14: Juin | R14: Trimestre 2 | T14: Juillet | V14: Août | X14: Septembre | Z14: Trimestre 3 | AB14: Octobre | AD14: Novembre | AF14: Décembre | AH14: Trimestre 4
A15: Service | B15: Spécialité | C15: Frictions théoriques | D15: Litres | E15: Activité | F15: Litres | G15: Activité | H15: Litres | I15: Activité | J15: Litres | K15: Activité | L15: Litres | M15: Activité | N15: Litres | O15: Activité | P15: Litres | Q15: Activité | R15: Litres | S15: Activité | T15: Litres | U15: Activité | V15: Litres | W15: Activité | X15: Litres | Y15: Activité | Z15: Litres | AA15: Activité | AB15: Litres | AC15: Activité | AD15: Litres | AE15: Activité | AF15: Litres | AG15: Activité | AH15: Litres | AI15: Activité
C16: =IFERROR(VLOOKUP(B16,dt_medecine,2,FALSE),"")
C17: =IFERROR(VLOOKUP(B17,dt_medecine,2,FALSE),"")
C18: =IFERROR(VLOOKUP(B18,dt_medecine,2,FALSE),"")
C19: =IFERROR(VLOOKUP(B19,dt_medecine,2,FALSE),"")
C20: =IFERROR(VLOOKUP(B20,dt_medecine,2,FALSE),"")
C21: =IFERROR(VLOOKUP(B21,dt_medecine,2,FALSE),"")
C22: =IFERROR(VLOOKUP(B22,dt_medecine,2,FALSE),"")
C23: =IFERROR(VLOOKUP(B23,dt_medecine,2,FALSE),"")
C24: =IFERROR(VLOOKUP(B24,dt_medecine,2,FALSE),"")
C25: =IFERROR(VLOOKUP(B25,dt_medecine,2,FALSE),"")
A27: Services de chirurgie
A29: Type d'activité : | B29: Nombre de frictions à atteindre | C29: Activité mesurée par
A30: Chirurgie HC | B30: 12 | C30: Jour
A31: Chirurgie HJ | B31: 5 | C31: Jour
A32: Chimiothérapie HC | B32: 6 | C32: Séance
A33: Bloc + SSPI | B33: 14 | C33: Acte
D35: Janvier | F35: Février | H35: Mars | J35: Trimestre 1 | L35: Avril | N35: Mai | P35: Juin | R35: Trimestre 2 | T35: Juillet | V35: Août | X35: Septembre | Z35: Trimestre 3 | AB35: Octobre | AD35: Novembre | AF35: Décembre | AH35: Trimestre 4
A36: Service | B36: Spécialité | C36: Frictions théoriques | D36: Litres | E36: Activité | F36: Litres | G36: Activité | H36: Litres | I36: Activité | J36: Litres | K36: Activité | L36: Litres | M36: Activité | N36: Litres | O36: Activité | P36: Litres | Q36: Activité | R36: Litres | S36: Activité | T36: Litres | U36: Activité | V36: Litres | W36: Activité | X36: Litres | Y36: Activité | Z36: Litres | AA36: Activité | AB36: Litres | AC36: Activité | AD36: Litres | AE36: Activité | AF36: Litres | AG36: Activité | AH36: Litres | AI36: Activité
C37: =IFERROR(VLOOKUP(B37,dt_chirurgie,2,FALSE),"")
C38: =IFERROR(VLOOKUP(B38,dt_chirurgie,2,FALSE),"")
C39: =IFERROR(VLOOKUP(B39,dt_chirurgie,2,FALSE),"")
C40: =IFERROR(VLOOKUP(B40,dt_chirurgie,2,FALSE),"")
C41: =IFERROR(VLOOKUP(B41,dt_chirurgie,2,FALSE),"")
C42: =IFERROR(VLOOKUP(B42,dt_chirurgie,2,FALSE),"")
C43: =IFERROR(VLOOKUP(B43,dt_chirurgie,2,FALSE),"")
C44: =IFERROR(VLOOKUP(B44,dt_chirurgie,2,FALSE),"")
C45: =IFERROR(VLOOKUP(B45,dt_chirurgie,2,FALSE),"")
C46: =IFERROR(VLOOKUP(B46,dt_chirurgie,2,FALSE),"")
...

Sheet Posters mois
A1: Choisir un service puis imprimer le poster | G1: Zone d'impression :
B2: Choix du service : | H2: Indicateur ICSHA 3 | K2: =etab -> Nom de l'établissement
B3: 1/ Choisir le type de service : | C3: Médecine | H3: 2025 | I3: Service : | J3: =choix_service2 -> 0
B4: 2/ Choisir le service : | I4: Activité : | J4: =IFERROR(B68,"")
K5: Nombre de frictions théoriques : | L5: =IFERROR(B69,"") | M5: par patient et par jour
B6: ="Liste des service pour l'activité : "&C3 -> Liste des service pour l'activité : Médecine
B7: Service | C7: Activité | I7: Consommation (en litres) | J7: Atteinte de l'objectif | L7: Frictions réalisées
B8: =IF(A45=0,"",A45) | C8: =IF(A56=0,"",A56) | H8: Janvier | I8: =IFERROR(IF(OR(B71="",B71=0),"",B71),"") | J8: =IFERROR(IF(OR(C71="",C71=0),"",C71),"") | K8: =IF(J8<>"",IF(J8<0.8,"L",IF(J8<1,"J","JJ")),"") | L8: =IFERROR(IF(OR(D71="",D71=0),"",D71),"")
B9: =IF(A46=0,"",A46) | C9: =IF(A57=0,"",A57) | H9: Février | I9: =IFERROR(IF(OR(B72="",B72=0),"",B72),"") | J9: =IFERROR(IF(OR(C72="",C72=0),"",C72),"") | K9: =IF(J9<>"",IF(J9<0.8,"L",IF(J9<1,"J","JJ")),"") | L9: =IFERROR(IF(OR(D72="",D72=0),"",D72),"")
B10: =IF(A47=0,"",A47) | C10: =IF(A58=0,"",A58) | H10: Mars | I10: =IFERROR(IF(OR(B73="",B73=0),"",B73),"") | J10: =IFERROR(IF(OR(C73="",C73=0),"",C73),"") | K10: =IF(J10<>"",IF(J10<0.8,"L",IF(J10<1,"J","JJ")),"") | L10: =IFERROR(IF(OR(D73="",D73=0),"",D73),"")
B11: =IF(A48=0,"",A48) | C11: =IF(A59=0,"",A59) | H11: Avril | I11: =IFERROR(IF(OR(B74="",B74=0),"",B74),"") | J11: =IFERROR(IF(OR(C74="",C74=0),"",C74),"") | K11: =IF(J11<>"",IF(J11<0.8,"L",IF(J11<1,"J","JJ")),"") | L11: =IFERROR(IF(OR(D74="",D74=0),"",D74),"")
B12: =IF(A49=0,"",A49) | C12: =IF(A60=0,"",A60) | H12: Mai | I12: =IFERROR(IF(OR(B75="",B75=0),"",B75),"") | J12: =IFERROR(IF(OR(C75="",C75=0),"",C75),"") | K12: =IF(J12<>"",IF(J12<0.8,"L",IF(J12<1,"J","JJ")),"") | L12: =IFERROR(IF(OR(D75="",D75=0),"",D75),"")
B13: =IF(A50=0,"",A50) | C13: =IF(A61=0,"",A61) | H13: Juin | I13: =IFERROR(IF(OR(B76="",B76=0),"",B76),"") | J13: =IFERROR(IF(OR(C76="",C76=0),"",C76),"") | K13: =IF(J13<>"",IF(J13<0.8,"L",IF(J13<1,"J","JJ")),"") | L13: =IFERROR(IF(OR(D76="",D76=0),"",D76),"")
B14: =IF(A51=0,"",A51) | C14: =IF(A62=0,"",A62) | H14: Juillet | I14: =IFERROR(IF(OR(B77="",B77=0),"",B77),"") | J14: =IFERROR(IF(OR(C77="",C77=0),"",C77),"") | K14: =IF(J14<>"",IF(J14<0.8,"L",IF(J14<1,"J","JJ")),"") | L14: =IFERROR(IF(OR(D77="",D77=0),"",D77),"")
B15: =IF(A52=0,"",A52) | C15: =IF(A63=0,"",A63) | H15: Août | I15: =IFERROR(IF(OR(B78="",B78=0),"",B78),"") | J15: =IFERROR(IF(OR(C78="",C78=0),"",C78),"") | K15: =IF(J15<>"",IF(J15<0.8,"L",IF(J15<1,"J","JJ")),"") | L15: =IFERROR(IF(OR(D78="",D78=0),"",D78),"")
B16: =IF(A53=0,"",A53) | C16: =IF(A64=0,"",A64) | H16: Sept, | I16: =IFERROR(IF(OR(B79="",B79=0),"",B79),"") | J16: =IFERROR(IF(OR(C79="",C79=0),"",C79),"") | K16: =IF(J16<>"",IF(J16<0.8,"L",IF(J16<1,"J","JJ")),"") | L16: =IFERROR(IF(OR(D79="",D79=0),"",D79),"")
B17: =IF(A54=0,"",A54) | C17: =IF(A65=0,"",A65) | H17: Octobre | I17: =IFERROR(IF(OR(B80="",B80=0),"",B80),"") | J17: =IFERROR(IF(OR(C80="",C80=0),"",C80),"") | K17: =IF(J17<>"",IF(J17<0.8,"L",IF(J17<1,"J","JJ")),"") | L17: =IFERROR(IF(OR(D80="",D80=0),"",D80),"")
H18: Nov. | I18: =IFERROR(IF(OR(B81="",B81=0),"",B81),"") | J18: =IFERROR(IF(OR(C81="",C81=0),"",C81),"") | K18: =IF(J18<>"",IF(J18<0.8,"L",IF(J18<1,"J","JJ")),"") | L18: =IFERROR(IF(OR(D81="",D81=0),"",D81),"")
H19: Déc. | I19: =IFERROR(IF(OR(B82="",B82=0),"",B82),"") | J19: =IFERROR(IF(OR(C82="",C82=0),"",C82),"") | K19: =IF(J19<>"",IF(J19<0.8,"L",IF(J19<1,"J","JJ")),"") | L19: =IFERROR(IF(OR(D82="",D82=0),"",D82),"")
B20: Rappel : | H20: Année | I20: =IFERROR(IF(OR(B87="",B87=0),"",B87),"") | J20: =IFERROR(IF(OR(C87="",C87=0),"",C87),"") | K20: =IF(J20<>"",IF(J20<0.8,"L",IF(J20<1,"J","JJ")),"") | L20: =IFERROR(IF(OR(D87="",D87=0),"",D87),"")
B21: Choisir un type de service (liste déroulante en jaune | Q21: Version 2 - 2024
B22: ci-dessus), puis un service pour afficher le poster
B23: correspondant à ce service.
A31: Réglages :
A32: Volume d'une friction (ml) :
A33: 3
A35: Types de services :
A36: Médecine
A37: Chirurgie
A38: Gynéco-Obst
A39: Réa-SC
A40: SSR
A41: SLD-EHPAD
A42: Autre
A44: Choix des services :
A45: =DGET(bdd_services,"nom",B45:C46) -> 0 | B45: type | C45: n | D45: type | E45: n
A46: =DGET(bdd_services,"nom",D45:E46) -> 0 | B46: =C3 -> Médecine | C46: 1 | D46: =B46 -> Médecine | E46: 2
A47: =DGET(bdd_services,"nom",B47:C48) -> 0 | B47: type | C47: n | D47: type | E47: n
A48: =DGET(bdd_services,"nom",D47:E48) -> 0 | B48: =B46 -> Médecine | C48: 3 | D48: =B48 -> Médecine | E48: 4
A49: =DGET(bdd_services,"nom",B49:C50) -> 0 | B49: type | C49: n | D49: type | E49: n
...

Sheet Posters Trimestres
A1: Choisir un service puis imprimer le poster | G1: Zone d'impression :
B2: Choix du service : | H2: Indicateur ICSHA 3 | K2: =etab -> Nom de l'établissement
B3: 1/ Choisir le type de service : | C3: Médecine | H3: 2025
B4: 2/ Choisir le service : | I4: Service : | J4: =choix_service -> 0
I5: Activité : | J5: =IFERROR(B68,"")
B6: ="Liste des service pour l'activité : "&C3 -> Liste des service pour l'activité : Médecine
B7: Service | C7: Activité | K7: Nombre de frictions théoriques : | L7: =IFERROR(B69,"") | M7: par patient et par jour
B8: =IF(A45=0,"",A45) | C8: =IF(A56=0,"",A56)
B9: =IF(A46=0,"",A46) | C9: =IF(A57=0,"",A57) | I9: Consommation (en litres) | J9: Atteinte de l'objectif | L9: Frictions réalisées
B10: =IF(A47=0,"",A47) | C10: =IF(A58=0,"",A58) | H10: T1 | I10: =IFERROR(IF(OR(B83="",B83=0),"",B83),"") | J10: =IFERROR(IF(OR(C83="",C83=0),"",C83),"") | K10: =IF(J10<>"",IF(J10<0.8,"L",IF(J10<1,"J","JJ")),"") | L10: =IFERROR(IF(OR(D83="",D83=0),"",D83),"")
B11: =IF(A48=0,"",A48) | C11: =IF(A59=0,"",A59) | H11: T2 | I11: =IFERROR(IF(OR(B84="",B84=0),"",B84),"") | J11: =IFERROR(IF(OR(C84="",C84=0),"",C84),"") | K11: =IF(J11<>"",IF(J11<0.8,"L",IF(J11<1,"J","JJ")),"") | L11: =IFERROR(IF(OR(D84="",D84=0),"",D84),"")
B12: =IF(A49=0,"",A49) | C12: =IF(A60=0,"",A60) | H12: T3 | I12: =IFERROR(IF(OR(B85="",B85=0),"",B85),"") | J12: =IFERROR(IF(OR(C85="",C85=0),"",C85),"") | K12: =IF(J12<>"",IF(J12<0.8,"L",IF(J12<1,"J","JJ")),"") | L12: =IFERROR(IF(OR(D85="",D85=0),"",D85),"")
B13: =IF(A50=0,"",A50) | C13: =IF(A61=0,"",A61) | H13: T4 | I13: =IFERROR(IF(OR(B86="",B86=0),"",B86),"") | J13: =IFERROR(IF(OR(C86="",C86=0),"",C86),"") | K13: =IF(J13<>"",IF(J13<0.8,"L",IF(J13<1,"J","JJ")),"") | L13: =IFERROR(IF(OR(D86="",D86=0),"",D86),"")
B14: =IF(A51=0,"",A51) | C14: =IF(A62=0,"",A62) | H14: Année | I14: =IFERROR(IF(OR(B87="",B87=0),"",B87),"") | J14: =IFERROR(IF(OR(C87="",C87=0),"",C87),"") | K14: =IF(J14<>"",IF(J14<0.8,"L",IF(J14<1,"J","JJ")),"") | L14: =IFERROR(IF(OR(D87="",D87=0),"",D87),"")
B15: =IF(A52=0,"",A52) | C15: =IF(A63=0,"",A63)
B16: =IF(A53=0,"",A53) | C16: =IF(A64=0,"",A64)
B17: =IF(A54=0,"",A54) | C17: =IF(A65=0,"",A65)
B20: Rappel :
B21: Choisir un type de service (liste déroulante en jaune | Q21: Version 2 - 2024
B22: ci-dessus), puis un service pour afficher le poster
B23: correspondant à ce service.
A31: Réglages :
A32: Volume d'une friction (ml) :
A33: 3
A35: Types de services :
A36: Médecine
A37: Chirurgie
A38: Gynéco-Obst
A39: Réa-SC
A40: SSR
A41: SLD-EHPAD
A42: Autre
A44: Choix des services :
A45: =DGET(bdd_services,"nom",B45:C46) -> 0 | B45: type | C45: n | D45: type | E45: n
A46: =DGET(bdd_services,"nom",D45:E46) -> 0 | B46: =C3 -> Médecine | C46: 1 | D46: =B46 -> Médecine | E46: 2
A47: =DGET(bdd_services,"nom",B47:C48) -> 0 | B47: type | C47: n | D47: type | E47: n
A48: =DGET(bdd_services,"nom",D47:E48) -> 0 | B48: =B46 -> Médecine | C48: 3 | D48: =B48 -> Médecine | E48: 4
A49: =DGET(bdd_services,"nom",B49:C50) -> 0 | B49: type | C49: n | D49: type | E49: n
A50: =DGET(bdd_services,"nom",D49:E50) -> 0 | B50: =B46 -> Médecine | C50: 5 | D50: =B50 -> Médecine | E50: 6
A51: =DGET(bdd_services,"nom",B51:C52) -> 0 | B51: type | C51: n | D51: type | E51: n
...

Sheet bdd
A1: n | B1: type | C1: nom | D1: activite | E1: dt | F1: m1c | G1: m1a | H1: m2c | I1: m2a | J1: m3c | K1: m3a | L1: t1c | M1: t1a | N1: m4c | O1: m4a | P1: m5c | Q1: m5a | R1: m6c | S1: m6a | T1: t2c | U1: t2a | V1: m7c | W1: m7a | X1: m8c | Y1: m8a | Z1: m9c | AA1: m9a | AB1: t3c | AC1: t3a | AD1: m10c | AE1: m10a | AF1: m11c | AG1: m11a | AH1: m12c | AI1: m12a | AJ1: t4c | AK1: t4a | AL1: a_c | AM1: a_a | AN1: m1_th | AO1: m1_ob | AP1: m1_do | AQ1: m2_th | AR1: m2_ob | AS1: m2_do | AT1: m3_th | AU1: m3_ob | AV1: m3_do | AW1: t1_th | AX1: t1_ob | AY1: t1_do | AZ1: m4_th | BA1: m4_ob | BB1: m4_do | BC1: m5_th | BD1: m5_ob | BE1: m5_do | BF1: m6_th | BG1: m6_ob | BH1: m6_do | BI1: t2_th | BJ1: t2_ob | BK1: t2_do | BL1: m7_th | BM1: m7_ob | BN1: m7_do | BO1: m8_th | BP1: m8_ob | BQ1: m8_do | BR1: m9_th | BS1: m9_ob | BT1: m9_do | BU1: t3_th | BV1: t3_ob | BW1: t3_do | BX1: m10_th | BY1: m10_ob | BZ1: m10_do | CA1: m111_th | CB1: m11_ob | CC1: m11_do | CD1: m12_th | CE1: m12_ob | CF1: m12_do | CG1: t4_th | CH1: t4_ob | CI1: t4_do | CJ1: a_th | CK1: a_ob | CL1: a_do
A2: 1 | B2: ='Posters Trimestres'!A36 -> Médecine | C2: =Saisie!A16 -> 0 | D2: =Saisie!B16 -> 0 | E2: =Saisie!C16 | F2: =Saisie!D16 -> 0 | G2: =Saisie!E16 -> 0 | H2: =Saisie!F16 -> 0 | I2: =Saisie!G16 -> 0 | J2: =Saisie!H16 -> 0 | K2: =Saisie!I16 -> 0 | L2: =IF(Saisie!J16="",F2+H2+J2,Saisie!J16) -> 0 | M2: =IF(Saisie!K16="",G2+I2+K2,Saisie!K16) -> 0 | N2: =Saisie!L16 -> 0 | O2: =Saisie!M16 -> 0 | P2: =Saisie!N16 -> 0 | Q2: =Saisie!O16 -> 0 | R2: =Saisie!P16 -> 0 | S2: =Saisie!Q16 -> 0 | T2: =IF(Saisie!R16="",N2+P2+R2,Saisie!R16) -> 0 | U2: =IF(Saisie!S16="",O2+Q2+S2,Saisie!S16) -> 0 | V2: =Saisie!T16 -> 0 | W2: =Saisie!U16 -> 0 | X2: =Saisie!V16 -> 0 | Y2: =Saisie!W16 -> 0 | Z2: =Saisie!X16 -> 0 | AA2: =Saisie!Y16 -> 0 | AB2: =IF(Saisie!Z16="",V2+X2+Z2,Saisie!Z16) -> 0 | AC2: =IF(Saisie!AA16="",W2+Y2+AA2,Saisie!AA16) -> 0 | AD2: =Saisie!AB16 -> 0 | AE2: =Saisie!AC16 -> 0 | AF2: =Saisie!AD16 -> 0 | AG2: =Saisie!AE16 -> 0 | AH2: =Saisie!AF16 -> 0 | AI2: =Saisie!AG16 -> 0 | AJ2: =IF(Saisie!AH16="",AD2+AF2+AH2,Saisie!AH16) -> 0 | AK2: =IF(Saisie!AI16="",AE2+AG2+AI2,Saisie!AI16) -> 0 | AL2: =L2+T2+AB2+AJ2 -> 0 | AM2: =M2+U2+AC2+AK2 -> 0 | AN2: =E2*G2*(volume_friction/1000) -> #VALUE! | AO2: =F2/AN2 -> #VALUE! | AP2: =F2/G2/(volume_friction/1000) -> #DIV/0! | AQ2: =E2*I2*(volume_friction/1000) -> #VALUE! | AR2: =H2/AQ2 -> #VALUE! | AS2: =H2/I2/(volume_friction/1000) -> #DIV/0! | AT2: =E2*K2*(volume_friction/1000) -> #VALUE! | AU2: =J2/AT2 -> #VALUE! | AV2: =J2/K2/(volume_friction/1000) -> #DIV/0! | AW2: =E2*M2*(volume_friction/1000) -> #VALUE! | AX2: =L2/AW2 -> #VALUE! | AY2: =L2/M2/(volume_friction/1000) -> #DIV/0! | AZ2: =E2*O2*(volume_friction/1000) -> #VALUE! | BA2: =N2/AZ2 -> #VALUE! | BB2: =N2/O2/(volume_friction/1000) -> #DIV/0! | BC2: =E2*Q2*(volume_friction/1000) -> #VALUE! | BD2: =P2/BC2 -> #VALUE! | BE2: =P2/Q2/(volume_friction/1000) -> #DIV/0! | BF2: =E2*S2*(volume_friction/1000) -> #VALUE! | BG2: =R2/BF2 -> #VALUE! | BH2: =R2/S2/(volume_friction/1000) -> #DIV/0! | BI2: =E2*U2*(volume_friction/1000) -> #VALUE! | BJ2: =T2/BI2 -> #VALUE! | BK2: =T2/U2/(volume_friction/1000) -> #DIV/0! | BL2: =E2*W2*(volume_friction/1000) -> #VALUE! | BM2: =V2/BL2 -> #VALUE! | BN2: =V2/W2/(volume_friction/1000) -> #DIV/0! | BO2: =E2*Y2*(volume_friction/1000) -> #VALUE! | BP2: =X2/BO2 -> #VALUE! | BQ2: =X2/Y2/(volume_friction/1000) -> #DIV/0! | BR2: =E2*AA2*(volume_friction/1000) -> #VALUE! | BS2: =Z2/BR2 -> #VALUE! | BT2: =Z2/AA2/(volume_friction/1000) -> #DIV/0! | BU2: =E2*AC2*(volume_friction/1000) -> #VALUE! | BV2: =AB2/BU2 -> #VALUE! | BW2: =AB2/AC2/(volume_friction/1000) -> #DIV/0! | BX2: =E2*AE2*(volume_friction/1000) -> #VALUE! | BY2: =AD2/BX2 -> #VALUE! | BZ2: =AD2/AE2/(volume_friction/1000) -> #DIV/0! | CA2: =E2*AG2*(volume_friction/1000) -> #VALUE! | CB2: =AF2/CA2 -> #VALUE! | CC2: =AF2/AG2/(volume_friction/1000) -> #DIV/0! | CD2: =E2*AI2*(volume_friction/1000) -> #VALUE! | CE2: =AH2/CD2 -> #VALUE! | CF2: =AH2/AI2/(volume_friction/1000) -> #DIV/0! | CG2: =E2*AK2*(volume_friction/1000) -> #VALUE! | CH2: =AJ2/CG2 -> #VALUE! | CI2: =AJ2/AK2/(volume_friction/1000) -> #DIV/0! | CJ2: =E2*AM2*(volume_friction/1000) -> #VALUE! | CK2: =AL2/CJ2 -> #VALUE! | CL2: =AL2/AM2/(volume_friction/1000) -> #DIV/0!
A3: 2 | B3: ='Posters Trimestres'!A36 -> Médecine | C3: =Saisie!A17 -> 0 | D3: =Saisie!B17 -> 0 | E3: =Saisie!C17 | F3: =Saisie!D17 -> 0 | G3: =Saisie!E17 -> 0 | H3: =Saisie!F17 -> 0 | I3: =Saisie!G17 -> 0 | J3: =Saisie!H17 -> 0 | K3: =Saisie!I17 -> 0 | L3: =IF(Saisie!J17="",F3+H3+J3,Saisie!J17) -> 0 | M3: =IF(Saisie!K17="",G3+I3+K3,Saisie!K17) -> 0 | N3: =Saisie!L17 -> 0 | O3: =Saisie!M17 -> 0 | P3: =Saisie!N17 -> 0 | Q3: =Saisie!O17 -> 0 | R3: =Saisie!P17 -> 0 | S3: =Saisie!Q17 -> 0 | T3: =IF(Saisie!R17="",N3+P3+R3,Saisie!R17) -> 0 | U3: =IF(Saisie!S17="",O3+Q3+S3,Saisie!S17) -> 0 | V3: =Saisie!T17 -> 0 | W3: =Saisie!U17 -> 0 | X3: =Saisie!V17 -> 0 | Y3: =Saisie!W17 -> 0 | Z3: =Saisie!X17 -> 0 | AA3: =Saisie!Y17 -> 0 | AB3: =IF(Saisie!Z17="",V3+X3+Z3,Saisie!Z17) -> 0 | AC3: =IF(Saisie!AA17="",W3+Y3+AA3,Saisie!AA17) -> 0 | AD3: =Saisie!AB17 -> 0 | AE3: =Saisie!AC17 -> 0 | AF3: =Saisie!AD17 -> 0 | AG3: =Saisie!AE17 -> 0 | AH3: =Saisie!AF17 -> 0 | AI3: =Saisie!AG17 -> 0 | AJ3: =IF(Saisie!AH17="",AD3+AF3+AH3,Saisie!AH17) -> 0 | AK3: =IF(Saisie!AI17="",AE3+AG3+AI3,Saisie!AI17) -> 0 | AL3: =L3+T3+AB3+AJ3 -> 0 | AM3: =M3+U3+AC3+AK3 -> 0 | AN3: =E3*G3*(volume_friction/1000) -> #VALUE! | AO3: =F3/AN3 -> #VALUE! | AP3: =F3/G3/(volume_friction/1000) -> #DIV/0! | AQ3: =E3*I3*(volume_friction/1000) -> #VALUE! | AR3: =H3/AQ3 -> #VALUE! | AS3: =H3/I3/(volume_friction/1000) -> #DIV/0! | AT3: =E3*K3*(volume_friction/1000) -> #VALUE! | AU3: =J3/AT3 -> #VALUE! | AV3: =J3/K3/(volume_friction/1000) -> #DIV/0! | AW3: =E3*M3*(volume_friction/1000) -> #VALUE! | AX3: =L3/AW3 -> #VALUE! | AY3: =L3/M3/(volume_friction/1000) -> #DIV/0! | AZ3: =E3*O3*(volume_friction/1000) -> #VALUE! | BA3: =N3/AZ3 -> #VALUE! | BB3: =N3/O3/(volume_friction/1000) -> #DIV/0! | BC3: =E3*Q3*(volume_friction/1000) -> #VALUE! | BD3: =P3/BC3 -> #VALUE! | BE3: =P3/Q3/(volume_friction/1000) -> #DIV/0! | BF3: =E3*S3*(volume_friction/1000) -> #VALUE! | BG3: =R3/BF3 -> #VALUE! | BH3: =R3/S3/(volume_friction/1000) -> #DIV/0! | BI3: =E3*U3*(volume_friction/1000) -> #VALUE! | BJ3: =T3/BI3 -> #VALUE! | BK3: =T3/U3/(volume_friction/1000) -> #DIV/0! | BL3: =E3*W3*(volume_friction/1000) -> #VALUE! | BM3: =V3/BL3 -> #VALUE! | BN3: =V3/W3/(volume_friction/1000) -> #DIV/0! | BO3: =E3*Y3*(volume_friction/1000) -> #VALUE! | BP3: =X3/BO3 -> #VALUE! | BQ3: =X3/Y3/(volume_friction/1000) -> #DIV/0! | BR3: =E3*AA3*(volume_friction/1000) -> #VALUE! | BS3: =Z3/BR3 -> #VALUE! | BT3: =Z3/AA3/(volume_friction/1000) -> #DIV/0! | BU3: =E3*AC3*(volume_friction/1000) -> #VALUE! | BV3: =AB3/BU3 -> #VALUE! | BW3: =AB3/AC3/(volume_friction/1000) -> #DIV/0! | BX3: =E3*AE3*(volume_friction/1000) -> #VALUE! | BY3: =AD3/BX3 -> #VALUE! | BZ3: =AD3/AE3/(volume_friction/1000) -> #DIV/0! | CA3: =E3*AG3*(volume_friction/1000) -> #VALUE! | CB3: =AF3/CA3 -> #VALUE! | CC3: =AF3/AG3/(volume_friction/1000) -> #DIV/0! | CD3: =E3*AI3*(volume_friction/1000) -> #VALUE! | CE3: =AH3/CD3 -> #VALUE! | CF3: =AH3/AI3/(volume_friction/1000) -> #DIV/0! | CG3: =E3*AK3*(volume_friction/1000) -> #VALUE! | CH3: =AJ3/CG3 -> #VALUE! | CI3: =AJ3/AK3/(volume_friction/1000) -> #DIV/0! | CJ3: =E3*AM3*(volume_friction/1000) -> #VALUE! | CK3: =AL3/CJ3 -> #VALUE! | CL3: =AL3/AM3/(volume_friction/1000) -> #DIV/0!
A4: 3 | B4: ='Posters Trimestres'!A36 -> Médecine | C4: =Saisie!A18 -> 0 | D4: =Saisie!B18 -> 0 | E4: =Saisie!C18 | F4: =Saisie!D18 -> 0 | G4: =Saisie!E18 -> 0 | H4: =Saisie!F18 -> 0 | I4: =Saisie!G18 -> 0 | J4: =Saisie!H18 -> 0 | K4: =Saisie!I18 -> 0 | L4: =IF(Saisie!J18="",F4+H4+J4,Saisie!J18) -> 0 | M4: =IF(Saisie!K18="",G4+I4+K4,Saisie!K18) -> 0 | N4: =Saisie!L18 -> 0 | O4: =Saisie!M18 -> 0 | P4: =Saisie!N18 -> 0 | Q4: =Saisie!O18 -> 0 | R4: =Saisie!P18 -> 0 | S4: =Saisie!Q18 -> 0 | T4: =IF(Saisie!R18="",N4+P4+R4,Saisie!R18) -> 0 | U4: =IF(Saisie!S18="",O4+Q4+S4,Saisie!S18) -> 0 | V4: =Saisie!T18 -> 0 | W4: =Saisie!U18 -> 0 | X4: =Saisie!V18 -> 0 | Y4: =Saisie!W18 -> 0 | Z4: =Saisie!X18 -> 0 | AA4: =Saisie!Y18 -> 0 | AB4: =IF(Saisie!Z18="",V4+X4+Z4,Saisie!Z18) -> 0 | AC4: =IF(Saisie!AA18="",W4+Y4+AA4,Saisie!AA18) -> 0 | AD4: =Saisie!AB18 -> 0 | AE4: =Saisie!AC18 -> 0 | AF4: =Saisie!AD18 -> 0 | AG4: =Saisie!AE18 -> 0 | AH4: =Saisie!AF18 -> 0 | AI4: =Saisie!AG18 -> 0 | AJ4: =IF(Saisie!AH18="",AD4+AF4+AH4,Saisie!AH18) -> 0 | AK4: =IF(Saisie!AI18="",AE4+AG4+AI4,Saisie!AI18) -> 0 | AL4: =L4+T4+AB4+AJ4 -> 0 | AM4: =M4+U4+AC4+AK4 -> 0 | AN4: =E4*G4*(volume_friction/1000) -> #VALUE! | AO4: =F4/AN4 -> #VALUE! | AP4: =F4/G4/(volume_friction/1000) -> #DIV/0! | AQ4: =E4*I4*(volume_friction/1000) -> #VALUE! | AR4: =H4/AQ4 -> #VALUE! | AS4: =H4/I4/(volume_friction/1000) -> #DIV/0! | AT4: =E4*K4*(volume_friction/1000) -> #VALUE! | AU4: =J4/AT4 -> #VALUE! | AV4: =J4/K4/(volume_friction/1000) -> #DIV/0! | AW4: =E4*M4*(volume_friction/1000) -> #VALUE! | AX4: =L4/AW4 -> #VALUE! | AY4: =L4/M4/(volume_friction/1000) -> #DIV/0! | AZ4: =E4*O4*(volume_friction/1000) -> #VALUE! | BA4: =N4/AZ4 -> #VALUE! | BB4: =N4/O4/(volume_friction/1000) -> #DIV/0! | BC4: =E4*Q4*(volume_friction/1000) -> #VALUE! | BD4: =P4/BC4 -> #VALUE! | BE4: =P4/Q4/(volume_friction/1000) -> #DIV/0! | BF4: =E4*S4*(volume_friction/1000) -> #VALUE! | BG4: =R4/BF4 -> #VALUE! | BH4: =R4/S4/(volume_friction/1000) -> #DIV/0! | BI4: =E4*U4*(volume_friction/1000) -> #VALUE! | BJ4: =T4/BI4 -> #VALUE! | BK4: =T4/U4/(volume_friction/1000) -> #DIV/0! | BL4: =E4*W4*(volume_friction/1000) -> #VALUE! | BM4: =V4/BL4 -> #VALUE! | BN4: =V4/W4/(volume_friction/1000) -> #DIV/0! | BO4: =E4*Y4*(volume_friction/1000) -> #VALUE! | BP4: =X4/BO4 -> #VALUE! | BQ4: =X4/Y4/(volume_friction/1000) -> #DIV/0! | BR4: =E4*AA4*(volume_friction/1000) -> #VALUE! | BS4: =Z4/BR4 -> #VALUE! | BT4: =Z4/AA4/(volume_friction/1000) -> #DIV/0! | BU4: =E4*AC4*(volume_friction/1000) -> #VALUE! | BV4: =AB4/BU4 -> #VALUE! | BW4: =AB4/AC4/(volume_friction/1000) -> #DIV/0! | BX4: =E4*AE4*(volume_friction/1000) -> #VALUE! | BY4: =AD4/BX4 -> #VALUE! | BZ4: =AD4/AE4/(volume_friction/1000) -> #DIV/0! | CA4: =E4*AG4*(volume_friction/1000) -> #VALUE! | CB4: =AF4/CA4 -> #VALUE! | CC4: =AF4/AG4/(volume_friction/1000) -> #DIV/0! | CD4: =E4*AI4*(volume_friction/1000) -> #VALUE! | CE4: =AH4/CD4 -> #VALUE! | CF4: =AH4/AI4/(volume_friction/1000) -> #DIV/0! | CG4: =E4*AK4*(volume_friction/1000) -> #VALUE! | CH4: =AJ4/CG4 -> #VALUE! | CI4: =AJ4/AK4/(volume_friction/1000) -> #DIV/0! | CJ4: =E4*AM4*(volume_friction/1000) -> #VALUE! | CK4: =AL4/CJ4 -> #VALUE! | CL4: =AL4/AM4/(volume_friction/1000) -> #DIV/0!
A5: 4 | B5: ='Posters Trimestres'!A36 -> Médecine | C5: =Saisie!A19 -> 0 | D5: =Saisie!B19 -> 0 | E5: =Saisie!C19 | F5: =Saisie!D19 -> 0 | G5: =Saisie!E19 -> 0 | H5: =Saisie!F19 -> 0 | I5: =Saisie!G19 -> 0 | J5: =Saisie!H19 -> 0 | K5: =Saisie!I19 -> 0 | L5: =IF(Saisie!J19="",F5+H5+J5,Saisie!J19) -> 0 | M5: =IF(Saisie!K19="",G5+I5+K5,Saisie!K19) -> 0 | N5: =Saisie!L19 -> 0 | O5: =Saisie!M19 -> 0 | P5: =Saisie!N19 -> 0 | Q5: =Saisie!O19 -> 0 | R5: =Saisie!P19 -> 0 | S5: =Saisie!Q19 -> 0 | T5: =IF(Saisie!R19="",N5+P5+R5,Saisie!R19) -> 0 | U5: =IF(Saisie!S19="",O5+Q5+S5,Saisie!S19) -> 0 | V5: =Saisie!T19 -> 0 | W5: =Saisie!U19 -> 0 | X5: =Saisie!V19 -> 0 | Y5: =Saisie!W19 -> 0 | Z5: =Saisie!X19 -> 0 | AA5: =Saisie!Y19 -> 0 | AB5: =IF(Saisie!Z19="",V5+X5+Z5,Saisie!Z19) -> 0 | AC5: =IF(Saisie!AA19="",W5+Y5+AA5,Saisie!AA19) -> 0 | AD5: =Saisie!AB19 -> 0 | AE5: =Saisie!AC19 -> 0 | AF5: =Saisie!AD19 -> 0 | AG5: =Saisie!AE19 -> 0 | AH5: =Saisie!AF19 -> 0 | AI5: =Saisie!AG19 -> 0 | AJ5: =IF(Saisie!AH19="",AD5+AF5+AH5,Saisie!AH19) -> 0 | AK5: =IF(Saisie!AI19="",AE5+AG5+AI5,Saisie!AI19) -> 0 | AL5: =L5+T5+AB5+AJ5 -> 0 | AM5: =M5+U5+AC5+AK5 -> 0 | AN5: =E5*G5*(volume_friction/1000) -> #VALUE! | AO5: =F5/AN5 -> #VALUE! | AP5: =F5/G5/(volume_friction/1000) -> #DIV/0! | AQ5: =E5*I5*(volume_friction/1000) -> #VALUE! | AR5: =H5/AQ5 -> #VALUE! | AS5: =H5/I5/(volume_friction/1000) -> #DIV/0! | AT5: =E5*K5*(volume_friction/1000) -> #VALUE! | AU5: =J5/AT5 -> #VALUE! | AV5: =J5/K5/(volume_friction/1000) -> #DIV/0! | AW5: =E5*M5*(volume_friction/1000) -> #VALUE! | AX5: =L5/AW5 -> #VALUE! | AY5: =L5/M5/(volume_friction/1000) -> #DIV/0! | AZ5: =E5*O5*(volume_friction/1000) -> #VALUE! | BA5: =N5/AZ5 -> #VALUE! | BB5: =N5/O5/(volume_friction/1000) -> #DIV/0! | BC5: =E5*Q5*(volume_friction/1000) -> #VALUE! | BD5: =P5/BC5 -> #VALUE! | BE5: =P5/Q5/(volume_friction/1000) -> #DIV/0! | BF5: =E5*S5*(volume_friction/1000) -> #VALUE! | BG5: =R5/BF5 -> #VALUE! | BH5: =R5/S5/(volume_friction/1000) -> #DIV/0! | BI5: =E5*U5*(volume_friction/1000) -> #VALUE! | BJ5: =T5/BI5 -> #VALUE! | BK5: =T5/U5/(volume_friction/1000) -> #DIV/0! | BL5: =E5*W5*(volume_friction/1000) -> #VALUE! | BM5: =V5/BL5 -> #VALUE! | BN5: =V5/W5/(volume_friction/1000) -> #DIV/0! | BO5: =E5*Y5*(volume_friction/1000) -> #VALUE! | BP5: =X5/BO5 -> #VALUE! | BQ5: =X5/Y5/(volume_friction/1000) -> #DIV/0! | BR5: =E5*AA5*(volume_friction/1000) -> #VALUE! | BS5: =Z5/BR5 -> #VALUE! | BT5: =Z5/AA5/(volume_friction/1000) -> #DIV/0! | BU5: =E5*AC5*(volume_friction/1000) -> #VALUE! | BV5: =AB5/BU5 -> #VALUE! | BW5: =AB5/AC5/(volume_friction/1000) -> #DIV/0! | BX5: =E5*AE5*(volume_friction/1000) -> #VALUE! | BY5: =AD5/BX5 -> #VALUE! | BZ5: =AD5/AE5/(volume_friction/1000) -> #DIV/0! | CA5: =E5*AG5*(volume_friction/1000) -> #VALUE! | CB5: =AF5/CA5 -> #VALUE! | CC5: =AF5/AG5/(volume_friction/1000) -> #DIV/0! | CD5: =E5*AI5*(volume_friction/1000) -> #VALUE! | CE5: =AH5/CD5 -> #VALUE! | CF5: =AH5/AI5/(volume_friction/1000) -> #DIV/0! | CG5: =E5*AK5*(volume_friction/1000) -> #VALUE! | CH5: =AJ5/CG5 -> #VALUE! | CI5: =AJ5/AK5/(volume_friction/1000) -> #DIV/0! | CJ5: =E5*AM5*(volume_friction/1000) -> #VALUE! | CK5: =AL5/CJ5 -> #VALUE! | CL5: =AL5/AM5/(volume_friction/1000) -> #DIV/0!
A6: 5 | B6: ='Posters Trimestres'!A36 -> Médecine | C6: =Saisie!A20 -> 0 | D6: =Saisie!B20 -> 0 | E6: =Saisie!C20 | F6: =Saisie!D20 -> 0 | G6: =Saisie!E20 -> 0 | H6: =Saisie!F20 -> 0 | I6: =Saisie!G20 -> 0 | J6: =Saisie!H20 -> 0 | K6: =Saisie!I20 -> 0 | L6: =IF(Saisie!J20="",F6+H6+J6,Saisie!J20) -> 0 | M6: =IF(Saisie!K20="",G6+I6+K6,Saisie!K20) -> 0 | N6: =Saisie!L20 -> 0 | O6: =Saisie!M20 -> 0 | P6: =Saisie!N20 -> 0 | Q6: =Saisie!O20 -> 0 | R6: =Saisie!P20 -> 0 | S6: =Saisie!Q20 -> 0 | T6: =IF(Saisie!R20="",N6+P6+R6,Saisie!R20) -> 0 | U6: =IF(Saisie!S20="",O6+Q6+S6,Saisie!S20) -> 0 | V6: =Saisie!T20 -> 0 | W6: =Saisie!U20 -> 0 | X6: =Saisie!V20 -> 0 | Y6: =Saisie!W20 -> 0 | Z6: =Saisie!X20 -> 0 | AA6: =Saisie!Y20 -> 0 | AB6: =IF(Saisie!Z20="",V6+X6+Z6,Saisie!Z20) -> 0 | AC6: =IF(Saisie!AA20="",W6+Y6+AA6,Saisie!AA20) -> 0 | AD6: =Saisie!AB20 -> 0 | AE6: =Saisie!AC20 -> 0 | AF6: =Saisie!AD20 -> 0 | AG6: =Saisie!AE20 -> 0 | AH6: =Saisie!AF20 -> 0 | AI6: =Saisie!AG20 -> 0 | AJ6: =IF(Saisie!AH20="",AD6+AF6+AH6,Saisie!AH20) -> 0 | AK6: =IF(Saisie!AI20="",AE6+AG6+AI6,Saisie!AI20) -> 0 | AL6: =L6+T6+AB6+AJ6 -> 0 | AM6: =M6+U6+AC6+AK6 -> 0 | AN6: =E6*G6*(volume_friction/1000) -> #VALUE! | AO6: =F6/AN6 -> #VALUE! | AP6: =F6/G6/(volume_friction/1000) -> #DIV/0! | AQ6: =E6*I6*(volume_friction/1000) -> #VALUE! | AR6: =H6/AQ6 -> #VALUE! | AS6: =H6/I6/(volume_friction/1000) -> #DIV/0! | AT6: =E6*K6*(volume_friction/1000) -> #VALUE! | AU6: =J6/AT6 -> #VALUE! | AV6: =J6/K6/(volume_friction/1000) -> #DIV/0! | AW6: =E6*M6*(volume_friction/1000) -> #VALUE! | AX6: =L6/AW6 -> #VALUE! | AY6: =L6/M6/(volume_friction/1000) -> #DIV/0! | AZ6: =E6*O6*(volume_friction/1000) -> #VALUE! | BA6: =N6/AZ6 -> #VALUE! | BB6: =N6/O6/(volume_friction/1000) -> #DIV/0! | BC6: =E6*Q6*(volume_friction/1000) -> #VALUE! | BD6: =P6/BC6 -> #VALUE! | BE6: =P6/Q6/(volume_friction/1000) -> #DIV/0! | BF6: =E6*S6*(volume_friction/1000) -> #VALUE! | BG6: =R6/BF6 -> #VALUE! | BH6: =R6/S6/(volume_friction/1000) -> #DIV/0! | BI6: =E6*U6*(volume_friction/1000) -> #VALUE! | BJ6: =T6/BI6 -> #VALUE! | BK6: =T6/U6/(volume_friction/1000) -> #DIV/0! | BL6: =E6*W6*(volume_friction/1000) -> #VALUE! | BM6: =V6/BL6 -> #VALUE! | BN6: =V6/W6/(volume_friction/1000) -> #DIV/0! | BO6: =E6*Y6*(volume_friction/1000) -> #VALUE! | BP6: =X6/BO6 -> #VALUE! | BQ6: =X6/Y6/(volume_friction/1000) -> #DIV/0! | BR6: =E6*AA6*(volume_friction/1000) -> #VALUE! | BS6: =Z6/BR6 -> #VALUE! | BT6: =Z6/AA6/(volume_friction/1000) -> #DIV/0! | BU6: =E6*AC6*(volume_friction/1000) -> #VALUE! | BV6: =AB6/BU6 -> #VALUE! | BW6: =AB6/AC6/(volume_friction/1000) -> #DIV/0! | BX6: =E6*AE6*(volume_friction/1000) -> #VALUE! | BY6: =AD6/BX6 -> #VALUE! | BZ6: =AD6/AE6/(volume_friction/1000) -> #DIV/0! | CA6: =E6*AG6*(volume_friction/1000) -> #VALUE! | CB6: =AF6/CA6 -> #VALUE! | CC6: =AF6/AG6/(volume_friction/1000) -> #DIV/0! | CD6: =E6*AI6*(volume_friction/1000) -> #VALUE! | CE6: =AH6/CD6 -> #VALUE! | CF6: =AH6/AI6/(volume_friction/1000) -> #DIV/0! | CG6: =E6*AK6*(volume_friction/1000) -> #VALUE! | CH6: =AJ6/CG6 -> #VALUE! | CI6: =AJ6/AK6/(volume_friction/1000) -> #DIV/0! | CJ6: =E6*AM6*(volume_friction/1000) -> #VALUE! | CK6: =AL6/CJ6 -> #VALUE! | CL6: =AL6/AM6/(volume_friction/1000) -> #DIV/0!
A7: 6 | B7: ='Posters Trimestres'!A36 -> Médecine | C7: =Saisie!A21 -> 0 | D7: =Saisie!B21 -> 0 | E7: =Saisie!C21 | F7: =Saisie!D21 -> 0 | G7: =Saisie!E21 -> 0 | H7: =Saisie!F21 -> 0 | I7: =Saisie!G21 -> 0 | J7: =Saisie!H21 -> 0 | K7: =Saisie!I21 -> 0 | L7: =IF(Saisie!J21="",F7+H7+J7,Saisie!J21) -> 0 | M7: =IF(Saisie!K21="",G7+I7+K7,Saisie!K21) -> 0 | N7: =Saisie!L21 -> 0 | O7: =Saisie!M21 -> 0 | P7: =Saisie!N21 -> 0 | Q7: =Saisie!O21 -> 0 | R7: =Saisie!P21 -> 0 | S7: =Saisie!Q21 -> 0 | T7: =IF(Saisie!R21="",N7+P7+R7,Saisie!R21) -> 0 | U7: =IF(Saisie!S21="",O7+Q7+S7,Saisie!S21) -> 0 | V7: =Saisie!T21 -> 0 | W7: =Saisie!U21 -> 0 | X7: =Saisie!V21 -> 0 | Y7: =Saisie!W21 -> 0 | Z7: =Saisie!X21 -> 0 | AA7: =Saisie!Y21 -> 0 | AB7: =IF(Saisie!Z21="",V7+X7+Z7,Saisie!Z21) -> 0 | AC7: =IF(Saisie!AA21="",W7+Y7+AA7,Saisie!AA21) -> 0 | AD7: =Saisie!AB21 -> 0 | AE7: =Saisie!AC21 -> 0 | AF7: =Saisie!AD21 -> 0 | AG7: =Saisie!AE21 -> 0 | AH7: =Saisie!AF21 -> 0 | AI7: =Saisie!AG21 -> 0 | AJ7: =IF(Saisie!AH21="",AD7+AF7+AH7,Saisie!AH21) -> 0 | AK7: =IF(Saisie!AI21="",AE7+AG7+AI7,Saisie!AI21) -> 0 | AL7: =L7+T7+AB7+AJ7 -> 0 | AM7: =M7+U7+AC7+AK7 -> 0 | AN7: =E7*G7*(volume_friction/1000) -> #VALUE! | AO7: =F7/AN7 -> #VALUE! | AP7: =F7/G7/(volume_friction/1000) -> #DIV/0! | AQ7: =E7*I7*(volume_friction/1000) -> #VALUE! | AR7: =H7/AQ7 -> #VALUE! | AS7: =H7/I7/(volume_friction/1000) -> #DIV/0! | AT7: =E7*K7*(volume_friction/1000) -> #VALUE! | AU7: =J7/AT7 -> #VALUE! | AV7: =J7/K7/(volume_friction/1000) -> #DIV/0! | AW7: =E7*M7*(volume_friction/1000) -> #VALUE! | AX7: =L7/AW7 -> #VALUE! | AY7: =L7/M7/(volume_friction/1000) -> #DIV/0! | AZ7: =E7*O7*(volume_friction/1000) -> #VALUE! | BA7: =N7/AZ7 -> #VALUE! | BB7: =N7/O7/(volume_friction/1000) -> #DIV/0! | BC7: =E7*Q7*(volume_friction/1000) -> #VALUE! | BD7: =P7/BC7 -> #VALUE! | BE7: =P7/Q7/(volume_friction/1000) -> #DIV/0! | BF7: =E7*S7*(volume_friction/1000) -> #VALUE! | BG7: =R7/BF7 -> #VALUE! | BH7: =R7/S7/(volume_friction/1000) -> #DIV/0! | BI7: =E7*U7*(volume_friction/1000) -> #VALUE! | BJ7: =T7/BI7 -> #VALUE! | BK7: =T7/U7/(volume_friction/1000) -> #DIV/0! | BL7: =E7*W7*(volume_friction/1000) -> #VALUE! | BM7: =V7/BL7 -> #VALUE! | BN7: =V7/W7/(volume_friction/1000) -> #DIV/0! | BO7: =E7*Y7*(volume_friction/1000) -> #VALUE! | BP7: =X7/BO7 -> #VALUE! | BQ7: =X7/Y7/(volume_friction/1000) -> #DIV/0! | BR7: =E7*AA7*(volume_friction/1000) -> #VALUE! | BS7: =Z7/BR7 -> #VALUE! | BT7: =Z7/AA7/(volume_friction/1000) -> #DIV/0! | BU7: =E7*AC7*(volume_friction/1000) -> #VALUE! | BV7: =AB7/BU7 -> #VALUE! | BW7: =AB7/AC7/(volume_friction/1000) -> #DIV/0! | BX7: =E7*AE7*(volume_friction/1000) -> #VALUE! | BY7: =AD7/BX7 -> #VALUE! | BZ7: =AD7/AE7/(volume_friction/1000) -> #DIV/0! | CA7: =E7*AG7*(volume_friction/1000) -> #VALUE! | CB7: =AF7/CA7 -> #VALUE! | CC7: =AF7/AG7/(volume_friction/1000) -> #DIV/0! | CD7: =E7*AI7*(volume_friction/1000) -> #VALUE! | CE7: =AH7/CD7 -> #VALUE! | CF7: =AH7/AI7/(volume_friction/1000) -> #DIV/0! | CG7: =E7*AK7*(volume_friction/1000) -> #VALUE! | CH7: =AJ7/CG7 -> #VALUE! | CI7: =AJ7/AK7/(volume_friction/1000) -> #DIV/0! | CJ7: =E7*AM7*(volume_friction/1000) -> #VALUE! | CK7: =AL7/CJ7 -> #VALUE! | CL7: =AL7/AM7/(volume_friction/1000) -> #DIV/0!
A8: 7 | B8: ='Posters Trimestres'!A36 -> Médecine | C8: =Saisie!A22 -> 0 | D8: =Saisie!B22 -> 0 | E8: =Saisie!C22 | F8: =Saisie!D22 -> 0 | G8: =Saisie!E22 -> 0 | H8: =Saisie!F22 -> 0 | I8: =Saisie!G22 -> 0 | J8: =Saisie!H22 -> 0 | K8: =Saisie!I22 -> 0 | L8: =IF(Saisie!J22="",F8+H8+J8,Saisie!J22) -> 0 | M8: =IF(Saisie!K22="",G8+I8+K8,Saisie!K22) -> 0 | N8: =Saisie!L22 -> 0 | O8: =Saisie!M22 -> 0 | P8: =Saisie!N22 -> 0 | Q8: =Saisie!O22 -> 0 | R8: =Saisie!P22 -> 0 | S8: =Saisie!Q22 -> 0 | T8: =IF(Saisie!R22="",N8+P8+R8,Saisie!R22) -> 0 | U8: =IF(Saisie!S22="",O8+Q8+S8,Saisie!S22) -> 0 | V8: =Saisie!T22 -> 0 | W8: =Saisie!U22 -> 0 | X8: =Saisie!V22 -> 0 | Y8: =Saisie!W22 -> 0 | Z8: =Saisie!X22 -> 0 | AA8: =Saisie!Y22 -> 0 | AB8: =IF(Saisie!Z22="",V8+X8+Z8,Saisie!Z22) -> 0 | AC8: =IF(Saisie!AA22="",W8+Y8+AA8,Saisie!AA22) -> 0 | AD8: =Saisie!AB22 -> 0 | AE8: =Saisie!AC22 -> 0 | AF8: =Saisie!AD22 -> 0 | AG8: =Saisie!AE22 -> 0 | AH8: =Saisie!AF22 -> 0 | AI8: =Saisie!AG22 -> 0 | AJ8: =IF(Saisie!AH22="",AD8+AF8+AH8,Saisie!AH22) -> 0 | AK8: =IF(Saisie!AI22="",AE8+AG8+AI8,Saisie!AI22) -> 0 | AL8: =L8+T8+AB8+AJ8 -> 0 | AM8: =M8+U8+AC8+AK8 -> 0 | AN8: =E8*G8*(volume_friction/1000) -> #VALUE! | AO8: =F8/AN8 -> #VALUE! | AP8: =F8/G8/(volume_friction/1000) -> #DIV/0! | AQ8: =E8*I8*(volume_friction/1000) -> #VALUE! | AR8: =H8/AQ8 -> #VALUE! | AS8: =H8/I8/(volume_friction/1000) -> #DIV/0! | AT8: =E8*K8*(volume_friction/1000) -> #VALUE! | AU8: =J8/AT8 -> #VALUE! | AV8: =J8/K8/(volume_friction/1000) -> #DIV/0! | AW8: =E8*M8*(volume_friction/1000) -> #VALUE! | AX8: =L8/AW8 -> #VALUE! | AY8: =L8/M8/(volume_friction/1000) -> #DIV/0! | AZ8: =E8*O8*(volume_friction/1000) -> #VALUE! | BA8: =N8/AZ8 -> #VALUE! | BB8: =N8/O8/(volume_friction/1000) -> #DIV/0! | BC8: =E8*Q8*(volume_friction/1000) -> #VALUE! | BD8: =P8/BC8 -> #VALUE! | BE8: =P8/Q8/(volume_friction/1000) -> #DIV/0! | BF8: =E8*S8*(volume_friction/1000) -> #VALUE! | BG8: =R8/BF8 -> #VALUE! | BH8: =R8/S8/(volume_friction/1000) -> #DIV/0! | BI8: =E8*U8*(volume_friction/1000) -> #VALUE! | BJ8: =T8/BI8 -> #VALUE! | BK8: =T8/U8/(volume_friction/1000) -> #DIV/0! | BL8: =E8*W8*(volume_friction/1000) -> #VALUE! | BM8: =V8/BL8 -> #VALUE! | BN8: =V8/W8/(volume_friction/1000) -> #DIV/0! | BO8: =E8*Y8*(volume_friction/1000) -> #VALUE! | BP8: =X8/BO8 -> #VALUE! | BQ8: =X8/Y8/(volume_friction/1000) -> #DIV/0! | BR8: =E8*AA8*(volume_friction/1000) -> #VALUE! | BS8: =Z8/BR8 -> #VALUE! | BT8: =Z8/AA8/(volume_friction/1000) -> #DIV/0! | BU8: =E8*AC8*(volume_friction/1000) -> #VALUE! | BV8: =AB8/BU8 -> #VALUE! | BW8: =AB8/AC8/(volume_friction/1000) -> #DIV/0! | BX8: =E8*AE8*(volume_friction/1000) -> #VALUE! | BY8: =AD8/BX8 -> #VALUE! | BZ8: =AD8/AE8/(volume_friction/1000) -> #DIV/0! | CA8: =E8*AG8*(volume_friction/1000) -> #VALUE! | CB8: =AF8/CA8 -> #VALUE! | CC8: =AF8/AG8/(volume_friction/1000) -> #DIV/0! | CD8: =E8*AI8*(volume_friction/1000) -> #VALUE! | CE8: =AH8/CD8 -> #VALUE! | CF8: =AH8/AI8/(volume_friction/1000) -> #DIV/0! | CG8: =E8*AK8*(volume_friction/1000) -> #VALUE! | CH8: =AJ8/CG8 -> #VALUE! | CI8: =AJ8/AK8/(volume_friction/1000) -> #DIV/0! | CJ8: =E8*AM8*(volume_friction/1000) -> #VALUE! | CK8: =AL8/CJ8 -> #VALUE! | CL8: =AL8/AM8/(volume_friction/1000) -> #DIV/0!
A9: 8 | B9: ='Posters Trimestres'!A36 -> Médecine | C9: =Saisie!A23 -> 0 | D9: =Saisie!B23 -> 0 | E9: =Saisie!C23 | F9: =Saisie!D23 -> 0 | G9: =Saisie!E23 -> 0 | H9: =Saisie!F23 -> 0 | I9: =Saisie!G23 -> 0 | J9: =Saisie!H23 -> 0 | K9: =Saisie!I23 -> 0 | L9: =IF(Saisie!J23="",F9+H9+J9,Saisie!J23) -> 0 | M9: =IF(Saisie!K23="",G9+I9+K9,Saisie!K23) -> 0 | N9: =Saisie!L23 -> 0 | O9: =Saisie!M23 -> 0 | P9: =Saisie!N23 -> 0 | Q9: =Saisie!O23 -> 0 | R9: =Saisie!P23 -> 0 | S9: =Saisie!Q23 -> 0 | T9: =IF(Saisie!R23="",N9+P9+R9,Saisie!R23) -> 0 | U9: =IF(Saisie!S23="",O9+Q9+S9,Saisie!S23) -> 0 | V9: =Saisie!T23 -> 0 | W9: =Saisie!U23 -> 0 | X9: =Saisie!V23 -> 0 | Y9: =Saisie!W23 -> 0 | Z9: =Saisie!X23 -> 0 | AA9: =Saisie!Y23 -> 0 | AB9: =IF(Saisie!Z23="",V9+X9+Z9,Saisie!Z23) -> 0 | AC9: =IF(Saisie!AA23="",W9+Y9+AA9,Saisie!AA23) -> 0 | AD9: =Saisie!AB23 -> 0 | AE9: =Saisie!AC23 -> 0 | AF9: =Saisie!AD23 -> 0 | AG9: =Saisie!AE23 -> 0 | AH9: =Saisie!AF23 -> 0 | AI9: =Saisie!AG23 -> 0 | AJ9: =IF(Saisie!AH23="",AD9+AF9+AH9,Saisie!AH23) -> 0 | AK9: =IF(Saisie!AI23="",AE9+AG9+AI9,Saisie!AI23) -> 0 | AL9: =L9+T9+AB9+AJ9 -> 0 | AM9: =M9+U9+AC9+AK9 -> 0 | AN9: =E9*G9*(volume_friction/1000) -> #VALUE! | AO9: =F9/AN9 -> #VALUE! | AP9: =F9/G9/(volume_friction/1000) -> #DIV/0! | AQ9: =E9*I9*(volume_friction/1000) -> #VALUE! | AR9: =H9/AQ9 -> #VALUE! | AS9: =H9/I9/(volume_friction/1000) -> #DIV/0! | AT9: =E9*K9*(volume_friction/1000) -> #VALUE! | AU9: =J9/AT9 -> #VALUE! | AV9: =J9/K9/(volume_friction/1000) -> #DIV/0! | AW9: =E9*M9*(volume_friction/1000) -> #VALUE! | AX9: =L9/AW9 -> #VALUE! | AY9: =L9/M9/(volume_friction/1000) -> #DIV/0! | AZ9: =E9*O9*(volume_friction/1000) -> #VALUE! | BA9: =N9/AZ9 -> #VALUE! | BB9: =N9/O9/(volume_friction/1000) -> #DIV/0! | BC9: =E9*Q9*(volume_friction/1000) -> #VALUE! | BD9: =P9/BC9 -> #VALUE! | BE9: =P9/Q9/(volume_friction/1000) -> #DIV/0! | BF9: =E9*S9*(volume_friction/1000) -> #VALUE! | BG9: =R9/BF9 -> #VALUE! | BH9: =R9/S9/(volume_friction/1000) -> #DIV/0! | BI9: =E9*U9*(volume_friction/1000) -> #VALUE! | BJ9: =T9/BI9 -> #VALUE! | BK9: =T9/U9/(volume_friction/1000) -> #DIV/0! | BL9: =E9*W9*(volume_friction/1000) -> #VALUE! | BM9: =V9/BL9 -> #VALUE! | BN9: =V9/W9/(volume_friction/1000) -> #DIV/0! | BO9: =E9*Y9*(volume_friction/1000) -> #VALUE! | BP9: =X9/BO9 -> #VALUE! | BQ9: =X9/Y9/(volume_friction/1000) -> #DIV/0! | BR9: =E9*AA9*(volume_friction/1000) -> #VALUE! | BS9: =Z9/BR9 -> #VALUE! | BT9: =Z9/AA9/(volume_friction/1000) -> #DIV/0! | BU9: =E9*AC9*(volume_friction/1000) -> #VALUE! | BV9: =AB9/BU9 -> #VALUE! | BW9: =AB9/AC9/(volume_friction/1000) -> #DIV/0! | BX9: =E9*AE9*(volume_friction/1000) -> #VALUE! | BY9: =AD9/BX9 -> #VALUE! | BZ9: =AD9/AE9/(volume_friction/1000) -> #DIV/0! | CA9: =E9*AG9*(volume_friction/1000) -> #VALUE! | CB9: =AF9/CA9 -> #VALUE! | CC9: =AF9/AG9/(volume_friction/1000) -> #DIV/0! | CD9: =E9*AI9*(volume_friction/1000) -> #VALUE! | CE9: =AH9/CD9 -> #VALUE! | CF9: =AH9/AI9/(volume_friction/1000) -> #DIV/0! | CG9: =E9*AK9*(volume_friction/1000) -> #VALUE! | CH9: =AJ9/CG9 -> #VALUE! | CI9: =AJ9/AK9/(volume_friction/1000) -> #DIV/0! | CJ9: =E9*AM9*(volume_friction/1000) -> #VALUE! | CK9: =AL9/CJ9 -> #VALUE! | CL9: =AL9/AM9/(volume_friction/1000) -> #DIV/0!
A10: 9 | B10: ='Posters Trimestres'!A36 -> Médecine | C10: =Saisie!A24 -> 0 | D10: =Saisie!B24 -> 0 | E10: =Saisie!C24 | F10: =Saisie!D24 -> 0 | G10: =Saisie!E24 -> 0 | H10: =Saisie!F24 -> 0 | I10: =Saisie!G24 -> 0 | J10: =Saisie!H24 -> 0 | K10: =Saisie!I24 -> 0 | L10: =IF(Saisie!J24="",F10+H10+J10,Saisie!J24) -> 0 | M10: =IF(Saisie!K24="",G10+I10+K10,Saisie!K24) -> 0 | N10: =Saisie!L24 -> 0 | O10: =Saisie!M24 -> 0 | P10: =Saisie!N24 -> 0 | Q10: =Saisie!O24 -> 0 | R10: =Saisie!P24 -> 0 | S10: =Saisie!Q24 -> 0 | T10: =IF(Saisie!R24="",N10+P10+R10,Saisie!R24) -> 0 | U10: =IF(Saisie!S24="",O10+Q10+S10,Saisie!S24) -> 0 | V10: =Saisie!T24 -> 0 | W10: =Saisie!U24 -> 0 | X10: =Saisie!V24 -> 0 | Y10: =Saisie!W24 -> 0 | Z10: =Saisie!X24 -> 0 | AA10: =Saisie!Y24 -> 0 | AB10: =IF(Saisie!Z24="",V10+X10+Z10,Saisie!Z24) -> 0 | AC10: =IF(Saisie!AA24="",W10+Y10+AA10,Saisie!AA24) -> 0 | AD10: =Saisie!AB24 -> 0 | AE10: =Saisie!AC24 -> 0 | AF10: =Saisie!AD24 -> 0 | AG10: =Saisie!AE24 -> 0 | AH10: =Saisie!AF24 -> 0 | AI10: =Saisie!AG24 -> 0 | AJ10: =IF(Saisie!AH24="",AD10+AF10+AH10,Saisie!AH24) -> 0 | AK10: =IF(Saisie!AI24="",AE10+AG10+AI10,Saisie!AI24) -> 0 | AL10: =L10+T10+AB10+AJ10 -> 0 | AM10: =M10+U10+AC10+AK10 -> 0 | AN10: =E10*G10*(volume_friction/1000) -> #VALUE! | AO10: =F10/AN10 -> #VALUE! | AP10: =F10/G10/(volume_friction/1000) -> #DIV/0! | AQ10: =E10*I10*(volume_friction/1000) -> #VALUE! | AR10: =H10/AQ10 -> #VALUE! | AS10: =H10/I10/(volume_friction/1000) -> #DIV/0! | AT10: =E10*K10*(volume_friction/1000) -> #VALUE! | AU10: =J10/AT10 -> #VALUE! | AV10: =J10/K10/(volume_friction/1000) -> #DIV/0! | AW10: =E10*M10*(volume_friction/1000) -> #VALUE! | AX10: =L10/AW10 -> #VALUE! | AY10: =L10/M10/(volume_friction/1000) -> #DIV/0! | AZ10: =E10*O10*(volume_friction/1000) -> #VALUE! | BA10: =N10/AZ10 -> #VALUE! | BB10: =N10/O10/(volume_friction/1000) -> #DIV/0! | BC10: =E10*Q10*(volume_friction/1000) -> #VALUE! | BD10: =P10/BC10 -> #VALUE! | BE10: =P10/Q10/(volume_friction/1000) -> #DIV/0! | BF10: =E10*S10*(volume_friction/1000) -> #VALUE! | BG10: =R10/BF10 -> #VALUE! | BH10: =R10/S10/(volume_friction/1000) -> #DIV/0! | BI10: =E10*U10*(volume_friction/1000) -> #VALUE! | BJ10: =T10/BI10 -> #VALUE! | BK10: =T10/U10/(volume_friction/1000) -> #DIV/0! | BL10: =E10*W10*(volume_friction/1000) -> #VALUE! | BM10: =V10/BL10 -> #VALUE! | BN10: =V10/W10/(volume_friction/1000) -> #DIV/0! | BO10: =E10*Y10*(volume_friction/1000) -> #VALUE! | BP10: =X10/BO10 -> #VALUE! | BQ10: =X10/Y10/(volume_friction/1000) -> #DIV/0! | BR10: =E10*AA10*(volume_friction/1000) -> #VALUE! | BS10: =Z10/BR10 -> #VALUE! | BT10: =Z10/AA10/(volume_friction/1000) -> #DIV/0! | BU10: =E10*AC10*(volume_friction/1000) -> #VALUE! | BV10: =AB10/BU10 -> #VALUE! | BW10: =AB10/AC10/(volume_friction/1000) -> #DIV/0! | BX10: =E10*AE10*(volume_friction/1000) -> #VALUE! | BY10: =AD10/BX10 -> #VALUE! | BZ10: =AD10/AE10/(volume_friction/1000) -> #DIV/0! | CA10: =E10*AG10*(volume_friction/1000) -> #VALUE! | CB10: =AF10/CA10 -> #VALUE! | CC10: =AF10/AG10/(volume_friction/1000) -> #DIV/0! | CD10: =E10*AI10*(volume_friction/1000) -> #VALUE! | CE10: =AH10/CD10 -> #VALUE! | CF10: =AH10/AI10/(volume_friction/1000) -> #DIV/0! | CG10: =E10*AK10*(volume_friction/1000) -> #VALUE! | CH10: =AJ10/CG10 -> #VALUE! | CI10: =AJ10/AK10/(volume_friction/1000) -> #DIV/0! | CJ10: =E10*AM10*(volume_friction/1000) -> #VALUE! | CK10: =AL10/CJ10 -> #VALUE! | CL10: =AL10/AM10/(volume_friction/1000) -> #DIV/0!
A11: 10 | B11: ='Posters Trimestres'!A36 -> Médecine | C11: =Saisie!A25 -> 0 | D11: =Saisie!B25 -> 0 | E11: =Saisie!C25 | F11: =Saisie!D25 -> 0 | G11: =Saisie!E25 -> 0 | H11: =Saisie!F25 -> 0 | I11: =Saisie!G25 -> 0 | J11: =Saisie!H25 -> 0 | K11: =Saisie!I25 -> 0 | L11: =IF(Saisie!J25="",F11+H11+J11,Saisie!J25) -> 0 | M11: =IF(Saisie!K25="",G11+I11+K11,Saisie!K25) -> 0 | N11: =Saisie!L25 -> 0 | O11: =Saisie!M25 -> 0 | P11: =Saisie!N25 -> 0 | Q11: =Saisie!O25 -> 0 | R11: =Saisie!P25 -> 0 | S11: =Saisie!Q25 -> 0 | T11: =IF(Saisie!R25="",N11+P11+R11,Saisie!R25) -> 0 | U11: =IF(Saisie!S25="",O11+Q11+S11,Saisie!S25) -> 0 | V11: =Saisie!T25 -> 0 | W11: =Saisie!U25 -> 0 | X11: =Saisie!V25 -> 0 | Y11: =Saisie!W25 -> 0 | Z11: =Saisie!X25 -> 0 | AA11: =Saisie!Y25 -> 0 | AB11: =IF(Saisie!Z25="",V11+X11+Z11,Saisie!Z25) -> 0 | AC11: =IF(Saisie!AA25="",W11+Y11+AA11,Saisie!AA25) -> 0 | AD11: =Saisie!AB25 -> 0 | AE11: =Saisie!AC25 -> 0 | AF11: =Saisie!AD25 -> 0 | AG11: =Saisie!AE25 -> 0 | AH11: =Saisie!AF25 -> 0 | AI11: =Saisie!AG25 -> 0 | AJ11: =IF(Saisie!AH25="",AD11+AF11+AH11,Saisie!AH25) -> 0 | AK11: =IF(Saisie!AI25="",AE11+AG11+AI11,Saisie!AI25) -> 0 | AL11: =L11+T11+AB11+AJ11 -> 0 | AM11: =M11+U11+AC11+AK11 -> 0 | AN11: =E11*G11*(volume_friction/1000) -> #VALUE! | AO11: =F11/AN11 -> #VALUE! | AP11: =F11/G11/(volume_friction/1000) -> #DIV/0! | AQ11: =E11*I11*(volume_friction/1000) -> #VALUE! | AR11: =H11/AQ11 -> #VALUE! | AS11: =H11/I11/(volume_friction/1000) -> #DIV/0! | AT11: =E11*K11*(volume_friction/1000) -> #VALUE! | AU11: =J11/AT11 -> #VALUE! | AV11: =J11/K11/(volume_friction/1000) -> #DIV/0! | AW11: =E11*M11*(volume_friction/1000) -> #VALUE! | AX11: =L11/AW11 -> #VALUE! | AY11: =L11/M11/(volume_friction/1000) -> #DIV/0! | AZ11: =E11*O11*(volume_friction/1000) -> #VALUE! | BA11: =N11/AZ11 -> #VALUE! | BB11: =N11/O11/(volume_friction/1000) -> #DIV/0! | BC11: =E11*Q11*(volume_friction/1000) -> #VALUE! | BD11: =P11/BC11 -> #VALUE! | BE11: =P11/Q11/(volume_friction/1000) -> #DIV/0! | BF11: =E11*S11*(volume_friction/1000) -> #VALUE! | BG11: =R11/BF11 -> #VALUE! | BH11: =R11/S11/(volume_friction/1000) -> #DIV/0! | BI11: =E11*U11*(volume_friction/1000) -> #VALUE! | BJ11: =T11/BI11 -> #VALUE! | BK11: =T11/U11/(volume_friction/1000) -> #DIV/0! | BL11: =E11*W11*(volume_friction/1000) -> #VALUE! | BM11: =V11/BL11 -> #VALUE! | BN11: =V11/W11/(volume_friction/1000) -> #DIV/0! | BO11: =E11*Y11*(volume_friction/1000) -> #VALUE! | BP11: =X11/BO11 -> #VALUE! | BQ11: =X11/Y11/(volume_friction/1000) -> #DIV/0! | BR11: =E11*AA11*(volume_friction/1000) -> #VALUE! | BS11: =Z11/BR11 -> #VALUE! | BT11: =Z11/AA11/(volume_friction/1000) -> #DIV/0! | BU11: =E11*AC11*(volume_friction/1000) -> #VALUE! | BV11: =AB11/BU11 -> #VALUE! | BW11: =AB11/AC11/(volume_friction/1000) -> #DIV/0! | BX11: =E11*AE11*(volume_friction/1000) -> #VALUE! | BY11: =AD11/BX11 -> #VALUE! | BZ11: =AD11/AE11/(volume_friction/1000) -> #DIV/0! | CA11: =E11*AG11*(volume_friction/1000) -> #VALUE! | CB11: =AF11/CA11 -> #VALUE! | CC11: =AF11/AG11/(volume_friction/1000) -> #DIV/0! | CD11: =E11*AI11*(volume_friction/1000) -> #VALUE! | CE11: =AH11/CD11 -> #VALUE! | CF11: =AH11/AI11/(volume_friction/1000) -> #DIV/0! | CG11: =E11*AK11*(volume_friction/1000) -> #VALUE! | CH11: =AJ11/CG11 -> #VALUE! | CI11: =AJ11/AK11/(volume_friction/1000) -> #DIV/0! | CJ11: =E11*AM11*(volume_friction/1000) -> #VALUE! | CK11: =AL11/CJ11 -> #VALUE! | CL11: =AL11/AM11/(volume_friction/1000) -> #DIV/0!
A12: 1 | B12: ='Posters Trimestres'!A37 -> Chirurgie | C12: =Saisie!A37 -> 0 | D12: =Saisie!B37 -> 0 | E12: =Saisie!C37 | F12: =Saisie!D37 -> 0 | G12: =Saisie!E37 -> 0 | H12: =Saisie!F37 -> 0 | I12: =Saisie!G37 -> 0 | J12: =Saisie!H37 -> 0 | K12: =Saisie!I37 -> 0 | L12: =IF(Saisie!J37="",F12+H12+J12,Saisie!J37) -> 0 | M12: =IF(Saisie!K37="",G12+I12+K12,Saisie!K37) -> 0 | N12: =Saisie!L37 -> 0 | O12: =Saisie!M37 -> 0 | P12: =Saisie!N37 -> 0 | Q12: =Saisie!O37 -> 0 | R12: =Saisie!P37 -> 0 | S12: =Saisie!Q37 -> 0 | T12: =IF(Saisie!R37="",N12+P12+R12,Saisie!R37) -> 0 | U12: =IF(Saisie!S37="",O12+Q12+S12,Saisie!S37) -> 0 | V12: =Saisie!T37 -> 0 | W12: =Saisie!U37 -> 0 | X12: =Saisie!V37 -> 0 | Y12: =Saisie!W37 -> 0 | Z12: =Saisie!X37 -> 0 | AA12: =Saisie!Y37 -> 0 | AB12: =IF(Saisie!Z37="",V12+X12+Z12,Saisie!Z37) -> 0 | AC12: =IF(Saisie!AA37="",W12+Y12+AA12,Saisie!AA37) -> 0 | AD12: =Saisie!AB37 -> 0 | AE12: =Saisie!AC37 -> 0 | AF12: =Saisie!AD37 -> 0 | AG12: =Saisie!AE37 -> 0 | AH12: =Saisie!AF37 -> 0 | AI12: =Saisie!AG37 -> 0 | AJ12: =IF(Saisie!AH37="",AD12+AF12+AH12,Saisie!AH37) -> 0 | AK12: =IF(Saisie!AI37="",AE12+AG12+AI12,Saisie!AI37) -> 0 | AL12: =L12+T12+AB12+AJ12 -> 0 | AM12: =M12+U12+AC12+AK12 -> 0 | AN12: =E12*G12*(volume_friction/1000) -> #VALUE! | AO12: =F12/AN12 -> #VALUE! | AP12: =F12/G12/(volume_friction/1000) -> #DIV/0! | AQ12: =E12*I12*(volume_friction/1000) -> #VALUE! | AR12: =H12/AQ12 -> #VALUE! | AS12: =H12/I12/(volume_friction/1000) -> #DIV/0! | AT12: =E12*K12*(volume_friction/1000) -> #VALUE! | AU12: =J12/AT12 -> #VALUE! | AV12: =J12/K12/(volume_friction/1000) -> #DIV/0! | AW12: =E12*M12*(volume_friction/1000) -> #VALUE! | AX12: =L12/AW12 -> #VALUE! | AY12: =L12/M12/(volume_friction/1000) -> #DIV/0! | AZ12: =E12*O12*(volume_friction/1000) -> #VALUE! | BA12: =N12/AZ12 -> #VALUE! | BB12: =N12/O12/(volume_friction/1000) -> #DIV/0! | BC12: =E12*Q12*(volume_friction/1000) -> #VALUE! | BD12: =P12/BC12 -> #VALUE! | BE12: =P12/Q12/(volume_friction/1000) -> #DIV/0! | BF12: =E12*S12*(volume_friction/1000) -> #VALUE! | BG12: =R12/BF12 -> #VALUE! | BH12: =R12/S12/(volume_friction/1000) -> #DIV/0! | BI12: =E12*U12*(volume_friction/1000) -> #VALUE! | BJ12: =T12/BI12 -> #VALUE! | BK12: =T12/U12/(volume_friction/1000) -> #DIV/0! | BL12: =E12*W12*(volume_friction/1000) -> #VALUE! | BM12: =V12/BL12 -> #VALUE! | BN12: =V12/W12/(volume_friction/1000) -> #DIV/0! | BO12: =E12*Y12*(volume_friction/1000) -> #VALUE! | BP12: =X12/BO12 -> #VALUE! | BQ12: =X12/Y12/(volume_friction/1000) -> #DIV/0! | BR12: =E12*AA12*(volume_friction/1000) -> #VALUE! | BS12: =Z12/BR12 -> #VALUE! | BT12: =Z12/AA12/(volume_friction/1000) -> #DIV/0! | BU12: =E12*AC12*(volume_friction/1000) -> #VALUE! | BV12: =AB12/BU12 -> #VALUE! | BW12: =AB12/AC12/(volume_friction/1000) -> #DIV/0! | BX12: =E12*AE12*(volume_friction/1000) -> #VALUE! | BY12: =AD12/BX12 -> #VALUE! | BZ12: =AD12/AE12/(volume_friction/1000) -> #DIV/0! | CA12: =E12*AG12*(volume_friction/1000) -> #VALUE! | CB12: =AF12/CA12 -> #VALUE! | CC12: =AF12/AG12/(volume_friction/1000) -> #DIV/0! | CD12: =E12*AI12*(volume_friction/1000) -> #VALUE! | CE12: =AH12/CD12 -> #VALUE! | CF12: =AH12/AI12/(volume_friction/1000) -> #DIV/0! | CG12: =E12*AK12*(volume_friction/1000) -> #VALUE! | CH12: =AJ12/CG12 -> #VALUE! | CI12: =AJ12/AK12/(volume_friction/1000) -> #DIV/0! | CJ12: =E12*AM12*(volume_friction/1000) -> #VALUE! | CK12: =AL12/CJ12 -> #VALUE! | CL12: =AL12/AM12/(volume_friction/1000) -> #DIV/0!
A13: 2 | B13: ='Posters Trimestres'!A37 -> Chirurgie | C13: =Saisie!A38 -> 0 | D13: =Saisie!B38 -> 0 | E13: =Saisie!C38 | F13: =Saisie!D38 -> 0 | G13: =Saisie!E38 -> 0 | H13: =Saisie!F38 -> 0 | I13: =Saisie!G38 -> 0 | J13: =Saisie!H38 -> 0 | K13: =Saisie!I38 -> 0 | L13: =IF(Saisie!J38="",F13+H13+J13,Saisie!J38) -> 0 | M13: =IF(Saisie!K38="",G13+I13+K13,Saisie!K38) -> 0 | N13: =Saisie!L38 -> 0 | O13: =Saisie!M38 -> 0 | P13: =Saisie!N38 -> 0 | Q13: =Saisie!O38 -> 0 | R13: =Saisie!P38 -> 0 | S13: =Saisie!Q38 -> 0 | T13: =IF(Saisie!R38="",N13+P13+R13,Saisie!R38) -> 0 | U13: =IF(Saisie!S38="",O13+Q13+S13,Saisie!S38) -> 0 | V13: =Saisie!T38 -> 0 | W13: =Saisie!U38 -> 0 | X13: =Saisie!V38 -> 0 | Y13: =Saisie!W38 -> 0 | Z13: =Saisie!X38 -> 0 | AA13: =Saisie!Y38 -> 0 | AB13: =IF(Saisie!Z38="",V13+X13+Z13,Saisie!Z38) -> 0 | AC13: =IF(Saisie!AA38="",W13+Y13+AA13,Saisie!AA38) -> 0 | AD13: =Saisie!AB38 -> 0 | AE13: =Saisie!AC38 -> 0 | AF13: =Saisie!AD38 -> 0 | AG13: =Saisie!AE38 -> 0 | AH13: =Saisie!AF38 -> 0 | AI13: =Saisie!AG38 -> 0 | AJ13: =IF(Saisie!AH38="",AD13+AF13+AH13,Saisie!AH38) -> 0 | AK13: =IF(Saisie!AI38="",AE13+AG13+AI13,Saisie!AI38) -> 0 | AL13: =L13+T13+AB13+AJ13 -> 0 | AM13: =M13+U13+AC13+AK13 -> 0 | AN13: =E13*G13*(volume_friction/1000) -> #VALUE! | AO13: =F13/AN13 -> #VALUE! | AP13: =F13/G13/(volume_friction/1000) -> #DIV/0! | AQ13: =E13*I13*(volume_friction/1000) -> #VALUE! | AR13: =H13/AQ13 -> #VALUE! | AS13: =H13/I13/(volume_friction/1000) -> #DIV/0! | AT13: =E13*K13*(volume_friction/1000) -> #VALUE! | AU13: =J13/AT13 -> #VALUE! | AV13: =J13/K13/(volume_friction/1000) -> #DIV/0! | AW13: =E13*M13*(volume_friction/1000) -> #VALUE! | AX13: =L13/AW13 -> #VALUE! | AY13: =L13/M13/(volume_friction/1000) -> #DIV/0! | AZ13: =E13*O13*(volume_friction/1000) -> #VALUE! | BA13: =N13/AZ13 -> #VALUE! | BB13: =N13/O13/(volume_friction/1000) -> #DIV/0! | BC13: =E13*Q13*(volume_friction/1000) -> #VALUE! | BD13: =P13/BC13 -> #VALUE! | BE13: =P13/Q13/(volume_friction/1000) -> #DIV/0! | BF13: =E13*S13*(volume_friction/1000) -> #VALUE! | BG13: =R13/BF13 -> #VALUE! | BH13: =R13/S13/(volume_friction/1000) -> #DIV/0! | BI13: =E13*U13*(volume_friction/1000) -> #VALUE! | BJ13: =T13/BI13 -> #VALUE! | BK13: =T13/U13/(volume_friction/1000) -> #DIV/0! | BL13: =E13*W13*(volume_friction/1000) -> #VALUE! | BM13: =V13/BL13 -> #VALUE! | BN13: =V13/W13/(volume_friction/1000) -> #DIV/0! | BO13: =E13*Y13*(volume_friction/1000) -> #VALUE! | BP13: =X13/BO13 -> #VALUE! | BQ13: =X13/Y13/(volume_friction/1000) -> #DIV/0! | BR13: =E13*AA13*(volume_friction/1000) -> #VALUE! | BS13: =Z13/BR13 -> #VALUE! | BT13: =Z13/AA13/(volume_friction/1000) -> #DIV/0! | BU13: =E13*AC13*(volume_friction/1000) -> #VALUE! | BV13: =AB13/BU13 -> #VALUE! | BW13: =AB13/AC13/(volume_friction/1000) -> #DIV/0! | BX13: =E13*AE13*(volume_friction/1000) -> #VALUE! | BY13: =AD13/BX13 -> #VALUE! | BZ13: =AD13/AE13/(volume_friction/1000) -> #DIV/0! | CA13: =E13*AG13*(volume_friction/1000) -> #VALUE! | CB13: =AF13/CA13 -> #VALUE! | CC13: =AF13/AG13/(volume_friction/1000) -> #DIV/0! | CD13: =E13*AI13*(volume_friction/1000) -> #VALUE! | CE13: =AH13/CD13 -> #VALUE! | CF13: =AH13/AI13/(volume_friction/1000) -> #DIV/0! | CG13: =E13*AK13*(volume_friction/1000) -> #VALUE! | CH13: =AJ13/CG13 -> #VALUE! | CI13: =AJ13/AK13/(volume_friction/1000) -> #DIV/0! | CJ13: =E13*AM13*(volume_friction/1000) -> #VALUE! | CK13: =AL13/CJ13 -> #VALUE! | CL13: =AL13/AM13/(volume_friction/1000) -> #DIV/0!
A14: 3 | B14: ='Posters Trimestres'!A37 -> Chirurgie | C14: =Saisie!A39 -> 0 | D14: =Saisie!B39 -> 0 | E14: =Saisie!C39 | F14: =Saisie!D39 -> 0 | G14: =Saisie!E39 -> 0 | H14: =Saisie!F39 -> 0 | I14: =Saisie!G39 -> 0 | J14: =Saisie!H39 -> 0 | K14: =Saisie!I39 -> 0 | L14: =IF(Saisie!J39="",F14+H14+J14,Saisie!J39) -> 0 | M14: =IF(Saisie!K39="",G14+I14+K14,Saisie!K39) -> 0 | N14: =Saisie!L39 -> 0 | O14: =Saisie!M39 -> 0 | P14: =Saisie!N39 -> 0 | Q14: =Saisie!O39 -> 0 | R14: =Saisie!P39 -> 0 | S14: =Saisie!Q39 -> 0 | T14: =IF(Saisie!R39="",N14+P14+R14,Saisie!R39) -> 0 | U14: =IF(Saisie!S39="",O14+Q14+S14,Saisie!S39) -> 0 | V14: =Saisie!T39 -> 0 | W14: =Saisie!U39 -> 0 | X14: =Saisie!V39 -> 0 | Y14: =Saisie!W39 -> 0 | Z14: =Saisie!X39 -> 0 | AA14: =Saisie!Y39 -> 0 | AB14: =IF(Saisie!Z39="",V14+X14+Z14,Saisie!Z39) -> 0 | AC14: =IF(Saisie!AA39="",W14+Y14+AA14,Saisie!AA39) -> 0 | AD14: =Saisie!AB39 -> 0 | AE14: =Saisie!AC39 -> 0 | AF14: =Saisie!AD39 -> 0 | AG14: =Saisie!AE39 -> 0 | AH14: =Saisie!AF39 -> 0 | AI14: =Saisie!AG39 -> 0 | AJ14: =IF(Saisie!AH39="",AD14+AF14+AH14,Saisie!AH39) -> 0 | AK14: =IF(Saisie!AI39="",AE14+AG14+AI14,Saisie!AI39) -> 0 | AL14: =L14+T14+AB14+AJ14 -> 0 | AM14: =M14+U14+AC14+AK14 -> 0 | AN14: =E14*G14*(volume_friction/1000) -> #VALUE! | AO14: =F14/AN14 -> #VALUE! | AP14: =F14/G14/(volume_friction/1000) -> #DIV/0! | AQ14: =E14*I14*(volume_friction/1000) -> #VALUE! | AR14: =H14/AQ14 -> #VALUE! | AS14: =H14/I14/(volume_friction/1000) -> #DIV/0! | AT14: =E14*K14*(volume_friction/1000) -> #VALUE! | AU14: =J14/AT14 -> #VALUE! | AV14: =J14/K14/(volume_friction/1000) -> #DIV/0! | AW14: =E14*M14*(volume_friction/1000) -> #VALUE! | AX14: =L14/AW14 -> #VALUE! | AY14: =L14/M14/(volume_friction/1000) -> #DIV/0! | AZ14: =E14*O14*(volume_friction/1000) -> #VALUE! | BA14: =N14/AZ14 -> #VALUE! | BB14: =N14/O14/(volume_friction/1000) -> #DIV/0! | BC14: =E14*Q14*(volume_friction/1000) -> #VALUE! | BD14: =P14/BC14 -> #VALUE! | BE14: =P14/Q14/(volume_friction/1000) -> #DIV/0! | BF14: =E14*S14*(volume_friction/1000) -> #VALUE! | BG14: =R14/BF14 -> #VALUE! | BH14: =R14/S14/(volume_friction/1000) -> #DIV/0! | BI14: =E14*U14*(volume_friction/1000) -> #VALUE! | BJ14: =T14/BI14 -> #VALUE! | BK14: =T14/U14/(volume_friction/1000) -> #DIV/0! | BL14: =E14*W14*(volume_friction/1000) -> #VALUE! | BM14: =V14/BL14 -> #VALUE! | BN14: =V14/W14/(volume_friction/1000) -> #DIV/0! | BO14: =E14*Y14*(volume_friction/1000) -> #VALUE! | BP14: =X14/BO14 -> #VALUE! | BQ14: =X14/Y14/(volume_friction/1000) -> #DIV/0! | BR14: =E14*AA14*(volume_friction/1000) -> #VALUE! | BS14: =Z14/BR14 -> #VALUE! | BT14: =Z14/AA14/(volume_friction/1000) -> #DIV/0! | BU14: =E14*AC14*(volume_friction/1000) -> #VALUE! | BV14: =AB14/BU14 -> #VALUE! | BW14: =AB14/AC14/(volume_friction/1000) -> #DIV/0! | BX14: =E14*AE14*(volume_friction/1000) -> #VALUE! | BY14: =AD14/BX14 -> #VALUE! | BZ14: =AD14/AE14/(volume_friction/1000) -> #DIV/0! | CA14: =E14*AG14*(volume_friction/1000) -> #VALUE! | CB14: =AF14/CA14 -> #VALUE! | CC14: =AF14/AG14/(volume_friction/1000) -> #DIV/0! | CD14: =E14*AI14*(volume_friction/1000) -> #VALUE! | CE14: =AH14/CD14 -> #VALUE! | CF14: =AH14/AI14/(volume_friction/1000) -> #DIV/0! | CG14: =E14*AK14*(volume_friction/1000) -> #VALUE! | CH14: =AJ14/CG14 -> #VALUE! | CI14: =AJ14/AK14/(volume_friction/1000) -> #DIV/0! | CJ14: =E14*AM14*(volume_friction/1000) -> #VALUE! | CK14: =AL14/CJ14 -> #VALUE! | CL14: =AL14/AM14/(volume_friction/1000) -> #DIV/0!
