Workbook
Name bdd_services: bdd!$1:$1048576
Name choix_service: Poster!$C$4
Name dt_autre: Saisie!$A$131:$C$137
Name dt_chirurgie: Saisie!$A$27:$C$29
Name dt_go: Saisie!$A$48:$C$51
Name dt_medecine: Saisie!$A$4:$C$8
Name dt_rea: Saisie!$A$71:$C$72
Name dt_sld: Saisie!$A$111:$C$112
Name dt_ssr: Saisie!$A$91:$C$92
Name etab: Infos!$D$3
Name liste_autre: Saisie!$A$141:$B$150
Name liste_chirurgie: Saisie!$A$33:$B$42
Name liste_go: Saisie!$A$55:$B$64
Name liste_medecine: Saisie!$A$12:$B$21
Name liste_rea: Saisie!$A$76:$B$85
Name liste_sld: Saisie!$A$116:$B$125
Name liste_ssr: Saisie!$A$96:$B$105
Name saisie: Saisie!$1:$1048576
Name volume_friction: Poster!$A$33

Sheet Infos
C1: ICSHA 3 | D1: Année 2020
C3: Etablissement :
C5: Saisie | D5: La saisie se fait dans l'onglet "Saisie", dans les cases jaunes,
D6: pour chaque trimestre de l'année.
D7: Saisir : le nom des services, leur type d'activité (liste déroulante),
D8: la consommation de SHA en litres, et les données d'activité.
C10: Analyses | D10: Dans l'onglet "Saisie", la consommation théorique et le pourcentage
D11: d'atteinte de l'objectif sont calculés automatiquement pour chaque
D12: trimestre et pour l'année.
D13: Dans l'onglet "Poster" : choisir un type de service (liste déroulante)
D14: puis un service pour afficher le poster correspondant à ce service.
C18: © CPIAS NORMANDIE - 2019

Sheet Saisie
A1: Services de médecine
A3: Type d'activité : | B3: Nombre de frictions à atteindre | C3: Activité mesurée par
A4: Médecine HC | B4: 10 | C4: Jour
A5: Médecine HJ | B5: 5 | C5: Jour
A6: Psychiatrie HC | B6: 4 | C6: Jour
A7: Psychiatrie HJ | B7: 2 | C7: Jour
A8: Hémodialyse | B8: 11 | C8: Séance
D10: T1 | I10: T2 | N10: T3 | S10: T4 | X10: Année
A11: Service | B11: Spécialité | C11: Frictions théoriques | D11: Total consommé en litres | E11: Total activité | F11: Total théorique en litres | G11: % de conso ICSHA | H11: Frictions réalisées | I11: Total consommé en litres | J11: Total activité | K11: Total théorique en litres | L11: % de conso ICSHA | M11: Frictions réalisées | N11: Total consommé en litres | O11: Total activité | P11: Total théorique en litres | Q11: % de conso ICSHA | R11: Frictions réalisées | S11: Total consommé en litres | T11: Total activité | U11: Total théorique en litres | V11: % de conso ICSHA | W11: Frictions réalisées | X11: Total consommé en litres | Y11: Total activité | Z11: Total théorique en litres | AA11: % de conso ICSHA | AB11: Frictions réalisées
C12: =IFERROR(VLOOKUP(B12,dt_medecine,2,FALSE),"") | F12: =IF(E12="","",IFERROR(VLOOKUP(B12,dt_medecine,2,FALSE)*E12*(volume_friction/1000),"")) | G12: =IFERROR(IF(D12=0,"",D12/F12),"") | H12: =IFERROR(IF(D12=0,"",D12/E12/(volume_friction/1000)),"") | K12: =IF(J12="","",IFERROR(VLOOKUP(B12,dt_medecine,2,FALSE)*J12*(volume_friction/1000),"")) | L12: =IFERROR(IF(I12=0,"",I12/K12),"") | M12: =IFERROR(IF(I12=0,"",I12/J12/(volume_friction/1000)),"") | P12: =IF(O12="","",IFERROR(VLOOKUP(B12,dt_medecine,2,FALSE)*O12*(volume_friction/1000),"")) | Q12: =IFERROR(IF(N12=0,"",N12/P12),"") | R12: =IFERROR(IF(N12=0,"",N12/O12/(volume_friction/1000)),"") | U12: =IF(T12="","",IFERROR(VLOOKUP(B12,dt_medecine,2,FALSE)*T12*(volume_friction/1000),"")) | V12: =IFERROR(IF(S12=0,"",S12/U12),"") | W12: =IFERROR(IF(S12=0,"",S12/T12/(volume_friction/1000)),"") | X12: =IF(AND(D12<>0,I12<>0,N12<>0,S12<>0),D12+I12+N12+S12,"") | Y12: =IF(AND(E12<>0,J12<>0,O12<>0,T12<>0),E12+J12+O12+T12,"") | Z12: =IF(Y12="","",IFERROR(VLOOKUP(B12,dt_medecine,2,FALSE)*Y12*(volume_friction/1000),"")) | AA12: =IFERROR(IF(X12=0,"",X12/Z12),"") | AB12: =IFERROR(IF(X12=0,"",X12/Y12/(volume_friction/1000)),"")
C13: =IFERROR(VLOOKUP(B13,dt_medecine,2,FALSE),"") | F13: =IF(E13="","",IFERROR(VLOOKUP(B13,dt_medecine,2,FALSE)*E13*(volume_friction/1000),"")) | G13: =IFERROR(IF(D13=0,"",D13/F13),"") | H13: =IFERROR(IF(D13=0,"",D13/E13/(volume_friction/1000)),"") | K13: =IF(J13="","",IFERROR(VLOOKUP(B13,dt_medecine,2,FALSE)*J13*(volume_friction/1000),"")) | L13: =IFERROR(IF(I13=0,"",I13/K13),"") | M13: =IFERROR(IF(I13=0,"",I13/J13/(volume_friction/1000)),"") | P13: =IF(O13="","",IFERROR(VLOOKUP(B13,dt_medecine,2,FALSE)*O13*(volume_friction/1000),"")) | Q13: =IFERROR(IF(N13=0,"",N13/P13),"") | R13: =IFERROR(IF(N13=0,"",N13/O13/(volume_friction/1000)),"") | U13: =IF(T13="","",IFERROR(VLOOKUP(B13,dt_medecine,2,FALSE)*T13*(volume_friction/1000),"")) | V13: =IFERROR(IF(S13=0,"",S13/U13),"") | W13: =IFERROR(IF(S13=0,"",S13/T13/(volume_friction/1000)),"") | X13: =IF(AND(D13<>0,I13<>0,N13<>0,S13<>0),D13+I13+N13+S13,"") | Y13: =IF(AND(E13<>0,J13<>0,O13<>0,T13<>0),E13+J13+O13+T13,"") | Z13: =IF(Y13="","",IFERROR(VLOOKUP(B13,dt_medecine,2,FALSE)*Y13*(volume_friction/1000),"")) | AA13: =IFERROR(IF(X13=0,"",X13/Z13),"") | AB13: =IFERROR(IF(X13=0,"",X13/Y13/(volume_friction/1000)),"")
C14: =IFERROR(VLOOKUP(B14,dt_medecine,2,FALSE),"") | F14: =IF(E14="","",IFERROR(VLOOKUP(B14,dt_medecine,2,FALSE)*E14*(volume_friction/1000),"")) | G14: =IFERROR(IF(D14=0,"",D14/F14),"") | H14: =IFERROR(IF(D14=0,"",D14/E14/(volume_friction/1000)),"") | K14: =IF(J14="","",IFERROR(VLOOKUP(B14,dt_medecine,2,FALSE)*J14*(volume_friction/1000),"")) | L14: =IFERROR(IF(I14=0,"",I14/K14),"") | M14: =IFERROR(IF(I14=0,"",I14/J14/(volume_friction/1000)),"") | P14: =IF(O14="","",IFERROR(VLOOKUP(B14,dt_medecine,2,FALSE)*O14*(volume_friction/1000),"")) | Q14: =IFERROR(IF(N14=0,"",N14/P14),"") | R14: =IFERROR(IF(N14=0,"",N14/O14/(volume_friction/1000)),"") | U14: =IF(T14="","",IFERROR(VLOOKUP(B14,dt_medecine,2,FALSE)*T14*(volume_friction/1000),"")) | V14: =IFERROR(IF(S14=0,"",S14/U14),"") | W14: =IFERROR(IF(S14=0,"",S14/T14/(volume_friction/1000)),"") | X14: =IF(AND(D14<>0,I14<>0,N14<>0,S14<>0),D14+I14+N14+S14,"") | Y14: =IF(AND(E14<>0,J14<>0,O14<>0,T14<>0),E14+J14+O14+T14,"") | Z14: =IF(Y14="","",IFERROR(VLOOKUP(B14,dt_medecine,2,FALSE)*Y14*(volume_friction/1000),"")) | AA14: =IFERROR(IF(X14=0,"",X14/Z14),"") | AB14: =IFERROR(IF(X14=0,"",X14/Y14/(volume_friction/1000)),"")
C15: =IFERROR(VLOOKUP(B15,dt_medecine,2,FALSE),"") | F15: =IF(E15="","",IFERROR(VLOOKUP(B15,dt_medecine,2,FALSE)*E15*(volume_friction/1000),"")) | G15: =IFERROR(IF(D15=0,"",D15/F15),"") | H15: =IFERROR(IF(D15=0,"",D15/E15/(volume_friction/1000)),"") | K15: =IF(J15="","",IFERROR(VLOOKUP(B15,dt_medecine,2,FALSE)*J15*(volume_friction/1000),"")) | L15: =IFERROR(IF(I15=0,"",I15/K15),"") | M15: =IFERROR(IF(I15=0,"",I15/J15/(volume_friction/1000)),"") | P15: =IF(O15="","",IFERROR(VLOOKUP(B15,dt_medecine,2,FALSE)*O15*(volume_friction/1000),"")) | Q15: =IFERROR(IF(N15=0,"",N15/P15),"") | R15: =IFERROR(IF(N15=0,"",N15/O15/(volume_friction/1000)),"") | U15: =IF(T15="","",IFERROR(VLOOKUP(B15,dt_medecine,2,FALSE)*T15*(volume_friction/1000),"")) | V15: =IFERROR(IF(S15=0,"",S15/U15),"") | W15: =IFERROR(IF(S15=0,"",S15/T15/(volume_friction/1000)),"") | X15: =IF(AND(D15<>0,I15<>0,N15<>0,S15<>0),D15+I15+N15+S15,"") | Y15: =IF(AND(E15<>0,J15<>0,O15<>0,T15<>0),E15+J15+O15+T15,"") | Z15: =IF(Y15="","",IFERROR(VLOOKUP(B15,dt_medecine,2,FALSE)*Y15*(volume_friction/1000),"")) | AA15: =IFERROR(IF(X15=0,"",X15/Z15),"") | AB15: =IFERROR(IF(X15=0,"",X15/Y15/(volume_friction/1000)),"")
C16: =IFERROR(VLOOKUP(B16,dt_medecine,2,FALSE),"") | F16: =IF(E16="","",IFERROR(VLOOKUP(B16,dt_medecine,2,FALSE)*E16*(volume_friction/1000),"")) | G16: =IFERROR(IF(D16=0,"",D16/F16),"") | H16: =IFERROR(IF(D16=0,"",D16/E16/(volume_friction/1000)),"") | K16: =IF(J16="","",IFERROR(VLOOKUP(B16,dt_medecine,2,FALSE)*J16*(volume_friction/1000),"")) | L16: =IFERROR(IF(I16=0,"",I16/K16),"") | M16: =IFERROR(IF(I16=0,"",I16/J16/(volume_friction/1000)),"") | P16: =IF(O16="","",IFERROR(VLOOKUP(B16,dt_medecine,2,FALSE)*O16*(volume_friction/1000),"")) | Q16: =IFERROR(IF(N16=0,"",N16/P16),"") | R16: =IFERROR(IF(N16=0,"",N16/O16/(volume_friction/1000)),"") | U16: =IF(T16="","",IFERROR(VLOOKUP(B16,dt_medecine,2,FALSE)*T16*(volume_friction/1000),"")) | V16: =IFERROR(IF(S16=0,"",S16/U16),"") | W16: =IFERROR(IF(S16=0,"",S16/T16/(volume_friction/1000)),"") | X16: =IF(AND(D16<>0,I16<>0,N16<>0,S16<>0),D16+I16+N16+S16,"") | Y16: =IF(AND(E16<>0,J16<>0,O16<>0,T16<>0),E16+J16+O16+T16,"") | Z16: =IF(Y16="","",IFERROR(VLOOKUP(B16,dt_medecine,2,FALSE)*Y16*(volume_friction/1000),"")) | AA16: =IFERROR(IF(X16=0,"",X16/Z16),"") | AB16: =IFERROR(IF(X16=0,"",X16/Y16/(volume_friction/1000)),"")
C17: =IFERROR(VLOOKUP(B17,dt_medecine,2,FALSE),"") | F17: =IF(E17="","",IFERROR(VLOOKUP(B17,dt_medecine,2,FALSE)*E17*(volume_friction/1000),"")) | G17: =IFERROR(IF(D17=0,"",D17/F17),"") | H17: =IFERROR(IF(D17=0,"",D17/E17/(volume_friction/1000)),"") | K17: =IF(J17="","",IFERROR(VLOOKUP(B17,dt_medecine,2,FALSE)*J17*(volume_friction/1000),"")) | L17: =IFERROR(IF(I17=0,"",I17/K17),"") | M17: =IFERROR(IF(I17=0,"",I17/J17/(volume_friction/1000)),"") | P17: =IF(O17="","",IFERROR(VLOOKUP(B17,dt_medecine,2,FALSE)*O17*(volume_friction/1000),"")) | Q17: =IFERROR(IF(N17=0,"",N17/P17),"") | R17: =IFERROR(IF(N17=0,"",N17/O17/(volume_friction/1000)),"") | U17: =IF(T17="","",IFERROR(VLOOKUP(B17,dt_medecine,2,FALSE)*T17*(volume_friction/1000),"")) | V17: =IFERROR(IF(S17=0,"",S17/U17),"") | W17: =IFERROR(IF(S17=0,"",S17/T17/(volume_friction/1000)),"") | X17: =IF(AND(D17<>0,I17<>0,N17<>0,S17<>0),D17+I17+N17+S17,"") | Y17: =IF(AND(E17<>0,J17<>0,O17<>0,T17<>0),E17+J17+O17+T17,"") | Z17: =IF(Y17="","",IFERROR(VLOOKUP(B17,dt_medecine,2,FALSE)*Y17*(volume_friction/1000),"")) | AA17: =IFERROR(IF(X17=0,"",X17/Z17),"") | AB17: =IFERROR(IF(X17=0,"",X17/Y17/(volume_friction/1000)),"")
C18: =IFERROR(VLOOKUP(B18,dt_medecine,2,FALSE),"") | F18: =IF(E18="","",IFERROR(VLOOKUP(B18,dt_medecine,2,FALSE)*E18*(volume_friction/1000),"")) | G18: =IFERROR(IF(D18=0,"",D18/F18),"") | H18: =IFERROR(IF(D18=0,"",D18/E18/(volume_friction/1000)),"") | K18: =IF(J18="","",IFERROR(VLOOKUP(B18,dt_medecine,2,FALSE)*J18*(volume_friction/1000),"")) | L18: =IFERROR(IF(I18=0,"",I18/K18),"") | M18: =IFERROR(IF(I18=0,"",I18/J18/(volume_friction/1000)),"") | P18: =IF(O18="","",IFERROR(VLOOKUP(B18,dt_medecine,2,FALSE)*O18*(volume_friction/1000),"")) | Q18: =IFERROR(IF(N18=0,"",N18/P18),"") | R18: =IFERROR(IF(N18=0,"",N18/O18/(volume_friction/1000)),"") | U18: =IF(T18="","",IFERROR(VLOOKUP(B18,dt_medecine,2,FALSE)*T18*(volume_friction/1000),"")) | V18: =IFERROR(IF(S18=0,"",S18/U18),"") | W18: =IFERROR(IF(S18=0,"",S18/T18/(volume_friction/1000)),"") | X18: =IF(AND(D18<>0,I18<>0,N18<>0,S18<>0),D18+I18+N18+S18,"") | Y18: =IF(AND(E18<>0,J18<>0,O18<>0,T18<>0),E18+J18+O18+T18,"") | Z18: =IF(Y18="","",IFERROR(VLOOKUP(B18,dt_medecine,2,FALSE)*Y18*(volume_friction/1000),"")) | AA18: =IFERROR(IF(X18=0,"",X18/Z18),"") | AB18: =IFERROR(IF(X18=0,"",X18/Y18/(volume_friction/1000)),"")
C19: =IFERROR(VLOOKUP(B19,dt_medecine,2,FALSE),"") | F19: =IF(E19="","",IFERROR(VLOOKUP(B19,dt_medecine,2,FALSE)*E19*(volume_friction/1000),"")) | G19: =IFERROR(IF(D19=0,"",D19/F19),"") | H19: =IFERROR(IF(D19=0,"",D19/E19/(volume_friction/1000)),"") | K19: =IF(J19="","",IFERROR(VLOOKUP(B19,dt_medecine,2,FALSE)*J19*(volume_friction/1000),"")) | L19: =IFERROR(IF(I19=0,"",I19/K19),"") | M19: =IFERROR(IF(I19=0,"",I19/J19/(volume_friction/1000)),"") | P19: =IF(O19="","",IFERROR(VLOOKUP(B19,dt_medecine,2,FALSE)*O19*(volume_friction/1000),"")) | Q19: =IFERROR(IF(N19=0,"",N19/P19),"") | R19: =IFERROR(IF(N19=0,"",N19/O19/(volume_friction/1000)),"") | U19: =IF(T19="","",IFERROR(VLOOKUP(B19,dt_medecine,2,FALSE)*T19*(volume_friction/1000),"")) | V19: =IFERROR(IF(S19=0,"",S19/U19),"") | W19: =IFERROR(IF(S19=0,"",S19/T19/(volume_friction/1000)),"") | X19: =IF(AND(D19<>0,I19<>0,N19<>0,S19<>0),D19+I19+N19+S19,"") | Y19: =IF(AND(E19<>0,J19<>0,O19<>0,T19<>0),E19+J19+O19+T19,"") | Z19: =IF(Y19="","",IFERROR(VLOOKUP(B19,dt_medecine,2,FALSE)*Y19*(volume_friction/1000),"")) | AA19: =IFERROR(IF(X19=0,"",X19/Z19),"") | AB19: =IFERROR(IF(X19=0,"",X19/Y19/(volume_friction/1000)),"")
C20: =IFERROR(VLOOKUP(B20,dt_medecine,2,FALSE),"") | F20: =IF(E20="","",IFERROR(VLOOKUP(B20,dt_medecine,2,FALSE)*E20*(volume_friction/1000),"")) | G20: =IFERROR(IF(D20=0,"",D20/F20),"") | H20: =IFERROR(IF(D20=0,"",D20/E20/(volume_friction/1000)),"") | K20: =IF(J20="","",IFERROR(VLOOKUP(B20,dt_medecine,2,FALSE)*J20*(volume_friction/1000),"")) | L20: =IFERROR(IF(I20=0,"",I20/K20),"") | M20: =IFERROR(IF(I20=0,"",I20/J20/(volume_friction/1000)),"") | P20: =IF(O20="","",IFERROR(VLOOKUP(B20,dt_medecine,2,FALSE)*O20*(volume_friction/1000),"")) | Q20: =IFERROR(IF(N20=0,"",N20/P20),"") | R20: =IFERROR(IF(N20=0,"",N20/O20/(volume_friction/1000)),"") | U20: =IF(T20="","",IFERROR(VLOOKUP(B20,dt_medecine,2,FALSE)*T20*(volume_friction/1000),"")) | V20: =IFERROR(IF(S20=0,"",S20/U20),"") | W20: =IFERROR(IF(S20=0,"",S20/T20/(volume_friction/1000)),"") | X20: =IF(AND(D20<>0,I20<>0,N20<>0,S20<>0),D20+I20+N20+S20,"") | Y20: =IF(AND(E20<>0,J20<>0,O20<>0,T20<>0),E20+J20+O20+T20,"") | Z20: =IF(Y20="","",IFERROR(VLOOKUP(B20,dt_medecine,2,FALSE)*Y20*(volume_friction/1000),"")) | AA20: =IFERROR(IF(X20=0,"",X20/Z20),"") | AB20: =IFERROR(IF(X20=0,"",X20/Y20/(volume_friction/1000)),"")
C21: =IFERROR(VLOOKUP(B21,dt_medecine,2,FALSE),"") | F21: =IF(E21="","",IFERROR(VLOOKUP(B21,dt_medecine,2,FALSE)*E21*(volume_friction/1000),"")) | G21: =IFERROR(IF(D21=0,"",D21/F21),"") | H21: =IFERROR(IF(D21=0,"",D21/E21/(volume_friction/1000)),"") | K21: =IF(J21="","",IFERROR(VLOOKUP(B21,dt_medecine,2,FALSE)*J21*(volume_friction/1000),"")) | L21: =IFERROR(IF(I21=0,"",I21/K21),"") | M21: =IFERROR(IF(I21=0,"",I21/J21/(volume_friction/1000)),"") | P21: =IF(O21="","",IFERROR(VLOOKUP(B21,dt_medecine,2,FALSE)*O21*(volume_friction/1000),"")) | Q21: =IFERROR(IF(N21=0,"",N21/P21),"") | R21: =IFERROR(IF(N21=0,"",N21/O21/(volume_friction/1000)),"") | U21: =IF(T21="","",IFERROR(VLOOKUP(B21,dt_medecine,2,FALSE)*T21*(volume_friction/1000),"")) | V21: =IFERROR(IF(S21=0,"",S21/U21),"") | W21: =IFERROR(IF(S21=0,"",S21/T21/(volume_friction/1000)),"") | X21: =IF(AND(D21<>0,I21<>0,N21<>0,S21<>0),D21+I21+N21+S21,"") | Y21: =IF(AND(E21<>0,J21<>0,O21<>0,T21<>0),E21+J21+O21+T21,"") | Z21: =IF(Y21="","",IFERROR(VLOOKUP(B21,dt_medecine,2,FALSE)*Y21*(volume_friction/1000),"")) | AA21: =IFERROR(IF(X21=0,"",X21/Z21),"") | AB21: =IFERROR(IF(X21=0,"",X21/Y21/(volume_friction/1000)),"")
A24: Services de chirurgie
A26: Type d'activité : | B26: Nombre de frictions à atteindre | C26: Activité mesurée par
A27: Chirurgie HC | B27: 12 | C27: Jour
A28: Chirurgie HJ | B28: 5 | C28: Jour
A29: Bloc + SSPI | B29: 14 | C29: Acte
D31: T1 | I31: T2 | N31: T3 | S31: T4 | X31: Année
A32: Service | B32: Spécialité | C32: Frictions théoriques | D32: Total consommé en litres | E32: Total activité | F32: Total théorique en litres | G32: % de conso ICSHA | H32: Frictions réalisées | I32: Total consommé en litres | J32: Total activité | K32: Total théorique en litres | L32: % de conso ICSHA | M32: Frictions réalisées | N32: Total consommé en litres | O32: Total activité | P32: Total théorique en litres | Q32: % de conso ICSHA | R32: Frictions réalisées | S32: Total consommé en litres | T32: Total activité | U32: Total théorique en litres | V32: % de conso ICSHA | W32: Frictions réalisées | X32: Total consommé en litres | Y32: Total activité | Z32: Total théorique en litres | AA32: % de conso ICSHA | AB32: Frictions réalisées
C33: =IFERROR(VLOOKUP(B33,dt_chirurgie,2,FALSE),"") | F33: =IF(E33="","",IFERROR(VLOOKUP(B33,dt_chirurgie,2,FALSE)*E33*(volume_friction/1000),"")) | G33: =IFERROR(IF(D33=0,"",D33/F33),"") | H33: =IFERROR(IF(D33=0,"",D33/E33/(volume_friction/1000)),"") | K33: =IF(J33="","",IFERROR(VLOOKUP(B33,dt_chirurgie,2,FALSE)*J33*(volume_friction/1000),"")) | L33: =IFERROR(IF(I33=0,"",I33/K33),"") | M33: =IFERROR(IF(I33=0,"",I33/J33/(volume_friction/1000)),"") | P33: =IF(O33="","",IFERROR(VLOOKUP(B33,dt_chirurgie,2,FALSE)*O33*(volume_friction/1000),"")) | Q33: =IFERROR(IF(N33=0,"",N33/P33),"") | R33: =IFERROR(IF(N33=0,"",N33/O33/(volume_friction/1000)),"") | U33: =IF(T33="","",IFERROR(VLOOKUP(B33,dt_chirurgie,2,FALSE)*T33*(volume_friction/1000),"")) | V33: =IFERROR(IF(S33=0,"",S33/U33),"") | W33: =IFERROR(IF(S33=0,"",S33/T33/(volume_friction/1000)),"") | X33: =IF(AND(D33<>0,I33<>0,N33<>0,S33<>0),D33+I33+N33+S33,"") | Y33: =IF(AND(E33<>0,J33<>0,O33<>0,T33<>0),E33+J33+O33+T33,"") | Z33: =IF(Y33="","",IFERROR(VLOOKUP(B33,dt_chirurgie,2,FALSE)*Y33*(volume_friction/1000),"")) | AA33: =IFERROR(IF(X33=0,"",X33/Z33),"") | AB33: =IFERROR(IF(X33=0,"",X33/Y33/(volume_friction/1000)),"")
C34: =IFERROR(VLOOKUP(B34,dt_chirurgie,2,FALSE),"") | F34: =IF(E34="","",IFERROR(VLOOKUP(B34,dt_chirurgie,2,FALSE)*E34*(volume_friction/1000),"")) | G34: =IFERROR(IF(D34=0,"",D34/F34),"") | H34: =IFERROR(IF(D34=0,"",D34/E34/(volume_friction/1000)),"") | K34: =IF(J34="","",IFERROR(VLOOKUP(B34,dt_chirurgie,2,FALSE)*J34*(volume_friction/1000),"")) | L34: =IFERROR(IF(I34=0,"",I34/K34),"") | M34: =IFERROR(IF(I34=0,"",I34/J34/(volume_friction/1000)),"") | P34: =IF(O34="","",IFERROR(VLOOKUP(B34,dt_chirurgie,2,FALSE)*O34*(volume_friction/1000),"")) | Q34: =IFERROR(IF(N34=0,"",N34/P34),"") | R34: =IFERROR(IF(N34=0,"",N34/O34/(volume_friction/1000)),"") | U34: =IF(T34="","",IFERROR(VLOOKUP(B34,dt_chirurgie,2,FALSE)*T34*(volume_friction/1000),"")) | V34: =IFERROR(IF(S34=0,"",S34/U34),"") | W34: =IFERROR(IF(S34=0,"",S34/T34/(volume_friction/1000)),"") | X34: =IF(AND(D34<>0,I34<>0,N34<>0,S34<>0),D34+I34+N34+S34,"") | Y34: =IF(AND(E34<>0,J34<>0,O34<>0,T34<>0),E34+J34+O34+T34,"") | Z34: =IF(Y34="","",IFERROR(VLOOKUP(B34,dt_chirurgie,2,FALSE)*Y34*(volume_friction/1000),"")) | AA34: =IFERROR(IF(X34=0,"",X34/Z34),"") | AB34: =IFERROR(IF(X34=0,"",X34/Y34/(volume_friction/1000)),"")
C35: =IFERROR(VLOOKUP(B35,dt_chirurgie,2,FALSE),"") | F35: =IF(E35="","",IFERROR(VLOOKUP(B35,dt_chirurgie,2,FALSE)*E35*(volume_friction/1000),"")) | G35: =IFERROR(IF(D35=0,"",D35/F35),"") | H35: =IFERROR(IF(D35=0,"",D35/E35/(volume_friction/1000)),"") | K35: =IF(J35="","",IFERROR(VLOOKUP(B35,dt_chirurgie,2,FALSE)*J35*(volume_friction/1000),"")) | L35: =IFERROR(IF(I35=0,"",I35/K35),"") | M35: =IFERROR(IF(I35=0,"",I35/J35/(volume_friction/1000)),"") | P35: =IF(O35="","",IFERROR(VLOOKUP(B35,dt_chirurgie,2,FALSE)*O35*(volume_friction/1000),"")) | Q35: =IFERROR(IF(N35=0,"",N35/P35),"") | R35: =IFERROR(IF(N35=0,"",N35/O35/(volume_friction/1000)),"") | U35: =IF(T35="","",IFERROR(VLOOKUP(B35,dt_chirurgie,2,FALSE)*T35*(volume_friction/1000),"")) | V35: =IFERROR(IF(S35=0,"",S35/U35),"") | W35: =IFERROR(IF(S35=0,"",S35/T35/(volume_friction/1000)),"") | X35: =IF(AND(D35<>0,I35<>0,N35<>0,S35<>0),D35+I35+N35+S35,"") | Y35: =IF(AND(E35<>0,J35<>0,O35<>0,T35<>0),E35+J35+O35+T35,"") | Z35: =IF(Y35="","",IFERROR(VLOOKUP(B35,dt_chirurgie,2,FALSE)*Y35*(volume_friction/1000),"")) | AA35: =IFERROR(IF(X35=0,"",X35/Z35),"") | AB35: =IFERROR(IF(X35=0,"",X35/Y35/(volume_friction/1000)),"")
C36: =IFERROR(VLOOKUP(B36,dt_chirurgie,2,FALSE),"") | F36: =IF(E36="","",IFERROR(VLOOKUP(B36,dt_chirurgie,2,FALSE)*E36*(volume_friction/1000),"")) | G36: =IFERROR(IF(D36=0,"",D36/F36),"") | H36: =IFERROR(IF(D36=0,"",D36/E36/(volume_friction/1000)),"") | K36: =IF(J36="","",IFERROR(VLOOKUP(B36,dt_chirurgie,2,FALSE)*J36*(volume_friction/1000),"")) | L36: =IFERROR(IF(I36=0,"",I36/K36),"") | M36: =IFERROR(IF(I36=0,"",I36/J36/(volume_friction/1000)),"") | P36: =IF(O36="","",IFERROR(VLOOKUP(B36,dt_chirurgie,2,FALSE)*O36*(volume_friction/1000),"")) | Q36: =IFERROR(IF(N36=0,"",N36/P36),"") | R36: =IFERROR(IF(N36=0,"",N36/O36/(volume_friction/1000)),"") | U36: =IF(T36="","",IFERROR(VLOOKUP(B36,dt_chirurgie,2,FALSE)*T36*(volume_friction/1000),"")) | V36: =IFERROR(IF(S36=0,"",S36/U36),"") | W36: =IFERROR(IF(S36=0,"",S36/T36/(volume_friction/1000)),"") | X36: =IF(AND(D36<>0,I36<>0,N36<>0,S36<>0),D36+I36+N36+S36,"") | Y36: =IF(AND(E36<>0,J36<>0,O36<>0,T36<>0),E36+J36+O36+T36,"") | Z36: =IF(Y36="","",IFERROR(VLOOKUP(B36,dt_chirurgie,2,FALSE)*Y36*(volume_friction/1000),"")) | AA36: =IFERROR(IF(X36=0,"",X36/Z36),"") | AB36: =IFERROR(IF(X36=0,"",X36/Y36/(volume_friction/1000)),"")
C37: =IFERROR(VLOOKUP(B37,dt_chirurgie,2,FALSE),"") | F37: =IF(E37="","",IFERROR(VLOOKUP(B37,dt_chirurgie,2,FALSE)*E37*(volume_friction/1000),"")) | G37: =IFERROR(IF(D37=0,"",D37/F37),"") | H37: =IFERROR(IF(D37=0,"",D37/E37/(volume_friction/1000)),"") | K37: =IF(J37="","",IFERROR(VLOOKUP(B37,dt_chirurgie,2,FALSE)*J37*(volume_friction/1000),"")) | L37: =IFERROR(IF(I37=0,"",I37/K37),"") | M37: =IFERROR(IF(I37=0,"",I37/J37/(volume_friction/1000)),"") | P37: =IF(O37="","",IFERROR(VLOOKUP(B37,dt_chirurgie,2,FALSE)*O37*(volume_friction/1000),"")) | Q37: =IFERROR(IF(N37=0,"",N37/P37),"") | R37: =IFERROR(IF(N37=0,"",N37/O37/(volume_friction/1000)),"") | U37: =IF(T37="","",IFERROR(VLOOKUP(B37,dt_chirurgie,2,FALSE)*T37*(volume_friction/1000),"")) | V37: =IFERROR(IF(S37=0,"",S37/U37),"") | W37: =IFERROR(IF(S37=0,"",S37/T37/(volume_friction/1000)),"") | X37: =IF(AND(D37<>0,I37<>0,N37<>0,S37<>0),D37+I37+N37+S37,"") | Y37: =IF(AND(E37<>0,J37<>0,O37<>0,T37<>0),E37+J37+O37+T37,"") | Z37: =IF(Y37="","",IFERROR(VLOOKUP(B37,dt_chirurgie,2,FALSE)*Y37*(volume_friction/1000),"")) | AA37: =IFERROR(IF(X37=0,"",X37/Z37),"") | AB37: =IFERROR(IF(X37=0,"",X37/Y37/(volume_friction/1000)),"")
C38: =IFERROR(VLOOKUP(B38,dt_chirurgie,2,FALSE),"") | F38: =IF(E38="","",IFERROR(VLOOKUP(B38,dt_chirurgie,2,FALSE)*E38*(volume_friction/1000),"")) | G38: =IFERROR(IF(D38=0,"",D38/F38),"") | H38: =IFERROR(IF(D38=0,"",D38/E38/(volume_friction/1000)),"") | K38: =IF(J38="","",IFERROR(VLOOKUP(B38,dt_chirurgie,2,FALSE)*J38*(volume_friction/1000),"")) | L38: =IFERROR(IF(I38=0,"",I38/K38),"") | M38: =IFERROR(IF(I38=0,"",I38/J38/(volume_friction/1000)),"") | P38: =IF(O38="","",IFERROR(VLOOKUP(B38,dt_chirurgie,2,FALSE)*O38*(volume_friction/1000),"")) | Q38: =IFERROR(IF(N38=0,"",N38/P38),"") | R38: =IFERROR(IF(N38=0,"",N38/O38/(volume_friction/1000)),"") | U38: =IF(T38="","",IFERROR(VLOOKUP(B38,dt_chirurgie,2,FALSE)*T38*(volume_friction/1000),"")) | V38: =IFERROR(IF(S38=0,"",S38/U38),"") | W38: =IFERROR(IF(S38=0,"",S38/T38/(volume_friction/1000)),"") | X38: =IF(AND(D38<>0,I38<>0,N38<>0,S38<>0),D38+I38+N38+S38,"") | Y38: =IF(AND(E38<>0,J38<>0,O38<>0,T38<>0),E38+J38+O38+T38,"") | Z38: =IF(Y38="","",IFERROR(VLOOKUP(B38,dt_chirurgie,2,FALSE)*Y38*(volume_friction/1000),"")) | AA38: =IFERROR(IF(X38=0,"",X38/Z38),"") | AB38: =IFERROR(IF(X38=0,"",X38/Y38/(volume_friction/1000)),"")
C39: =IFERROR(VLOOKUP(B39,dt_chirurgie,2,FALSE),"") | F39: =IF(E39="","",IFERROR(VLOOKUP(B39,dt_chirurgie,2,FALSE)*E39*(volume_friction/1000),"")) | G39: =IFERROR(IF(D39=0,"",D39/F39),"") | H39: =IFERROR(IF(D39=0,"",D39/E39/(volume_friction/1000)),"") | K39: =IF(J39="","",IFERROR(VLOOKUP(B39,dt_chirurgie,2,FALSE)*J39*(volume_friction/1000),"")) | L39: =IFERROR(IF(I39=0,"",I39/K39),"") | M39: =IFERROR(IF(I39=0,"",I39/J39/(volume_friction/1000)),"") | P39: =IF(O39="","",IFERROR(VLOOKUP(B39,dt_chirurgie,2,FALSE)*O39*(volume_friction/1000),"")) | Q39: =IFERROR(IF(N39=0,"",N39/P39),"") | R39: =IFERROR(IF(N39=0,"",N39/O39/(volume_friction/1000)),"") | U39: =IF(T39="","",IFERROR(VLOOKUP(B39,dt_chirurgie,2,FALSE)*T39*(volume_friction/1000),"")) | V39: =IFERROR(IF(S39=0,"",S39/U39),"") | W39: =IFERROR(IF(S39=0,"",S39/T39/(volume_friction/1000)),"") | X39: =IF(AND(D39<>0,I39<>0,N39<>0,S39<>0),D39+I39+N39+S39,"") | Y39: =IF(AND(E39<>0,J39<>0,O39<>0,T39<>0),E39+J39+O39+T39,"") | Z39: =IF(Y39="","",IFERROR(VLOOKUP(B39,dt_chirurgie,2,FALSE)*Y39*(volume_friction/1000),"")) | AA39: =IFERROR(IF(X39=0,"",X39/Z39),"") | AB39: =IFERROR(IF(X39=0,"",X39/Y39/(volume_friction/1000)),"")
C40: =IFERROR(VLOOKUP(B40,dt_chirurgie,2,FALSE),"") | F40: =IF(E40="","",IFERROR(VLOOKUP(B40,dt_chirurgie,2,FALSE)*E40*(volume_friction/1000),"")) | G40: =IFERROR(IF(D40=0,"",D40/F40),"") | H40: =IFERROR(IF(D40=0,"",D40/E40/(volume_friction/1000)),"") | K40: =IF(J40="","",IFERROR(VLOOKUP(B40,dt_chirurgie,2,FALSE)*J40*(volume_friction/1000),"")) | L40: =IFERROR(IF(I40=0,"",I40/K40),"") | M40: =IFERROR(IF(I40=0,"",I40/J40/(volume_friction/1000)),"") | P40: =IF(O40="","",IFERROR(VLOOKUP(B40,dt_chirurgie,2,FALSE)*O40*(volume_friction/1000),"")) | Q40: =IFERROR(IF(N40=0,"",N40/P40),"") | R40: =IFERROR(IF(N40=0,"",N40/O40/(volume_friction/1000)),"") | U40: =IF(T40="","",IFERROR(VLOOKUP(B40,dt_chirurgie,2,FALSE)*T40*(volume_friction/1000),"")) | V40: =IFERROR(IF(S40=0,"",S40/U40),"") | W40: =IFERROR(IF(S40=0,"",S40/T40/(volume_friction/1000)),"") | X40: =IF(AND(D40<>0,I40<>0,N40<>0,S40<>0),D40+I40+N40+S40,"") | Y40: =IF(AND(E40<>0,J40<>0,O40<>0,T40<>0),E40+J40+O40+T40,"") | Z40: =IF(Y40="","",IFERROR(VLOOKUP(B40,dt_chirurgie,2,FALSE)*Y40*(volume_friction/1000),"")) | AA40: =IFERROR(IF(X40=0,"",X40/Z40),"") | AB40: =IFERROR(IF(X40=0,"",X40/Y40/(volume_friction/1000)),"")
C41: =IFERROR(VLOOKUP(B41,dt_chirurgie,2,FALSE),"") | F41: =IF(E41="","",IFERROR(VLOOKUP(B41,dt_chirurgie,2,FALSE)*E41*(volume_friction/1000),"")) | G41: =IFERROR(IF(D41=0,"",D41/F41),"") | H41: =IFERROR(IF(D41=0,"",D41/E41/(volume_friction/1000)),"") | K41: =IF(J41="","",IFERROR(VLOOKUP(B41,dt_chirurgie,2,FALSE)*J41*(volume_friction/1000),"")) | L41: =IFERROR(IF(I41=0,"",I41/K41),"") | M41: =IFERROR(IF(I41=0,"",I41/J41/(volume_friction/1000)),"") | P41: =IF(O41="","",IFERROR(VLOOKUP(B41,dt_chirurgie,2,FALSE)*O41*(volume_friction/1000),"")) | Q41: =IFERROR(IF(N41=0,"",N41/P41),"") | R41: =IFERROR(IF(N41=0,"",N41/O41/(volume_friction/1000)),"") | U41: =IF(T41="","",IFERROR(VLOOKUP(B41,dt_chirurgie,2,FALSE)*T41*(volume_friction/1000),"")) | V41: =IFERROR(IF(S41=0,"",S41/U41),"") | W41: =IFERROR(IF(S41=0,"",S41/T41/(volume_friction/1000)),"") | X41: =IF(AND(D41<>0,I41<>0,N41<>0,S41<>0),D41+I41+N41+S41,"") | Y41: =IF(AND(E41<>0,J41<>0,O41<>0,T41<>0),E41+J41+O41+T41,"") | Z41: =IF(Y41="","",IFERROR(VLOOKUP(B41,dt_chirurgie,2,FALSE)*Y41*(volume_friction/1000),"")) | AA41: =IFERROR(IF(X41=0,"",X41/Z41),"") | AB41: =IFERROR(IF(X41=0,"",X41/Y41/(volume_friction/1000)),"")
C42: =IFERROR(VLOOKUP(B42,dt_chirurgie,2,FALSE),"") | F42: =IF(E42="","",IFERROR(VLOOKUP(B42,dt_chirurgie,2,FALSE)*E42*(volume_friction/1000),"")) | G42: =IFERROR(IF(D42=0,"",D42/F42),"") | H42: =IFERROR(IF(D42=0,"",D42/E42/(volume_friction/1000)),"") | K42: =IF(J42="","",IFERROR(VLOOKUP(B42,dt_chirurgie,2,FALSE)*J42*(volume_friction/1000),"")) | L42: =IFERROR(IF(I42=0,"",I42/K42),"") | M42: =IFERROR(IF(I42=0,"",I42/J42/(volume_friction/1000)),"") | P42: =IF(O42="","",IFERROR(VLOOKUP(B42,dt_chirurgie,2,FALSE)*O42*(volume_friction/1000),"")) | Q42: =IFERROR(IF(N42=0,"",N42/P42),"") | R42: =IFERROR(IF(N42=0,"",N42/O42/(volume_friction/1000)),"") | U42: =IF(T42="","",IFERROR(VLOOKUP(B42,dt_chirurgie,2,FALSE)*T42*(volume_friction/1000),"")) | V42: =IFERROR(IF(S42=0,"",S42/U42),"") | W42: =IFERROR(IF(S42=0,"",S42/T42/(volume_friction/1000)),"") | X42: =IF(AND(D42<>0,I42<>0,N42<>0,S42<>0),D42+I42+N42+S42,"") | Y42: =IF(AND(E42<>0,J42<>0,O42<>0,T42<>0),E42+J42+O42+T42,"") | Z42: =IF(Y42="","",IFERROR(VLOOKUP(B42,dt_chirurgie,2,FALSE)*Y42*(volume_friction/1000),"")) | AA42: =IFERROR(IF(X42=0,"",X42/Z42),"") | AB42: =IFERROR(IF(X42=0,"",X42/Y42/(volume_friction/1000)),"")
A45: Services de gynécologie et obstétrique
A47: Type d'activité : | B47: Nombre de frictions à atteindre | C47: Activité mesurée par
A48: Obstétrique / Gynécologie HC | B48: 12 | C48: Jour
A49: Obstétrique / Gynécologie HJ | B49: 6 | C49: Jour
A50: Accouchement avec césarienne + SSPI | B50: 16 | C50: Accouchement
A51: Accouchement sans césarienne | B51: 14 | C51: Accouchement
D53: T1 | I53: T2 | N53: T3 | S53: T4 | X53: Année
A54: Service | B54: Spécialité | C54: Frictions théoriques | D54: Total consommé en litres | E54: Total activité | F54: Total théorique en litres | G54: % de conso ICSHA | H54: Frictions réalisées | I54: Total consommé en litres | J54: Total activité | K54: Total théorique en litres | L54: % de conso ICSHA | M54: Frictions réalisées | N54: Total consommé en litres | O54: Total activité | P54: Total théorique en litres | Q54: % de conso ICSHA | R54: Frictions réalisées | S54: Total consommé en litres | T54: Total activité | U54: Total théorique en litres | V54: % de conso ICSHA | W54: Frictions réalisées | X54: Total consommé en litres | Y54: Total activité | Z54: Total théorique en litres | AA54: % de conso ICSHA | AB54: Frictions réalisées
C55: =IFERROR(VLOOKUP(B55,dt_go,2,FALSE),"") | F55: =IF(E55="","",IFERROR(VLOOKUP(B55,dt_go,2,FALSE)*E55*(volume_friction/1000),"")) | G55: =IFERROR(IF(D55=0,"",D55/F55),"") | H55: =IFERROR(IF(D55=0,"",D55/E55/(volume_friction/1000)),"") | K55: =IF(J55="","",IFERROR(VLOOKUP(B55,dt_go,2,FALSE)*J55*(volume_friction/1000),"")) | L55: =IFERROR(IF(I55=0,"",I55/K55),"") | M55: =IFERROR(IF(I55=0,"",I55/J55/(volume_friction/1000)),"") | P55: =IF(O55="","",IFERROR(VLOOKUP(B55,dt_go,2,FALSE)*O55*(volume_friction/1000),"")) | Q55: =IFERROR(IF(N55=0,"",N55/P55),"") | R55: =IFERROR(IF(N55=0,"",N55/O55/(volume_friction/1000)),"") | U55: =IF(T55="","",IFERROR(VLOOKUP(B55,dt_go,2,FALSE)*T55*(volume_friction/1000),"")) | V55: =IFERROR(IF(S55=0,"",S55/U55),"") | W55: =IFERROR(IF(S55=0,"",S55/T55/(volume_friction/1000)),"") | X55: =IF(AND(D55<>0,I55<>0,N55<>0,S55<>0),D55+I55+N55+S55,"") | Y55: =IF(AND(E55<>0,J55<>0,O55<>0,T55<>0),E55+J55+O55+T55,"") | Z55: =IF(Y55="","",IFERROR(VLOOKUP(B55,dt_go,2,FALSE)*Y55*(volume_friction/1000),"")) | AA55: =IFERROR(IF(X55=0,"",X55/Z55),"") | AB55: =IFERROR(IF(X55=0,"",X55/Y55/(volume_friction/1000)),"")
C56: =IFERROR(VLOOKUP(B56,dt_go,2,FALSE),"") | F56: =IF(E56="","",IFERROR(VLOOKUP(B56,dt_go,2,FALSE)*E56*(volume_friction/1000),"")) | G56: =IFERROR(IF(D56=0,"",D56/F56),"") | H56: =IFERROR(IF(D56=0,"",D56/E56/(volume_friction/1000)),"") | K56: =IF(J56="","",IFERROR(VLOOKUP(B56,dt_go,2,FALSE)*J56*(volume_friction/1000),"")) | L56: =IFERROR(IF(I56=0,"",I56/K56),"") | M56: =IFERROR(IF(I56=0,"",I56/J56/(volume_friction/1000)),"") | P56: =IF(O56="","",IFERROR(VLOOKUP(B56,dt_go,2,FALSE)*O56*(volume_friction/1000),"")) | Q56: =IFERROR(IF(N56=0,"",N56/P56),"") | R56: =IFERROR(IF(N56=0,"",N56/O56/(volume_friction/1000)),"") | U56: =IF(T56="","",IFERROR(VLOOKUP(B56,dt_go,2,FALSE)*T56*(volume_friction/1000),"")) | V56: =IFERROR(IF(S56=0,"",S56/U56),"") | W56: =IFERROR(IF(S56=0,"",S56/T56/(volume_friction/1000)),"") | X56: =IF(AND(D56<>0,I56<>0,N56<>0,S56<>0),D56+I56+N56+S56,"") | Y56: =IF(AND(E56<>0,J56<>0,O56<>0,T56<>0),E56+J56+O56+T56,"") | Z56: =IF(Y56="","",IFERROR(VLOOKUP(B56,dt_go,2,FALSE)*Y56*(volume_friction/1000),"")) | AA56: =IFERROR(IF(X56=0,"",X56/Z56),"") | AB56: =IFERROR(IF(X56=0,"",X56/Y56/(volume_friction/1000)),"")
C57: =IFERROR(VLOOKUP(B57,dt_go,2,FALSE),"") | F57: =IF(E57="","",IFERROR(VLOOKUP(B57,dt_go,2,FALSE)*E57*(volume_friction/1000),"")) | G57: =IFERROR(IF(D57=0,"",D57/F57),"") | H57: =IFERROR(IF(D57=0,"",D57/E57/(volume_friction/1000)),"") | K57: =IF(J57="","",IFERROR(VLOOKUP(B57,dt_go,2,FALSE)*J57*(volume_friction/1000),"")) | L57: =IFERROR(IF(I57=0,"",I57/K57),"") | M57: =IFERROR(IF(I57=0,"",I57/J57/(volume_friction/1000)),"") | P57: =IF(O57="","",IFERROR(VLOOKUP(B57,dt_go,2,FALSE)*O57*(volume_friction/1000),"")) | Q57: =IFERROR(IF(N57=0,"",N57/P57),"") | R57: =IFERROR(IF(N57=0,"",N57/O57/(volume_friction/1000)),"") | U57: =IF(T57="","",IFERROR(VLOOKUP(B57,dt_go,2,FALSE)*T57*(volume_friction/1000),"")) | V57: =IFERROR(IF(S57=0,"",S57/U57),"") | W57: =IFERROR(IF(S57=0,"",S57/T57/(volume_friction/1000)),"") | X57: =IF(AND(D57<>0,I57<>0,N57<>0,S57<>0),D57+I57+N57+S57,"") | Y57: =IF(AND(E57<>0,J57<>0,O57<>0,T57<>0),E57+J57+O57+T57,"") | Z57: =IF(Y57="","",IFERROR(VLOOKUP(B57,dt_go,2,FALSE)*Y57*(volume_friction/1000),"")) | AA57: =IFERROR(IF(X57=0,"",X57/Z57),"") | AB57: =IFERROR(IF(X57=0,"",X57/Y57/(volume_friction/1000)),"")
C58: =IFERROR(VLOOKUP(B58,dt_go,2,FALSE),"") | F58: =IF(E58="","",IFERROR(VLOOKUP(B58,dt_go,2,FALSE)*E58*(volume_friction/1000),"")) | G58: =IFERROR(IF(D58=0,"",D58/F58),"") | H58: =IFERROR(IF(D58=0,"",D58/E58/(volume_friction/1000)),"") | K58: =IF(J58="","",IFERROR(VLOOKUP(B58,dt_go,2,FALSE)*J58*(volume_friction/1000),"")) | L58: =IFERROR(IF(I58=0,"",I58/K58),"") | M58: =IFERROR(IF(I58=0,"",I58/J58/(volume_friction/1000)),"") | P58: =IF(O58="","",IFERROR(VLOOKUP(B58,dt_go,2,FALSE)*O58*(volume_friction/1000),"")) | Q58: =IFERROR(IF(N58=0,"",N58/P58),"") | R58: =IFERROR(IF(N58=0,"",N58/O58/(volume_friction/1000)),"") | U58: =IF(T58="","",IFERROR(VLOOKUP(B58,dt_go,2,FALSE)*T58*(volume_friction/1000),"")) | V58: =IFERROR(IF(S58=0,"",S58/U58),"") | W58: =IFERROR(IF(S58=0,"",S58/T58/(volume_friction/1000)),"") | X58: =IF(AND(D58<>0,I58<>0,N58<>0,S58<>0),D58+I58+N58+S58,"") | Y58: =IF(AND(E58<>0,J58<>0,O58<>0,T58<>0),E58+J58+O58+T58,"") | Z58: =IF(Y58="","",IFERROR(VLOOKUP(B58,dt_go,2,FALSE)*Y58*(volume_friction/1000),"")) | AA58: =IFERROR(IF(X58=0,"",X58/Z58),"") | AB58: =IFERROR(IF(X58=0,"",X58/Y58/(volume_friction/1000)),"")
C59: =IFERROR(VLOOKUP(B59,dt_go,2,FALSE),"") | F59: =IF(E59="","",IFERROR(VLOOKUP(B59,dt_go,2,FALSE)*E59*(volume_friction/1000),"")) | G59: =IFERROR(IF(D59=0,"",D59/F59),"") | H59: =IFERROR(IF(D59=0,"",D59/E59/(volume_friction/1000)),"") | K59: =IF(J59="","",IFERROR(VLOOKUP(B59,dt_go,2,FALSE)*J59*(volume_friction/1000),"")) | L59: =IFERROR(IF(I59=0,"",I59/K59),"") | M59: =IFERROR(IF(I59=0,"",I59/J59/(volume_friction/1000)),"") | P59: =IF(O59="","",IFERROR(VLOOKUP(B59,dt_go,2,FALSE)*O59*(volume_friction/1000),"")) | Q59: =IFERROR(IF(N59=0,"",N59/P59),"") | R59: =IFERROR(IF(N59=0,"",N59/O59/(volume_friction/1000)),"") | U59: =IF(T59="","",IFERROR(VLOOKUP(B59,dt_go,2,FALSE)*T59*(volume_friction/1000),"")) | V59: =IFERROR(IF(S59=0,"",S59/U59),"") | W59: =IFERROR(IF(S59=0,"",S59/T59/(volume_friction/1000)),"") | X59: =IF(AND(D59<>0,I59<>0,N59<>0,S59<>0),D59+I59+N59+S59,"") | Y59: =IF(AND(E59<>0,J59<>0,O59<>0,T59<>0),E59+J59+O59+T59,"") | Z59: =IF(Y59="","",IFERROR(VLOOKUP(B59,dt_go,2,FALSE)*Y59*(volume_friction/1000),"")) | AA59: =IFERROR(IF(X59=0,"",X59/Z59),"") | AB59: =IFERROR(IF(X59=0,"",X59/Y59/(volume_friction/1000)),"")
C60: =IFERROR(VLOOKUP(B60,dt_go,2,FALSE),"") | F60: =IF(E60="","",IFERROR(VLOOKUP(B60,dt_go,2,FALSE)*E60*(volume_friction/1000),"")) | G60: =IFERROR(IF(D60=0,"",D60/F60),"") | H60: =IFERROR(IF(D60=0,"",D60/E60/(volume_friction/1000)),"") | K60: =IF(J60="","",IFERROR(VLOOKUP(B60,dt_go,2,FALSE)*J60*(volume_friction/1000),"")) | L60: =IFERROR(IF(I60=0,"",I60/K60),"") | M60: =IFERROR(IF(I60=0,"",I60/J60/(volume_friction/1000)),"") | P60: =IF(O60="","",IFERROR(VLOOKUP(B60,dt_go,2,FALSE)*O60*(volume_friction/1000),"")) | Q60: =IFERROR(IF(N60=0,"",N60/P60),"") | R60: =IFERROR(IF(N60=0,"",N60/O60/(volume_friction/1000)),"") | U60: =IF(T60="","",IFERROR(VLOOKUP(B60,dt_go,2,FALSE)*T60*(volume_friction/1000),"")) | V60: =IFERROR(IF(S60=0,"",S60/U60),"") | W60: =IFERROR(IF(S60=0,"",S60/T60/(volume_friction/1000)),"") | X60: =IF(AND(D60<>0,I60<>0,N60<>0,S60<>0),D60+I60+N60+S60,"") | Y60: =IF(AND(E60<>0,J60<>0,O60<>0,T60<>0),E60+J60+O60+T60,"") | Z60: =IF(Y60="","",IFERROR(VLOOKUP(B60,dt_go,2,FALSE)*Y60*(volume_friction/1000),"")) | AA60: =IFERROR(IF(X60=0,"",X60/Z60),"") | AB60: =IFERROR(IF(X60=0,"",X60/Y60/(volume_friction/1000)),"")
C61: =IFERROR(VLOOKUP(B61,dt_go,2,FALSE),"") | F61: =IF(E61="","",IFERROR(VLOOKUP(B61,dt_go,2,FALSE)*E61*(volume_friction/1000),"")) | G61: =IFERROR(IF(D61=0,"",D61/F61),"") | H61: =IFERROR(IF(D61=0,"",D61/E61/(volume_friction/1000)),"") | K61: =IF(J61="","",IFERROR(VLOOKUP(B61,dt_go,2,FALSE)*J61*(volume_friction/1000),"")) | L61: =IFERROR(IF(I61=0,"",I61/K61),"") | M61: =IFERROR(IF(I61=0,"",I61/J61/(volume_friction/1000)),"") | P61: =IF(O61="","",IFERROR(VLOOKUP(B61,dt_go,2,FALSE)*O61*(volume_friction/1000),"")) | Q61: =IFERROR(IF(N61=0,"",N61/P61),"") | R61: =IFERROR(IF(N61=0,"",N61/O61/(volume_friction/1000)),"") | U61: =IF(T61="","",IFERROR(VLOOKUP(B61,dt_go,2,FALSE)*T61*(volume_friction/1000),"")) | V61: =IFERROR(IF(S61=0,"",S61/U61),"") | W61: =IFERROR(IF(S61=0,"",S61/T61/(volume_friction/1000)),"") | X61: =IF(AND(D61<>0,I61<>0,N61<>0,S61<>0),D61+I61+N61+S61,"") | Y61: =IF(AND(E61<>0,J61<>0,O61<>0,T61<>0),E61+J61+O61+T61,"") | Z61: =IF(Y61="","",IFERROR(VLOOKUP(B61,dt_go,2,FALSE)*Y61*(volume_friction/1000),"")) | AA61: =IFERROR(IF(X61=0,"",X61/Z61),"") | AB61: =IFERROR(IF(X61=0,"",X61/Y61/(volume_friction/1000)),"")
C62: =IFERROR(VLOOKUP(B62,dt_go,2,FALSE),"") | F62: =IF(E62="","",IFERROR(VLOOKUP(B62,dt_go,2,FALSE)*E62*(volume_friction/1000),"")) | G62: =IFERROR(IF(D62=0,"",D62/F62),"") | H62: =IFERROR(IF(D62=0,"",D62/E62/(volume_friction/1000)),"") | K62: =IF(J62="","",IFERROR(VLOOKUP(B62,dt_go,2,FALSE)*J62*(volume_friction/1000),"")) | L62: =IFERROR(IF(I62=0,"",I62/K62),"") | M62: =IFERROR(IF(I62=0,"",I62/J62/(volume_friction/1000)),"") | P62: =IF(O62="","",IFERROR(VLOOKUP(B62,dt_go,2,FALSE)*O62*(volume_friction/1000),"")) | Q62: =IFERROR(IF(N62=0,"",N62/P62),"") | R62: =IFERROR(IF(N62=0,"",N62/O62/(volume_friction/1000)),"") | U62: =IF(T62="","",IFERROR(VLOOKUP(B62,dt_go,2,FALSE)*T62*(volume_friction/1000),"")) | V62: =IFERROR(IF(S62=0,"",S62/U62),"") | W62: =IFERROR(IF(S62=0,"",S62/T62/(volume_friction/1000)),"") | X62: =IF(AND(D62<>0,I62<>0,N62<>0,S62<>0),D62+I62+N62+S62,"") | Y62: =IF(AND(E62<>0,J62<>0,O62<>0,T62<>0),E62+J62+O62+T62,"") | Z62: =IF(Y62="","",IFERROR(VLOOKUP(B62,dt_go,2,FALSE)*Y62*(volume_friction/1000),"")) | AA62: =IFERROR(IF(X62=0,"",X62/Z62),"") | AB62: =IFERROR(IF(X62=0,"",X62/Y62/(volume_friction/1000)),"")
C63: =IFERROR(VLOOKUP(B63,dt_go,2,FALSE),"") | F63: =IF(E63="","",IFERROR(VLOOKUP(B63,dt_go,2,FALSE)*E63*(volume_friction/1000),"")) | G63: =IFERROR(IF(D63=0,"",D63/F63),"") | H63: =IFERROR(IF(D63=0,"",D63/E63/(volume_friction/1000)),"") | K63: =IF(J63="","",IFERROR(VLOOKUP(B63,dt_go,2,FALSE)*J63*(volume_friction/1000),"")) | L63: =IFERROR(IF(I63=0,"",I63/K63),"") | M63: =IFERROR(IF(I63=0,"",I63/J63/(volume_friction/1000)),"") | P63: =IF(O63="","",IFERROR(VLOOKUP(B63,dt_go,2,FALSE)*O63*(volume_friction/1000),"")) | Q63: =IFERROR(IF(N63=0,"",N63/P63),"") | R63: =IFERROR(IF(N63=0,"",N63/O63/(volume_friction/1000)),"") | U63: =IF(T63="","",IFERROR(VLOOKUP(B63,dt_go,2,FALSE)*T63*(volume_friction/1000),"")) | V63: =IFERROR(IF(S63=0,"",S63/U63),"") | W63: =IFERROR(IF(S63=0,"",S63/T63/(volume_friction/1000)),"") | X63: =IF(AND(D63<>0,I63<>0,N63<>0,S63<>0),D63+I63+N63+S63,"") | Y63: =IF(AND(E63<>0,J63<>0,O63<>0,T63<>0),E63+J63+O63+T63,"") | Z63: =IF(Y63="","",IFERROR(VLOOKUP(B63,dt_go,2,FALSE)*Y63*(volume_friction/1000),"")) | AA63: =IFERROR(IF(X63=0,"",X63/Z63),"") | AB63: =IFERROR(IF(X63=0,"",X63/Y63/(volume_friction/1000)),"")
C64: =IFERROR(VLOOKUP(B64,dt_go,2,FALSE),"") | F64: =IF(E64="","",IFERROR(VLOOKUP(B64,dt_go,2,FALSE)*E64*(volume_friction/1000),"")) | G64: =IFERROR(IF(D64=0,"",D64/F64),"") | H64: =IFERROR(IF(D64=0,"",D64/E64/(volume_friction/1000)),"") | K64: =IF(J64="","",IFERROR(VLOOKUP(B64,dt_go,2,FALSE)*J64*(volume_friction/1000),"")) | L64: =IFERROR(IF(I64=0,"",I64/K64),"") | M64: =IFERROR(IF(I64=0,"",I64/J64/(volume_friction/1000)),"") | P64: =IF(O64="","",IFERROR(VLOOKUP(B64,dt_go,2,FALSE)*O64*(volume_friction/1000),"")) | Q64: =IFERROR(IF(N64=0,"",N64/P64),"") | R64: =IFERROR(IF(N64=0,"",N64/O64/(volume_friction/1000)),"") | U64: =IF(T64="","",IFERROR(VLOOKUP(B64,dt_go,2,FALSE)*T64*(volume_friction/1000),"")) | V64: =IFERROR(IF(S64=0,"",S64/U64),"") | W64: =IFERROR(IF(S64=0,"",S64/T64/(volume_friction/1000)),"") | X64: =IF(AND(D64<>0,I64<>0,N64<>0,S64<>0),D64+I64+N64+S64,"") | Y64: =IF(AND(E64<>0,J64<>0,O64<>0,T64<>0),E64+J64+O64+T64,"") | Z64: =IF(Y64="","",IFERROR(VLOOKUP(B64,dt_go,2,FALSE)*Y64*(volume_friction/1000),"")) | AA64: =IFERROR(IF(X64=0,"",X64/Z64),"") | AB64: =IFERROR(IF(X64=0,"",X64/Y64/(volume_friction/1000)),"")
A67: Services de Réanimation / Soins continus
A70: Type d'activité : | B70: Nombre de frictions à atteindre | C70: Activité mesurée par
A71: Réanimation | B71: 43 | C71: Jour
A72: USI-USC | B72: 28 | C72: Jour
D74: T1 | I74: T2 | N74: T3 | S74: T4 | X74: Année
A75: Service | B75: Spécialité | C75: Frictions théoriques | D75: Total consommé en litres | E75: Total activité | F75: Total théorique en litres | G75: % de conso ICSHA | H75: Frictions réalisées | I75: Total consommé en litres | J75: Total activité | K75: Total théorique en litres | L75: % de conso ICSHA | M75: Frictions réalisées | N75: Total consommé en litres | O75: Total activité | P75: Total théorique en litres | Q75: % de conso ICSHA | R75: Frictions réalisées | S75: Total consommé en litres | T75: Total activité | U75: Total théorique en litres | V75: % de conso ICSHA | W75: Frictions réalisées | X75: Total consommé en litres | Y75: Total activité | Z75: Total théorique en litres | AA75: % de conso ICSHA | AB75: Frictions réalisées
C76: =IFERROR(VLOOKUP(B76,dt_rea,2,FALSE),"") | F76: =IF(E76="","",IFERROR(VLOOKUP(B76,dt_rea,2,FALSE)*E76*(volume_friction/1000),"")) | G76: =IFERROR(IF(D76=0,"",D76/F76),"") | H76: =IFERROR(IF(D76=0,"",D76/E76/(volume_friction/1000)),"") | K76: =IF(J76="","",IFERROR(VLOOKUP(B76,dt_rea,2,FALSE)*J76*(volume_friction/1000),"")) | L76: =IFERROR(IF(I76=0,"",I76/K76),"") | M76: =IFERROR(IF(I76=0,"",I76/J76/(volume_friction/1000)),"") | P76: =IF(O76="","",IFERROR(VLOOKUP(B76,dt_rea,2,FALSE)*O76*(volume_friction/1000),"")) | Q76: =IFERROR(IF(N76=0,"",N76/P76),"") | R76: =IFERROR(IF(N76=0,"",N76/O76/(volume_friction/1000)),"") | U76: =IF(T76="","",IFERROR(VLOOKUP(B76,dt_rea,2,FALSE)*T76*(volume_friction/1000),"")) | V76: =IFERROR(IF(S76=0,"",S76/U76),"") | W76: =IFERROR(IF(S76=0,"",S76/T76/(volume_friction/1000)),"") | X76: =IF(AND(D76<>0,I76<>0,N76<>0,S76<>0),D76+I76+N76+S76,"") | Y76: =IF(AND(E76<>0,J76<>0,O76<>0,T76<>0),E76+J76+O76+T76,"") | Z76: =IF(Y76="","",IFERROR(VLOOKUP(B76,dt_rea,2,FALSE)*Y76*(volume_friction/1000),"")) | AA76: =IFERROR(IF(X76=0,"",X76/Z76),"") | AB76: =IFERROR(IF(X76=0,"",X76/Y76/(volume_friction/1000)),"")
C77: =IFERROR(VLOOKUP(B77,dt_rea,2,FALSE),"") | F77: =IF(E77="","",IFERROR(VLOOKUP(B77,dt_rea,2,FALSE)*E77*(volume_friction/1000),"")) | G77: =IFERROR(IF(D77=0,"",D77/F77),"") | H77: =IFERROR(IF(D77=0,"",D77/E77/(volume_friction/1000)),"") | K77: =IF(J77="","",IFERROR(VLOOKUP(B77,dt_rea,2,FALSE)*J77*(volume_friction/1000),"")) | L77: =IFERROR(IF(I77=0,"",I77/K77),"") | M77: =IFERROR(IF(I77=0,"",I77/J77/(volume_friction/1000)),"") | P77: =IF(O77="","",IFERROR(VLOOKUP(B77,dt_rea,2,FALSE)*O77*(volume_friction/1000),"")) | Q77: =IFERROR(IF(N77=0,"",N77/P77),"") | R77: =IFERROR(IF(N77=0,"",N77/O77/(volume_friction/1000)),"") | U77: =IF(T77="","",IFERROR(VLOOKUP(B77,dt_rea,2,FALSE)*T77*(volume_friction/1000),"")) | V77: =IFERROR(IF(S77=0,"",S77/U77),"") | W77: =IFERROR(IF(S77=0,"",S77/T77/(volume_friction/1000)),"") | X77: =IF(AND(D77<>0,I77<>0,N77<>0,S77<>0),D77+I77+N77+S77,"") | Y77: =IF(AND(E77<>0,J77<>0,O77<>0,T77<>0),E77+J77+O77+T77,"") | Z77: =IF(Y77="","",IFERROR(VLOOKUP(B77,dt_rea,2,FALSE)*Y77*(volume_friction/1000),"")) | AA77: =IFERROR(IF(X77=0,"",X77/Z77),"") | AB77: =IFERROR(IF(X77=0,"",X77/Y77/(volume_friction/1000)),"")
C78: =IFERROR(VLOOKUP(B78,dt_rea,2,FALSE),"") | F78: =IF(E78="","",IFERROR(VLOOKUP(B78,dt_rea,2,FALSE)*E78*(volume_friction/1000),"")) | G78: =IFERROR(IF(D78=0,"",D78/F78),"") | H78: =IFERROR(IF(D78=0,"",D78/E78/(volume_friction/1000)),"") | K78: =IF(J78="","",IFERROR(VLOOKUP(B78,dt_rea,2,FALSE)*J78*(volume_friction/1000),"")) | L78: =IFERROR(IF(I78=0,"",I78/K78),"") | M78: =IFERROR(IF(I78=0,"",I78/J78/(volume_friction/1000)),"") | P78: =IF(O78="","",IFERROR(VLOOKUP(B78,dt_rea,2,FALSE)*O78*(volume_friction/1000),"")) | Q78: =IFERROR(IF(N78=0,"",N78/P78),"") | R78: =IFERROR(IF(N78=0,"",N78/O78/(volume_friction/1000)),"") | U78: =IF(T78="","",IFERROR(VLOOKUP(B78,dt_rea,2,FALSE)*T78*(volume_friction/1000),"")) | V78: =IFERROR(IF(S78=0,"",S78/U78),"") | W78: =IFERROR(IF(S78=0,"",S78/T78/(volume_friction/1000)),"") | X78: =IF(AND(D78<>0,I78<>0,N78<>0,S78<>0),D78+I78+N78+S78,"") | Y78: =IF(AND(E78<>0,J78<>0,O78<>0,T78<>0),E78+J78+O78+T78,"") | Z78: =IF(Y78="","",IFERROR(VLOOKUP(B78,dt_rea,2,FALSE)*Y78*(volume_friction/1000),"")) | AA78: =IFERROR(IF(X78=0,"",X78/Z78),"") | AB78: =IFERROR(IF(X78=0,"",X78/Y78/(volume_friction/1000)),"")
C79: =IFERROR(VLOOKUP(B79,dt_rea,2,FALSE),"") | F79: =IF(E79="","",IFERROR(VLOOKUP(B79,dt_rea,2,FALSE)*E79*(volume_friction/1000),"")) | G79: =IFERROR(IF(D79=0,"",D79/F79),"") | H79: =IFERROR(IF(D79=0,"",D79/E79/(volume_friction/1000)),"") | K79: =IF(J79="","",IFERROR(VLOOKUP(B79,dt_rea,2,FALSE)*J79*(volume_friction/1000),"")) | L79: =IFERROR(IF(I79=0,"",I79/K79),"") | M79: =IFERROR(IF(I79=0,"",I79/J79/(volume_friction/1000)),"") | P79: =IF(O79="","",IFERROR(VLOOKUP(B79,dt_rea,2,FALSE)*O79*(volume_friction/1000),"")) | Q79: =IFERROR(IF(N79=0,"",N79/P79),"") | R79: =IFERROR(IF(N79=0,"",N79/O79/(volume_friction/1000)),"") | U79: =IF(T79="","",IFERROR(VLOOKUP(B79,dt_rea,2,FALSE)*T79*(volume_friction/1000),"")) | V79: =IFERROR(IF(S79=0,"",S79/U79),"") | W79: =IFERROR(IF(S79=0,"",S79/T79/(volume_friction/1000)),"") | X79: =IF(AND(D79<>0,I79<>0,N79<>0,S79<>0),D79+I79+N79+S79,"") | Y79: =IF(AND(E79<>0,J79<>0,O79<>0,T79<>0),E79+J79+O79+T79,"") | Z79: =IF(Y79="","",IFERROR(VLOOKUP(B79,dt_rea,2,FALSE)*Y79*(volume_friction/1000),"")) | AA79: =IFERROR(IF(X79=0,"",X79/Z79),"") | AB79: =IFERROR(IF(X79=0,"",X79/Y79/(volume_friction/1000)),"")
C80: =IFERROR(VLOOKUP(B80,dt_rea,2,FALSE),"") | F80: =IF(E80="","",IFERROR(VLOOKUP(B80,dt_rea,2,FALSE)*E80*(volume_friction/1000),"")) | G80: =IFERROR(IF(D80=0,"",D80/F80),"") | H80: =IFERROR(IF(D80=0,"",D80/E80/(volume_friction/1000)),"") | K80: =IF(J80="","",IFERROR(VLOOKUP(B80,dt_rea,2,FALSE)*J80*(volume_friction/1000),"")) | L80: =IFERROR(IF(I80=0,"",I80/K80),"") | M80: =IFERROR(IF(I80=0,"",I80/J80/(volume_friction/1000)),"") | P80: =IF(O80="","",IFERROR(VLOOKUP(B80,dt_rea,2,FALSE)*O80*(volume_friction/1000),"")) | Q80: =IFERROR(IF(N80=0,"",N80/P80),"") | R80: =IFERROR(IF(N80=0,"",N80/O80/(volume_friction/1000)),"") | U80: =IF(T80="","",IFERROR(VLOOKUP(B80,dt_rea,2,FALSE)*T80*(volume_friction/1000),"")) | V80: =IFERROR(IF(S80=0,"",S80/U80),"") | W80: =IFERROR(IF(S80=0,"",S80/T80/(volume_friction/1000)),"") | X80: =IF(AND(D80<>0,I80<>0,N80<>0,S80<>0),D80+I80+N80+S80,"") | Y80: =IF(AND(E80<>0,J80<>0,O80<>0,T80<>0),E80+J80+O80+T80,"") | Z80: =IF(Y80="","",IFERROR(VLOOKUP(B80,dt_rea,2,FALSE)*Y80*(volume_friction/1000),"")) | AA80: =IFERROR(IF(X80=0,"",X80/Z80),"") | AB80: =IFERROR(IF(X80=0,"",X80/Y80/(volume_friction/1000)),"")
C81: =IFERROR(VLOOKUP(B81,dt_rea,2,FALSE),"") | F81: =IF(E81="","",IFERROR(VLOOKUP(B81,dt_rea,2,FALSE)*E81*(volume_friction/1000),"")) | G81: =IFERROR(IF(D81=0,"",D81/F81),"") | H81: =IFERROR(IF(D81=0,"",D81/E81/(volume_friction/1000)),"") | K81: =IF(J81="","",IFERROR(VLOOKUP(B81,dt_rea,2,FALSE)*J81*(volume_friction/1000),"")) | L81: =IFERROR(IF(I81=0,"",I81/K81),"") | M81: =IFERROR(IF(I81=0,"",I81/J81/(volume_friction/1000)),"") | P81: =IF(O81="","",IFERROR(VLOOKUP(B81,dt_rea,2,FALSE)*O81*(volume_friction/1000),"")) | Q81: =IFERROR(IF(N81=0,"",N81/P81),"") | R81: =IFERROR(IF(N81=0,"",N81/O81/(volume_friction/1000)),"") | U81: =IF(T81="","",IFERROR(VLOOKUP(B81,dt_rea,2,FALSE)*T81*(volume_friction/1000),"")) | V81: =IFERROR(IF(S81=0,"",S81/U81),"") | W81: =IFERROR(IF(S81=0,"",S81/T81/(volume_friction/1000)),"") | X81: =IF(AND(D81<>0,I81<>0,N81<>0,S81<>0),D81+I81+N81+S81,"") | Y81: =IF(AND(E81<>0,J81<>0,O81<>0,T81<>0),E81+J81+O81+T81,"") | Z81: =IF(Y81="","",IFERROR(VLOOKUP(B81,dt_rea,2,FALSE)*Y81*(volume_friction/1000),"")) | AA81: =IFERROR(IF(X81=0,"",X81/Z81),"") | AB81: =IFERROR(IF(X81=0,"",X81/Y81/(volume_friction/1000)),"")
C82: =IFERROR(VLOOKUP(B82,dt_rea,2,FALSE),"") | F82: =IF(E82="","",IFERROR(VLOOKUP(B82,dt_rea,2,FALSE)*E82*(volume_friction/1000),"")) | G82: =IFERROR(IF(D82=0,"",D82/F82),"") | H82: =IFERROR(IF(D82=0,"",D82/E82/(volume_friction/1000)),"") | K82: =IF(J82="","",IFERROR(VLOOKUP(B82,dt_rea,2,FALSE)*J82*(volume_friction/1000),"")) | L82: =IFERROR(IF(I82=0,"",I82/K82),"") | M82: =IFERROR(IF(I82=0,"",I82/J82/(volume_friction/1000)),"") | P82: =IF(O82="","",IFERROR(VLOOKUP(B82,dt_rea,2,FALSE)*O82*(volume_friction/1000),"")) | Q82: =IFERROR(IF(N82=0,"",N82/P82),"") | R82: =IFERROR(IF(N82=0,"",N82/O82/(volume_friction/1000)),"") | U82: =IF(T82="","",IFERROR(VLOOKUP(B82,dt_rea,2,FALSE)*T82*(volume_friction/1000),"")) | V82: =IFERROR(IF(S82=0,"",S82/U82),"") | W82: =IFERROR(IF(S82=0,"",S82/T82/(volume_friction/1000)),"") | X82: =IF(AND(D82<>0,I82<>0,N82<>0,S82<>0),D82+I82+N82+S82,"") | Y82: =IF(AND(E82<>0,J82<>0,O82<>0,T82<>0),E82+J82+O82+T82,"") | Z82: =IF(Y82="","",IFERROR(VLOOKUP(B82,dt_rea,2,FALSE)*Y82*(volume_friction/1000),"")) | AA82: =IFERROR(IF(X82=0,"",X82/Z82),"") | AB82: =IFERROR(IF(X82=0,"",X82/Y82/(volume_friction/1000)),"")
C83: =IFERROR(VLOOKUP(B83,dt_rea,2,FALSE),"") | F83: =IF(E83="","",IFERROR(VLOOKUP(B83,dt_rea,2,FALSE)*E83*(volume_friction/1000),"")) | G83: =IFERROR(IF(D83=0,"",D83/F83),"") | H83: =IFERROR(IF(D83=0,"",D83/E83/(volume_friction/1000)),"") | K83: =IF(J83="","",IFERROR(VLOOKUP(B83,dt_rea,2,FALSE)*J83*(volume_friction/1000),"")) | L83: =IFERROR(IF(I83=0,"",I83/K83),"") | M83: =IFERROR(IF(I83=0,"",I83/J83/(volume_friction/1000)),"") | P83: =IF(O83="","",IFERROR(VLOOKUP(B83,dt_rea,2,FALSE)*O83*(volume_friction/1000),"")) | Q83: =IFERROR(IF(N83=0,"",N83/P83),"") | R83: =IFERROR(IF(N83=0,"",N83/O83/(volume_friction/1000)),"") | U83: =IF(T83="","",IFERROR(VLOOKUP(B83,dt_rea,2,FALSE)*T83*(volume_friction/1000),"")) | V83: =IFERROR(IF(S83=0,"",S83/U83),"") | W83: =IFERROR(IF(S83=0,"",S83/T83/(volume_friction/1000)),"") | X83: =IF(AND(D83<>0,I83<>0,N83<>0,S83<>0),D83+I83+N83+S83,"") | Y83: =IF(AND(E83<>0,J83<>0,O83<>0,T83<>0),E83+J83+O83+T83,"") | Z83: =IF(Y83="","",IFERROR(VLOOKUP(B83,dt_rea,2,FALSE)*Y83*(volume_friction/1000),"")) | AA83: =IFERROR(IF(X83=0,"",X83/Z83),"") | AB83: =IFERROR(IF(X83=0,"",X83/Y83/(volume_friction/1000)),"")
C84: =IFERROR(VLOOKUP(B84,dt_rea,2,FALSE),"") | F84: =IF(E84="","",IFERROR(VLOOKUP(B84,dt_rea,2,FALSE)*E84*(volume_friction/1000),"")) | G84: =IFERROR(IF(D84=0,"",D84/F84),"") | H84: =IFERROR(IF(D84=0,"",D84/E84/(volume_friction/1000)),"") | K84: =IF(J84="","",IFERROR(VLOOKUP(B84,dt_rea,2,FALSE)*J84*(volume_friction/1000),"")) | L84: =IFERROR(IF(I84=0,"",I84/K84),"") | M84: =IFERROR(IF(I84=0,"",I84/J84/(volume_friction/1000)),"") | P84: =IF(O84="","",IFERROR(VLOOKUP(B84,dt_rea,2,FALSE)*O84*(volume_friction/1000),"")) | Q84: =IFERROR(IF(N84=0,"",N84/P84),"") | R84: =IFERROR(IF(N84=0,"",N84/O84/(volume_friction/1000)),"") | U84: =IF(T84="","",IFERROR(VLOOKUP(B84,dt_rea,2,FALSE)*T84*(volume_friction/1000),"")) | V84: =IFERROR(IF(S84=0,"",S84/U84),"") | W84: =IFERROR(IF(S84=0,"",S84/T84/(volume_friction/1000)),"") | X84: =IF(AND(D84<>0,I84<>0,N84<>0,S84<>0),D84+I84+N84+S84,"") | Y84: =IF(AND(E84<>0,J84<>0,O84<>0,T84<>0),E84+J84+O84+T84,"") | Z84: =IF(Y84="","",IFERROR(VLOOKUP(B84,dt_rea,2,FALSE)*Y84*(volume_friction/1000),"")) | AA84: =IFERROR(IF(X84=0,"",X84/Z84),"") | AB84: =IFERROR(IF(X84=0,"",X84/Y84/(volume_friction/1000)),"")
C85: =IFERROR(VLOOKUP(B85,dt_rea,2,FALSE),"") | F85: =IF(E85="","",IFERROR(VLOOKUP(B85,dt_rea,2,FALSE)*E85*(volume_friction/1000),"")) | G85: =IFERROR(IF(D85=0,"",D85/F85),"") | H85: =IFERROR(IF(D85=0,"",D85/E85/(volume_friction/1000)),"") | K85: =IF(J85="","",IFERROR(VLOOKUP(B85,dt_rea,2,FALSE)*J85*(volume_friction/1000),"")) | L85: =IFERROR(IF(I85=0,"",I85/K85),"") | M85: =IFERROR(IF(I85=0,"",I85/J85/(volume_friction/1000)),"") | P85: =IF(O85="","",IFERROR(VLOOKUP(B85,dt_rea,2,FALSE)*O85*(volume_friction/1000),"")) | Q85: =IFERROR(IF(N85=0,"",N85/P85),"") | R85: =IFERROR(IF(N85=0,"",N85/O85/(volume_friction/1000)),"") | U85: =IF(T85="","",IFERROR(VLOOKUP(B85,dt_rea,2,FALSE)*T85*(volume_friction/1000),"")) | V85: =IFERROR(IF(S85=0,"",S85/U85),"") | W85: =IFERROR(IF(S85=0,"",S85/T85/(volume_friction/1000)),"") | X85: =IF(AND(D85<>0,I85<>0,N85<>0,S85<>0),D85+I85+N85+S85,"") | Y85: =IF(AND(E85<>0,J85<>0,O85<>0,T85<>0),E85+J85+O85+T85,"") | Z85: =IF(Y85="","",IFERROR(VLOOKUP(B85,dt_rea,2,FALSE)*Y85*(volume_friction/1000),"")) | AA85: =IFERROR(IF(X85=0,"",X85/Z85),"") | AB85: =IFERROR(IF(X85=0,"",X85/Y85/(volume_friction/1000)),"")
A88: Services de SSR
A90: Type d'activité : | B90: Nombre de frictions à atteindre | C90: Activité mesurée par
A91: SSR HC | B91: 8 | C91: Jour
A92: SSR HJ | B92: 5 | C92: Jour
D94: T1 | I94: T2 | N94: T3 | S94: T4 | X94: Année
A95: Service | B95: Spécialité | C95: Frictions théoriques | D95: Total consommé en litres | E95: Total activité | F95: Total théorique en litres | G95: % de conso ICSHA | H95: Frictions réalisées | I95: Total consommé en litres | J95: Total activité | K95: Total théorique en litres | L95: % de conso ICSHA | M95: Frictions réalisées | N95: Total consommé en litres | O95: Total activité | P95: Total théorique en litres | Q95: % de conso ICSHA | R95: Frictions réalisées | S95: Total consommé en litres | T95: Total activité | U95: Total théorique en litres | V95: % de conso ICSHA | W95: Frictions réalisées | X95: Total consommé en litres | Y95: Total activité | Z95: Total théorique en litres | AA95: % de conso ICSHA | AB95: Frictions réalisées
C96: =IFERROR(VLOOKUP(B96,dt_ssr,2,FALSE),"") | F96: =IF(E96="","",IFERROR(C96*E96*(volume_friction/1000),"")) | G96: =IFERROR(IF(D96=0,"",D96/F96),"") | H96: =IFERROR(IF(D96=0,"",D96/E96/(volume_friction/1000)),"") | K96: =IF(J96="","",IFERROR(C96*J96*(volume_friction/1000),"")) | L96: =IFERROR(IF(I96=0,"",I96/K96),"") | M96: =IFERROR(IF(I96=0,"",I96/J96/(volume_friction/1000)),"") | P96: =IF(O96="","",IFERROR(C96*O96*(volume_friction/1000),"")) | Q96: =IFERROR(IF(N96=0,"",N96/P96),"") | R96: =IFERROR(IF(N96=0,"",N96/O96/(volume_friction/1000)),"") | U96: =IF(T96="","",IFERROR(C96*T96*(volume_friction/1000),"")) | V96: =IFERROR(IF(S96=0,"",S96/U96),"") | W96: =IFERROR(IF(S96=0,"",S96/T96/(volume_friction/1000)),"") | X96: =IF(AND(D96<>0,I96<>0,N96<>0,S96<>0),D96+I96+N96+S96,"") | Y96: =IF(AND(E96<>0,J96<>0,O96<>0,T96<>0),E96+J96+O96+T96,"") | Z96: =IF(Y96="","",IFERROR(VLOOKUP(B96,dt_ssr,2,FALSE)*Y96*(volume_friction/1000),"")) | AA96: =IFERROR(IF(X96=0,"",X96/Z96),"") | AB96: =IFERROR(IF(X96=0,"",X96/Y96/(volume_friction/1000)),"")
C97: =IFERROR(VLOOKUP(B97,dt_ssr,2,FALSE),"") | F97: =IF(E97="","",IFERROR(C97*E97*(volume_friction/1000),"")) | G97: =IFERROR(IF(D97=0,"",D97/F97),"") | H97: =IFERROR(IF(D97=0,"",D97/E97/(volume_friction/1000)),"") | K97: =IF(J97="","",IFERROR(C97*J97*(volume_friction/1000),"")) | L97: =IFERROR(IF(I97=0,"",I97/K97),"") | M97: =IFERROR(IF(I97=0,"",I97/J97/(volume_friction/1000)),"") | P97: =IF(O97="","",IFERROR(C97*O97*(volume_friction/1000),"")) | Q97: =IFERROR(IF(N97=0,"",N97/P97),"") | R97: =IFERROR(IF(N97=0,"",N97/O97/(volume_friction/1000)),"") | U97: =IF(T97="","",IFERROR(C97*T97*(volume_friction/1000),"")) | V97: =IFERROR(IF(S97=0,"",S97/U97),"") | W97: =IFERROR(IF(S97=0,"",S97/T97/(volume_friction/1000)),"") | X97: =IF(AND(D97<>0,I97<>0,N97<>0,S97<>0),D97+I97+N97+S97,"") | Y97: =IF(AND(E97<>0,J97<>0,O97<>0,T97<>0),E97+J97+O97+T97,"") | Z97: =IF(Y97="","",IFERROR(VLOOKUP(B97,dt_ssr,2,FALSE)*Y97*(volume_friction/1000),"")) | AA97: =IFERROR(IF(X97=0,"",X97/Z97),"") | AB97: =IFERROR(IF(X97=0,"",X97/Y97/(volume_friction/1000)),"")
C98: =IFERROR(VLOOKUP(B98,dt_ssr,2,FALSE),"") | F98: =IF(E98="","",IFERROR(C98*E98*(volume_friction/1000),"")) | G98: =IFERROR(IF(D98=0,"",D98/F98),"") | H98: =IFERROR(IF(D98=0,"",D98/E98/(volume_friction/1000)),"") | K98: =IF(J98="","",IFERROR(C98*J98*(volume_friction/1000),"")) | L98: =IFERROR(IF(I98=0,"",I98/K98),"") | M98: =IFERROR(IF(I98=0,"",I98/J98/(volume_friction/1000)),"") | P98: =IF(O98="","",IFERROR(C98*O98*(volume_friction/1000),"")) | Q98: =IFERROR(IF(N98=0,"",N98/P98),"") | R98: =IFERROR(IF(N98=0,"",N98/O98/(volume_friction/1000)),"") | U98: =IF(T98="","",IFERROR(C98*T98*(volume_friction/1000),"")) | V98: =IFERROR(IF(S98=0,"",S98/U98),"") | W98: =IFERROR(IF(S98=0,"",S98/T98/(volume_friction/1000)),"") | X98: =IF(AND(D98<>0,I98<>0,N98<>0,S98<>0),D98+I98+N98+S98,"") | Y98: =IF(AND(E98<>0,J98<>0,O98<>0,T98<>0),E98+J98+O98+T98,"") | Z98: =IF(Y98="","",IFERROR(VLOOKUP(B98,dt_ssr,2,FALSE)*Y98*(volume_friction/1000),"")) | AA98: =IFERROR(IF(X98=0,"",X98/Z98),"") | AB98: =IFERROR(IF(X98=0,"",X98/Y98/(volume_friction/1000)),"")
C99: =IFERROR(VLOOKUP(B99,dt_ssr,2,FALSE),"") | F99: =IF(E99="","",IFERROR(C99*E99*(volume_friction/1000),"")) | G99: =IFERROR(IF(D99=0,"",D99/F99),"") | H99: =IFERROR(IF(D99=0,"",D99/E99/(volume_friction/1000)),"") | K99: =IF(J99="","",IFERROR(C99*J99*(volume_friction/1000),"")) | L99: =IFERROR(IF(I99=0,"",I99/K99),"") | M99: =IFERROR(IF(I99=0,"",I99/J99/(volume_friction/1000)),"") | P99: =IF(O99="","",IFERROR(C99*O99*(volume_friction/1000),"")) | Q99: =IFERROR(IF(N99=0,"",N99/P99),"") | R99: =IFERROR(IF(N99=0,"",N99/O99/(volume_friction/1000)),"") | U99: =IF(T99="","",IFERROR(C99*T99*(volume_friction/1000),"")) | V99: =IFERROR(IF(S99=0,"",S99/U99),"") | W99: =IFERROR(IF(S99=0,"",S99/T99/(volume_friction/1000)),"") | X99: =IF(AND(D99<>0,I99<>0,N99<>0,S99<>0),D99+I99+N99+S99,"") | Y99: =IF(AND(E99<>0,J99<>0,O99<>0,T99<>0),E99+J99+O99+T99,"") | Z99: =IF(Y99="","",IFERROR(VLOOKUP(B99,dt_ssr,2,FALSE)*Y99*(volume_friction/1000),"")) | AA99: =IFERROR(IF(X99=0,"",X99/Z99),"") | AB99: =IFERROR(IF(X99=0,"",X99/Y99/(volume_friction/1000)),"")
C100: =IFERROR(VLOOKUP(B100,dt_ssr,2,FALSE),"") | F100: =IF(E100="","",IFERROR(C100*E100*(volume_friction/1000),"")) | G100: =IFERROR(IF(D100=0,"",D100/F100),"") | H100: =IFERROR(IF(D100=0,"",D100/E100/(volume_friction/1000)),"") | K100: =IF(J100="","",IFERROR(C100*J100*(volume_friction/1000),"")) | L100: =IFERROR(IF(I100=0,"",I100/K100),"") | M100: =IFERROR(IF(I100=0,"",I100/J100/(volume_friction/1000)),"") | P100: =IF(O100="","",IFERROR(C100*O100*(volume_friction/1000),"")) | Q100: =IFERROR(IF(N100=0,"",N100/P100),"") | R100: =IFERROR(IF(N100=0,"",N100/O100/(volume_friction/1000)),"") | U100: =IF(T100="","",IFERROR(C100*T100*(volume_friction/1000),"")) | V100: =IFERROR(IF(S100=0,"",S100/U100),"") | W100: =IFERROR(IF(S100=0,"",S100/T100/(volume_friction/1000)),"") | X100: =IF(AND(D100<>0,I100<>0,N100<>0,S100<>0),D100+I100+N100+S100,"") | Y100: =IF(AND(E100<>0,J100<>0,O100<>0,T100<>0),E100+J100+O100+T100,"") | Z100: =IF(Y100="","",IFERROR(VLOOKUP(B100,dt_ssr,2,FALSE)*Y100*(volume_friction/1000),"")) | AA100: =IFERROR(IF(X100=0,"",X100/Z100),"") | AB100: =IFERROR(IF(X100=0,"",X100/Y100/(volume_friction/1000)),"")
C101: =IFERROR(VLOOKUP(B101,dt_ssr,2,FALSE),"") | F101: =IF(E101="","",IFERROR(C101*E101*(volume_friction/1000),"")) | G101: =IFERROR(IF(D101=0,"",D101/F101),"") | H101: =IFERROR(IF(D101=0,"",D101/E101/(volume_friction/1000)),"") | K101: =IF(J101="","",IFERROR(C101*J101*(volume_friction/1000),"")) | L101: =IFERROR(IF(I101=0,"",I101/K101),"") | M101: =IFERROR(IF(I101=0,"",I101/J101/(volume_friction/1000)),"") | P101: =IF(O101="","",IFERROR(C101*O101*(volume_friction/1000),"")) | Q101: =IFERROR(IF(N101=0,"",N101/P101),"") | R101: =IFERROR(IF(N101=0,"",N101/O101/(volume_friction/1000)),"") | U101: =IF(T101="","",IFERROR(C101*T101*(volume_friction/1000),"")) | V101: =IFERROR(IF(S101=0,"",S101/U101),"") | W101: =IFERROR(IF(S101=0,"",S101/T101/(volume_friction/1000)),"") | X101: =IF(AND(D101<>0,I101<>0,N101<>0,S101<>0),D101+I101+N101+S101,"") | Y101: =IF(AND(E101<>0,J101<>0,O101<>0,T101<>0),E101+J101+O101+T101,"") | Z101: =IF(Y101="","",IFERROR(VLOOKUP(B101,dt_ssr,2,FALSE)*Y101*(volume_friction/1000),"")) | AA101: =IFERROR(IF(X101=0,"",X101/Z101),"") | AB101: =IFERROR(IF(X101=0,"",X101/Y101/(volume_friction/1000)),"")
C102: =IFERROR(VLOOKUP(B102,dt_ssr,2,FALSE),"") | F102: =IF(E102="","",IFERROR(C102*E102*(volume_friction/1000),"")) | G102: =IFERROR(IF(D102=0,"",D102/F102),"") | H102: =IFERROR(IF(D102=0,"",D102/E102/(volume_friction/1000)),"") | K102: =IF(J102="","",IFERROR(C102*J102*(volume_friction/1000),"")) | L102: =IFERROR(IF(I102=0,"",I102/K102),"") | M102: =IFERROR(IF(I102=0,"",I102/J102/(volume_friction/1000)),"") | P102: =IF(O102="","",IFERROR(C102*O102*(volume_friction/1000),"")) | Q102: =IFERROR(IF(N102=0,"",N102/P102),"") | R102: =IFERROR(IF(N102=0,"",N102/O102/(volume_friction/1000)),"") | U102: =IF(T102="","",IFERROR(C102*T102*(volume_friction/1000),"")) | V102: =IFERROR(IF(S102=0,"",S102/U102),"") | W102: =IFERROR(IF(S102=0,"",S102/T102/(volume_friction/1000)),"") | X102: =IF(AND(D102<>0,I102<>0,N102<>0,S102<>0),D102+I102+N102+S102,"") | Y102: =IF(AND(E102<>0,J102<>0,O102<>0,T102<>0),E102+J102+O102+T102,"") | Z102: =IF(Y102="","",IFERROR(VLOOKUP(B102,dt_ssr,2,FALSE)*Y102*(volume_friction/1000),"")) | AA102: =IFERROR(IF(X102=0,"",X102/Z102),"") | AB102: =IFERROR(IF(X102=0,"",X102/Y102/(volume_friction/1000)),"")
C103: =IFERROR(VLOOKUP(B103,dt_ssr,2,FALSE),"") | F103: =IF(E103="","",IFERROR(C103*E103*(volume_friction/1000),"")) | G103: =IFERROR(IF(D103=0,"",D103/F103),"") | H103: =IFERROR(IF(D103=0,"",D103/E103/(volume_friction/1000)),"") | K103: =IF(J103="","",IFERROR(C103*J103*(volume_friction/1000),"")) | L103: =IFERROR(IF(I103=0,"",I103/K103),"") | M103: =IFERROR(IF(I103=0,"",I103/J103/(volume_friction/1000)),"") | P103: =IF(O103="","",IFERROR(C103*O103*(volume_friction/1000),"")) | Q103: =IFERROR(IF(N103=0,"",N103/P103),"") | R103: =IFERROR(IF(N103=0,"",N103/O103/(volume_friction/1000)),"") | U103: =IF(T103="","",IFERROR(C103*T103*(volume_friction/1000),"")) | V103: =IFERROR(IF(S103=0,"",S103/U103),"") | W103: =IFERROR(IF(S103=0,"",S103/T103/(volume_friction/1000)),"") | X103: =IF(AND(D103<>0,I103<>0,N103<>0,S103<>0),D103+I103+N103+S103,"") | Y103: =IF(AND(E103<>0,J103<>0,O103<>0,T103<>0),E103+J103+O103+T103,"") | Z103: =IF(Y103="","",IFERROR(VLOOKUP(B103,dt_ssr,2,FALSE)*Y103*(volume_friction/1000),"")) | AA103: =IFERROR(IF(X103=0,"",X103/Z103),"") | AB103: =IFERROR(IF(X103=0,"",X103/Y103/(volume_friction/1000)),"")
C104: =IFERROR(VLOOKUP(B104,dt_ssr,2,FALSE),"") | F104: =IF(E104="","",IFERROR(C104*E104*(volume_friction/1000),"")) | G104: =IFERROR(IF(D104=0,"",D104/F104),"") | H104: =IFERROR(IF(D104=0,"",D104/E104/(volume_friction/1000)),"") | K104: =IF(J104="","",IFERROR(C104*J104*(volume_friction/1000),"")) | L104: =IFERROR(IF(I104=0,"",I104/K104),"") | M104: =IFERROR(IF(I104=0,"",I104/J104/(volume_friction/1000)),"") | P104: =IF(O104="","",IFERROR(C104*O104*(volume_friction/1000),"")) | Q104: =IFERROR(IF(N104=0,"",N104/P104),"") | R104: =IFERROR(IF(N104=0,"",N104/O104/(volume_friction/1000)),"") | U104: =IF(T104="","",IFERROR(C104*T104*(volume_friction/1000),"")) | V104: =IFERROR(IF(S104=0,"",S104/U104),"") | W104: =IFERROR(IF(S104=0,"",S104/T104/(volume_friction/1000)),"") | X104: =IF(AND(D104<>0,I104<>0,N104<>0,S104<>0),D104+I104+N104+S104,"") | Y104: =IF(AND(E104<>0,J104<>0,O104<>0,T104<>0),E104+J104+O104+T104,"") | Z104: =IF(Y104="","",IFERROR(VLOOKUP(B104,dt_ssr,2,FALSE)*Y104*(volume_friction/1000),"")) | AA104: =IFERROR(IF(X104=0,"",X104/Z104),"") | AB104: =IFERROR(IF(X104=0,"",X104/Y104/(volume_friction/1000)),"")
C105: =IFERROR(VLOOKUP(B105,dt_ssr,2,FALSE),"") | F105: =IF(E105="","",IFERROR(C105*E105*(volume_friction/1000),"")) | G105: =IFERROR(IF(D105=0,"",D105/F105),"") | H105: =IFERROR(IF(D105=0,"",D105/E105/(volume_friction/1000)),"") | K105: =IF(J105="","",IFERROR(C105*J105*(volume_friction/1000),"")) | L105: =IFERROR(IF(I105=0,"",I105/K105),"") | M105: =IFERROR(IF(I105=0,"",I105/J105/(volume_friction/1000)),"") | P105: =IF(O105="","",IFERROR(C105*O105*(volume_friction/1000),"")) | Q105: =IFERROR(IF(N105=0,"",N105/P105),"") | R105: =IFERROR(IF(N105=0,"",N105/O105/(volume_friction/1000)),"") | U105: =IF(T105="","",IFERROR(C105*T105*(volume_friction/1000),"")) | V105: =IFERROR(IF(S105=0,"",S105/U105),"") | W105: =IFERROR(IF(S105=0,"",S105/T105/(volume_friction/1000)),"") | X105: =IF(AND(D105<>0,I105<>0,N105<>0,S105<>0),D105+I105+N105+S105,"") | Y105: =IF(AND(E105<>0,J105<>0,O105<>0,T105<>0),E105+J105+O105+T105,"") | Z105: =IF(Y105="","",IFERROR(VLOOKUP(B105,dt_ssr,2,FALSE)*Y105*(volume_friction/1000),"")) | AA105: =IFERROR(IF(X105=0,"",X105/Z105),"") | AB105: =IFERROR(IF(X105=0,"",X105/Y105/(volume_friction/1000)),"")
A108: Services de SLD - EHPAD
A110: Type d'activité : | B110: Nombre de frictions à atteindre | C110: Activité mesurée par
A111: SLD | B111: 7 | C111: Jour
A112: EHPAD HC* | B112: 4 | C112: Jour | D112: *Activité non prise en compte dans le calcul de l'ICSHA3
D114: T1 | I114: T2 | N114: T3 | S114: T4 | X114: Année
A115: Service | B115: Spécialité | C115: Frictions théoriques | D115: Total consommé en litres | E115: Total activité | F115: Total théorique en litres | G115: % de conso ICSHA | H115: Frictions réalisées | I115: Total consommé en litres | J115: Total activité | K115: Total théorique en litres | L115: % de conso ICSHA | M115: Frictions réalisées | N115: Total consommé en litres | O115: Total activité | P115: Total théorique en litres | Q115: % de conso ICSHA | R115: Frictions réalisées | S115: Total consommé en litres | T115: Total activité | U115: Total théorique en litres | V115: % de conso ICSHA | W115: Frictions réalisées | X115: Total consommé en litres | Y115: Total activité | Z115: Total théorique en litres | AA115: % de conso ICSHA | AB115: Frictions réalisées
C116: =IFERROR(VLOOKUP(B116,dt_sld,2,FALSE),"") | F116: =IF(E116="","",IFERROR(VLOOKUP(B116,dt_sld,2,FALSE)*E116*(volume_friction/1000),"")) | G116: =IFERROR(IF(D116=0,"",D116/F116),"") | H116: =IFERROR(IF(D116=0,"",D116/E116/(volume_friction/1000)),"") | K116: =IF(J116="","",IFERROR(VLOOKUP(B116,dt_sld,2,FALSE)*J116*(volume_friction/1000),"")) | L116: =IFERROR(IF(I116=0,"",I116/K116),"") | M116: =IFERROR(IF(I116=0,"",I116/J116/(volume_friction/1000)),"") | P116: =IF(O116="","",IFERROR(VLOOKUP(B116,dt_sld,2,FALSE)*O116*(volume_friction/1000),"")) | Q116: =IFERROR(IF(N116=0,"",N116/P116),"") | R116: =IFERROR(IF(N116=0,"",N116/O116/(volume_friction/1000)),"") | U116: =IF(T116="","",IFERROR(VLOOKUP(B116,dt_sld,2,FALSE)*T116*(volume_friction/1000),"")) | V116: =IFERROR(IF(S116=0,"",S116/U116),"") | W116: =IFERROR(IF(S116=0,"",S116/T116/(volume_friction/1000)),"") | X116: =IF(AND(D116<>0,I116<>0,N116<>0,S116<>0),D116+I116+N116+S116,"") | Y116: =IF(AND(E116<>0,J116<>0,O116<>0,T116<>0),E116+J116+O116+T116,"") | Z116: =IF(Y116="","",IFERROR(VLOOKUP(B116,dt_sld,2,FALSE)*Y116*(volume_friction/1000),"")) | AA116: =IFERROR(IF(X116=0,"",X116/Z116),"") | AB116: =IFERROR(IF(X116=0,"",X116/Y116/(volume_friction/1000)),"")
C117: =IFERROR(VLOOKUP(B117,dt_sld,2,FALSE),"") | F117: =IF(E117="","",IFERROR(VLOOKUP(B117,dt_sld,2,FALSE)*E117*(volume_friction/1000),"")) | G117: =IFERROR(IF(D117=0,"",D117/F117),"") | H117: =IFERROR(IF(D117=0,"",D117/E117/(volume_friction/1000)),"") | K117: =IF(J117="","",IFERROR(VLOOKUP(B117,dt_sld,2,FALSE)*J117*(volume_friction/1000),"")) | L117: =IFERROR(IF(I117=0,"",I117/K117),"") | M117: =IFERROR(IF(I117=0,"",I117/J117/(volume_friction/1000)),"") | P117: =IF(O117="","",IFERROR(VLOOKUP(B117,dt_sld,2,FALSE)*O117*(volume_friction/1000),"")) | Q117: =IFERROR(IF(N117=0,"",N117/P117),"") | R117: =IFERROR(IF(N117=0,"",N117/O117/(volume_friction/1000)),"") | U117: =IF(T117="","",IFERROR(VLOOKUP(B117,dt_sld,2,FALSE)*T117*(volume_friction/1000),"")) | V117: =IFERROR(IF(S117=0,"",S117/U117),"") | W117: =IFERROR(IF(S117=0,"",S117/T117/(volume_friction/1000)),"") | X117: =IF(AND(D117<>0,I117<>0,N117<>0,S117<>0),D117+I117+N117+S117,"") | Y117: =IF(AND(E117<>0,J117<>0,O117<>0,T117<>0),E117+J117+O117+T117,"") | Z117: =IF(Y117="","",IFERROR(VLOOKUP(B117,dt_sld,2,FALSE)*Y117*(volume_friction/1000),"")) | AA117: =IFERROR(IF(X117=0,"",X117/Z117),"") | AB117: =IFERROR(IF(X117=0,"",X117/Y117/(volume_friction/1000)),"")
C118: =IFERROR(VLOOKUP(B118,dt_sld,2,FALSE),"") | F118: =IF(E118="","",IFERROR(VLOOKUP(B118,dt_sld,2,FALSE)*E118*(volume_friction/1000),"")) | G118: =IFERROR(IF(D118=0,"",D118/F118),"") | H118: =IFERROR(IF(D118=0,"",D118/E118/(volume_friction/1000)),"") | K118: =IF(J118="","",IFERROR(VLOOKUP(B118,dt_sld,2,FALSE)*J118*(volume_friction/1000),"")) | L118: =IFERROR(IF(I118=0,"",I118/K118),"") | M118: =IFERROR(IF(I118=0,"",I118/J118/(volume_friction/1000)),"") | P118: =IF(O118="","",IFERROR(VLOOKUP(B118,dt_sld,2,FALSE)*O118*(volume_friction/1000),"")) | Q118: =IFERROR(IF(N118=0,"",N118/P118),"") | R118: =IFERROR(IF(N118=0,"",N118/O118/(volume_friction/1000)),"") | U118: =IF(T118="","",IFERROR(VLOOKUP(B118,dt_sld,2,FALSE)*T118*(volume_friction/1000),"")) | V118: =IFERROR(IF(S118=0,"",S118/U118),"") | W118: =IFERROR(IF(S118=0,"",S118/T118/(volume_friction/1000)),"") | X118: =IF(AND(D118<>0,I118<>0,N118<>0,S118<>0),D118+I118+N118+S118,"") | Y118: =IF(AND(E118<>0,J118<>0,O118<>0,T118<>0),E118+J118+O118+T118,"") | Z118: =IF(Y118="","",IFERROR(VLOOKUP(B118,dt_sld,2,FALSE)*Y118*(volume_friction/1000),"")) | AA118: =IFERROR(IF(X118=0,"",X118/Z118),"") | AB118: =IFERROR(IF(X118=0,"",X118/Y118/(volume_friction/1000)),"")
C119: =IFERROR(VLOOKUP(B119,dt_sld,2,FALSE),"") | F119: =IF(E119="","",IFERROR(VLOOKUP(B119,dt_sld,2,FALSE)*E119*(volume_friction/1000),"")) | G119: =IFERROR(IF(D119=0,"",D119/F119),"") | H119: =IFERROR(IF(D119=0,"",D119/E119/(volume_friction/1000)),"") | K119: =IF(J119="","",IFERROR(VLOOKUP(B119,dt_sld,2,FALSE)*J119*(volume_friction/1000),"")) | L119: =IFERROR(IF(I119=0,"",I119/K119),"") | M119: =IFERROR(IF(I119=0,"",I119/J119/(volume_friction/1000)),"") | P119: =IF(O119="","",IFERROR(VLOOKUP(B119,dt_sld,2,FALSE)*O119*(volume_friction/1000),"")) | Q119: =IFERROR(IF(N119=0,"",N119/P119),"") | R119: =IFERROR(IF(N119=0,"",N119/O119/(volume_friction/1000)),"") | U119: =IF(T119="","",IFERROR(VLOOKUP(B119,dt_sld,2,FALSE)*T119*(volume_friction/1000),"")) | V119: =IFERROR(IF(S119=0,"",S119/U119),"") | W119: =IFERROR(IF(S119=0,"",S119/T119/(volume_friction/1000)),"") | X119: =IF(AND(D119<>0,I119<>0,N119<>0,S119<>0),D119+I119+N119+S119,"") | Y119: =IF(AND(E119<>0,J119<>0,O119<>0,T119<>0),E119+J119+O119+T119,"") | Z119: =IF(Y119="","",IFERROR(VLOOKUP(B119,dt_sld,2,FALSE)*Y119*(volume_friction/1000),"")) | AA119: =IFERROR(IF(X119=0,"",X119/Z119),"") | AB119: =IFERROR(IF(X119=0,"",X119/Y119/(volume_friction/1000)),"")
C120: =IFERROR(VLOOKUP(B120,dt_sld,2,FALSE),"") | F120: =IF(E120="","",IFERROR(VLOOKUP(B120,dt_sld,2,FALSE)*E120*(volume_friction/1000),"")) | G120: =IFERROR(IF(D120=0,"",D120/F120),"") | H120: =IFERROR(IF(D120=0,"",D120/E120/(volume_friction/1000)),"") | K120: =IF(J120="","",IFERROR(VLOOKUP(B120,dt_sld,2,FALSE)*J120*(volume_friction/1000),"")) | L120: =IFERROR(IF(I120=0,"",I120/K120),"") | M120: =IFERROR(IF(I120=0,"",I120/J120/(volume_friction/1000)),"") | P120: =IF(O120="","",IFERROR(VLOOKUP(B120,dt_sld,2,FALSE)*O120*(volume_friction/1000),"")) | Q120: =IFERROR(IF(N120=0,"",N120/P120),"") | R120: =IFERROR(IF(N120=0,"",N120/O120/(volume_friction/1000)),"") | U120: =IF(T120="","",IFERROR(VLOOKUP(B120,dt_sld,2,FALSE)*T120*(volume_friction/1000),"")) | V120: =IFERROR(IF(S120=0,"",S120/U120),"") | W120: =IFERROR(IF(S120=0,"",S120/T120/(volume_friction/1000)),"") | X120: =IF(AND(D120<>0,I120<>0,N120<>0,S120<>0),D120+I120+N120+S120,"") | Y120: =IF(AND(E120<>0,J120<>0,O120<>0,T120<>0),E120+J120+O120+T120,"") | Z120: =IF(Y120="","",IFERROR(VLOOKUP(B120,dt_sld,2,FALSE)*Y120*(volume_friction/1000),"")) | AA120: =IFERROR(IF(X120=0,"",X120/Z120),"") | AB120: =IFERROR(IF(X120=0,"",X120/Y120/(volume_friction/1000)),"")
C121: =IFERROR(VLOOKUP(B121,dt_sld,2,FALSE),"") | F121: =IF(E121="","",IFERROR(VLOOKUP(B121,dt_sld,2,FALSE)*E121*(volume_friction/1000),"")) | G121: =IFERROR(IF(D121=0,"",D121/F121),"") | H121: =IFERROR(IF(D121=0,"",D121/E121/(volume_friction/1000)),"") | K121: =IF(J121="","",IFERROR(VLOOKUP(B121,dt_sld,2,FALSE)*J121*(volume_friction/1000),"")) | L121: =IFERROR(IF(I121=0,"",I121/K121),"") | M121: =IFERROR(IF(I121=0,"",I121/J121/(volume_friction/1000)),"") | P121: =IF(O121="","",IFERROR(VLOOKUP(B121,dt_sld,2,FALSE)*O121*(volume_friction/1000),"")) | Q121: =IFERROR(IF(N121=0,"",N121/P121),"") | R121: =IFERROR(IF(N121=0,"",N121/O121/(volume_friction/1000)),"") | U121: =IF(T121="","",IFERROR(VLOOKUP(B121,dt_sld,2,FALSE)*T121*(volume_friction/1000),"")) | V121: =IFERROR(IF(S121=0,"",S121/U121),"") | W121: =IFERROR(IF(S121=0,"",S121/T121/(volume_friction/1000)),"") | X121: =IF(AND(D121<>0,I121<>0,N121<>0,S121<>0),D121+I121+N121+S121,"") | Y121: =IF(AND(E121<>0,J121<>0,O121<>0,T121<>0),E121+J121+O121+T121,"") | Z121: =IF(Y121="","",IFERROR(VLOOKUP(B121,dt_sld,2,FALSE)*Y121*(volume_friction/1000),"")) | AA121: =IFERROR(IF(X121=0,"",X121/Z121),"") | AB121: =IFERROR(IF(X121=0,"",X121/Y121/(volume_friction/1000)),"")
C122: =IFERROR(VLOOKUP(B122,dt_sld,2,FALSE),"") | F122: =IF(E122="","",IFERROR(VLOOKUP(B122,dt_sld,2,FALSE)*E122*(volume_friction/1000),"")) | G122: =IFERROR(IF(D122=0,"",D122/F122),"") | H122: =IFERROR(IF(D122=0,"",D122/E122/(volume_friction/1000)),"") | K122: =IF(J122="","",IFERROR(VLOOKUP(B122,dt_sld,2,FALSE)*J122*(volume_friction/1000),"")) | L122: =IFERROR(IF(I122=0,"",I122/K122),"") | M122: =IFERROR(IF(I122=0,"",I122/J122/(volume_friction/1000)),"") | P122: =IF(O122="","",IFERROR(VLOOKUP(B122,dt_sld,2,FALSE)*O122*(volume_friction/1000),"")) | Q122: =IFERROR(IF(N122=0,"",N122/P122),"") | R122: =IFERROR(IF(N122=0,"",N122/O122/(volume_friction/1000)),"") | U122: =IF(T122="","",IFERROR(VLOOKUP(B122,dt_sld,2,FALSE)*T122*(volume_friction/1000),"")) | V122: =IFERROR(IF(S122=0,"",S122/U122),"") | W122: =IFERROR(IF(S122=0,"",S122/T122/(volume_friction/1000)),"") | X122: =IF(AND(D122<>0,I122<>0,N122<>0,S122<>0),D122+I122+N122+S122,"") | Y122: =IF(AND(E122<>0,J122<>0,O122<>0,T122<>0),E122+J122+O122+T122,"") | Z122: =IF(Y122="","",IFERROR(VLOOKUP(B122,dt_sld,2,FALSE)*Y122*(volume_friction/1000),"")) | AA122: =IFERROR(IF(X122=0,"",X122/Z122),"") | AB122: =IFERROR(IF(X122=0,"",X122/Y122/(volume_friction/1000)),"")
C123: =IFERROR(VLOOKUP(B123,dt_sld,2,FALSE),"") | F123: =IF(E123="","",IFERROR(VLOOKUP(B123,dt_sld,2,FALSE)*E123*(volume_friction/1000),"")) | G123: =IFERROR(IF(D123=0,"",D123/F123),"") | H123: =IFERROR(IF(D123=0,"",D123/E123/(volume_friction/1000)),"") | K123: =IF(J123="","",IFERROR(VLOOKUP(B123,dt_sld,2,FALSE)*J123*(volume_friction/1000),"")) | L123: =IFERROR(IF(I123=0,"",I123/K123),"") | M123: =IFERROR(IF(I123=0,"",I123/J123/(volume_friction/1000)),"") | P123: =IF(O123="","",IFERROR(VLOOKUP(B123,dt_sld,2,FALSE)*O123*(volume_friction/1000),"")) | Q123: =IFERROR(IF(N123=0,"",N123/P123),"") | R123: =IFERROR(IF(N123=0,"",N123/O123/(volume_friction/1000)),"") | U123: =IF(T123="","",IFERROR(VLOOKUP(B123,dt_sld,2,FALSE)*T123*(volume_friction/1000),"")) | V123: =IFERROR(IF(S123=0,"",S123/U123),"") | W123: =IFERROR(IF(S123=0,"",S123/T123/(volume_friction/1000)),"") | X123: =IF(AND(D123<>0,I123<>0,N123<>0,S123<>0),D123+I123+N123+S123,"") | Y123: =IF(AND(E123<>0,J123<>0,O123<>0,T123<>0),E123+J123+O123+T123,"") | Z123: =IF(Y123="","",IFERROR(VLOOKUP(B123,dt_sld,2,FALSE)*Y123*(volume_friction/1000),"")) | AA123: =IFERROR(IF(X123=0,"",X123/Z123),"") | AB123: =IFERROR(IF(X123=0,"",X123/Y123/(volume_friction/1000)),"")
...

Sheet Poster
A1: Choisir un service puis imprimer le poster | F1: Zone d'impression :
B2: Choix du service : | G2: Indicateur ICSHA 3 | J2: =etab -> 0
B3: 1/ Choisir le type de service : | C3: Médecine | G3: 2020
B4: 2/ Choisir le service :
H5: Service : | I5: =choix_service -> 0
B6: ="Liste des service pour l'activité : "&C3 -> Liste des service pour l'activité : Médecine | H6: Activité : | I6: =IFERROR(B68,"")
B7: Service | C7: Activité | J7: Nombre de frictions théoriques : | K7: =IFERROR(B69,"") | L7: par patient et par jour
B8: =IF(A45=0,"",A45) | C8: =IF(A56=0,"",A56)
B9: =IF(A46=0,"",A46) | C9: =IF(A57=0,"",A57) | H9: Consommation (en litres) | I9: Atteinte de l'objectif | K9: Frictions réalisées
B10: =IF(A47=0,"",A47) | C10: =IF(A58=0,"",A58) | G10: T1 | H10: =IFERROR(IF(OR(B71="",B71=0),"",B71),"") | I10: =IFERROR(IF(OR(C71="",C71=0),"",C71),"") | J10: =IF(I10<>"",IF(I10<0.8,"L",IF(I10<1,"J","JJ")),"") | K10: =IFERROR(IF(OR(D71="",D71=0),"",D71),"")
B11: =IF(A48=0,"",A48) | C11: =IF(A59=0,"",A59) | G11: T2 | H11: =IFERROR(IF(OR(B72="",B72=0),"",B72),"") | I11: =IFERROR(IF(OR(C72="",C72=0),"",C72),"") | J11: =IF(I11<>"",IF(I11<0.8,"L",IF(I11<1,"J","JJ")),"") | K11: =IFERROR(IF(OR(D72="",D72=0),"",D72),"")
B12: =IF(A49=0,"",A49) | C12: =IF(A60=0,"",A60) | G12: T3 | H12: =IFERROR(IF(OR(B73="",B73=0),"",B73),"") | I12: =IFERROR(IF(OR(C73="",C73=0),"",C73),"") | J12: =IF(I12<>"",IF(I12<0.8,"L",IF(I12<1,"J","JJ")),"") | K12: =IFERROR(IF(OR(D73="",D73=0),"",D73),"")
B13: =IF(A50=0,"",A50) | C13: =IF(A61=0,"",A61) | G13: T4 | H13: =IFERROR(IF(OR(B74="",B74=0),"",B74),"") | I13: =IFERROR(IF(OR(C74="",C74=0),"",C74),"") | J13: =IF(I13<>"",IF(I13<0.8,"L",IF(I13<1,"J","JJ")),"") | K13: =IFERROR(IF(OR(D74="",D74=0),"",D74),"")
B14: =IF(A51=0,"",A51) | C14: =IF(A62=0,"",A62) | G14: Année | H14: =IFERROR(IF(OR(B75="",B75=0),"",B75),"") | I14: =IFERROR(IF(OR(C75="",C75=0),"",C75),"") | J14: =IF(I14<>"",IF(I14<0.8,"L",IF(I14<1,"J","JJ")),"") | K14: =IFERROR(IF(OR(D75="",D75=0),"",D75),"")
B15: =IF(A52=0,"",A52) | C15: =IF(A63=0,"",A63)
B16: =IF(A53=0,"",A53) | C16: =IF(A64=0,"",A64)
B17: =IF(A54=0,"",A54) | C17: =IF(A65=0,"",A65)
B20: Rappel :
B21: Choisir un type de service (liste déroulante en jaune
B22: ci-dessus), puis un service pour afficher le poster
B23: correspondant à ce service.
P24: Version 1 - 2019
A31: Réglages :
A32: Volume d'une friction (ml) :
A33: 3
A35: Types de services :
A36: Médecine
A37: Chirurgie
A38: Gynéco-Obst
A39: Réa-SC
A40: SSR
A41: SLD-EHPAD
A42: Autre
A44: Choix des services :
A45: =DGET(bdd_services,"nom",B45:C46) -> 0 | B45: type | C45: n | D45: type | E45: n
A46: =DGET(bdd_services,"nom",D45:E46) -> 0 | B46: =C3 -> Médecine | C46: 1 | D46: =B46 -> Médecine | E46: 2
A47: =DGET(bdd_services,"nom",B47:C48) -> 0 | B47: type | C47: n | D47: type | E47: n
A48: =DGET(bdd_services,"nom",D47:E48) -> 0 | B48: =B46 -> Médecine | C48: 3 | D48: =B48 -> Médecine | E48: 4
A49: =DGET(bdd_services,"nom",B49:C50) -> 0 | B49: type | C49: n | D49: type | E49: n
A50: =DGET(bdd_services,"nom",D49:E50) -> 0 | B50: =B46 -> Médecine | C50: 5 | D50: =B50 -> Médecine | E50: 6
A51: =DGET(bdd_services,"nom",B51:C52) -> 0 | B51: type | C51: n | D51: type | E51: n
A52: =DGET(bdd_services,"nom",D51:E52) -> 0 | B52: =B46 -> Médecine | C52: 7 | D52: =B52 -> Médecine | E52: 8
A53: =DGET(bdd_services,"nom",B53:C54) -> 0 | B53: type | C53: n | D53: type | E53: n
A54: =DGET(bdd_services,"nom",D53:E54) -> 0 | B54: =B46 -> Médecine | C54: 9 | D54: =B54 -> Médecine | E54: 10
A55: Spécialités des services :
A56: =DGET(bdd_services,"activite",B56:C57) -> 0 | B56: type | C56: n | D56: type | E56: n
A57: =DGET(bdd_services,"activite",D56:E57) -> 0 | B57: =C3 -> Médecine | C57: 1 | D57: =B57 -> Médecine | E57: 2
A58: =DGET(bdd_services,"activite",B58:C59) -> 0 | B58: type | C58: n | D58: type | E58: n
A59: =DGET(bdd_services,"activite",D58:E59) -> 0 | B59: =B57 -> Médecine | C59: 3 | D59: =B59 -> Médecine | E59: 4
A60: =DGET(bdd_services,"activite",B60:C61) -> 0 | B60: type | C60: n | D60: type | E60: n
A61: =DGET(bdd_services,"activite",D60:E61) -> 0 | B61: =B57 -> Médecine | C61: 5 | D61: =B61 -> Médecine | E61: 6
A62: =DGET(bdd_services,"activite",B62:C63) -> 0 | B62: type | C62: n | D62: type | E62: n
A63: =DGET(bdd_services,"activite",D62:E63) -> 0 | B63: =B57 -> Médecine | C63: 7 | D63: =B63 -> Médecine | E63: 8
A64: =DGET(bdd_services,"activite",B64:C65) -> 0 | B64: type | C64: n | D64: type | E64: n
A65: =DGET(bdd_services,"activite",D64:E65) -> 0 | B65: =B57 -> Médecine | C65: 9 | D65: =B65 -> Médecine | E65: 10
A67: Données pour poster :
A68: Activité | B68: =DGET(bdd_services,"activite",C68:C69) -> #NUM! | C68: nom
A69: frictions th | B69: =DGET(bdd_services,"dt",C68:C69) -> #NUM! | C69: =choix_service -> 0
B70: conso | C70: objectif | D70: dose réelle
A71: T1 | B71: =DGET(bdd_services,"t1_conso",C68:C69) -> #NUM! | C71: =DGET(bdd_services,"t1_objectif",C68:C69) -> #NUM! | D71: =DGET(bdd_services,"t1_dosereelle",C68:C69) -> #NUM!
A72: T2 | B72: =DGET(bdd_services,"t2_conso",C68:C69) -> #NUM! | C72: =DGET(bdd_services,"t2_objectif",C68:C69) -> #NUM! | D72: =DGET(bdd_services,"t2_dosereelle",C68:C69) -> #NUM!
A73: T3 | B73: =DGET(bdd_services,"t3_conso",C68:C69) -> #NUM! | C73: =DGET(bdd_services,"t3_objectif",C68:C69) -> #NUM! | D73: =DGET(bdd_services,"t3_dosereelle",C68:C69) -> #NUM!
A74: T4 | B74: =DGET(bdd_services,"t4_conso",C68:C69) -> #NUM! | C74: =DGET(bdd_services,"t4_objectif",C68:C69) -> #NUM! | D74: =DGET(bdd_services,"t4_dosereelle",C68:C69) -> #NUM!
A75: Annee | B75: =DGET(bdd_services,"annee_conso",C68:C69) -> #NUM! | C75: =DGET(bdd_services,"annee_objectif",C68:C69) -> #NUM! | D75: =DGET(bdd_services,"annee_dosereelle",C68:C69) -> #NUM!

Sheet bdd
A1: n | B1: type | C1: nom | D1: activite | E1: dt | F1: t1_conso | G1: t1_activite | H1: t1_theorique | I1: t1_objectif | J1: t1_dosereelle | K1: t2_conso | L1: t2_activite | M1: t2_theorique | N1: t2_objectif | O1: t2_dosereelle | P1: t3_conso | Q1: t3_activite | R1: t3_theorique | S1: t3_objectif | T1: t3_dosereelle | U1: t4_conso | V1: t4_activite | W1: t4_theorique | X1: t4_objectif | Y1: t4_dosereelle | Z1: annee_conso | AA1: annee_activite | AB1: annee_theorique | AC1: annee_objectif | AD1: annee_dosereelle
A2: 1 | B2: =Poster!A36 -> Médecine | C2: =Saisie!A12 -> 0 | D2: =Saisie!B12 -> 0 | E2: =Saisie!C12 | F2: =Saisie!D12 -> 0 | G2: =Saisie!E12 -> 0 | H2: =Saisie!F12 | I2: =Saisie!G12 | J2: =Saisie!H12 | ... AD2: =Saisie!AB12
A3: 2 | B3: =Poster!A36 -> Médecine | C3: =Saisie!A13 -> 0 | D3: =Saisie!B13 -> 0 | E3: =Saisie!C13 | F3: =Saisie!D13 -> 0 | G3: =Saisie!E13 -> 0 | H3: =Saisie!F13 | I3: =Saisie!G13 | J3: =Saisie!H13 | ... AD3: =Saisie!AB13
A4: 3 | B4: =Poster!A36 -> Médecine | C4: =Saisie!A14 -> 0 | D4: =Saisie!B14 -> 0 | E4: =Saisie!C14 | F4: =Saisie!D14 -> 0 | G4: =Saisie!E14 -> 0 | H4: =Saisie!F14 | I4: =Saisie!G14 | J4: =Saisie!H14 | ... AD4: =Saisie!AB14
A5: 4 | B5: =Poster!A36 -> Médecine | C5: =Saisie!A15 -> 0 | D5: =Saisie!B15 -> 0 | E5: =Saisie!C15 | F5: =Saisie!D15 -> 0 | G5: =Saisie!E15 -> 0 | H5: =Saisie!F15 | I5: =Saisie!G15 | J5: =Saisie!H15 | ... AD5: =Saisie!AB15
A6: 5 | B6: =Poster!A36 -> Médecine | C6: =Saisie!A16 -> 0 | D6: =Saisie!B16 -> 0 | E6: =Saisie!C16 | F6: =Saisie!D16 -> 0 | G6: =Saisie!E16 -> 0 | H6: =Saisie!F16 | I6: =Saisie!G16 | J6: =Saisie!H16 | ... AD6: =Saisie!AB16
A7: 6 | B7: =Poster!A36 -> Médecine | C7: =Saisie!A17 -> 0 | D7: =Saisie!B17 -> 0 | E7: =Saisie!C17 | F7: =Saisie!D17 -> 0 | G7: =Saisie!E17 -> 0 | H7: =Saisie!F17 | I7: =Saisie!G17 | J7: =Saisie!H17 | ... AD7: =Saisie!AB17
A8: 7 | B8: =Poster!A36 -> Médecine | C8: =Saisie!A18 -> 0 | D8: =Saisie!B18 -> 0 | E8: =Saisie!C18 | F8: =Saisie!D18 -> 0 | G8: =Saisie!E18 -> 0 | H8: =Saisie!F18 | I8: =Saisie!G18 | J8: =Saisie!H18 | ... AD8: =Saisie!AB18
A9: 8 | B9: =Poster!A36 -> Médecine | C9: =Saisie!A19 -> 0 | D9: =Saisie!B19 -> 0 | E9: =Saisie!C19 | F9: =Saisie!D19 -> 0 | G9: =Saisie!E19 -> 0 | H9: =Saisie!F19 | I9: =Saisie!G19 | J9: =Saisie!H19 | ... AD9: =Saisie!AB19
A10: 9 | B10: =Poster!A36 -> Médecine | C10: =Saisie!A20 -> 0 | D10: =Saisie!B20 -> 0 | E10: =Saisie!C20 | F10: =Saisie!D20 -> 0 | G10: =Saisie!E20 -> 0 | H10: =Saisie!F20 | I10: =Saisie!G20 | J10: =Saisie!H20 | ... AD10: =Saisie!AB20
A11: 10 | B11: =Poster!A36 -> Médecine | C11: =Saisie!A21 -> 0 | D11: =Saisie!B21 -> 0 | E11: =Saisie!C21 | F11: =Saisie!D21 -> 0 | G11: =Saisie!E21 -> 0 | H11: =Saisie!F21 | I11: =Saisie!G21 | J11: =Saisie!H21 | ... AD11: =Saisie!AB21
A12: 1 | B12: =Poster!A37 -> Chirurgie | C12: =Saisie!A33 -> 0 | D12: =Saisie!B33 -> 0 | E12: =Saisie!C33 | F12: =Saisie!D33 -> 0 | G12: =Saisie!E33 -> 0 | H12: =Saisie!F33 | I12: =Saisie!G33 | J12: =Saisie!H33 | ... AD12: =Saisie!AB33
A13: 2 | B13: =Poster!A37 -> Chirurgie | C13: =Saisie!A34 -> 0 | D13: =Saisie!B34 -> 0 | E13: =Saisie!C34 | F13: =Saisie!D34 -> 0 | G13: =Saisie!E34 -> 0 | H13: =Saisie!F34 | I13: =Saisie!G34 | J13: =Saisie!H34 | ... AD13: =Saisie!AB34
A14: 3 | B14: =Poster!A37 -> Chirurgie | C14: =Saisie!A35 -> 0 | D14: =Saisie!B35 -> 0 | E14: =Saisie!C35 | F14: =Saisie!D35 -> 0 | G14: =Saisie!E35 -> 0 | H14: =Saisie!F35 | I14: =Saisie!G35 | J14: =Saisie!H35 | ... AD14: =Saisie!AB35
A15: 4 | B15: =Poster!A37 -> Chirurgie | C15: =Saisie!A36 -> 0 | D15: =Saisie!B36 -> 0 | E15: =Saisie!C36 | F15: =Saisie!D36 -> 0 | G15: =Saisie!E36 -> 0 | H15: =Saisie!F36 | I15: =Saisie!G36 | J15: =Saisie!H36 | ... AD15: =Saisie!AB36
A16: 5 | B16: =Poster!A37 -> Chirurgie | C16: =Saisie!A37 -> 0 | D16: =Saisie!B37 -> 0 | E16: =Saisie!C37 | F16: =Saisie!D37 -> 0 | G16: =Saisie!E37 -> 0 | H16: =Saisie!F37 | I16: =Saisie!G37 | J16: =Saisie!H37 | ... AD16: =Saisie!AB37
A17: 6 | B17: =Poster!A37 -> Chirurgie | C17: =Saisie!A38 -> 0 | D17: =Saisie!B38 -> 0 | E17: =Saisie!C38 | F17: =Saisie!D38 -> 0 | G17: =Saisie!E38 -> 0 | H17: =Saisie!F38 | I17: =Saisie!G38 | J17: =Saisie!H38 | ... AD17: =Saisie!AB38
A18: 7 | B18: =Poster!A37 -> Chirurgie | C18: =Saisie!A39 -> 0 | D18: =Saisie!B39 -> 0 | E18: =Saisie!C39 | F18: =Saisie!D39 -> 0 | G18: =Saisie!E39 -> 0 | H18: =Saisie!F39 | I18: =Saisie!G39 | J18: =Saisie!H39 | ... AD18: =Saisie!AB39
A19: 8 | B19: =Poster!A37 -> Chirurgie | C19: =Saisie!A40 -> 0 | D19: =Saisie!B40 -> 0 | E19: =Saisie!C40 | F19: =Saisie!D40 -> 0 | G19: =Saisie!E40 -> 0 | H19: =Saisie!F40 | I19: =Saisie!G40 | J19: =Saisie!H40 | ... AD19: =Saisie!AB40
A20: 9 | B20: =Poster!A37 -> Chirurgie | C20: =Saisie!A41 -> 0 | D20: =Saisie!B41 -> 0 | E20: =Saisie!C41 | F20: =Saisie!D41 -> 0 | G20: =Saisie!E41 -> 0 | H20: =Saisie!F41 | I20: =Saisie!G41 | J20: =Saisie!H41 | ... AD20: =Saisie!AB41
A21: 10 | B21: =Poster!A37 -> Chirurgie | C21: =Saisie!A42 -> 0 | D21: =Saisie!B42 -> 0 | E21: =Saisie!C42 | F21: =Saisie!D42 -> 0 | G21: =Saisie!E42 -> 0 | H21: =Saisie!F42 | I21: =Saisie!G42 | J21: =Saisie!H42 | ... AD21: =Saisie!AB42
A22: 1 | B22: =Poster!A38 -> Gynéco-Obst | C22: =Saisie!A55 -> 0 | D22: =Saisie!B55 -> 0 | E22: =Saisie!C55 | F22: =Saisie!D55 -> 0 | G22: =Saisie!E55 -> 0 | H22: =Saisie!F55 | I22: =Saisie!G55 | J22: =Saisie!H55 | ... AD22: =Saisie!AB55
A23: 2 | B23: =Poster!A38 -> Gynéco-Obst | C23: =Saisie!A56 -> 0 | D23: =Saisie!B56 -> 0 | E23: =Saisie!C56 | F23: =Saisie!D56 -> 0 | G23: =Saisie!E56 -> 0 | H23: =Saisie!F56 | I23: =Saisie!G56 | J23: =Saisie!H56 | ... AD23: =Saisie!AB56
A24: 3 | B24: =Poster!A38 -> Gynéco-Obst | C24: =Saisie!A57 -> 0 | D24: =Saisie!B57 -> 0 | E24: =Saisie!C57 | F24: =Saisie!D57 -> 0 | G24: =Saisie!E57 -> 0 | H24: =Saisie!F57 | I24: =Saisie!G57 | J24: =Saisie!H57 | ... AD24: =Saisie!AB57
A25: 4 | B25: =Poster!A38 -> Gynéco-Obst | C25: =Saisie!A58 -> 0 | D25: =Saisie!B58 -> 0 | E25: =Saisie!C58 | F25: =Saisie!D58 -> 0 | G25: =Saisie!E58 -> 0 | H25: =Saisie!F58 | I25: =Saisie!G58 | J25: =Saisie!H58 | ... AD25: =Saisie!AB58
A26: 5 | B26: =Poster!A38 -> Gynéco-Obst | C26: =Saisie!A59 -> 0 | D26: =Saisie!B59 -> 0 | E26: =Saisie!C59 | F26: =Saisie!D59 -> 0 | G26: =Saisie!E59 -> 0 | H26: =Saisie!F59 | I26: =Saisie!G59 | J26: =Saisie!H59 | ... AD26: =Saisie!AB59
A27: 6 | B27: =Poster!A38 -> Gynéco-Obst | C27: =Saisie!A60 -> 0 | D27: =Saisie!B60 -> 0 | E27: =Saisie!C60 | F27: =Saisie!D60 -> 0 | G27: =Saisie!E60 -> 0 | H27: =Saisie!F60 | I27: =Saisie!G60 | J27: =Saisie!H60 | ... AD27: =Saisie!AB60
A28: 7 | B28: =Poster!A38 -> Gynéco-Obst | C28: =Saisie!A61 -> 0 | D28: =Saisie!B61 -> 0 | E28: =Saisie!C61 | F28: =Saisie!D61 -> 0 | G28: =Saisie!E61 -> 0 | H28: =Saisie!F61 | I28: =Saisie!G61 | J28: =Saisie!H61 | ... AD28: =Saisie!AB61
A29: 8 | B29: =Poster!A38 -> Gynéco-Obst | C29: =Saisie!A62 -> 0 | D29: =Saisie!B62 -> 0 | E29: =Saisie!C62 | F29: =Saisie!D62 -> 0 | G29: =Saisie!E62 -> 0 | H29: =Saisie!F62 | I29: =Saisie!G62 | J29: =Saisie!H62 | ... AD29: =Saisie!AB62
A30: 9 | B30: =Poster!A38 -> Gynéco-Obst | C30: =Saisie!A63 -> 0 | D30: =Saisie!B63 -> 0 | E30: =Saisie!C63 | F30: =Saisie!D63 -> 0 | G30: =Saisie!E63 -> 0 | H30: =Saisie!F63 | I30: =Saisie!G63 | J30: =Saisie!H63 | ... AD30: =Saisie!AB63
A31: 10 | B31: =Poster!A38 -> Gynéco-Obst | C31: =Saisie!A64 -> 0 | D31: =Saisie!B64 -> 0 | E31: =Saisie!C64 | F31: =Saisie!D64 -> 0 | G31: =Saisie!E64 -> 0 | H31: =Saisie!F64 | I31: =Saisie!G64 | J31: =Saisie!H64 | ... AD31: =Saisie!AB64
A32: 1 | B32: =Poster!A39 -> Réa-SC | C32: =Saisie!A76 -> 0 | D32: =Saisie!B76 -> 0 | E32: =Saisie!C76 | F32: =Saisie!D76 -> 0 | G32: =Saisie!E76 -> 0 | H32: =Saisie!F76 | I32: =Saisie!G76 | J32: =Saisie!H76 | ... AD32: =Saisie!AB76
A33: 2 | B33: =Poster!A39 -> Réa-SC | C33: =Saisie!A77 -> 0 | D33: =Saisie!B77 -> 0 | E33: =Saisie!C77 | F33: =Saisie!D77 -> 0 | G33: =Saisie!E77 -> 0 | H33: =Saisie!F77 | I33: =Saisie!G77 | J33: =Saisie!H77 | ... AD33: =Saisie!AB77
A34: 3 | B34: =Poster!A39 -> Réa-SC | C34: =Saisie!A78 -> 0 | D34: =Saisie!B78 -> 0 | E34: =Saisie!C78 | F34: =Saisie!D78 -> 0 | G34: =Saisie!E78 -> 0 | H34: =Saisie!F78 | I34: =Saisie!G78 | J34: =Saisie!H78 | ... AD34: =Saisie!AB78
A35: 4 | B35: =Poster!A39 -> Réa-SC | C35: =Saisie!A79 -> 0 | D35: =Saisie!B79 -> 0 | E35: =Saisie!C79 | F35: =Saisie!D79 -> 0 | G35: =Saisie!E79 -> 0 | H35: =Saisie!F79 | I35: =Saisie!G79 | J35: =Saisie!H79 | ... AD35: =Saisie!AB79
A36: 5 | B36: =Poster!A39 -> Réa-SC | C36: =Saisie!A80 -> 0 | D36: =Saisie!B80 -> 0 | E36: =Saisie!C80 | F36: =Saisie!D80 -> 0 | G36: =Saisie!E80 -> 0 | H36: =Saisie!F80 | I36: =Saisie!G80 | J36: =Saisie!H80 | ... AD36: =Saisie!AB80
A37: 6 | B37: =Poster!A39 -> Réa-SC | C37: =Saisie!A81 -> 0 | D37: =Saisie!B81 -> 0 | E37: =Saisie!C81 | F37: =Saisie!D81 -> 0 | G37: =Saisie!E81 -> 0 | H37: =Saisie!F81 | I37: =Saisie!G81 | J37: =Saisie!H81 | ... AD37: =Saisie!AB81
A38: 7 | B38: =Poster!A39 -> Réa-SC | C38: =Saisie!A82 -> 0 | D38: =Saisie!B82 -> 0 | E38: =Saisie!C82 | F38: =Saisie!D82 -> 0 | G38: =Saisie!E82 -> 0 | H38: =Saisie!F82 | I38: =Saisie!G82 | J38: =Saisie!H82 | ... AD38: =Saisie!AB82
A39: 8 | B39: =Poster!A39 -> Réa-SC | C39: =Saisie!A83 -> 0 | D39: =Saisie!B83 -> 0 | E39: =Saisie!C83 | F39: =Saisie!D83 -> 0 | G39: =Saisie!E83 -> 0 | H39: =Saisie!F83 | I39: =Saisie!G83 | J39: =Saisie!H83 | ... AD39: =Saisie!AB83
A40: 9 | B40: =Poster!A39 -> Réa-SC | C40: =Saisie!A84 -> 0 | D40: =Saisie!B84 -> 0 | E40: =Saisie!C84 | F40: =Saisie!D84 -> 0 | G40: =Saisie!E84 -> 0 | H40: =Saisie!F84 | I40: =Saisie!G84 | J40: =Saisie!H84 | ... AD40: =Saisie!AB84
A41: 10 | B41: =Poster!A39 -> Réa-SC | C41: =Saisie!A85 -> 0 | D41: =Saisie!B85 -> 0 | E41: =Saisie!C85 | F41: =Saisie!D85 -> 0 | G41: =Saisie!E85 -> 0 | H41: =Saisie!F85 | I41: =Saisie!G85 | J41: =Saisie!H85 | ... AD41: =Saisie!AB85
A42: 1 | B42: =Poster!A40 -> SSR | C42: =Saisie!A96 -> 0 | D42: =Saisie!B96 -> 0 | E42: =Saisie!C96 | F42: =Saisie!D96 -> 0 | G42: =Saisie!E96 -> 0 | H42: =Saisie!F96 | I42: =Saisie!G96 | J42: =Saisie!H96 | ... AD42: =Saisie!AB96
A43: 2 | B43: =Poster!A40 -> SSR | C43: =Saisie!A97 -> 0 | D43: =Saisie!B97 -> 0 | E43: =Saisie!C97 | F43: =Saisie!D97 -> 0 | G43: =Saisie!E97 -> 0 | H43: =Saisie!F97 | I43: =Saisie!G97 | J43: =Saisie!H97 | ... AD43: =Saisie!AB97
A44: 3 | B44: =Poster!A40 -> SSR | C44: =Saisie!A98 -> 0 | D44: =Saisie!B98 -> 0 | E44: =Saisie!C98 | F44: =Saisie!D98 -> 0 | G44: =Saisie!E98 -> 0 | H44: =Saisie!F98 | I44: =Saisie!G98 | J44: =Saisie!H98 | ... AD44: =Saisie!AB98
A45: 4 | B45: =Poster!A40 -> SSR | C45: =Saisie!A99 -> 0 | D45: =Saisie!B99 -> 0 | E45: =Saisie!C99 | F45: =Saisie!D99 -> 0 | G45: =Saisie!E99 -> 0 | H45: =Saisie!F99 | I45: =Saisie!G99 | J45: =Saisie!H99 | ... AD45: =Saisie!AB99
A46: 5 | B46: =Poster!A40 -> SSR | C46: =Saisie!A100 -> 0 | D46: =Saisie!B100 -> 0 | E46: =Saisie!C100 | F46: =Saisie!D100 -> 0 | G46: =Saisie!E100 -> 0 | H46: =Saisie!F100 | I46: =Saisie!G100 | J46: =Saisie!H100 | ... AD46: =Saisie!AB100
A47: 6 | B47: =Poster!A40 -> SSR | C47: =Saisie!A101 -> 0 | D47: =Saisie!B101 -> 0 | E47: =Saisie!C101 | F47: =Saisie!D101 -> 0 | G47: =Saisie!E101 -> 0 | H47: =Saisie!F101 | I47: =Saisie!G101 | J47: =Saisie!H101 | ... AD47: =Saisie!AB101
A48: 7 | B48: =Poster!A40 -> SSR | C48: =Saisie!A102 -> 0 | D48: =Saisie!B102 -> 0 | E48: =Saisie!C102 | F48: =Saisie!D102 -> 0 | G48: =Saisie!E102 -> 0 | H48: =Saisie!F102 | I48: =Saisie!G102 | J48: =Saisie!H102 | ... AD48: =Saisie!AB102
A49: 8 | B49: =Poster!A40 -> SSR | C49: =Saisie!A103 -> 0 | D49: =Saisie!B103 -> 0 | E49: =Saisie!C103 | F49: =Saisie!D103 -> 0 | G49: =Saisie!E103 -> 0 | H49: =Saisie!F103 | I49: =Saisie!G103 | J49: =Saisie!H103 | ... AD49: =Saisie!AB103
A50: 9 | B50: =Poster!A40 -> SSR | C50: =Saisie!A104 -> 0 | D50: =Saisie!B104 -> 0 | E50: =Saisie!C104 | F50: =Saisie!D104 -> 0 | G50: =Saisie!E104 -> 0 | H50: =Saisie!F104 | I50: =Saisie!G104 | J50: =Saisie!H104 | ... AD50: =Saisie!AB104
A51: 10 | B51: =Poster!A40 -> SSR | C51: =Saisie!A105 -> 0 | D51: =Saisie!B105 -> 0 | E51: =Saisie!C105 | F51: =Saisie!D105 -> 0 | G51: =Saisie!E105 -> 0 | H51: =Saisie!F105 | I51: =Saisie!G105 | J51: =Saisie!H105 | ... AD51: =Saisie!AB105
A52: 1 | B52: =Poster!A41 -> SLD-EHPAD | C52: =Saisie!A116 -> 0 | D52: =Saisie!B116 -> 0 | E52: =Saisie!C116 | F52: =Saisie!D116 -> 0 | G52: =Saisie!E116 -> 0 | H52: =Saisie!F116 | I52: =Saisie!G116 | J52: =Saisie!H116 | ... AD52: =Saisie!AB116
A53: 2 | B53: =Poster!A41 -> SLD-EHPAD | C53: =Saisie!A117 -> 0 | D53: =Saisie!B117 -> 0 | E53: =Saisie!C117 | F53: =Saisie!D117 -> 0 | G53: =Saisie!E117 -> 0 | H53: =Saisie!F117 | I53: =Saisie!G117 | J53: =Saisie!H117 | ... AD53: =Saisie!AB117
A54: 3 | B54: =Poster!A41 -> SLD-EHPAD | C54: =Saisie!A118 -> 0 | D54: =Saisie!B118 -> 0 | E54: =Saisie!C118 | F54: =Saisie!D118 -> 0 | G54: =Saisie!E118 -> 0 | H54: =Saisie!F118 | I54: =Saisie!G118 | J54: =Saisie!H118 | ... AD54: =Saisie!AB118
A55: 4 | B55: =Poster!A41 -> SLD-EHPAD | C55: =Saisie!A119 -> 0 | D55: =Saisie!B119 -> 0 | E55: =Saisie!C119 | F55: =Saisie!D119 -> 0 | G55: =Saisie!E119 -> 0 | H55: =Saisie!F119 | I55: =Saisie!G119 | J55: =Saisie!H119 | ... AD55: =Saisie!AB119
A56: 5 | B56: =Poster!A41 -> SLD-EHPAD | C56: =Saisie!A120 -> 0 | D56: =Saisie!B120 -> 0 | E56: =Saisie!C120 | F56: =Saisie!D120 -> 0 | G56: =Saisie!E120 -> 0 | H56: =Saisie!F120 | I56: =Saisie!G120 | J56: =Saisie!H120 | ... AD56: =Saisie!AB120
A57: 6 | B57: =Poster!A41 -> SLD-EHPAD | C57: =Saisie!A121 -> 0 | D57: =Saisie!B121 -> 0 | E57: =Saisie!C121 | F57: =Saisie!D121 -> 0 | G57: =Saisie!E121 -> 0 | H57: =Saisie!F121 | I57: =Saisie!G121 | J57: =Saisie!H121 | ... AD57: =Saisie!AB121
A58: 7 | B58: =Poster!A41 -> SLD-EHPAD | C58: =Saisie!A122 -> 0 | D58: =Saisie!B122 -> 0 | E58: =Saisie!C122 | F58: =Saisie!D122 -> 0 | G58: =Saisie!E122 -> 0 | H58: =Saisie!F122 | I58: =Saisie!G122 | J58: =Saisie!H122 | ... AD58: =Saisie!AB122
A59: 8 | B59: =Poster!A41 -> SLD-EHPAD | C59: =Saisie!A123 -> 0 | D59: =Saisie!B123 -> 0 | E59: =Saisie!C123 | F59: =Saisie!D123 -> 0 | G59: =Saisie!E123 -> 0 | H59: =Saisie!F123 | I59: =Saisie!G123 | J59: =Saisie!H123 | ... AD59: =Saisie!AB123
A60: 9 | B60: =Poster!A41 -> SLD-EHPAD | C60: =Saisie!A124 -> 0 | D60: =Saisie!B124 -> 0 | E60: =Saisie!C124 | F60: =Saisie!D124 -> 0 | G60: =Saisie!E124 -> 0 | H60: =Saisie!F124 | I60: =Saisie!G124 | J60: =Saisie!H124 | ... AD60: =Saisie!AB124
A61: 10 | B61: =Poster!A41 -> SLD-EHPAD | C61: =Saisie!A125 -> 0 | D61: =Saisie!B125 -> 0 | E61: =Saisie!C125 | F61: =Saisie!D125 -> 0 | G61: =Saisie!E125 -> 0 | H61: =Saisie!F125 | I61: =Saisie!G125 | J61: =Saisie!H125 | ... AD61: =Saisie!AB125
A62: 1 | B62: =Poster!A42 -> Autre | C62: =Saisie!A141 -> 0 | D62: =Saisie!B141 -> 0 | E62: =Saisie!C141 | F62: =Saisie!D141 -> 0 | G62: =Saisie!E141 -> 0 | H62: =Saisie!F141 | I62: =Saisie!G141 | J62: =Saisie!H141 | ... AD62: =Saisie!AB141
A63: 2 | B63: =Poster!A42 -> Autre | C63: =Saisie!A142 -> 0 | D63: =Saisie!B142 -> 0 | E63: =Saisie!C142 | F63: =Saisie!D142 -> 0 | G63: =Saisie!E142 -> 0 | H63: =Saisie!F142 | I63: =Saisie!G142 | J63: =Saisie!H142 | ... AD63: =Saisie!AB142
A64: 3 | B64: =Poster!A42 -> Autre | C64: =Saisie!A143 -> 0 | D64: =Saisie!B143 -> 0 | E64: =Saisie!C143 | F64: =Saisie!D143 -> 0 | G64: =Saisie!E143 -> 0 | H64: =Saisie!F143 | I64: =Saisie!G143 | J64: =Saisie!H143 | ... AD64: =Saisie!AB143
A65: 4 | B65: =Poster!A42 -> Autre | C65: =Saisie!A144 -> 0 | D65: =Saisie!B144 -> 0 | E65: =Saisie!C144 | F65: =Saisie!D144 -> 0 | G65: =Saisie!E144 -> 0 | H65: =Saisie!F144 | I65: =Saisie!G144 | J65: =Saisie!H144 | ... AD65: =Saisie!AB144
A66: 5 | B66: =Poster!A42 -> Autre | C66: =Saisie!A145 -> 0 | D66: =Saisie!B145 -> 0 | E66: =Saisie!C145 | F66: =Saisie!D145 -> 0 | G66: =Saisie!E145 -> 0 | H66: =Saisie!F145 | I66: =Saisie!G145 | J66: =Saisie!H145 | ... AD66: =Saisie!AB145
A67: 6 | B67: =Poster!A42 -> Autre | C67: =Saisie!A146 -> 0 | D67: =Saisie!B146 -> 0 | E67: =Saisie!C146 | F67: =Saisie!D146 -> 0 | G67: =Saisie!E146 -> 0 | H67: =Saisie!F146 | I67: =Saisie!G146 | J67: =Saisie!H146 | ... AD67: =Saisie!AB146
A68: 7 | B68: =Poster!A42 -> Autre | C68: =Saisie!A147 -> 0 | D68: =Saisie!B147 -> 0 | E68: =Saisie!C147 | F68: =Saisie!D147 -> 0 | G68: =Saisie!E147 -> 0 | H68: =Saisie!F147 | I68: =Saisie!G147 | J68: =Saisie!H147 | ... AD68: =Saisie!AB147
A69: 8 | B69: =Poster!A42 -> Autre | C69: =Saisie!A148 -> 0 | D69: =Saisie!B148 -> 0 | E69: =Saisie!C148 | F69: =Saisie!D148 -> 0 | G69: =Saisie!E148 -> 0 | H69: =Saisie!F148 | I69: =Saisie!G148 | J69: =Saisie!H148 | ... AD69: =Saisie!AB148
A70: 9 | B70: =Poster!A42 -> Autre | C70: =Saisie!A149 -> 0 | D70: =Saisie!B149 -> 0 | E70: =Saisie!C149 | F70: =Saisie!D149 -> 0 | G70: =Saisie!E149 -> 0 | H70: =Saisie!F149 | I70: =Saisie!G149 | J70: =Saisie!H149 | ... AD70: =Saisie!AB149
A71: 10 | B71: =Poster!A42 -> Autre | C71: =Saisie!A150 -> 0 | D71: =Saisie!B150 -> 0 | E71: =Saisie!C150 | F71: =Saisie!D150 -> 0 | G71: =Saisie!E150 -> 0 | H71: =Saisie!F150 | I71: =Saisie!G150 | J71: =Saisie!H150 | ... AD71: =Saisie!AB150
