Workbook
Name bdd_services: bdd!$1:$1048576
Name choix_service: Poster!$C$4
Name dt_autre: Saisie!$A$131:$C$137
Name dt_chirurgie: Saisie!$A$27:$C$29
Name dt_go: Saisie!$A$48:$C$51
Name dt_medecine: Saisie!$A$4:$C$8
Name dt_rea: Saisie!$A$71:$C$72
Name dt_sld: Saisie!$A$111:$C$112
Name dt_ssr: Saisie!$A$91:$C$92
Name etab: Infos!$D$3
Name liste_autre: Saisie!$A$141:$B$150
Name liste_chirurgie: Saisie!$A$33:$B$42
Name liste_go: Saisie!$A$55:$B$64
Name liste_medecine: Saisie!$A$12:$B$21
Name liste_rea: Saisie!$A$76:$B$85
Name liste_sld: Saisie!$A$116:$B$125
Name liste_ssr: Saisie!$A$96:$B$105
Name saisie: Saisie!$1:$1048576
Name volume_friction: Poster!$A$33

Sheet Infos
C1: ICSHA 3 | D1: Année 2020
C3: Etablissement :
C5: Saisie | D5: La saisie se fait dans l'onglet "Saisie", dans les cases jaunes,
D6: pour chaque trimestre de l'année.
D7: Saisir : le nom des services, leur type d'activité (liste déroulante),
D8: la consommation de SHA en litres, et les données d'activité.
C10: Analyses | D10: Dans l'onglet "Saisie", la consommation théorique et le pourcentage
D11: d'atteinte de l'objectif sont calculés automatiquement pour chaque
D12: trimestre et pour l'année.
D13: Dans l'onglet "Poster" : choisir un type de service (liste déroulante)
D14: puis un service pour afficher le poster correspondant à ce service.
C18: © CPIAS NORMANDIE - 2019

Sheet Saisie
A1: Services de médecine
A3: Type d'activité : | B3: Nombre de frictions à atteindre | C3: Activité mesurée par
A4: Médecine HC | B4: 10 | C4: Jour
A5: Médecine HJ | B5: 5 | C5: Jour
A6: Psychiatrie HC | B6: 4 | C6: Jour
A7: Psychiatrie HJ | B7: 2 | C7: Jour
A8: Hémodialyse | B8: 11 | C8: Séance
D10: T1 | I10: T2 | N10: T3 | S10: T4 | X10: Année
A11: Service | B11: Spécialité | C11: Frictions théoriques | D11: Total consommé en litres | E11: Total activité | F11: Total théorique en litres | G11: % de conso ICSHA | H11: Frictions réalisées | I11: Total consommé en litres | J11: Total activité | K11: Total théorique en litres | L11: % de conso ICSHA | M11: Frictions réalisées | N11: Total consommé en litres | O11: Total activité | P11: Total théorique en litres | Q11: % de conso ICSHA | R11: Frictions réalisées | S11: Total consommé en litres | T11: Total activité | U11: Total théorique en litres | V11: % de conso ICSHA | W11: Frictions réalisées | X11: Total consommé en litres | Y11: Total activité | Z11: Total théorique en litres | AA11: % de conso ICSHA | AB11: Frictions réalisées
C12: =IFERROR(VLOOKUP(B12,dt_medecine,2,FALSE),"") | F12: =IF(E12="","",IFERROR(VLOOKUP(B12,dt_medecine,2,FALSE)*E12*(volume_friction/1000),"")) | G12: =IFERROR(IF(D12=0,"",D12/F12),"") | H12: =IFERROR(IF(D12=0,"",D12/E12/(volume_friction/1000)),"") | K12: =IF(J12="","",IFERROR(VLOOKUP(B12,dt_medecine,2,FALSE)*J12*(volume_friction/1000),"")) | L12: =IFERROR(IF(I12=0,"",I12/K12),"") | M12: =IFERROR(IF(I12=0,"",I12/J12/(volume_friction/1000)),"") | P12: =IF(O12="","",IFERROR(VLOOKUP(B12,dt_medecine,2,FALSE)*O12*(volume_friction/1000),"")) | Q12: =IFERROR(IF(N12=0,"",N12/P12),"") | R12: =IFERROR(IF(N12=0,"",N12/O12/(volume_friction/1000)),"") | U12: =IF(T12="","",IFERROR(VLOOKUP(B12,dt_medecine,2,FALSE)*T12*(volume_friction/1000),"")) | V12: =IFERROR(IF(S12=0,"",S12/U12),"") | W12: =IFERROR(IF(S12=0,"",S12/T12/(volume_friction/1000)),"") | X12: =IF(AND(D12<>0,I12<>0,N12<>0,S12<>0),D12+I12+N12+S12,"") | Y12: =IF(AND(E12<>0,J12<>0,O12<>0,T12<>0),E12+J12+O12+T12,"") | Z12: =IF(Y12="","",IFERROR(VLOOKUP(B12,dt_medecine,2,FALSE)*Y12*(volume_friction/1000),"")) | AA12: =IFERROR(IF(X12=0,"",X12/Z12),"") | AB12: =IFERROR(IF(X12=0,"",X12/Y12/(volume_friction/1000)),"")
C13: =IFERROR(VLOOKUP(B13,dt_medecine,2,FALSE),"") | F13: =IF(E13="","",IFERROR(VLOOKUP(B13,dt_medecine,2,FALSE)*E13*(volume_friction/1000),"")) | G13: =IFERROR(IF(D13=0,"",D13/F13),"") | H13: =IFERROR(IF(D13=0,"",D13/E13/(volume_friction/1000)),"") | K13: =IF(J13="","",IFERROR(VLOOKUP(B13,dt_medecine,2,FALSE)*J13*(volume_friction/1000),"")) | L13: =IFERROR(IF(I13=0,"",I13/K13),"") | M13: =IFERROR(IF(I13=0,"",I13/J13/(volume_friction/1000)),"") | P13: =IF(O13="","",IFERROR(VLOOKUP(B13,dt_medecine,2,FALSE)*O13*(volume_friction/1000),"")) | Q13: =IFERROR(IF(N13=0,"",N13/P13),"") | R13: =IFERROR(IF(N13=0,"",N13/O13/(volume_friction/1000)),"") | U13: =IF(T13="","",IFERROR(VLOOKUP(B13,dt_medecine,2,FALSE)*T13*(volume_friction/1000),"")) | V13: =IFERROR(IF(S13=0,"",S13/U13),"") | W13: =IFERROR(IF(S13=0,"",S13/T13/(volume_friction/1000)),"") | X13: =IF(AND(D13<>0,I13<>0,N13<>0,S13<>0),D13+I13+N13+S13,"") | Y13: =IF(AND(E13<>0,J13<>0,O13<>0,T13<>0),E13+J13+O13+T13,"") | Z13: =IF(Y13="","",IFERROR(VLOOKUP(B13,dt_medecine,2,FALSE)*Y13*(volume_friction/1000),"")) | AA13: =IFERROR(IF(X13=0,"",X13/Z13),"") | AB13: =IFERROR(IF(X13=0,"",X13/Y13/(volume_friction/1000)),"")
C14: =IFERROR(VLOOKUP(B14,dt_medecine,2,FALSE),"") | F14: =IF(E14="","",IFERROR(VLOOKUP(B14,dt_medecine,2,FALSE)*E14*(volume_friction/1000),"")) | G14: =IFERROR(IF(D14=0,"",D14/F14),"") | H14: =IFERROR(IF(D14=0,"",D14/E14/(volume_friction/1000)),"") | K14: =IF(J14="","",IFERROR(VLOOKUP(B14,dt_medecine,2,FALSE)*J14*(volume_friction/1000),"")) | L14: =IFERROR(IF(I14=0,"",I14/K14),"") | M14: =IFERROR(IF(I14=0,"",I14/J14/(volume_friction/1000)),"") | P14: =IF(O14="","",IFERROR(VLOOKUP(B14,dt_medecine,2,FALSE)*O14*(volume_friction/1000),"")) | Q14: =IFERROR(IF(N14=0,"",N14/P14),"") | R14: =IFERROR(IF(N14=0,"",N14/O14/(volume_friction/1000)),"") | U14: =IF(T14="","",IFERROR(VLOOKUP(B14,dt_medecine,2,FALSE)*T14*(volume_friction/1000),"")) | V14: =IFERROR(IF(S14=0,"",S14/U14),"") | W14: =IFERROR(IF(S14=0,"",S14/T14/(volume_friction/1000)),"") | X14: =IF(AND(D14<>0,I14<>0,N14<>0,S14<>0),D14+I14+N14+S14,"") | Y14: =IF(AND(E14<>0,J14<>0,O14<>0,T14<>0),E14+J14+O14+T14,"") | Z14: =IF(Y14="","",IFERROR(VLOOKUP(B14,dt_medecine,2,FALSE)*Y14*(volume_friction/1000),"")) | AA14: =IFERROR(IF(X14=0,"",X14/Z14),"") | AB14: =IFERROR(IF(X14=0,"",X14/Y14/(volume_friction/1000)),"")
C15: =IFERROR(VLOOKUP(B15,dt_medecine,2,FALSE),"") | F15: =IF(E15="","",IFERROR(VLOOKUP(B15,dt_medecine,2,FALSE)*E15*(volume_friction/1000),"")) | G15: =IFERROR(IF(D15=0,"",D15/F15),"") | H15: =IFERROR(IF(D15=0,"",D15/E15/(volume_friction/1000)),"") | K15: =IF(J15="","",IFERROR(VLOOKUP(B15,dt_medecine,2,FALSE)*J15*(volume_friction/1000),"")) | L15: =IFERROR(IF(I15=0,"",I15/K15),"") | M15: =IFERROR(IF(I15=0,"",I15/J15/(volume_friction/1000)),"") | P15: =IF(O15="","",IFERROR(VLOOKUP(B15,dt_medecine,2,FALSE)*O15*(volume_friction/1000),"")) | Q15: =IFERROR(IF(N15=0,"",N15/P15),"") | R15: =IFERROR(IF(N15=0,"",N15/O15/(volume_friction/1000)),"") | U15: =IF(T15="","",IFERROR(VLOOKUP(B15,dt_medecine,2,FALSE)*T15*(volume_friction/1000),"")) | V15: =IFERROR(IF(S15=0,"",S15/U15),"") | W15: =IFERROR(IF(S15=0,"",S15/T15/(volume_friction/1000)),"") | X15: =IF(AND(D15<>0,I15<>0,N15<>0,S15<>0),D15+I15+N15+S15,"") | Y15: =IF(AND(E15<>0,J15<>0,O15<>0,T15<>0),E15+J15+O15+T15,"") | Z15: =IF(Y15="","",IFERROR(VLOOKUP(B15,dt_medecine,2,FALSE)*Y15*(volume_friction/1000),"")) | AA15: =IFERROR(IF(X15=0,"",X15/Z15),"") | AB15: =IFERROR(IF(X15=0,"",X15/Y15/(volume_friction/1000)),"")
C16: =IFERROR(VLOOKUP(B16,dt_medecine,2,FALSE),"") | F16: =IF(E16="","",IFERROR(VLOOKUP(B16,dt_medecine,2,FALSE)*E16*(volume_friction/1000),"")) | G16: =IFERROR(IF(D16=0,"",D16/F16),"") | H16: =IFERROR(IF(D16=0,"",D16/E16/(volume_friction/1000)),"") | K16: =IF(J16="","",IFERROR(VLOOKUP(B16,dt_medecine,2,FALSE)*J16*(volume_friction/1000),"")) | L16: =IFERROR(IF(I16=0,"",I16/K16),"") | M16: =IFERROR(IF(I16=0,"",I16/J16/(volume_friction/1000)),"") | P16: =IF(O16="","",IFERROR(VLOOKUP(B16,dt_medecine,2,FALSE)*O16*(volume_friction/1000),"")) | Q16: =IFERROR(IF(N16=0,"",N16/P16),"") | R16: =IFERROR(IF(N16=0,"",N16/O16/(volume_friction/1000)),"") | U16: =IF(T16="","",IFERROR(VLOOKUP(B16,dt_medecine,2,FALSE)*T16*(volume_friction/1000),"")) | V16: =IFERROR(IF(S16=0,"",S16/U16),"") | W16: =IFERROR(IF(S16=0,"",S16/T16/(volume_friction/1000)),"") | X16: =IF(AND(D16<>0,I16<>0,N16<>0,S16<>0),D16+I16+N16+S16,"") | Y16: =IF(AND(E16<>0,J16<>0,O16<>0,T16<>0),E16+J16+O16+T16,"") | Z16: =IF(Y16="","",IFERROR(VLOOKUP(B16,dt_medecine,2,FALSE)*Y16*(volume_friction/1000),"")) | AA16: =IFERROR(IF(X16=0,"",X16/Z16),"") | AB16: =IFERROR(IF(X16=0,"",X16/Y16/(volume_friction/1000)),"")
C17: =IFERROR(VLOOKUP(B17,dt_medecine,2,FALSE),"") | F17: =IF(E17="","",IFERROR(VLOOKUP(B17,dt_medecine,2,FALSE)*E17*(volume_friction/1000),"")) | G17: =IFERROR(IF(D17=0,"",D17/F17),"") | H17: =IFERROR(IF(D17=0,"",D17/E17/(volume_friction/1000)),"") | K17: =IF(J17="","",IFERROR(VLOOKUP(B17,dt_medecine,2,FALSE)*J17*(volume_friction/1000),"")) | L17: =IFERROR(IF(I17=0,"",I17/K17),"") | M17: =IFERROR(IF(I17=0,"",I17/J17/(volume_friction/1000)),"") | P17: =IF(O17="","",IFERROR(VLOOKUP(B17,dt_medecine,2,FALSE)*O17*(volume_friction/1000),"")) | Q17: =IFERROR(IF(N17=0,"",N17/P17),"") | R17: =IFERROR(IF(N17=0,"",N17/O17/(volume_friction/1000)),"") | U17: =IF(T17="","",IFERROR(VLOOKUP(B17,dt_medecine,2,FALSE)*T17*(volume_friction/1000),"")) | V17: =IFERROR(IF(S17=0,"",S17/U17),"") | W17: =IFERROR(IF(S17=0,"",S17/T17/(volume_friction/1000)),"") | X17: =IF(AND(D17<>0,I17<>0,N17<>0,S17<>0),D17+I17+N17+S17,"") | Y17: =IF(AND(E17<>0,J17<>0,O17<>0,T17<>0),E17+J17+O17+T17,"") | Z17: =IF(Y17="","",IFERROR(VLOOKUP(B17,dt_medecine,2,FALSE)*Y17*(volume_friction/1000),"")) | AA17: =IFERROR(IF(X17=0,"",X17/Z17),"") | AB17: =IFERROR(IF(X17=0,"",X17/Y17/(volume_friction/1000)),"")
C18: =IFERROR(VLOOKUP(B18,dt_medecine,2,FALSE),"") | F18: =IF(E18="","",IFERROR(VLOOKUP(B18,dt_medecine,2,FALSE)*E18*(volume_friction/1000),"")) | G18: =IFERROR(IF(D18=0,"",D18/F18),"") | H18: =IFERROR(IF(D18=0,"",D18/E18/(volume_friction/1000)),"") | K18: =IF(J18="","",IFERROR(VLOOKUP(B18,dt_medecine,2,FALSE)*J18*(volume_friction/1000),"")) | L18: =IFERROR(IF(I18=0,"",I18/K18),"") | M18: =IFERROR(IF(I18=0,"",I18/J18/(volume_friction/1000)),"") | P18: =IF(O18="","",IFERROR(VLOOKUP(B18,dt_medecine,2,FALSE)*O18*(volume_friction/1000),"")) | Q18: =IFERROR(IF(N18=0,"",N18/P18),"") | R18: =IFERROR(IF(N18=0,"",N18/O18/(volume_friction/1000)),"") | U18: =IF(T18="","",IFERROR(VLOOKUP(B18,dt_medecine,2,FALSE)*T18*(volume_friction/1000),"")) | V18: =IFERROR(IF(S18=0,"",S18/U18),"") | W18: =IFERROR(IF(S18=0,"",S18/T18/(volume_friction/1000)),"") | X18: =IF(AND(D18<>0,I18<>0,N18<>0,S18<>0),D18+I18+N18+S18,"") | Y18: =IF(AND(E18<>0,J18<>0,O18<>0,T18<>0),E18+J18+O18+T18,"") | Z18: =IF(Y18="","",IFERROR(VLOOKUP(B18,dt_medecine,2,FALSE)*Y18*(volume_friction/1000),"")) | AA18: =IFERROR(IF(X18=0,"",X18/Z18),"") | AB18: =IFERROR(IF(X18=0,"",X18/Y18/(volume_friction/1000)),"")
C19: =IFERROR(VLOOKUP(B19,dt_medecine,2,FALSE),"") | F19: =IF(E19="","",IFERROR(VLOOKUP(B19,dt_medecine,2,FALSE)*E19*(volume_friction/1000),"")) | G19: =IFERROR(IF(D19=0,"",D19/F19),"") | H19: =IFERROR(IF(D19=0,"",D19/E19/(volume_friction/1000)),"") | K19: =IF(J19="","",IFERROR(VLOOKUP(B19,dt_medecine,2,FALSE)*J19*(volume_friction/1000),"")) | L19: =IFERROR(IF(I19=0,"",I19/K19),"") | M19: =IFERROR(IF(I19=0,"",I19/J19/(volume_friction/1000)),"") | P19: =IF(O19="","",IFERROR(VLOOKUP(B19,dt_medecine,2,FALSE)*O19*(volume_friction/1000),"")) | Q19: =IFERROR(IF(N19=0,"",N19/P19),"") | R19: =IFERROR(IF(N19=0,"",N19/O19/(volume_friction/1000)),"") | U19: =IF(T19="","",IFERROR(VLOOKUP(B19,dt_medecine,2,FALSE)*T19*(volume_friction/1000),"")) | V19: =IFERROR(IF(S19=0,"",S19/U19),"") | W19: =IFERROR(IF(S19=0,"",S19/T19/(volume_friction/1000)),"") | X19: =IF(AND(D19<>0,I19<>0,N19<>0,S19<>0),D19+I19+N19+S19,"") | Y19: =IF(AND(E19<>0,J19<>0,O19<>0,T19<>0),E19+J19+O19+T19,"") | Z19: =IF(Y19="","",IFERROR(VLOOKUP(B19,dt_medecine,2,FALSE)*Y19*(volume_friction/1000),"")) | AA19: =IFERROR(IF(X19=0,"",X19/Z19),"") | AB19: =IFERROR(IF(X19=0,"",X19/Y19/(volume_friction/1000)),"")
C20: =IFERROR(VLOOKUP(B20,dt_medecine,2,FALSE),"") | F20: =IF(E20="","",IFERROR(VLOOKUP(B20,dt_medecine,2,FALSE)*E20*(volume_friction/1000),"")) | G20: =IFERROR(IF(D20=0,"",D20/F20),"") | H20: =IFERROR(IF(D20=0,"",D20/E20/(volume_friction/1000)),"") | K20: =IF(J20="","",IFERROR(VLOOKUP(B20,dt_medecine,2,FALSE)*J20*(volume_friction/1000),"")) | L20: =IFERROR(IF(I20=0,"",I20/K20),"") | M20: =IFERROR(IF(I20=0,"",I20/J20/(volume_friction/1000)),"") | P20: =IF(O20="","",IFERROR(VLOOKUP(B20,dt_medecine,2,FALSE)*O20*(volume_friction/1000),"")) | Q20: =IFERROR(IF(N20=0,"",N20/P20),"") | R20: =IFERROR(IF(N20=0,"",N20/O20/(volume_friction/1000)),"") | U20: =IF(T20="","",IFERROR(VLOOKUP(B20,dt_medecine,2,FALSE)*T20*(volume_friction/1000),"")) | V20: =IFERROR(IF(S20=0,"",S20/U20),"") | W20: =IFERROR(IF(S20=0,"",S20/T20/(volume_friction/1000)),"") | X20: =IF(AND(D20<>0,I20<>0,N20<>0,S20<>0),D20+I20+N20+S20,"") | Y20: =IF(AND(E20<>0,J20<>0,O20<>0,T20<>0),E20+J20+O20+T20,"") | Z20: =IF(Y20="","",IFERROR(VLOOKUP(B20,dt_medecine,2,FALSE)*Y20*(volume_friction/1000),"")) | AA20: =IFERROR(IF(X20=0,"",X20/Z20),"") | AB20: =IFERROR(IF(X20=0,"",X20/Y20/(volume_friction/1000)),"")
C21: =IFERROR(VLOOKUP(B21,dt_medecine,2,FALSE),"") | F21: =IF(E21="","",IFERROR(VLOOKUP(B21,dt_medecine,2,FALSE)*E21*(volume_friction/1000),"")) | G21: =IFERROR(IF(D21=0,"",D21/F21),"") | H21: =IFERROR(IF(D21=0,"",D21/E21/(volume_friction/1000)),"") | K21: =IF(J21="","",IFERROR(VLOOKUP(B21,dt_medecine,2,FALSE)*J21*(volume_friction/1000),"")) | L21: =IFERROR(IF(I21=0,"",I21/K21),"") | M21: =IFERROR(IF(I21=0,"",I21/J21/(volume_friction/1000)),"") | P21: =IF(O21="","",IFERROR(VLOOKUP(B21,dt_medecine,2,FALSE)*O21*(volume_friction/1000),"")) | Q21: =IFERROR(IF(N21=0,"",N21/P21),"") | R21: =IFERROR(IF(N21=0,"",N21/O21/(volume_friction/1000)),"") | U21: =IF(T21="","",IFERROR(VLOOKUP(B21,dt_medecine,2,FALSE)*T21*(volume_friction/1000),"")) | V21: =IFERROR(IF(S21=0,"",S21/U21),"") | W21: =IFERROR(IF(S21=0,"",S21/T21/(volume_friction/1000)),"") | X21: =IF(AND(D21<>0,I21<>0,N21<>0,S21<>0),D21+I21+N21+S21,"") | Y21: =IF(AND(E21<>0,J21<>0,O21<>0,T21<>0),E21+J21+O21+T21,"") | Z21: =IF(Y21="","",IFERROR(VLOOKUP(B21,dt_medecine,2,FALSE)*Y21*(volume_friction/1000),"")) | AA21: =IFERROR(IF(X21=0,"",X21/Z21),"") | AB21: =IFERROR(IF(X21=0,"",X21/Y21/(volume_friction/1000)),"")
A24: Services de chirurgie
A26: Type d'activité : | B26: Nombre de frictions à atteindre | C26: Activité mesurée par
A27: Chirurgie HC | B27: 12 | C27: Jour
A28: Chirurgie HJ | B28: 5 | C28: Jour
A29: Bloc + SSPI | B29: 14 | C29: Acte
D31: T1 | I31: T2 | N31: T3 | S31: T4 | X31: Année
A32: Service | B32: Spécialité | C32: Frictions théoriques | D32: Total consommé en litres | E32: Total activité | F32: Total théorique en litres | G32: % de conso ICSHA | H32: Frictions réalisées | I32: Total consommé en litres | J32: Total activité | K32: Total théorique en litres | L32: % de conso ICSHA | M32: Frictions réalisées | N32: Total consommé en litres | O32: Total activité | P32: Total théorique en litres | Q32: % de conso ICSHA | R32: Frictions réalisées | S32: Total consommé en litres | T32: Total activité | U32: Total théorique en litres | V32: % de conso ICSHA | W32: Frictions réalisées | X32: Total consommé en litres | Y32: Total activité | Z32: Total théorique en litres | AA32: % de conso ICSHA | AB32: Frictions réalisées
C33: =IFERROR(VLOOKUP(B33,dt_chirurgie,2,FALSE),"") | F33: =IF(E33="","",IFERROR(VLOOKUP(B33,dt_chirurgie,2,FALSE)*E33*(volume_friction/1000),"")) | G33: =IFERROR(IF(D33=0,"",D33/F33),"") | H33: =IFERROR(IF(D33=0,"",D33/E33/(volume_friction/1000)),"") | K33: =IF(J33="","",IFERROR(VLOOKUP(B33,dt_chirurgie,2,FALSE)*J33*(volume_friction/1000),"")) | L33: =IFERROR(IF(I33=0,"",I33/K33),"") | M33: =IFERROR(IF(I33=0,"",I33/J33/(volume_friction/1000)),"") | P33: =IF(O33="","",IFERROR(VLOOKUP(B33,dt_chirurgie,2,FALSE)*O33*(volume_friction/1000),"")) | Q33: =IFERROR(IF(N33=0,"",N33/P33),"") | R33: =IFERROR(IF(N33=0,"",N33/O33/(volume_friction/1000)),"") | U33: =IF(T33="","",IFERROR(VLOOKUP(B33,dt_chirurgie,2,FALSE)*T33*(volume_friction/1000),"")) | V33: =IFERROR(IF(S33=0,"",S33/U33),"") | W33: =IFERROR(IF(S33=0,"",S33/T33/(volume_friction/1000)),"") | X33: =IF(AND(D33<>0,I33<>0,N33<>0,S33<>0),D33+I33+N33+S33,"") | Y33: =IF(AND(E33<>0,J33<>0,O33<>0,T33<>0),E33+J33+O33+T33,"") | Z33: =IF(Y33="","",IFERROR(VLOOKUP(B33,dt_chirurgie,2,FALSE)*Y33*(volume_friction/1000),"")) | AA33: =IFERROR(IF(X33=0,"",X33/Z33),"") | AB33: =IFERROR(IF(X33=0,"",X33/Y33/(volume_friction/1000)),"")
C34: =IFERROR(VLOOKUP(B34,dt_chirurgie,2,FALSE),"") | F34: =IF(E34="","",IFERROR(VLOOKUP(B34,dt_chirurgie,2,FALSE)*E34*(volume_friction/1000),"")) | G34: =IFERROR(IF(D34=0,"",D34/F34),"") | H34: =IFERROR(IF(D34=0,"",D34/E34/(volume_friction/1000)),"") | K34: =IF(J34="","",IFERROR(VLOOKUP(B34,dt_chirurgie,2,FALSE)*J34*(volume_friction/1000),"")) | L34: =IFERROR(IF(I34=0,"",I34/K34),"") | M34: =IFERROR(IF(I34=0,"",I34/J34/(volume_friction/1000)),"") | P34: =IF(O34="","",IFERROR(VLOOKUP(B34,dt_chirurgie,2,FALSE)*O34*(volume_friction/1000),"")) | Q34: =IFERROR(IF(N34=0,"",N34/P34),"") | R34: =IFERROR(IF(N34=0,"",N34/O34/(volume_friction/1000)),"") | U34: =IF(T34="","",IFERROR(VLOOKUP(B34,dt_chirurgie,2,FALSE)*T34*(volume_friction/1000),"")) | V34: =IFERROR(IF(S34=0,"",S34/U34),"") | W34: =IFERROR(IF(S34=0,"",S34/T34/(volume_friction/1000)),"") | X34: =IF(AND(D34<>0,I34<>0,N34<>0,S34<>0),D34+I34+N34+S34,"") | Y34: =IF(AND(E34<>0,J34<>0,O34<>0,T34<>0),E34+J34+O34+T34,"") | Z34: =IF(Y34="","",IFERROR(VLOOKUP(B34,dt_chirurgie,2,FALSE)*Y34*(volume_friction/1000),"")) | AA34: =IFERROR(IF(X34=0,"",X34/Z34),"") | AB34: =IFERROR(IF(X34=0,"",X34/Y34/(volume_friction/1000)),"")
C35: =IFERROR(VLOOKUP(B35,dt_chirurgie,2,FALSE),"") | F35: =IF(E35="","",IFERROR(VLOOKUP(B35,dt_chirurgie,2,FALSE)*E35*(volume_friction/1000),"")) | G35: =IFERROR(IF(D35=0,"",D35/F35),"") | H35: =IFERROR(IF(D35=0,"",D35/E35/(volume_friction/1000)),"") | K35: =IF(J35="","",IFERROR(VLOOKUP(B35,dt_chirurgie,2,FALSE)*J35*(volume_friction/1000),"")) | L35: =IFERROR(IF(I35=0,"",I35/K35),"") | M35: =IFERROR(IF(I35=0,"",I35/J35/(volume_friction/1000)),"") | P35: =IF(O35="","",IFERROR(VLOOKUP(B35,dt_chirurgie,2,FALSE)*O35*(volume_friction/1000),"")) | Q35: =IFERROR(IF(N35=0,"",N35/P35),"") | R35: =IFERROR(IF(N35=0,"",N35/O35/(volume_friction/1000)),"") | U35: =IF(T35="","",IFERROR(VLOOKUP(B35,dt_chirurgie,2,FALSE)*T35*(volume_friction/1000),"")) | V35: =IFERROR(IF(S35=0,"",S35/U35),"") | W35: =IFERROR(IF(S35=0,"",S35/T35/(volume_friction/1000)),"") | X35: =IF(AND(D35<>0,I35<>0,N35<>0,S35<>0),D35+I35+N35+S35,"") | Y35: =IF(AND(E35<>0,J35<>0,O35<>0,T35<>0),E35+J35+O35+T35,"") | Z35: =IF(Y35="","",IFERROR(VLOOKUP(B35,dt_chirurgie,2,FALSE)*Y35*(volume_friction/1000),"")) | AA35: =IFERROR(IF(X35=0,"",X35/Z35),"") | AB35: =IFERROR(IF(X35=0,"",X35/Y35/(volume_friction/1000)),"")
C36: =IFERROR(VLOOKUP(B36,dt_chirurgie,2,FALSE),"") | F36: =IF(E36="","",IFERROR(VLOOKUP(B36,dt_chirurgie,2,FALSE)*E36*(volume_friction/1000),"")) | G36: =IFERROR(IF(D36=0,"",D36/F36),"") | H36: =IFERROR(IF(D36=0,"",D36/E36/(volume_friction/1000)),"") | K36: =IF(J36="","",IFERROR(VLOOKUP(B36,dt_chirurgie,2,FALSE)*J36*(volume_friction/1000),"")) | L36: =IFERROR(IF(I36=0,"",I36/K36),"") | M36: =IFERROR(IF(I36=0,"",I36/J36/(volume_friction/1000)),"") | P36: =IF(O36="","",IFERROR(VLOOKUP(B36,dt_chirurgie,2,FALSE)*O36*(volume_friction/1000),"")) | Q36: =IFERROR(IF(N36=0,"",N36/P36),"") | R36: =IFERROR(IF(N36=0,"",N36/O36/(volume_friction/1000)),"") | U36: =IF(T36="","",IFERROR(VLOOKUP(B36,dt_chirurgie,2,FALSE)*T36*(volume_friction/1000),"")) | V36: =IFERROR(IF(S36=0,"",S36/U36),"") | W36: =IFERROR(IF(S36=0,"",S36/T36/(volume_friction/1000)),"") | X36: =IF(AND(D36<>0,I36<>0,N36<>0,S36<>0),D36+I36+N36+S36,"") | Y36: =IF(AND(E36<>0,J36<>0,O36<>0,T36<>0),E36+J36+O36+T36,"") | Z36: =IF(Y36="","",IFERROR(VLOOKUP(B36,dt_chirurgie,2,FALSE)*Y36*(volume_friction/1000),"")) | AA36: =IFERROR(IF(X36=0,"",X36/Z36),"") | AB36: =IFERROR(IF(X36=0,"",X36/Y36/(volume_friction/1000)),"")
C37: =IFERROR(VLOOKUP(B37,dt_chirurgie,2,FALSE),"") | F37: =IF(E37="","",IFERROR(VLOOKUP(B37,dt_chirurgie,2,FALSE)*E37*(volume_friction/1000),"")) | G37: =IFERROR(IF(D37=0,"",D37/F37),"") | H37: =IFERROR(IF(D37=0,"",D37/E37/(volume_friction/1000)),"") | K37: =IF(J37="","",IFERROR(VLOOKUP(B37,dt_chirurgie,2,FALSE)*J37*(volume_friction/1000),"")) | L37: =IFERROR(IF(I37=0,"",I37/K37),"") | M37: =IFERROR(IF(I37=0,"",I37/J37/(volume_friction/1000)),"") | P37: =IF(O37="","",IFERROR(VLOOKUP(B37,dt_chirurgie,2,FALSE)*O37*(volume_friction/1000),"")) | Q37: =IFERROR(IF(N37=0,"",N37/P37),"") | R37: =IFERROR(IF(N37=0,"",N37/O37/(volume_friction/1000)),"") | U37: =IF(T37="","",IFERROR(VLOOKUP(B37,dt_chirurgie,2,FALSE)*T37*(volume_friction/1000),"")) | V37: =IFERROR(IF(S37=0,"",S37/U37),"") | W37: =IFERROR(IF(S37=0,"",S37/T37/(volume_friction/1000)),"") | X37: =IF(AND(D37<>0,I37<>0,N37<>0,S37<>0),D37+I37+N37+S37,"") | Y37: =IF(AND(E37<>0,J37<>0,O37<>0,T37<>0),E37+J37+O37+T37,"") | Z37: =IF(Y37="","",IFERROR(VLOOKUP(B37,dt_chirurgie,2,FALSE)*Y37*(volume_friction/1000),"")) | AA37: =IFERROR(IF(X37=0,"",X37/Z37),"") | AB37: =IFERROR(IF(X37=0,"",X37/Y37/(volume_friction/1000)),"")
C38: =IFERROR(VLOOKUP(B38,dt_chirurgie,2,FALSE),"") | F38: =IF(E38="","",IFERROR(VLOOKUP(B38,dt_chirurgie,2,FALSE)*E38*(volume_friction/1000),"")) | G38: =IFERROR(IF(D38=0,"",D38/F38),"") | H38: =IFERROR(IF(D38=0,"",D38/E38/(volume_friction/1000)),"") | K38: =IF(J38="","",IFERROR(VLOOKUP(B38,dt_chirurgie,2,FALSE)*J38*(volume_friction/1000),"")) | L38: =IFERROR(IF(I38=0,"",I38/K38),"") | M38: =IFERROR(IF(I38=0,"",I38/J38/(volume_friction/1000)),"") | P38: =IF(O38="","",IFERROR(VLOOKUP(B38,dt_chirurgie,2,FALSE)*O38*(volume_friction/1000),"")) | Q38: =IFERROR(IF(N38=0,"",N38/P38),"") | R38: =IFERROR(IF(N38=0,"",N38/O38/(volume_friction/1000)),"") | U38: =IF(T38="","",IFERROR(VLOOKUP(B38,dt_chirurgie,2,FALSE)*T38*(volume_friction/1000),"")) | V38: =IFERROR(IF(S38=0,"",S38/U38),"") | W38: =IFERROR(IF(S38=0,"",S38/T38/(volume_friction/1000)),"") | X38: =IF(AND(D38<>0,I38<>0,N38<>0,S38<>0),D38+I38+N38+S38,"") | Y38: =IF(AND(E38<>0,J38<>0,O38<>0,T38<>0),E38+J38+O38+T38,"") | Z38: =IF(Y38="","",IFERROR(VLOOKUP(B38,dt_chirurgie,2,FALSE)*Y38*(volume_friction/1000),"")) | AA38: =IFERROR(IF(X38=0,"",X38/Z38),"") | AB38: =IFERROR(IF(X38=0,"",X38/Y38/(volume_friction/1000)),"")
C39: =IFERROR(VLOOKUP(B39,dt_chirurgie,2,FALSE),"") | F39: =IF(E39="","",IFERROR(VLOOKUP(B39,dt_chirurgie,2,FALSE)*E39*(volume_friction/1000),"")) | G39: =IFERROR(IF(D39=0,"",D39/F39),"") | H39: =IFERROR(IF(D39=0,"",D39/E39/(volume_friction/1000)),"") | K39: =IF(J39="","",IFERROR(VLOOKUP(B39,dt_chirurgie,2,FALSE)*J39*(volume_friction/1000),"")) | L39: =IFERROR(IF(I39=0,"",I39/K39),"") | M39: =IFERROR(IF(I39=0,"",I39/J39/(volume_friction/1000)),"") | P39: =IF(O39="","",IFERROR(VLOOKUP(B39,dt_chirurgie,2,FALSE)*O39*(volume_friction/1000),"")) | Q39: =IFERROR(IF(N39=0,"",N39/P39),"") | R39: =IFERROR(IF(N39=0,"",N39/O39/(volume_friction/1000)),"") | U39: =IF(T39="","",IFERROR(VLOOKUP(B39,dt_chirurgie,2,FALSE)*T39*(volume_friction/1000),"")) | V39: =IFERROR(IF(S39=0,"",S39/U39),"") | W39: =IFERROR(IF(S39=0,"",S39/T39/(volume_friction/1000)),"") | X39: =IF(AND(D39<>0,I39<>0,N39<>0,S39<>0),D39+I39+N39+S39,"") | Y39: =IF(AND(E39<>0,J39<>0,O39<>0,T39<>0),E39+J39+O39+T39,"") | Z39: =IF(Y39="","",IFERROR(VLOOKUP(B39,dt_chirurgie,2,FALSE)*Y39*(volume_friction/1000),"")) | AA39: =IFERROR(IF(X39=0,"",X39/Z39),"") | AB39: =IFERROR(IF(X39=0,"",X39/Y39/(volume_friction/1000)),"")
C40: =IFERROR(VLOOKUP(B40,dt_chirurgie,2,FALSE),"") | F40: =IF(E40="","",IFERROR(VLOOKUP(B40,dt_chirurgie,2,FALSE)*E40*(volume_friction/1000),"")) | G40: =IFERROR(IF(D40=0,"",D40/F40),"") | H40: =IFERROR(IF(D40=0,"",D40/E40/(volume_friction/1000)),"") | K40: =IF(J40="","",IFERROR(VLOOKUP(B40,dt_chirurgie,2,FALSE)*J40*(volume_friction/1000),"")) | L40: =IFERROR(IF(I40=0,"",I40/K40),"") | M40: =IFERROR(IF(I40=0,"",I40/J40/(volume_friction/1000)),"") | P40: =IF(O40="","",IFERROR(VLOOKUP(B40,dt_chirurgie,2,FALSE)*O40*(volume_friction/1000),"")) | Q40: =IFERROR(IF(N40=0,"",N40/P40),"") | R40: =IFERROR(IF(N40=0,"",N40/O40/(volume_friction/1000)),"") | U40: =IF(T40="","",IFERROR(VLOOKUP(B40,dt_chirurgie,2,FALSE)*T40*(volume_friction/1000),"")) | V40: =IFERROR(IF(S40=0,"",S40/U40),"") | W40: =IFERROR(IF(S40=0,"",S40/T40/(volume_friction/1000)),"") | X40: =IF(AND(D40<>0,I40<>0,N40<>0,S40<>0),D40+I40+N40+S40,"") | Y40: =IF(AND(E40<>0,J40<>0,O40<>0,T40<>0),E40+J40+O40+T40,"") | Z40: =IF(Y40="","",IFERROR(VLOOKUP(B40,dt_chirurgie,2,FALSE)*Y40*(volume_friction/1000),"")) | AA40: =IFERROR(IF(X40=0,"",X40/Z40),"") | AB40: =IFERROR(IF(X40=0,"",X40/Y40/(volume_friction/1000)),"")
C41: =IFERROR(VLOOKUP(B41,dt_chirurgie,2,FALSE),"") | F41: =IF(E41="","",IFERROR(VLOOKUP(B41,dt_chirurgie,2,FALSE)*E41*(volume_friction/1000),"")) | G41: =IFERROR(IF(D41=0,"",D41/F41),"") | H41: =IFERROR(IF(D41=0,"",D41/E41/(volume_friction/1000)),"") | K41: =IF(J41="","",IFERROR(VLOOKUP(B41,dt_chirurgie,2,FALSE)*J41*(volume_friction/1000),"")) | L41: =IFERROR(IF(I41=0,"",I41/K41),"") | M41: =IFERROR(IF(I41=0,"",I41/J41/(volume_friction/1000)),"") | P41: =IF(O41="","",IFERROR(VLOOKUP(B41,dt_chirurgie,2,FALSE)*O41*(volume_friction/1000),"")) | Q41: =IFERROR(IF(N41=0,"",N41/P41),"") | R41: =IFERROR(IF(N41=0,"",N41/O41/(volume_friction/1000)),"") | U41: =IF(T41="","",IFERROR(VLOOKUP(B41,dt_chirurgie,2,FALSE)*T41*(volume_friction/1000),"")) | V41: =IFERROR(IF(S41=0,"",S41/U41),"") | W41: =IFERROR(IF(S41=0,"",S41/T41/(volume_friction/1000)),"") | X41: =IF(AND(D41<>0,I41<>0,N41<>0,S41<>0),D41+I41+N41+S41,"") | Y41: =IF(AND(E41<>0,J41<>0,O41<>0,T41<>0),E41+J41+O41+T41,"") | Z41: =IF(Y41="","",IFERROR(VLOOKUP(B41,dt_chirurgie,2,FALSE)*Y41*(volume_friction/1000),"")) | AA41: =IFERROR(IF(X41=0,"",X41/Z41),"") | AB41: =IFERROR(IF(X41=0,"",X41/Y41/(volume_friction/1000)),"")
C42: =IFERROR(VLOOKUP(B42,dt_chirurgie,2,FALSE),"") | F42: =IF(E42="","",IFERROR(VLOOKUP(B42,dt_chirurgie,2,FALSE)*E42*(volume_friction/1000),"")) | G42: =IFERROR(IF(D42=0,"",D42/F42),"") | H42: =IFERROR(IF(D42=0,"",D42/E42/(volume_friction/1000)),"") | K42: =IF(J42="","",IFERROR(VLOOKUP(B42,dt_chirurgie,2,FALSE)*J42*(volume_friction/1000),"")) | L42: =IFERROR(IF(I42=0,"",I42/K42),"") | M42: =IFERROR(IF(I42=0,"",I42/J42/(volume_friction/1000)),"") | P42: =IF(O42="","",IFERROR(VLOOKUP(B42,dt_chirurgie,2,FALSE)*O42*(volume_friction/1000),"")) | Q42: =IFERROR(IF(N42=0,"",N42/P42),"") | R42: =IFERROR(IF(N42=0,"",N42/O42/(volume_friction/1000)),"") | U42: =IF(T42="","",IFERROR(VLOOKUP(B42,dt_chirurgie,2,FALSE)*T42*(volume_friction/1000),"")) | V42: =IFERROR(IF(S42=0,"",S42/U42),"") | W42: =IFERROR(IF(S42=0,"",S42/T42/(volume_friction/1000)),"") | X42: =IF(AND(D42<>0,I42<>0,N42<>0,S42<>0),D42+I42+N42+S42,"") | Y42: =IF(AND(E42<>0,J42<>0,O42<>0,T42<>0),E42+J42+O42+T42,"") | Z42: =IF(Y42="","",IFERROR(VLOOKUP(B42,dt_chirurgie,2,FALSE)*Y42*(volume_friction/1000),"")) | AA42: =IFERROR(IF(X42=0,"",X42/Z42),"") | AB42: =IFERROR(IF(X42=0,"",X42/Y42/(volume_friction/1000)),"")
A45: Services de gynécologie et obstétrique
A47: Type d'activité : | B47: Nombre de frictions à atteindre | C47: Activité mesurée par
A48: Obstétrique / Gynécologie HC | B48: 12 | C48: Jour
A49: Obstétrique / Gynécologie HJ | B49: 6 | C49: Jour
...

Sheet Poster
A1: Choisir un service puis imprimer le poster | F1: Zone d'impression :
B2: Choix du service : | G2: Indicateur ICSHA 3 | J2: =etab -> 0
B3: 1/ Choisir le type de service : | C3: Médecine | G3: 2020
B4: 2/ Choisir le service :
H5: Service : | I5: =choix_service -> 0
B6: ="Liste des service pour l'activité : "&C3 -> Liste des service pour l'activité : Médecine | H6: Activité : | I6: =IFERROR(B68,"")
B7: Service | C7: Activité | J7: Nombre de frictions théoriques : | K7: =IFERROR(B69,"") | L7: par patient et par jour
B8: =IF(A45=0,"",A45) | C8: =IF(A56=0,"",A56)
B9: =IF(A46=0,"",A46) | C9: =IF(A57=0,"",A57) | H9: Consommation (en litres) | I9: Atteinte de l'objectif | K9: Frictions réalisées
B10: =IF(A47=0,"",A47) | C10: =IF(A58=0,"",A58) | G10: T1 | H10: =IFERROR(IF(OR(B71="",B71=0),"",B71),"") | I10: =IFERROR(IF(OR(C71="",C71=0),"",C71),"") | J10: =IF(I10<>"",IF(I10<0.8,"L",IF(I10<1,"J","JJ")),"") | K10: =IFERROR(IF(OR(D71="",D71=0),"",D71),"")
B11: =IF(A48=0,"",A48) | C11: =IF(A59=0,"",A59) | G11: T2 | H11: =IFERROR(IF(OR(B72="",B72=0),"",B72),"") | I11: =IFERROR(IF(OR(C72="",C72=0),"",C72),"") | J11: =IF(I11<>"",IF(I11<0.8,"L",IF(I11<1,"J","JJ")),"") | K11: =IFERROR(IF(OR(D72="",D72=0),"",D72),"")
B12: =IF(A49=0,"",A49) | C12: =IF(A60=0,"",A60) | G12: T3 | H12: =IFERROR(IF(OR(B73="",B73=0),"",B73),"") | I12: =IFERROR(IF(OR(C73="",C73=0),"",C73),"") | J12: =IF(I12<>"",IF(I12<0.8,"L",IF(I12<1,"J","JJ")),"") | K12: =IFERROR(IF(OR(D73="",D73=0),"",D73),"")
B13: =IF(A50=0,"",A50) | C13: =IF(A61=0,"",A61) | G13: T4 | H13: =IFERROR(IF(OR(B74="",B74=0),"",B74),"") | I13: =IFERROR(IF(OR(C74="",C74=0),"",C74),"") | J13: =IF(I13<>"",IF(I13<0.8,"L",IF(I13<1,"J","JJ")),"") | K13: =IFERROR(IF(OR(D74="",D74=0),"",D74),"")
B14: =IF(A51=0,"",A51) | C14: =IF(A62=0,"",A62) | G14: Année | H14: =IFERROR(IF(OR(B75="",B75=0),"",B75),"") | I14: =IFERROR(IF(OR(C75="",C75=0),"",C75),"") | J14: =IF(I14<>"",IF(I14<0.8,"L",IF(I14<1,"J","JJ")),"") | K14: =IFERROR(IF(OR(D75="",D75=0),"",D75),"")
B15: =IF(A52=0,"",A52) | C15: =IF(A63=0,"",A63)
B16: =IF(A53=0,"",A53) | C16: =IF(A64=0,"",A64)
B17: =IF(A54=0,"",A54) | C17: =IF(A65=0,"",A65)
B20: Rappel :
B21: Choisir un type de service (liste déroulante en jaune
B22: ci-dessus), puis un service pour afficher le poster
B23: correspondant à ce service.
P24: Version 1 - 2019
A31: Réglages :
A32: Volume d'une friction (ml) :
A33: 3
A35: Types de services :
A36: Médecine
A37: Chirurgie
A38: Gynéco-Obst
A39: Réa-SC
A40: SSR
A41: SLD-EHPAD
A42: Autre
A44: Choix des services :
A45: =DGET(bdd_services,"nom",B45:C46) -> 0 | B45: type | C45: n | D45: type | E45: n
A46: =DGET(bdd_services,"nom",D45:E46) -> 0 | B46: =C3 -> Médecine | C46: 1 | D46: =B46 -> Médecine | E46: 2
A47: =DGET(bdd_services,"nom",B47:C48) -> 0 | B47: type | C47: n | D47: type | E47: n
A48: =DGET(bdd_services,"nom",D47:E48) -> 0 | B48: =B46 -> Médecine | C48: 3 | D48: =B48 -> Médecine | E48: 4
A49: =DGET(bdd_services,"nom",B49:C50) -> 0 | B49: type | C49: n | D49: type | E49: n
A50: =DGET(bdd_services,"nom",D49:E50) -> 0 | B50: =B46 -> Médecine | C50: 5 | D50: =B50 -> Médecine | E50: 6
...

Sheet bdd
A1: n | B1: type | C1: nom | D1: activite | E1: dt | F1: t1_conso | G1: t1_activite | H1: t1_theorique | I1: t1_objectif | J1: t1_dosereelle | K1: t2_conso | L1: t2_activite | M1: t2_theorique | N1: t2_objectif | O1: t2_dosereelle | P1: t3_conso | Q1: t3_activite | R1: t3_theorique | S1: t3_objectif | T1: t3_dosereelle | U1: t4_conso | V1: t4_activite | W1: t4_theorique | X1: t4_objectif | Y1: t4_dosereelle | Z1: annee_conso | AA1: annee_activite | AB1: annee_theorique | AC1: annee_objectif | AD1: annee_dosereelle
A2: 1 | B2: =Poster!A36 -> Médecine | C2: =Saisie!A12 -> 0 | D2: =Saisie!B12 -> 0 | E2: =Saisie!C12 | F2: =Saisie!D12 -> 0 | G2: =Saisie!E12 -> 0 | H2: =Saisie!F12 | I2: =Saisie!G12 | J2: =Saisie!H12 | ... AD2: =Saisie!AB12
A3: 2 | B3: =Poster!A36 -> Médecine | C3: =Saisie!A13 -> 0 | D3: =Saisie!B13 -> 0 | E3: =Saisie!C13 | F3: =Saisie!D13 -> 0 | G3: =Saisie!E13 -> 0 | H3: =Saisie!F13 | I3: =Saisie!G13 | J3: =Saisie!H13 | ... AD3: =Saisie!AB13
A4: 3 | B4: =Poster!A36 -> Médecine | C4: =Saisie!A14 -> 0 | D4: =Saisie!B14 -> 0 | E4: =Saisie!C14 | F4: =Saisie!D14 -> 0 | G4: =Saisie!E14 -> 0 | H4: =Saisie!F14 | I4: =Saisie!G14 | J4: =Saisie!H14 | ... AD4: =Saisie!AB14
A5: 4 | B5: =Poster!A36 -> Médecine | C5: =Saisie!A15 -> 0 | D5: =Saisie!B15 -> 0 | E5: =Saisie!C15 | F5: =Saisie!D15 -> 0 | G5: =Saisie!E15 -> 0 | H5: =Saisie!F15 | I5: =Saisie!G15 | J5: =Saisie!H15 | ... AD5: =Saisie!AB15
A6: 5 | B6: =Poster!A36 -> Médecine | C6: =Saisie!A16 -> 0 | D6: =Saisie!B16 -> 0 | E6: =Saisie!C16 | F6: =Saisie!D16 -> 0 | G6: =Saisie!E16 -> 0 | H6: =Saisie!F16 | I6: =Saisie!G16 | J6: =Saisie!H16 | ... AD6: =Saisie!AB16
A7: 6 | B7: =Poster!A36 -> Médecine | C7: =Saisie!A17 -> 0 | D7: =Saisie!B17 -> 0 | E7: =Saisie!C17 | F7: =Saisie!D17 -> 0 | G7: =Saisie!E17 -> 0 | H7: =Saisie!F17 | I7: =Saisie!G17 | J7: =Saisie!H17 | ... AD7: =Saisie!AB17
A8: 7 | B8: =Poster!A36 -> Médecine | C8: =Saisie!A18 -> 0 | D8: =Saisie!B18 -> 0 | E8: =Saisie!C18 | F8: =Saisie!D18 -> 0 | G8: =Saisie!E18 -> 0 | H8: =Saisie!F18 | I8: =Saisie!G18 | J8: =Saisie!H18 | ... AD8: =Saisie!AB18
A9: 8 | B9: =Poster!A36 -> Médecine | C9: =Saisie!A19 -> 0 | D9: =Saisie!B19 -> 0 | E9: =Saisie!C19 | F9: =Saisie!D19 -> 0 | G9: =Saisie!E19 -> 0 | H9: =Saisie!F19 | I9: =Saisie!G19 | J9: =Saisie!H19 | ... AD9: =Saisie!AB19
A10: 9 | B10: =Poster!A36 -> Médecine | C10: =Saisie!A20 -> 0 | D10: =Saisie!B20 -> 0 | E10: =Saisie!C20 | F10: =Saisie!D20 -> 0 | G10: =Saisie!E20 -> 0 | H10: =Saisie!F20 | I10: =Saisie!G20 | J10: =Saisie!H20 | ... AD10: =Saisie!AB20
A11: 10 | B11: =Poster!A36 -> Médecine | C11: =Saisie!A21 -> 0 | D11: =Saisie!B21 -> 0 | E11: =Saisie!C21 | F11: =Saisie!D21 -> 0 | G11: =Saisie!E21 -> 0 | H11: =Saisie!F21 | I11: =Saisie!G21 | J11: =Saisie!H21 | ... AD11: =Saisie!AB21
A12: 1 | B12: =Poster!A37 -> Chirurgie | C12: =Saisie!A33 -> 0 | D12: =Saisie!B33 -> 0 | E12: =Saisie!C33 | F12: =Saisie!D33 -> 0 | G12: =Saisie!E33 -> 0 | H12: =Saisie!F33 | I12: =Saisie!G33 | J12: =Saisie!H33 | ... AD12: =Saisie!AB33
A13: 2 | B13: =Poster!A37 -> Chirurgie | C13: =Saisie!A34 -> 0 | D13: =Saisie!B34 -> 0 | E13: =Saisie!C34 | F13: =Saisie!D34 -> 0 | G13: =Saisie!E34 -> 0 | H13: =Saisie!F34 | I13: =Saisie!G34 | J13: =Saisie!H34 | ... AD13: =Saisie!AB34
A14: 3 | B14: =Poster!A37 -> Chirurgie | C14: =Saisie!A35 -> 0 | D14: =Saisie!B35 -> 0 | E14: =Saisie!C35 | F14: =Saisie!D35 -> 0 | G14: =Saisie!E35 -> 0 | H14: =Saisie!F35 | I14: =Saisie!G35 | J14: =Saisie!H35 | ... AD14: =Saisie!AB35
A15: 4 | B15: =Poster!A37 -> Chirurgie | C15: =Saisie!A36 -> 0 | D15: =Saisie!B36 -> 0 | E15: =Saisie!C36 | F15: =Saisie!D36 -> 0 | G15: =Saisie!E36 -> 0 | H15: =Saisie!F36 | I15: =Saisie!G36 | J15: =Saisie!H36 | ... AD15: =Saisie!AB36
A16: 5 | B16: =Poster!A37 -> Chirurgie | C16: =Saisie!A37 -> 0 | D16: =Saisie!B37 -> 0 | E16: =Saisie!C37 | F16: =Saisie!D37 -> 0 | G16: =Saisie!E37 -> 0 | H16: =Saisie!F37 | I16: =Saisie!G37 | J16: =Saisie!H37 | ... AD16: =Saisie!AB37
A17: 6 | B17: =Poster!A37 -> Chirurgie | C17: =Saisie!A38 -> 0 | D17: =Saisie!B38 -> 0 | E17: =Saisie!C38 | F17: =Saisie!D38 -> 0 | G17: =Saisie!E38 -> 0 | H17: =Saisie!F38 | I17: =Saisie!G38 | J17: =Saisie!H38 | ... AD17: =Saisie!AB38
A18: 7 | B18: =Poster!A37 -> Chirurgie | C18: =Saisie!A39 -> 0 | D18: =Saisie!B39 -> 0 | E18: =Saisie!C39 | F18: =Saisie!D39 -> 0 | G18: =Saisie!E39 -> 0 | H18: =Saisie!F39 | I18: =Saisie!G39 | J18: =Saisie!H39 | ... AD18: =Saisie!AB39
A19: 8 | B19: =Poster!A37 -> Chirurgie | C19: =Saisie!A40 -> 0 | D19: =Saisie!B40 -> 0 | E19: =Saisie!C40 | F19: =Saisie!D40 -> 0 | G19: =Saisie!E40 -> 0 | H19: =Saisie!F40 | I19: =Saisie!G40 | J19: =Saisie!H40 | ... AD19: =Saisie!AB40
A20: 9 | B20: =Poster!A37 -> Chirurgie | C20: =Saisie!A41 -> 0 | D20: =Saisie!B41 -> 0 | E20: =Saisie!C41 | F20: =Saisie!D41 -> 0 | G20: =Saisie!E41 -> 0 | H20: =Saisie!F41 | I20: =Saisie!G41 | J20: =Saisie!H41 | ... AD20: =Saisie!AB41
A21: 10 | B21: =Poster!A37 -> Chirurgie | C21: =Saisie!A42 -> 0 | D21: =Saisie!B42 -> 0 | E21: =Saisie!C42 | F21: =Saisie!D42 -> 0 | G21: =Saisie!E42 -> 0 | H21: =Saisie!F42 | I21: =Saisie!G42 | J21: =Saisie!H42 | ... AD21: =Saisie!AB42
A22: 1 | B22: =Poster!A38 -> Gynéco-Obst | C22: =Saisie!A55 -> 0 | D22: =Saisie!B55 -> 0 | E22: =Saisie!C55 | F22: =Saisie!D55 -> 0 | G22: =Saisie!E55 -> 0 | H22: =Saisie!F55 | I22: =Saisie!G55 | J22: =Saisie!H55 | ... AD22: =Saisie!AB55
A23: 2 | B23: =Poster!A38 -> Gynéco-Obst | C23: =Saisie!A56 -> 0 | D23: =Saisie!B56 -> 0 | E23: =Saisie!C56 | F23: =Saisie!D56 -> 0 | G23: =Saisie!E56 -> 0 | H23: =Saisie!F56 | I23: =Saisie!G56 | J23: =Saisie!H56 | ... AD23: =Saisie!AB56
A24: 3 | B24: =Poster!A38 -> Gynéco-Obst | C24: =Saisie!A57 -> 0 | D24: =Saisie!B57 -> 0 | E24: =Saisie!C57 | F24: =Saisie!D57 -> 0 | G24: =Saisie!E57 -> 0 | H24: =Saisie!F57 | I24: =Saisie!G57 | J24: =Saisie!H57 | ... AD24: =Saisie!AB57
A25: 4 | B25: =Poster!A38 -> Gynéco-Obst | C25: =Saisie!A58 -> 0 | D25: =Saisie!B58 -> 0 | E25: =Saisie!C58 | F25: =Saisie!D58 -> 0 | G25: =Saisie!E58 -> 0 | H25: =Saisie!F58 | I25: =Saisie!G58 | J25: =Saisie!H58 | ... AD25: =Saisie!AB58
A26: 5 | B26: =Poster!A38 -> Gynéco-Obst | C26: =Saisie!A59 -> 0 | D26: =Saisie!B59 -> 0 | E26: =Saisie!C59 | F26: =Saisie!D59 -> 0 | G26: =Saisie!E59 -> 0 | H26: =Saisie!F59 | I26: =Saisie!G59 | J26: =Saisie!H59 | ... AD26: =Saisie!AB59
A27: 6 | B27: =Poster!A38 -> Gynéco-Obst | C27: =Saisie!A60 -> 0 | D27: =Saisie!B60 -> 0 | E27: =Saisie!C60 | F27: =Saisie!D60 -> 0 | G27: =Saisie!E60 -> 0 | H27: =Saisie!F60 | I27: =Saisie!G60 | J27: =Saisie!H60 | ... AD27: =Saisie!AB60
A28: 7 | B28: =Poster!A38 -> Gynéco-Obst | C28: =Saisie!A61 -> 0 | D28: =Saisie!B61 -> 0 | E28: =Saisie!C61 | F28: =Saisie!D61 -> 0 | G28: =Saisie!E61 -> 0 | H28: =Saisie!F61 | I28: =Saisie!G61 | J28: =Saisie!H61 | ... AD28: =Saisie!AB61
A29: 8 | B29: =Poster!A38 -> Gynéco-Obst | C29: =Saisie!A62 -> 0 | D29: =Saisie!B62 -> 0 | E29: =Saisie!C62 | F29: =Saisie!D62 -> 0 | G29: =Saisie!E62 -> 0 | H29: =Saisie!F62 | I29: =Saisie!G62 | J29: =Saisie!H62 | ... AD29: =Saisie!AB62
A30: 9 | B30: =Poster!A38 -> Gynéco-Obst | C30: =Saisie!A63 -> 0 | D30: =Saisie!B63 -> 0 | E30: =Saisie!C63 | F30: =Saisie!D63 -> 0 | G30: =Saisie!E63 -> 0 | H30: =Saisie!F63 | I30: =Saisie!G63 | J30: =Saisie!H63 | ... AD30: =Saisie!AB63
A31: 10 | B31: =Poster!A38 -> Gynéco-Obst | C31: =Saisie!A64 -> 0 | D31: =Saisie!B64 -> 0 | E31: =Saisie!C64 | F31: =Saisie!D64 -> 0 | G31: =Saisie!E64 -> 0 | H31: =Saisie!F64 | I31: =Saisie!G64 | J31: =Saisie!H64 | ... AD31: =Saisie!AB64
A32: 1 | B32: =Poster!A39 -> Réa-SC | C32: =Saisie!A76 -> 0 | D32: =Saisie!B76 -> 0 | E32: =Saisie!C76 | F32: =Saisie!D76 -> 0 | G32: =Saisie!E76 -> 0 | H32: =Saisie!F76 | I32: =Saisie!G76 | J32: =Saisie!H76 | ... AD32: =Saisie!AB76
A33: 2 | B33: =Poster!A39 -> Réa-SC | C33: =Saisie!A77 -> 0 | D33: =Saisie!B77 -> 0 | E33: =Saisie!C77 | F33: =Saisie!D77 -> 0 | G33: =Saisie!E77 -> 0 | H33: =Saisie!F77 | I33: =Saisie!G77 | J33: =Saisie!H77 | ... AD33: =Saisie!AB77
A34: 3 | B34: =Poster!A39 -> Réa-SC | C34: =Saisie!A78 -> 0 | D34: =Saisie!B78 -> 0 | E34: =Saisie!C78 | F34: =Saisie!D78 -> 0 | G34: =Saisie!E78 -> 0 | H34: =Saisie!F78 | I34: =Saisie!G78 | J34: =Saisie!H78 | ... AD34: =Saisie!AB78
A35: 4 | B35: =Poster!A39 -> Réa-SC | C35: =Saisie!A79 -> 0 | D35: =Saisie!B79 -> 0 | E35: =Saisie!C79 | F35: =Saisie!D79 -> 0 | G35: =Saisie!E79 -> 0 | H35: =Saisie!F79 | I35: =Saisie!G79 | J35: =Saisie!H79 | ... AD35: =Saisie!AB79
A36: 5 | B36: =Poster!A39 -> Réa-SC | C36: =Saisie!A80 -> 0 | D36: =Saisie!B80 -> 0 | E36: =Saisie!C80 | F36: =Saisie!D80 -> 0 | G36: =Saisie!E80 -> 0 | H36: =Saisie!F80 | I36: =Saisie!G80 | J36: =Saisie!H80 | ... AD36: =Saisie!AB80
A37: 6 | B37: =Poster!A39 -> Réa-SC | C37: =Saisie!A81 -> 0 | D37: =Saisie!B81 -> 0 | E37: =Saisie!C81 | F37: =Saisie!D81 -> 0 | G37: =Saisie!E81 -> 0 | H37: =Saisie!F81 | I37: =Saisie!G81 | J37: =Saisie!H81 | ... AD37: =Saisie!AB81
A38: 7 | B38: =Poster!A39 -> Réa-SC | C38: =Saisie!A82 -> 0 | D38: =Saisie!B82 -> 0 | E38: =Saisie!C82 | F38: =Saisie!D82 -> 0 | G38: =Saisie!E82 -> 0 | H38: =Saisie!F82 | I38: =Saisie!G82 | J38: =Saisie!H82 | ... AD38: =Saisie!AB82
A39: 8 | B39: =Poster!A39 -> Réa-SC | C39: =Saisie!A83 -> 0 | D39: =Saisie!B83 -> 0 | E39: =Saisie!C83 | F39: =Saisie!D83 -> 0 | G39: =Saisie!E83 -> 0 | H39: =Saisie!F83 | I39: =Saisie!G83 | J39: =Saisie!H83 | ... AD39: =Saisie!AB83
A40: 9 | B40: =Poster!A39 -> Réa-SC | C40: =Saisie!A84 -> 0 | D40: =Saisie!B84 -> 0 | E40: =Saisie!C84 | F40: =Saisie!D84 -> 0 | G40: =Saisie!E84 -> 0 | H40: =Saisie!F84 | I40: =Saisie!G84 | J40: =Saisie!H84 | ... AD40: =Saisie!AB84
...
