Workbook

Sheet Saisie
A1: Audit excreta ES | H1: Réponse ci-dessous
A3: Type établissement | E3: CHU
E4: CH
E5: SSR
E6: Clinique
E7: Privé à but non lucratif
A11: Nb de lits
A13: Nb de chambres
A17: WC douchette | E17: Non
E18: Oui en totalité
E19: Oui partiellement
A22: N° fiche | B22: Service | C22: Fonction répondant | D22: Precision autre | E22: bassin dédié | F22: cp dédiée | G22: couvercle b | H22: couvercle cp | I22: lieu de nettoyage | J22: mode de nettoyage | K22: précision autre | L22: produit | M22: Nom produit | N22: désinfection | O22: fréquence | P22: précision autre | Q22: stockage | R22: Précision autre | S22: PTC b/cp | T22: Connaissance PTC | U22: Nombre LB dans le service | V22: Local LB | W22: Précision autre | X22: LB accessible | Y22: LB utilisé | Z22: Si non précision | AA22: fréquence LB | AB22: Jamais, pourquoi ? | AC22: Produit LB | AD22: Douchette local LB | AE22: Vidange avant LB | AF22: panne LB | AG22: C.Maintenance | AH22: PTC Entretien | AI22: Connaissance PTC | AJ22: Procédure dégradée dans PTC | AK22: EPI | AL22: Gants UU | AM22: Surblouse UU | AN22: Tablier UU | AO22: Masque UU | AP22: Lunette Protection | AQ22: Protection bassin UU | AR22: condition utilisation | AS22: Précision autre | AT22: Elimination | AU22: Fiche CCLIN | AV22: Formation souhaitée | AW22: Risque lié aux excréta | AX22: Précision

Sheet totaux
A1: Audit excreta EMS
A3: Type établissement | B3: CHU | D3: =Saisie!H3 -> 0
B4: CHU | D4: =Saisie!H4 -> 0
B5: SSR | D5: =Saisie!H5 -> 0
B6: Clinique | D6: =Saisie!H6 -> 0
B7: Privé à but non lucratif | D7: =Saisie!H7 -> 0
A11: Nb de lits | C11: =Saisie!H11 -> 0
A13: Nb de chambres | C13: =Saisie!H13 -> 0
A17: WC douchette | B17: Non | C17: =Saisie!H17 -> 0
B18: Oui en totalité | C18: =Saisie!H18 -> 0
B19: Oui partiellement | C19: =Saisie!H19 -> 0
A24: Fonction répondant | B24: AS | C24: =COUNTIF(Saisie!C23:C502,1) -> 0
B25: IDE | C25: =COUNTIF(Saisie!C23:C502,2) -> 0
B26: Cadre | C26: =COUNTIF(Saisie!C23:C502,3) -> 0
B27: ASH | C27: =COUNTIF(Saisie!C23:C502,4) -> 0
B28: Sagefemme | C28: =COUNTIF(Saisie!C23:C502,5) -> 0
B29: Autre | C29: =COUNTIF(Saisie!C23:C502,6) -> 0
A31: Bassin dédié | B31: Oui | C31: =COUNTIF(Saisie!E23:E502,1) -> 0
B32: Non | C32: =COUNTIF(Saisie!E23:E502,2) -> 0
A34: cp dédiée | B34: Oui | C34: =COUNTIF(Saisie!F23:F502,1) -> 0
B35: Non | C35: =COUNTIF(Saisie!F23:F502,2) -> 0
A37: Couvercle Bassin | B37: Oui | C37: =COUNTIF(Saisie!G23:G502,1) -> 0
B38: Non | C38: =COUNTIF(Saisie!G23:G502,2) -> 0
A40: Couvercle cp | B40: Oui | C40: =COUNTIF(Saisie!H23:H502,1) -> 0
B41: Non | C41: =COUNTIF(Saisie!H23:H502,2) -> 0
A43: Lieu de nettoyage | B43: Chambre | C43: =COUNTIF(Saisie!I23:I502,1) -> 0
B44: Local dédié | C44: =COUNTIF(Saisie!I23:I502,2) -> 0
A46: Mode de nettoyage | B46: Lave Bassin | C46: =COUNTIF(Saisie!J23:J502,1) -> 0
B47: Rinçage douchette | C47: =COUNTIF(Saisie!J23:J502,2) -> 0
B48: Rinçage lavabo | C48: =COUNTIF(Saisie!J23:J502,3) -> 0
B49: Rinçage douche | C49: =COUNTIF(Saisie!J23:J502,4) -> 0
B50: Immersion | C50: =COUNTIF(Saisie!J23:J502,5) -> 0
B51: Autre | C51: =COUNTIF(Saisie!J23:J502,6) -> 0
A53: Produit manuel | B53: Détergent | C53: =COUNTIF(Saisie!L23:L502,1) -> 0
B54: Désinfectant | C54: =COUNTIF(Saisie!L23:L502,2) -> 0
B55: Détergent/Désinfectant | C55: =COUNTIF(Saisie!L23:L502,3) -> 0
A57: Désinfection | B57: Oui | C57: =COUNTIF(Saisie!N23:N502,1) -> 0
B58: Non | C58: =COUNTIF(Saisie!N23:N502,2) -> 0
A60: Fréquence désinfection | B60: Chaque utilisation | C60: =COUNTIF(Saisie!O23:O502,1) -> 0
B61: unefois/jour | C61: =COUNTIF(Saisie!O23:O502,2) -> 0
...

Sheet Code de saisie
A4: Code de saisie
A6: Service | C6: Utilisez vos codes internes pour les services
A8: Fonction répondant | C8: AS | D8: 1
C9: IDE | D9: 2
C10: Cadre | D10: 3
C11: ASH | D11: 4
C12: Sagefemme | D12: 5
C13: Autre | D13: 6
A15: Questions oui/non | C15: Oui | D15: 1
C16: Non | D16: 2
A18: Lieu de nettoyage | C18: Chambre | D18: 1
C19: Local dedié | D19: 2
A21: Mode de nettoyage | C21: Lave Bassin | D21: 1
C22: Rinçage douchette | D22: 2
C23: Rinçage lavabo | D23: 3
C24: Rinçage douchette | D24: 4
C25: Immersion | D25: 5
C26: Autre | D26: 6
A28: Produit | C28: Détergent | D28: 1
C29: Désinfectant | D29: 2
C30: Détergent/Désinfectant | D30: 3
A32: Fréquence désinfection | C32: Chaque utilisation | D32: 1
C33: unefois/jour | D33: 2
C34: une fois/semaine | D34: 3
C35: Sortie patient | D35: 4
C36: en cas d'infection | D36: 5
C37: Autre | D37: 6
A39: Stockage | C39: Chambre | D39: 1
C40: Local vidoir LB | D40: 2
C41: Autre | D41: 3
A43: Emplacement LB | C43: local spécifique | D43: 1
C44: local vidoir | D44: 2
C45: autre local | D45: 3
A47: Fréquence utilisation | C47: Tous les jours | D47: 1
C48: Plusieurs fois/jour | D48: 2
C49: Toutes les semaines | D49: 3
C50: jamais | D50: 4
A52: Produit LB | C52: Aucun | D52: 1
C53: Détartrant | D53: 2
C54: Détergent | D54: 3
...

Sheet Rapport
D2: Rapport d'enquête
