Workbook
Name statut: 'Plan d''actions'!$I$1:$I$4

Sheet Avant-propos
B8: L’Omédit Normandie et le réseau Qual’Va ont créé cette grille d'auto-évaluation et d'audit croisé afin de vous permettre de mieux répondre aux exigences de la HAS. L’auto-évaluation n’est pas obligatoire dans l'évaluation HAS. Toutefois, l’ESSMS est encouragé à réaliser une auto-évaluation pour alimenter la dynamique d’amélioration continue de la qualité. Elle permet également à la structure de se familiariser avec la nouvelle démarche d’évaluation, de permettre aux professionnels de s’approprier les exigences du référentiel et de mettre à jour le plan d’action qualité. Cette grille a pour but de vous aider à évaluer le management de la qualité et la gestion des risques autour de la prise en charge médicamenteuse.
B9: Comment procéder? 1- Remplir l'onglet "Informations générales" (établissement audité) 2- Remplir la grille "Audit flash" (établissement audité) Composition recommandée pour la réalisation de l'audit flash : Référent PECM, Médecin Coordonnateur, IDEC ou Cadre, IDE, AS, Pharmacien et Préparateur 3- Remplir la grille "Audit dossiers" (établissement audité) (de préférence avec un médecin de la structure). Les 3 dossiers de résident doivent idéalement porter sur 3 profils parmi les suivants : - 1 résident traité pour une douleur par opioïde ou autre antalgique - 1 résident traité par Antipsychotique(s) - 1 résident traité par Benzodiazépine(s) - 1 résident traité par inhibiteur de la pompe à protons - 1 sortie d'hospitalisation récente/consultation récente - 1 résident avec des troubles de la déglutition - 1 résident traité par anticoagulant oral direct (AOD) 4- Remplir la grille "Audit terrain" (auditeurs externes) en tenant compte des éléments vus lors de la visite du service, entendus lors des entretiens avec les professionnels et lus lors des observations faites. 5- A partir de vos observations, remplir la synthèse des "Points forts" et "Points à améliorer" de l'onglet "Résultats". Les tableaux et graphiques se calculent automatiquement en fonction des réponses saisies dans les grilles "Audit flash", "Audit dossiers" et "Audit terrain". 6- A partir de la synthèse de ces grilles compléter votre plan d'actions.
B10: Liste des critères du référentiel Les critères sont donnés à titre indicatif pour vous donner des exemples ou des idées pour valoriser vos actions. La liste des critères principaux retenus fera l'objet d'un résultat à part entière pour vous permettre de visualiser vos taux de réussite sur le circuit du médicament. Thématique : Accompagnement à la santé Objectif 1.15 - La personne est actrice de ses choix sur son accompagnement en santé, la stratégie thérapeutique et les soins qui lui sont proposés - CRITERE 1.15.4 – La personne accompagnée est associée à la gestion de son traitement médicamenteux pour favoriser sa compréhension et son adhésion et s’assurer de sa continuité Objectif 1.16 - La personne accompagnée bénéficie d'une prise en charge de ses douleurs - CRITERE 1.16.1 – La personne s’exprime sur la manière dont sont prises en charge ses douleurs tout au long de son accompagnement - CRITERE 1.16.2 – Les professionnels repèrent et/ou évaluent régulièrement et tracent les douleurs de la personne accompagnée selon des modalités adaptées - CRITERE 1.16.3 – Les professionnels recueillent, auprès de l’entourage, des informations sur les manifestations habituelles des douleurs chez la personne accompagnée - CRITERE 1.16.4 – Les professionnels coconstruisent avec la personne accompagnée, la stratégie de prise en charge de la douleur - CRITERE 1.16.5 – Les professionnels alertent et/ou mobilisent tous les moyens nécessaires pour soulager la douleur de la personne accompagnée Objectif 3.6 - L'ESSMS définit et déploie sa stratégie de gestion du risque médicamenteux - CRITERE 3.6.1 – L’ESSMS définit sa stratégie de gestion du risque médicamenteux et s’assure de sa mise en œuvre - CRITERE 3.6.2 – Les professionnels respectent la sécurisation du circuit du médicament (critère impératif) - CRITERE 3.6.3 – Les professionnels accompagnent les personnes dans la continuité de leur prise en charge médicamenteuse - CRITERE 3.6.4 – Les professionnels alertent en cas de risque lié à la prise en charge médicamenteuse, dont la iatrogénie - CRITERE 3.6.5 – Les professionnels sont régulièrement sensibilisés et/ou formés à la prévention et à la gestion du risque médicamenteux Thématique : Démarche qualité et gestion des risques Objectif 3.13 - L'ESSMS assure le recueil et le traitement des évènements indésirables - CRITERE 3.13.1 – L’ESSMS organise le recueil et le traitement des évènements indésirables (critère impératif) - CRITERE 3.13.2 – L’ESSMS communique sur le traitement des évènements indésirables auprès des parties prenantes (critère impératif) - CRITERE 3.13.3 – Les professionnels déclarent et analysent en équipe les évènements indésirables et mettent en place des actions correctives (critère impératif) - CRITERE 3.13.4 – Les professionnels sont régulièrement sensibilisés et/ou formés à la gestion des évènements indésirables
B11: Glossaire PECM : Prise en charge médicamenteuse PUI : Pharmacie à usage interne CVS : Conseil de la Vie Sociale FEI : Fiche d'évènement indésirable EI : Evènement indésirable CRPV : Centre Régional de PharmacoVigilance ANSM : Agence Nationale de Sécurité du Médicament et des produits de santé DCI : Dénomination commune internationale Groupe de travail Nous tenions à remercier les établissements suivants pour leur participation au groupe de travail, pour la relecture et la réalisation des tests de la grille : - EHPAD Public du Havre Les Escales - EHPAD Association Sainte-Marie Saint-Joseph - EHPAD Fondation Beaufils - EHPAD Les Chanterelles

Sheet Informations générales
B10: Identification de l'établissement
B12: Nom de l'EHPAD :
B14: Nombre de résidents :
B16: EHPAD avec ou sans PUI :
B18: Présence d'IDE la nuit :
B20: Unité / Accueil spécifique (Unité protégée, accueil de jour, PASA…) :
B23: Audit croisé sur la prise en charge médicamenteuse
B25: Date de l'audit :
B27: Nom des auditeurs :

Sheet Audit flash
A8: Stratégie de la prise en charge médicamenteuse (PECM)
A9: Num | B9: Libellé | C9: Lien avec le critère du référentiel | D9: Eléments d'appréciation | E9: Réponses (renseigner la date) | H9: Commentaire
E10: ../../…. | F10: ../../…. | G10: ../../….
A11: Stratégie et enjeux de la sécurisation de la prise en charge médicamenteuse (PECM)
A12: 1 | B12: Une politique qualité et sécurité de la prise en charge médicamenteuse est validée dans le projet d'établissement | C12: 3.6.1 - L'ESSMS définit sa stratégie de gestion du risque médicamenteux et s'assure de sa mise en œuvre | D12: Projet d'établissement, projet de soins. Interview Direction, Chefs de services, RSM, GDR. S'assurer du caractère effectif au regard des articles L.311-8 et D. 344-5-5 du CASF. Analyser la forme, le contenu notamment en matière de coordination, de coopération et d'évaluation des activités et de la qualité des prestations, ainsi que ses modalités d'organisation et de fonctionnement
A13: 2 | B13: L'organisation du circuit du médicament est abordée dans le cadre du conseil de la vie sociale | C13: 3.6.1 - L'ESSMS définit sa stratégie de gestion du risque médicamenteux et s'assure de sa mise en œuvre | D13: Le résident et ses aidants sont impliqués aux réflexions portées pour améliorer la PECM. Interroger direction, familles
A14: 3 | B14: Il existe un référent PECM identifié et connu au sein de l'établissement | C14: 3.6.1 - L'ESSMS définit sa stratégie de gestion du risque médicamenteux et s'assure de sa mise en œuvre | D14: Voir fiche de poste et interroger RPECM sur effectivité, temps consacré
A15: 4 | B15: L'établissement a communiqué en interne sur les enjeux de la sécurisation de la PECM et les risques d'erreurs médicamenteuses | C15: 3.6.1 - L'ESSMS définit sa stratégie de gestion du risque médicamenteux et s'assure de sa mise en œuvre | D15: Voir éléments de communication interne, interroger direction RPECM
A16: 5 | B16: L'établissement a schématisé les étapes du circuit du médicament. Ce schéma est à jour et est facilement consultable par tous | C16: 3.6.1 - L'ESSMS définit sa stratégie de gestion du risque médicamenteux et s'assure de sa mise en œuvre | D16: Organisation de la PECM : étape, acteur et points de vigilance
A17: 6 | B17: L'établissement a constitué et réuni un comité PECM | C17: 3.6.1 - L'ESSMS définit sa stratégie de gestion du risque médicamenteux et s'assure de sa mise en œuvre | D17: Comité, Commission de coordination gériatrique. Dernier compte-rendu (date, composition, thème abordé)
A18: 7 | B18: Le médecin coordonnateur, en lien avec le pharmacien référent, définit les objectifs spécifiques à votre établissement pour améliorer certaines pratiques de prescription (médicament potentiellement inapproprié comme IPP, psychotropes..., adaptation de posologie /forme galénique…) | C18: 3.6.1 - L'ESSMS définit sa stratégie de gestion du risque médicamenteux et s'assure de sa mise en œuvre | D18: Interviewer médecin coordonnateur et pharmacien référent : thèmes à préciser
A19: 8 | B19: L'établissement réalise une évaluation de la PECM avec une périodicité définie | C19: 3.6.1 - L'ESSMS définit sa stratégie de gestion du risque médicamenteux et s'assure de sa mise en œuvre | D19: Auto-évaluation type Qual'Va/OMéDIT
A20: 9 | B20: Un plan d'action personnalisé est mis en place à la suite d'un auto-diagnostic, de l'analyse des évènements indésirables et des situations à risque | C20: 3.6.1 - L'ESSMS définit sa stratégie de gestion du risque médicamenteux et s'assure de sa mise en œuvre 3.13.1 - L’ESSMS organise le recueil et le traitement des évènements indésirables. | D20: Voir plan d'actions / situations à risques identifiées et date
A21: 10 | B21: Les résidents présentant des risques dans la prise en charge médicamenteuse sont identifiés | C21: 1.15.6 - Les professionnels repèrent de manière précoce les risques en santé pour la personne accompagnée et alertent les personnes-ressources | D21: Troubles de déglutition, troubles Alzheimer et apparentés, troubles mnésiques et mentaux, risque de iatrogénie. Interviewer Direction, IDEC, médecin coordonnateur et pharmacien référent
A22: 11 | B22: Les professionnels dans votre établissement ont coconstruit la stratégie de prise en charge de la douleur des personnes accompagnées avec une réévaluation régulière | C22: 1.16.4 – Les professionnels coconstruisent avec la personne accompagnée, la stratégie de prise en charge de la douleur | D22: Interviewer Direction, IDEC, médecin coordonnateur et pharmacien référent. + Consultation documentaire : - Traçabilité dans le dossier de la personne accompagnée de la stratégie de prise en charge de la douleur - Procédure d’évaluation et de réévaluation de la douleur
A23: 12 | B23: Vous avez identifié dans votre établissement des médicaments "à risque" (anticoagulant, insuline, médicament stupéfiant ou assimilé stupéfiant (ex: Morphine, Oxycodone, Fentanyl, Midazolam…) et mis en place des dispositions spécifiques de gestion / préparation / administration | C23: 3.6.1 - L'ESSMS définit sa stratégie de gestion du risque médicamenteux et s'assure de sa mise en œuvre | D23: Interviewer Direction, IDEC, médecin coordonnateur et pharmacien référent
... A25: 14 | B25: Pour les établissements sans pharmacie à usage interne (PUI), une convention existe entre votre établissement et la pharmacie d'officine. Pour les établissements avec PUI, une procédure définit les liens organisationnels avec la PUI | C25: 3.6.1 - L'ESSMS définit sa stratégie de gestion du risque médicamenteux et s'assure de sa mise en œuvre | D25: Liens organisationnels : heure et jour de délivrance, modalités de commandes, bons d'urgence, modalités de préparation des doses à administrer. Pharmacien référent désigné. Contribution de la pharmacie à l'amélioration continue de la qualité et sécurité de la PECM. Interviewer pharmacien, voir convention ou procédure
A26: Evènements indésirables
A27: 15 | B27: Une fiche de signalement des évènements indésirables médicamenteux est à disposition des professionnels | C27: 3.13.1 - L'ESSMS organise le recueil et le traitement des évènements indésirables | D27: Interviewer équipes soignantes. Voir fiche et accessibilité / connaissance des équipes
A28: 16 | B28: L'équipe soignante est sensibilisée et incitée à signaler les évènements indésirables liés aux médicaments ou dispositifs médicaux. Une procédure existe, est connue et facilement consultable. Une charte d'incitation à la déclaration ou document équivalent existe | C28: 3.13.4 - Les professionnels sont régulièrement sensibilisés et/ou formés à la gestion des évènements indésirables | D28: Interviewer équipes soignantes. Charte d'incitation à la déclaration. Voir accessibilité/diffusion
A29: 17 | B29: Une analyse collective des évènements indésirables est organisée. Un plan d'action avec pilote, suivi et délai est mis en place | C29: 3.13.3 - Les professionnels déclarent et analysent en équipe les évènements indésirables et mettent en place des actions correctives | D29: Interviewer direction, cadre, RPECM. Voir procédure ou tout autre document institutionnel validé
A30: 18 | B30: Une communication sur le traitement des évènements indésirables est organisée | C30: 3.13.2 - L'ESSMS communique sur le traitement des évènements indésirables auprès des parties prenantes | D30: Interviewer équipes soignantes. Voir dernières communications
A31: 19 | B31: Les évènements indésirables graves médicamenteux sont signalés sur le portail national | C31: 3.13.1 - L'ESSMS organise le recueil et le traitement des évènements indésirables | D31: Interviewer équipes soignantes
A32: Protocoles / procédures
A33: 20 | B33: Il existe une procédure générale et des protocoles sur l'ensemble du processus de prise en charge médicamenteuse définissant les responsabilités de chacun, actualisés/revalidés régulièrement autant que besoin. Il existe une procédure sur les pratiques en terme de distribution, d'administration, d'aide à la prise et de surveillance des résidents. Ces documents sont accessibles et connus par les équipes médicales et soignantes. | C33: 3.6.1 - L'ESSMS définit sa stratégie de gestion du risque médicamenteux et s'assure de sa mise en œuvre 3.6.2 - Les professionnels respectent la sécurisation du circuit du médicament | D33: Interviewer les équipes médicales et soignantes : documents accessibles et connus Organisation de la PECM définie pour chaque étape : acteurs / prescription, …, aide à la prise - y compris nuit, week-end, jours fériés, urgences…
A34: 21 | B34: Un protocole décrit la conduite à tenir en cas d'impossibilité d'accéder au logiciel informatique de soins ou de prescriptions (panne informatique, panne réseau…) | C34: 3.15.2 - L'ESSMS définit et déploie sa stratégie numérique. | D34: Interviewer les équipes médicales et soignantes : modalités de fonctionnement en mode dégradé (remise en fonctionnement, supports disponibles et contrôles associés)
A35: 22 | B35: Une liste préférentielle des médicaments est élaborée (liste des médicaments à utiliser préférentiellement, par classes pharmaco-thérapeutiques) et connue par les médecins traitants et l'équipe soignante | C35: 3.6.1 - L'ESSMS définit sa stratégie de gestion du risque médicamenteux et s'assure de sa mise en œuvre 3.6.2 - Les professionnels respectent la sécurisation du circuit du médicament | D35: Interviewer les équipes médicales et soignantes : consultation et accessibilité
A36: 23 | B36: La réévaluation pluriprofessionnelle des traitements est organisée est fait l'objet d'un protocole écrit | C36: 3.6.1 - L'ESSMS définit sa stratégie de gestion du risque médicamenteux et s'assure de sa mise en œuvre | D36: Interviewer les équipes médicales et soignantes : consultation et accessibilité
A37: 24 | B37: Des actions sont mises en œuvre pour éviter tout risque de retranscription lors de la prescription à l'administration | C37: 3.6.1 - L'ESSMS définit sa stratégie de gestion du risque médicamenteux et s'assure de sa mise en œuvre | D37: Interviewer les équipes soignantes
A38: 25 | B38: Une procédure sur le stockage des médicaments existe. Les péremptions sont régulièrement vérifiées. | C38: 3.6.1 - L'ESSMS définit sa stratégie de gestion du risque médicamenteux et s'assure de sa mise en œuvre | D38: Interviewer les équipes médicales et soignantes : consultation et accessibilité
A39: Formation / Information
A40: 26 | B40: Les modalités de la prise en charge médicamenteuse de votre établissement sont expliquées lors de l'accueil d'un nouveau professionnel ou médecins traitants / intervenants remplaçants | C40: 3.8.2 - L'ESSMS met en œuvre un processus d'accueil et d'intégration des nouveaux professionnels et intervenants | D40: Interviewer les équipes médicales et soignantes et consultation documentaire : feuille d'émargement des formations pour les nouveaux arrivants, livret d'accueil, intranet, outils… Entretien avec l’ESSMS • L’ESSMS dispose d’un processus d’accueil et d’intégration des nouveaux professionnels et intervenants. • L’ESSMS s’assure de sa mise en oeuvre. Consultation documentaire • Tous documents décrivant la procédure d’accueil des nouveaux arrivants (organisation, rôles et responsabilités)
A41: 27 | B41: L'établissement organise des formations et sensibilisations portant sur la sécurisation du circuit du médicament, y compris iatrogénie, identitovigilance et prise en charge de la douleur | C41: 3.6.5 - Les professionnels sont régulièrement sensibilisés et/ou formés à la prévention et à la gestion du risque médicamenteux | D41: Interviewer direction. Taux de professionnels formés et thématiques
A42: 28 | B42: Les professionnels alertent les personnes-ressources en cas de risque identifié. Les professionnels surveillent les signes de non-observance et de iatrogénie médicamenteuse chez les personnes accompagnées. Une traçabilité et/ou une communication particulière vers le prescripteur est faite systématiquement | C42: 3.6.4 – Les professionnels alertent en cas de risque lié à la prise en charge médicamenteuse, dont la iatrogénie. | D42: Tous éléments de traçabilité présents dans le dossier de la personne accompagnée permettant de confirmer un système d’alerte en cas de risque lié à la prise en charge médicamenteuse. Toute procédure décrivant la conduite à tenir en cas d’alerte ou d’évènement indésirable. Tous éléments de traçabilité permettant d’alerter en cas de non-observance, de iatrogénie des médicaments : fiches de signalement, numéros d’urgence.

Sheet Audit dossiers
A8: Num | B8: Libellé | C8: Critère du référentiel concerné | D8: Dossier 1 | E8: Dossier 2 | F8: Dossier 3 | G8: Commentaire
A9: Dossier médical/Prescription/Traçabilité
A10: 1 | B10: Toutes les prescriptions sont retrouvées sur un support unique prescription/aministration pour l'ensemble du traitement, sans retranscription | C10: 3.6.2 - Les professionnels respectent la sécurisation du circuit du médicament
A11: 2 | B11: Une évaluation gériatrique standardisée est systématiquement réalisée à l'entrée et réévaluée | C11: 1.12.2 - Les professionnels évaluent régulièrement les besoins de la personne accompagnée pour favoriser ou préserver son autonomie 1.14.2 - Les professionnels évaluent les besoins de la personne accompagnée en matière de prévention et d'éducation à la santé.
A12: 3 | B12: Les allergies éventuelles à des médicaments des résidents sont systématiquement mentionnées dans son dossier | C12: 3.6.2 - Les professionnels respectent la sécurisation du circuit du médicament
A13: 4 | B13: Le poids du résident est mesuré et indiqué dans le dossier du résident à l'entrée de celui-ci. Il est réévalué et indiqué dans le dossier régulièrement (au moins tous les 3 mois) | C13: 3.6.2 - Les professionnels respectent la sécurisation du circuit du médicament
A14: 5 | B14: La fonction rénale du résident est évaluée au moins une fois par an et notée dans son dossier | C14: 3.6.2 - Les professionnels respectent la sécurisation du circuit du médicament
A15: 6 | B15: Les prescriptions sont intégralement conformes aux bonnes pratiques (datées, lisibles, signées, identification du médecin et du résident, dosages, posologies, conditions d'administration, durées, voie d'administration pour les injectables) | C15: 3.6.2 - Les professionnels respectent la sécurisation du circuit du médicament
A16: 7 | B16: La prescription se fait préférentiellement en dénomination commune internationale (DCI). Lorsque la prescription mentionne les noms de spécialités, la DCI doit être aussi systématiquement indiquée | C16: 3.6.2 - Les professionnels respectent la sécurisation du circuit du médicament
A17: 8 | B17: Les prescriptions conditionnelles (si besoin) (exemples : antalgiques, antipsychotiques, etc.) détaillent clairement les modalités de prise, comportent une durée maximale de traitement, stipulent le nombre maximal d'administration par période de 24h avec l'intervalle temporel entre deux prises consécutives | C17: 3.6.2 - Les professionnels respectent la sécurisation du circuit du médicament
A18: 9 | B18: Les modalités de dilution des médicaments injectables (nature et volume du véhicule) sont prescrites ou renvoient à un protocole validé par l'établissement | C18: 3.6.2 - Les professionnels respectent la sécurisation du circuit du médicament
A19: 10 | B19: Des réévaluations régulières des traitements médicamenteux des résidents sont effectuées en pluriprofessionnalité (médecin coordonnateur, médecins traitants, pharmacien référent, infirmières etc.) et sont tracées dans le dossier médical ou dossier de soins (au moins une fois/an) | C19: 3.6.2 - Les professionnels respectent la sécurisation du circuit du médicament
A20: 11 | B20: Les prescriptions nominatives de médicaments stupéfiants sont réalisées sur des ordonnances sécurisées (Pour chaque médicament soumis à la réglementation des stupéfiants, le LAP imprime la posologie en unité de prise après l'avoir traduite en toutes lettres) Référentiel fonctionnel de certification des logiciels hospitaliers d'aide à la prescription, validé par le Collège le 6 mai 2021 / Référentiel fonctionnel de certification des logiciels d'aide à la prescription en médecine ambulatoire, validé par le Collège le 25 mars 2021 | C20: 3.6.2 - Les professionnels respectent la sécurisation du circuit du médicament
A21: 12 | B21: La traçabilité des prises/administrations est conforme : le nombre de prises théoriques de la prescription, sur l'ensemble des jours de la semaine, est égal au nombre de prises réelles ou de non prises traçées dans le dossier | C21: 3.6.2 - Les professionnels respectent la sécurisation du circuit du médicamen
A22: Coordination entre les partenaires/ Continuité de la prise en charge
A23: 13 | B23: En cas d'hospitalisation, il existe une fiche de liaison et/ou un dossier de liaison d'urgence (DLU) permettant notamment d'assurer la continuité de la prise en charge médicamenteuse | C23: 3.6.3 - Les professionnels accompagnent les personnes dans la continuité de leur prise en charge médicamenteuse. 3.6.2 - Les professionnels respectent la sécurisation du circuit du médicament
A24: 14 | B24: Lors d'un retour d'hospitalisation, une confrontation de son traitement avant et au retour dans l'établissement est effectuée (pharmacien référent, médecin, infirmier). Toute modification est tracée dans le dossier du résident | C24: 3.6.3 - Les professionnels accompagnent les personnes dans la continuité de leur prise en charge médicamenteuse. 3.6.2 - Les professionnels respectent la sécurisation du circuit du médicament
A25: Prise en charge par antipsychotique
A26: 15 | B26: Une surveillance des effets indésirables (clinique, paraclinique et biologique) est mise en œuvre, adaptée aux facteurs de risque/molécule, et tracée dans le dossier (exemples de paramètres à suivre : ECG, pression artérielle, ionogramme sanguin, bilan hépatique, bilan rénal, bilan lipidique, NFS, plaquettes, transit, appétit...) | C26: 3.6.2 - Les professionnels respectent la sécurisation du circuit du médicament
A27: 16 | B27: En cas d'utilisation de l'antipsychotique dans le cadre de troubles psycho-comportementaux chez la personne atteinte de syndrome démentiel, la recherche de facteurs déclenchants a été faite, en amont de la prescription et est tracée dans le dossier. | C27: 3.6.2 - Les professionnels respectent la sécurisation du circuit du médicament
A28: 17 | B28: En cas d'utilisation de l'antipsychotique dans le cadre de troubles psycho-comportementaux chez la personne atteinte de syndrome démentiel, des mesures non pharmacologiques ont été entreprises, avant la prescription | C28: 3.6.2 - Les professionnels respectent la sécurisation du circuit du médicament
A29: 18 | B29: En cas d'utilisation de l'antipsychotique dans le cadre de troubles psycho-comportementaux chez la personne atteinte de syndrome démentiel, une déprescription de l'antipsychotique est programmée et tracée dans le dossier. | C29: 3.6.2 - Les professionnels respectent la sécurisation du circuit du médicament 1.15.7 - Les professionnels tiennent compte du rapport bénéfice/risque pour proposer des modalités d'accompagnement adaptées à la santé de la personne
A30: Prise en charge par benzodiazépine hypnotique/anxiolytique
A31: 19 | B31: En cas de traitement débuté au moins depuis 90 jours, une déprescription a été tentée ou est programmée, et tracée dans le dossier | C31: 3.6.2 - Les professionnels respectent la sécurisation du circuit du médicament 1.15.7 - Les professionnels tiennent compte du rapport bénéfice/risque pour proposer des modalités d'accompagnement adaptées à la santé de la personne
A32: Prise en charge par inhibiteur de la pompe à protons
A33: 20 | B33: En cas de traitement par IPP > 8 semaines, l'indication de l'IPP au long cours est justifiée dans le dossier du résident (oesophagite sévère, œsophage de Barett, sténose peptique, antécédents d'ulcères compliqués et prévention des récidives chez les patients fragiles (hors Helicobacter Pylori), Syndrome de Zollinger Ellison, utilisation chronique d'AINS chez les patients de plus de 65 ans et RGO si rechutes fréquentes ou précoces) | C33: 3.6.2 - Les professionnels respectent la sécurisation du circuit du médicament 1.15.7 - Les professionnels tiennent compte du rapport bénéfice/risque pour proposer des modalités d'accompagnement adaptées à la santé de la personne
A34: 21 | B34: En cas de traitement par IPP > 8 semaines, dont l'indication au long cours n'est pas justifiée dans le dossier du résident ou lors d'une posologie inadaptée, la déprescription (arrêt ou diminution de dose) est en cours ou programmée | C34: 3.6.2 - Les professionnels respectent la sécurisation du circuit du médicament 1.15.7 - Les professionnels tiennent compte du rapport bénéfice/risque pour proposer des modalités d'accompagnement adaptées à la santé de la personne
A35: Surveillance
A36: 22 | B36: L'autonomie du résident est évaluée et tracée à son admission | C36: 1.12.2 - Les professionnels évaluent régulièrement les besoins de la personne accompagnée pour favoriser ou préserver son autonomie.
A37: 23 | B37: L'autonomie du résident pour prendre lui-même ses médicaments est tracée et réévaluée régulièrement | C37: 3.6.2 - Les professionnels respectent la sécurisation du circuit du médicament
A38: 24 | B38: Si le résident gère seul son traitement, les conditions de gestion, de détention des médicaments et des informations fournies au résident sont tracées dans son dossier | C38: 3.6.2 - Les professionnels respectent la sécurisation du circuit du médicament
A39: Prise en charge de la douleur
A40: 25 | B40: L’expression du résident sur sa douleur est favorisée tout au long de son accompagnement. Une traçabilité de la prise en compte de sa douleur est retrouvée dans son dossier | C40: 1.16.1 - La personne s’exprime sur la manière dont sont prises en charge ses douleurs tout au long de son accompagnement
A41: 26 | B41: Une évaluation de la douleur est systématiquement réalisée à l'entrée et réévaluée à l'aide d'une échelle validée et adaptée (échelle d'hétéro-évaluation : ECPA, algoplus, doloplus, DN4, échelle d'auto-évaluation : EVA, EVS, échelle numérique... ) | C41: 1.16.2 - Les professionnels repèrent et/ou évaluent régulièrement et tracent les douleurs de la personne accompagnée selon des modalités adaptées 1.16.3 - Les professionnels recueillent, auprès de l’entourage, des informations sur les manifestations habituelles des douleurs chez la personne accompagnée
A42: 27 | B42: Des techniques non médicamenteuses de gestion de la douleur sont recherchées à l'initiation du traitement et lors des réévaluations régulières (position fauteuil, kinésithérapie, TENS, etc.) | C42: 1.16.5 - Les professionnels alertent et/ou mobilisent tous les moyens nécessaires pour soulager la douleur de la personne accompagnée
A43: 28 | B43: Avant toute prise/administration d'une prescription conditionnelle d'antalgique, une évaluation de la douleur à l'aide d'une échelle validée et adaptée, est réalisée et tracée dans le dossier | C43: 3.6.2 - Les professionnels respectent la sécurisation du circuit du médicament
A44: 29 | B44: Les intervalles de temps entre les doses d'antalgiques ainsi que les doses maximales sont respectés sur la prescription (exemple : paracétamol 500 mg à 1 g toutes les 4 à 6h) | C44: 3.6.2 - Les professionnels respectent la sécurisation du circuit du médicament
A45: 30 | B45: La prescription d'antalgique opioïde est associée à la prescription systématique d'un laxatif, pendant toute la durée du traitement | C45: 3.6.2 - Les professionnels respectent la sécurisation du circuit du médicament
A46: Prise en charge des troubles de la déglutition
A47: 31 | B47: Une recherche de difficultés de déglutition, est réalisée sur signes d'appel, par un professionnel habilité/formé au dépistage des troubles de la déglutition (orthophoniste, ORL, ergothérapeute, kiné, etc.). Les éventuels troubles de déglutition du résident sont indiqués dans son dossier | C47: 2.4.4 - Les professionnels adaptent le projet d'accompagnement aux risques de dénutrition, malnutrition et/ou des troubles de la déglutition auxquels la personne est confrontée.
...

Sheet Audit terrain
A8: Stratégie de la prise en charge médicamenteuse (PECM)
A9: Num | B9: Libellé | C9: Critère concerné | D9: Personne rencontrée | E9: Eléments d'appréciation | F9: Cotation | G9: Commentaire
A10: Evènements indésirables
A11: 1 | B11: Une fiche de déclaration d'évènement indésirable médicamenteux est connue des professionnels | C11: 3.13.1 - L'ESSMS organise le recueil et le traitement des évènements indésirables | D11: Cadre/IDE/AS/médecin… | E11: Interroger minimum 2 catégories socio-professionnelles différentes. Connaissance des procédures et description des modalités pratiques
A12: 2 | B12: Pour encourager la déclaration des erreurs médicamenteuses, la charte "d'incitation à la déclaration" est connue des professionnels | C12: 3.13.4 - Les professionnels sont régulièrement sensibilisés et/ou formés à la gestion des évènements indésirables | D12: Cadre/IDE/AS/médecin… | E12: Interroger minimum 2 catégories socio-professionnelles différentes. Connaissance des procédures et modalité de diffusion
A13: 3 | B13: Des réunions d'analyses collectives sur les évènements indésirables sont organisées | C13: 3.13.3 - Les professionnels déclarent et analysent en équipe les évènements indésirables et mettent en place des actions correctives | D13: Cadre/IDE/AS/médecin… | E13: Interroger minimum 2 catégories socio-professionnelles différentes. Connaissance des procédures et éventuelle formation des équipes aux analyses
A14: 4 | B14: Les professionnels ont connaissance des actions correctives décidées durant les réunions pluridisciplinaires d'analyse collective des évènements indésirables | C14: 3.13.2 - L'ESSMS communique sur le traitement des évènements indésirables auprès des parties prenantes | D14: Cadre/IDE/AS/médecin… | E14: Interroger minimum 2 catégories socio-professionnelles différentes. Accessibilité et éventuelle association des équipes pour proposer des actions correctives
A15: Protocoles / procédures
A16: 5 | B16: La procédure générale et les protocoles sur l'ensemble du processus de prise en charge médicamenteuse sont accessibles et connus par les équipes médicales et soignantes | C16: 3.6.1 - L'ESSMS définit sa stratégie de gestion du risque médicamenteux et s'assure de sa mise en œuvre 3.8.6 - Les professionnels sont régulièrement sensibilisés et/ou formés aux RBPP, procédures et références spécifiques à leur cadre d’intervention | D16: Cadre/IDE/AS/médecin… | E16: Interroger minimum 2 catégories socio-professionnelles différentes. Connaissance des procédures et accessibilité
A17: 6 | B17: Il existe une liste des médicaments préférentiels (Livret thérapeutique) définie en concertation avec le médecin coordonnateur, les médecins traitants et le pharmacien gérant de la PUI ou le pharmacien de l'officine ayant passé convention avec l'EHPAD | C17: 3.6.1 - L'ESSMS définit sa stratégie de gestion du risque médicamenteux et s'assure de sa mise en œuvre 3.8.6 - Les professionnels sont régulièrement sensibilisés et/ou formés aux RBPP, procédures et références spécifiques à leur cadre d’intervention | D17: Médecin/IDE/Cadre… | E17: Interroger minimum 2 catégories socio-professionnelles différentes. Existence et connaissance de la liste et voir son accessibilité
A18: 7 | B18: La convention avec la pharmacie d'officine, ou la procédure avec la PUI, correspond aux pratiques réelles | C18: 3.6.1 - L'ESSMS définit sa stratégie de gestion du risque médicamenteux et s'assure de sa mise en œuvre | D18: Cadre/IDE/AS/médecin… | E18: Connaissance des procédures et accessibilité. Les liens organisationnels sont conformes avec la convention ou la procédure
A19: Projet d'accompagnement
A20: 8 | B20: La personne accompagnée est associée à la gestion de son traitement médicamenteux | C20: 1.15.4 - La personne est actrice de ses choix sur son accompagnement en santé, la stratégie thérapeutique et les soins qui lui sont proposés | D20: Cadre/IDE/AS… | E20: Interroger minimum 2 catégories socio-professionnelles différentes. Les changements de traitements sont expliqués au résident et/ou à sa famille ?
A21: 9 | B21: Lors de l'entrée du résident, ou lors du retour d'une hospitalisation intercurrente, les modifications du traitement (arrêt, substitution ou modification) réalisées à l'entrée du résident ou au cours de son hospitalisation sont expliquées au résident et/ou à la famille/entourage | C21: 1.15.4 - La personne est actrice de ses choix sur son accompagnement en santé, la stratégie thérapeutique et les soins qui lui sont proposés | D21: Cadre/IDE/AS… | E21: Interroger minimum 2 catégories socio-professionnelles différentes. Modalité connue
A22: 10 | B22: Les résidents présentant des risques dans la prise en charge médicamenteuse sont identifiés | C22: 3.6.3 - Les professionnels accompagnent les personnes dans la continuité de leur prise en charge médicamenteuse | D22: Cadre/IDE/AS… | E22: Interroger minimum 2 catégories socio-professionnelles différentes. Connaissance et accessibilité de l'information
A24: Mise en œuvre de la PECM
A25: Num | B25: Libellé | C25: Critère concerné | D25: Personne rencontrée | E25: Eléments d'appréciation | F25: Cotation | G25: Commentaire
A26: Prescription / Dispensation
A27: 11 | B27: Les prescriptions orales sont limitées aux urgences vitales | C27: 3.6.2 - Les professionnels respectent la sécurisation du circuit du médicament | D27: Médecin | E27: Interroger minimum 2 catégories socio-professionnelles différentes. Modalité connue
A28: 12 | B28: L'accès au logiciel de prescription est sécurisé par un identifiant et un mot de passe confidentiel et reservé exclusivement à chaque prescripteur | C28: 3.6.2 - Les professionnels respectent la sécurisation du circuit du médicament 3.15.2 - L'ESSMS définit et déploie sa stratégie numérique | D28: Médecin | E28: Interroger minimum 2 catégories socio-professionnelles différentes. Voir accessibilité
A29: 13 | B29: Le personnel connait les horaires d'ouverture de la pharmacie. Les modalités de dépannage sont formalisées et connues en dehors des horaires d'ouverture de la pharmacie (astreinte, dotation pour besoins urgents) | C29: 3.6.1 - L'ESSMS définit sa stratégie de gestion du risque médicamenteux et s'assure de sa mise en œuvre | D29: Cadre/IDE/AS/médecin… | E29: Interroger minimum 2 catégories socio-professionnelles différentes. Connaissance et accessibilité
A30: 14 | B30: L'EHPAD a pris les dispositions adéquates pour que le pharmacien accède aux informations nécessaires pour analyser l'ordonnance. Le pharmacien réalise une analyse pharmaceutique au regard des ordonnances originales et des données biologiques. Ces avis pharmaceutiques sont tracés dans le dossier du résident avec information de l'équipe | C30: 3.6.2 - Les professionnels respectent la sécurisation du circuit du médicament | D30: Pharmacien | E30: Interroger minimum 2 catégories socio-professionnelles différentes. Connaissance et accessibilité à l'information
A31: 15 | B31: Les retraits de lot sont mis en œuvre dès publication de l'alerte | C31: 3.6.2 - Les professionnels respectent la sécurisation du circuit du médicament | D31: Pharmacien | E31: Interroger minimum 2 catégories socio-professionnelles différentes. Connaissance et accessibilité à l'information
A32: 16 | B32: Les délivrances nominatives arrivent dans des contenants scellés (bacs, tiroirs, casiers, sachets…) adaptés au mode de rangement de l'établissement | C32: 3.6.2 - Les professionnels respectent la sécurisation du circuit du médicament | D32: Cadre/IDE/Pharmacien… | E32: Interroger minimum 2 catégories socio-professionnelles différentes. Connaissance et accessibilité Pour PUI : observer également les délivrances globalisées qui doivent être sécurisées
A33: 17 | B33: Si un médicament n'est pas délivré, le pharmacien en donne la raison et propose une substitution au médecin traitant. L'intervention est tracée | C33: 3.6.2 - Les professionnels respectent la sécurisation du circuit du médicament | D33: Cadre/IDE/ Pharmacien/Médecin… | E33: Interroger minimum 2 catégories socio-professionnelles différentes. Connaissance et accessibilité à l'information
A34: Préparation / Administration
A35: 18 | B35: Les préparations des doses à administrer sont réalisées conformément à la réglementation (personnel habilité, local et conditions de travail adaptés) | C35: 3.6.1 - L'ESSMS définit sa stratégie de gestion du risque médicamenteux et s'assure de sa mise en œuvre 3.6.2 - Les professionnels respectent la sécurisation du circuit du médicament | D35: Cadre/IDE/Pharmacien… | E35: Interroger minimum 2 catégories socio-professionnelles différentes. Connaissance des procédures et description des pratiques professionnelles
A36: 19 | B36: La préparation des doses à administrer respecte la période de préparation : - sur maximum 7 jours si les médicaments sont déconditionnés (sortis de leur blister, leur stabilité n'est plus garantie) - jusqu'à 28 jours toléré, si le conditionnement primaire de tous les médicaments est conservé, mais période supérieure à 7 jours à éviter car complique les modifications du traitement | C36: 3.6.1 - L'ESSMS définit sa stratégie de gestion du risque médicamenteux et s'assure de sa mise en œuvre 3.6.2 - Les professionnels respectent la sécurisation du circuit du médicament | D36: Cadre/IDE/Pharmacien… | E36: Interroger minimum 2 catégories socio-professionnelles différentes. Connaissance des procédures et description des pratiques professionnelles
A37: 20 | B37: A l'EHPAD comme à la pharmacie (officine ou PUI), une organisation a été mise en œuvre pour limiter le plus possible l'interruption de tâche de la personne en charge de la préparation des doses à administrer | C37: 3.6.2 - Les professionnels respectent la sécurisation du circuit du médicament | D37: Cadre/IDE/Pharmacien… | E37: Interroger minimum 2 catégories socio-professionnelles différentes. Connaissance des procédures et description des pratiques professionnelles
A38: 21 | B38: Un double contrôle des tiroirs ou piluliers préparés est effectué | C38: 3.6.2 - Les professionnels respectent la sécurisation du circuit du médicament | D38: Cadre/IDE/Pharmacien… | E38: Interroger minimum 2 catégories socio-professionnelles différentes. Connaissance des procédures et description des pratiques professionnelles. Observer si possible
A39: 22 | B39: La préparation et l'administration des médicaments sont faites au regard de la prescription initiale, et non d'une retranscription de cette prescription | C39: 3.6.2 - Les professionnels respectent la sécurisation du circuit du médicament | D39: Cadre/IDE/Pharmacien… | E39: Interroger minimum 2 catégories socio-professionnelles différentes. Connaissance des procédures et description des pratiques professionnelles. Observer si possible
A40: 23 | B40: Le pilulier utilisé pour apporter les doses à administrer jusqu'à la chambre est identifié avec nom, prénom, date de naissance, jour et moment de prise, éventuellement photo du résident | C40: 3.6.2 - Les professionnels respectent la sécurisation du circuit du médicament | D40: Cadre/IDE/Pharmacien… | E40: Interroger minimum 2 catégories socio-professionnelles différentes. Connaissance des procédures et description des pratiques professionnelles. Observer si possible
A41: 24 | B41: En cas d'utilisation de pot / gobelet / cupule propre, le contenant doit prévenir tout risque lié à l'identitovigilance : identification sur le godet et non sur le couvercle du nom, prénom, date de naissance du résident…(pour éviter les erreurs d'identification par échange accidentel de couvercles) En cas de contenant réutilisable, les modalités de nettoyage entre chaque utilisation sont définies | C41: 3.6.2 - Les professionnels respectent la sécurisation du circuit du médicament | D41: Cadre/IDE/Pharmacien… | E41: Interroger minimum 2 catégories socio-professionnelles différentes. Connaissance des procédures et description des pratiques professionnelles. Observer si possible
A42: 25 | B42: Les dimensions du tiroir ou pilulier sont adaptées au volume des produits et au moment de la prise | C42: 3.6.2 - Les professionnels respectent la sécurisation du circuit du médicament | D42: Cadre/IDE/Pharmacien… | E42: Observer
A43: 26 | B43: Les tiroirs sont visuellement propres (nettoyage organisé) | C43: 3.6.2 - Les professionnels respectent la sécurisation du circuit du médicament | D43: Cadre/IDE/Pharmacien… | E43: Observer
A44: 27 | B44: A l'intérieur du tiroir ou pilulier, tous les médicaments sont identifiables INDIVIDUELLEMENT (nom du médicament, dosage, numéro de lot, date de péremption…) | C44: 3.6.2 - Les professionnels respectent la sécurisation du circuit du médicament | D44: Cadre/IDE/Pharmacien… | E44: Observer
A45: 28 | B45: Les médicaments en "si besoin" sont rangés : - dans le casier nominatif de chaque résident - et éventuellement dans le chariot d'administration ; chaque boite est identifiée avec nom, prénom et date de naissance du résident de manière à éviter les confusions de médicaments et de dosage | C45: 3.6.2 - Les professionnels respectent la sécurisation du circuit du médicament | D45: Cadre/IDE/Pharmacien… | E45: Interroger minimum 2 catégories socio-professionnelles différentes. Connaissance des procédures et description des pratiques professionnelles. Observer si possible
A46: 29 | B46: En cas de modification d'un traitement (remplacement, suppression), le médicament concerné est immédiatement (et avant la prise suivante) remplacé ou retiré du pilulier du résident | C46: 3.6.2 - Les professionnels respectent la sécurisation du circuit du médicament | D46: Cadre/IDE/Pharmacien… | E46: Interroger minimum 2 catégories socio-professionnelles différentes. Connaissance des procédures et description des pratiques professionnelles. Observer si possible
... A65: 48 | B65: Dans le cas où le patient est autonome, les IDE, médecins ou le pharmacien lui expliquent le traitement, les consignes particulières de prises (avant, pendant, après le repas...) et s'assurent de sa compréhension | C65: 1.15.4 - La personne est actrice de ses choix sur son accompagnement en santé, la stratégie thérapeutique et les soins qui lui sont proposés | D65: Cadre/IDE/AS/Médecin/Pharmacien | E65: Interroger minimum 2 catégories socio-professionnelles différentes. Connaissance des procédures et description des pratiques professionnelles. Observer si possible
A66: Stockage
...

Sheet Résultats
B9: RESULTAT PAR ONGLET
B11: AUDIT FLASH | C11: % d'avancement de la démarche d'amélioration | G11: AUDIT DOSSIERS | H11: % de conformité | J11: AUDIT TERRAIN | K11: % de conformité
B12: Date de réalisation de l'audit flash | C12: ='Audit flash'!$E10 -> ../../…. | D12: ='Audit flash'!$F10 -> ../../…. | E12: ='Audit flash'!$G10 -> ../../…. | G12: Moyenne globale | H12: ='Fichier analyses'!$S3 -> NC | J12: Stratégie de la PECM | K12: ='Fichier analyses'!$Y3 -> NC
B13: Résultat de l'audit flash | C13: ='Fichier analyses'!$G3 -> NC | D13: ='Fichier analyses'!$H5 -> NC | E13: ='Fichier analyses'!$I3 -> NC | J13: Evènements indésirables | K13: ='Fichier analyses'!$Y5 -> NC
B14: Stratégie et enjeux de la sécurisation de la PECM | C14: ='Fichier analyses'!$G5 -> NC | D14: ='Fichier analyses'!$H5 -> NC | E14: ='Fichier analyses'!$I5 -> NC | J14: Protocoles / Procédures | K14: ='Fichier analyses'!$Y10 -> NC
B15: Evènements indésirables | C15: ='Fichier analyses'!$G20 -> NC | D15: ='Fichier analyses'!$H20 -> NC | E15: ='Fichier analyses'!$I20 -> NC | J15: Projet d'accompagnement | K15: ='Fichier analyses'!$Y14 -> NC
B16: Protocoles / Procédures | C16: ='Fichier analyses'!$G26 -> NC | D16: ='Fichier analyses'!$H26 -> NC | E16: ='Fichier analyses'!$I26 -> NC | J16: Mise en œuvre de la PECM | K16: ='Fichier analyses'!$Y18 -> NC
B17: Formation / Information | C17: ='Fichier analyses'!$G33 -> NC | D17: ='Fichier analyses'!$H33 -> NC | E17: ='Fichier analyses'!$I33 -> NC | J17: Prescription / Dispensation | K17: ='Fichier analyses'!$Y19 -> NC
J18: Préparation / Administration | K18: ='Fichier analyses'!$Y27 -> NC
J19: Stockage | K19: ='Fichier analyses'!$Y59 -> NC
B21: RESULTAT GLOBAL
B23: Stratégie de la PECM | C23: ='Fichier analyses'!$AF3 -> NC
B24: Stratégie et enjeux de la sécurisation de la PECM | C24: ='Fichier analyses'!$AF5 -> NC
B25: Evènements indésirables | C25: ='Fichier analyses'!$AF20 -> NC
B26: Protocoles / procédures | C26: ='Fichier analyses'!$AF30 -> NC
B27: Projet d'accompagnement | C27: ='Fichier analyses'!$AF40 -> NC
B28: Formation / Information | C28: ='Fichier analyses'!$AF44 -> NC
B30: Mise en œuvre de la PECM | C30: ='Fichier analyses'!$AF48 -> NC
B31: Prescription / Dispensation | C31: ='Fichier analyses'!AF49 -> NC
B32: Préparation / Administration | C32: ='Fichier analyses'!AF69 -> NC
B33: Surveillance | C33: ='Fichier analyses'!AF101 -> NC
B34: Stockage | C34: ='Fichier analyses'!AF105 -> NC
B36: LIEN AVEC LES CRITERES DU NOUVEAU REFERENTIEL
B37: (Critères impératifs indiqués en jaune)
B38: Thématique : Accompagnement à l'autonomie
B40: Objectif 1.12 - La personne bénéficie d'un accompagnement favorisant son autonomie | K40: ='Fichier analyses'!$AM3 -> NC
B41: CRIT 1.12.2 – Les professionnels évaluent régulièrement les besoins de la personne accompagnée pour favoriser ou préserver son autonomie | K41: ='Fichier analyses'!$AM4 -> NC
B43: Thématique : Accompagnement à la santé
B45: Objectif 1.14 - La personne bénéficie d'un accompagnement en matière de prévention et d'éducation à la santé | K45: ='Fichier analyses'!$AM7 -> NC
B46: CRIT 1.14.2 – Les professionnels évaluent les besoins de la personne accompagnée en matière de prévention et d'éducation à la santé | K46: ='Fichier analyses'!$AM8 -> NC
B47: Objectif 1.15 - La personne est actrice de ses choix sur son accompagnement en santé, la stratégie thérapeutique et les soins qui lui sont proposés | K47: ='Fichier analyses'!$AM10 -> NC
B48: CRIT 1.15.4 – La personne accompagnée est associée à la gestion de son traitement médicamenteux pour favoriser sa compréhension et son adhésion et s’assurer de sa continuité | K48: ='Fichier analyses'!$AM11 -> NC
B49: CRIT 1.15.6 – Les professionnels repèrent de manière précoce les risques en santé pour la personne accompagnée et alertent les personnes ressources | K49: ='Fichier analyses'!$AM15 -> NC
B50: CRIT 1.15.7 – Les professionnels tiennent compte du rapport bénéfice/risque pour proposer des modalités d'accompagnement adaptées à la santé de la personne | K50: ='Fichier analyses'!$AM17 -> NC
B51: Objectif 1.16 - La personne accompagnée bénéficie d'une prise en charge de ses douleurs | K51: ='Fichier analyses'!$AM22 -> NC
B52: CRIT 1.16.1 – La personne s’exprime sur la manière dont sont prises en charge ses douleurs tout au long de son accompagnement | K52: ='Fichier analyses'!$AM23 -> NC
B53: CRIT 1.16.2 – Les professionnels repèrent et/ou évaluent régulièrement et tracent les douleurs de la personne accompagnée selon des modalités adaptées | K53: ='Fichier analyses'!$AM25 -> NC
B54: CRIT 1.16.3 - Les professionnels recueillent, auprès de l’entourage, des informations sur les manifestations habituelles des douleurs chez la personne accompagnée | K54: ='Fichier analyses'!$AM27 -> NC
B55: CRIT 1.16.4 – Les professionnels coconstruisent avec la personne accompagnée, la stratégie de prise en charge de la douleur | K55: ='Fichier analyses'!$AM29 -> NC
B56: CRIT 1.16.5 – Les professionnels alertent et/ou mobilisent tous les moyens nécessaires pour soulager la douleur de la personne accompagnée | K56: ='Fichier analyses'!$AM31 -> NC
...

Sheet Plan d'actions
I1: Non commencée
I2: En cours
I3: Décalée
I4: Clos
A8: N° | B8: LIBELLE | C8: COTATION | D8: ACTIONS D'AMELIORATIONS | E8: PILOTE | F8: ECHEANCE | G8: STATUT DE L'ACTION
A10: AUDIT FLASH
A12: Stratégie de la prise en charge médicamenteuse (PECM)
A13: Stratégie et enjeux de la sécurisation de la prise en charge médicamenteuse (PECM)
A14: ='Audit flash'!A12 -> 1 | B14: ='Audit flash'!B12 -> Une politique qualité et sécurité de la prise en charge médicamenteuse est validée dans le projet d'établissement | C14: ='Fichier analyses'!J6 -> NC
A15: ='Audit flash'!A13 -> 2 | B15: ='Audit flash'!B13 -> L'organisation du circuit du médicament est abordée dans le cadre du conseil de la vie sociale | C15: ='Fichier analyses'!J7 -> NC
A16: ='Audit flash'!A14 -> 3 | B16: ='Audit flash'!B14 -> Il existe un référent PECM identifié et connu au sein de l'établissement | C16: ='Fichier analyses'!J8 -> NC
A17: ='Audit flash'!A15 -> 4 | B17: ='Audit flash'!B15 -> L'établissement a communiqué en interne sur les enjeux de la sécurisation de la PECM et les risques d'erreurs médicamenteuses | C17: ='Fichier analyses'!J9 -> NC
A18: ='Audit flash'!A16 -> 5 | B18: ='Audit flash'!B16 -> L'établissement a schématisé les étapes du circuit du médicament. Ce schéma est à jour et est facilement consultable par tous | C18: ='Fichier analyses'!J10 -> NC
A19: ='Audit flash'!A17 -> 6 | B19: ='Audit flash'!B17 -> L'établissement a constitué et réuni un comité PECM | C19: ='Fichier analyses'!J11 -> NC
A20: ='Audit flash'!A18 -> 7 | B20: ='Audit flash'!B18 -> Le médecin coordonnateur, en lien avec le pharmacien référent, définit les objectifs spécifiques à votre établissement pour améliorer certaines pratiques de prescription (médicament potentiellement inapproprié comme IPP, psychotropes..., adaptation de posologie /forme galénique…) | C20: ='Fichier analyses'!J12 -> NC
A21: ='Audit flash'!A19 -> 8 | B21: ='Audit flash'!B19 -> L'établissement réalise une évaluation de la PECM avec une périodicité définie | C21: ='Fichier analyses'!J13 -> NC
A22: ='Audit flash'!A20 -> 9 | B22: ='Audit flash'!B20 -> Un plan d'action personnalisé est mis en place à la suite d'un auto-diagnostic, de l'analyse des évènements indésirables et des situations à risque | C22: ='Fichier analyses'!J14 -> NC
A23: ='Audit flash'!A21 -> 10 | B23: ='Audit flash'!B21 -> Les résidents présentant des risques dans la prise en charge médicamenteuse sont identifiés | C23: ='Fichier analyses'!J15 -> NC
A24: ='Audit flash'!A22 -> 11 | B24: ='Audit flash'!B22 -> Les professionnels dans votre établissement ont coconstruit la stratégie de prise en charge de la douleur des personnes accompagnées avec une réévaluation régulière | C24: ='Fichier analyses'!J16 -> NC
A25: ='Audit flash'!A23 -> 12 | B25: ='Audit flash'!B23 -> Vous avez identifié dans votre établissement des médicaments "à risque" (anticoagulant, insuline, médicament stupéfiant ou assimilé stupéfiant (ex: Morphine, Oxycodone, Fentanyl, Midazolam…) et mis en place des dispositions spécifiques de gestion / préparation / administration | C25: ='Fichier analyses'!J17 -> NC
... A27: ='Audit flash'!A25 -> 14 | B27: ='Audit flash'!B25 -> Pour les établissements sans pharmacie à usage interne (PUI), une convention existe entre votre établissement et la pharmacie d'officine. Pour les établissements avec PUI, une procédure définit les liens organisationnels avec la PUI | C27: ='Fichier analyses'!J19 -> NC
A28: ='Audit flash'!A26 -> Evènements indésirables
A29: ='Audit flash'!A27 -> 15 | B29: ='Audit flash'!B27 -> Une fiche de signalement des évènements indésirables médicamenteux est à disposition des professionnels | C29: ='Fichier analyses'!J21 -> NC
A30: ='Audit flash'!A28 -> 16 | B30: ='Audit flash'!B28 -> L'équipe soignante est sensibilisée et incitée à signaler les évènements indésirables liés aux médicaments ou dispositifs médicaux. Une procédure existe, est connue et facilement consultable. Une charte d'incitation à la déclaration ou document équivalent existe | C30: ='Fichier analyses'!J22 -> NC
A31: ='Audit flash'!A29 -> 17 | B31: ='Audit flash'!B29 -> Une analyse collective des évènements indésirables est organisée. Un plan d'action avec pilote, suivi et délai est mis en place | C31: ='Fichier analyses'!J23 -> NC
A32: ='Audit flash'!A30 -> 18 | B32: ='Audit flash'!B30 -> Une communication sur le traitement des évènements indésirables est organisée | C32: ='Fichier analyses'!J24 -> NC
A33: ='Audit flash'!A31 -> 19 | B33: ='Audit flash'!B31 -> Les évènements indésirables graves médicamenteux sont signalés sur le portail national | C33: ='Fichier analyses'!J25 -> NC
A34: ='Audit flash'!A32 -> Protocoles / procédures
A35: ='Audit flash'!A33 -> 20 | B35: ='Audit flash'!B33 -> Il existe une procédure générale et des protocoles sur l'ensemble du processus de prise en charge médicamenteuse définissant les responsabilités de chacun, actualisés/revalidés régulièrement autant que besoin. Il existe une procédure sur les pratiques en terme de distribution, d'administration, d'aide à la prise et de surveillance des résidents. Ces documents sont accessibles et connus par les équipes médicales et soignantes. | C35: ='Fichier analyses'!J27 -> NC
A36: ='Audit flash'!A34 -> 21 | B36: ='Audit flash'!B34 -> Un protocole décrit la conduite à tenir en cas d'impossibilité d'accéder au logiciel informatique de soins ou de prescriptions (panne informatique, panne réseau…) | C36: ='Fichier analyses'!J28 -> NC
A37: ='Audit flash'!A35 -> 22 | B37: ='Audit flash'!B35 -> Une liste préférentielle des médicaments est élaborée (liste des médicaments à utiliser préférentiellement, par classes pharmaco-thérapeutiques) et connue par les médecins traitants et l'équipe soignante | C37: ='Fichier analyses'!J29 -> NC
A38: ='Audit flash'!A36 -> 23 | B38: ='Audit flash'!B36 -> La réévaluation pluriprofessionnelle des traitements est organisée est fait l'objet d'un protocole écrit | C38: ='Fichier analyses'!J30 -> NC
A39: ='Audit flash'!A37 -> 24 | B39: ='Audit flash'!B37 -> Des actions sont mises en œuvre pour éviter tout risque de retranscription lors de la prescription à l'administration | C39: ='Fichier analyses'!J31 -> NC
A40: ='Audit flash'!A38 -> 25 | B40: ='Audit flash'!B38 -> Une procédure sur le stockage des médicaments existe. Les péremptions sont régulièrement vérifiées. | C40: ='Fichier analyses'!J32 -> NC
A41: ='Audit flash'!A39 -> Formation / Information
A42: ='Audit flash'!A40 -> 26 | B42: ='Audit flash'!B40 -> Les modalités de la prise en charge médicamenteuse de votre établissement sont expliquées lors de l'accueil d'un nouveau professionnel ou médecins traitants / intervenants remplaçants | C42: ='Fichier analyses'!J34 -> NC
A43: ='Audit flash'!A41 -> 27 | B43: ='Audit flash'!B41 -> L'établissement organise des formations et sensibilisations portant sur la sécurisation du circuit du médicament, y compris iatrogénie, identitovigilance et prise en charge de la douleur | C43: ='Fichier analyses'!J35 -> NC
A44: ='Audit flash'!A42 -> 28 | B44: ='Audit flash'!B42 -> Les professionnels alertent les personnes-ressources en cas de risque identifié. Les professionnels surveillent les signes de non-observance et de iatrogénie médicamenteuse chez les personnes accompagnées. Une traçabilité et/ou une communication particulière vers le prescripteur est faite systématiquement | C44: ='Fichier analyses'!J36 -> NC
A47: AUDIT DOSSIERS
A49: ='Audit dossiers'!A9:G9 -> Dossier médical/Prescription/Traçabilité
...

Sheet Fichier analyses
A2: Onglet Audit flash | M2: Onglet Audit dossiers | U2: Onglet Audit terrain | AA2: Compilation 3 onglets | AH2: Critères du nouveau référentiel sur la PECM | AO2: Graphique Résultat Global "Sans NC"
A3: Stratégie de la PECM | F3: score global : | G3: {=IF(AND($B6:$B19="NC",$B21:$B25="NC",$B27:$B32="NC",$B34:$B36="NC"),"NC",SUM($B6:$B36)/SUMIF($B6:$B36,"<>NC",$E6:$E36))} -> NC | H3: {=IF(AND($C6:$C19="NC",$C21:$C25="NC",$C27:$C32="NC",$C34:$C36="NC"),"NC",SUM($C6:$C36)/SUMIF($C6:$C36,"<>NC",$E6:$E36))} -> NC | I3: {=IF(AND($D6:$D19="NC",$D21:$D25="NC",$D27:$D32="NC",$D34:$D36="NC"),"NC",SUM($D6:$D36)/SUMIF($D6:$D36,"<>NC",$E6:$E36))} -> NC | K3: {=IF(AND($J6:$J19="NC",$J21:$J25="NC",$J27:$J32="NC",$J34:$J36="NC"),"NC",SUM($J6:$J36)/SUMIF($J6:$J36,"<>NC",$E6:$E36))} -> NC | Q3: score global : | S3: {=IF(AND($Q6:$Q17="NC",$Q19:$Q20="NC",$Q27="NC",$Q29:$Q30="NC",$Q32:$Q34="NC",$Q36:$Q41="NC",$Q43:$Q45="NC",$Q47:$Q49="NC"),"NC",SUM($Q6:$Q49)/SUMIF($Q6:$Q49,"<>NC",$R6:$R49))} -> NC | U3: Stratégie de la PECM | X3: score global : | Y3: {=IF(AND($V6:$V9="NC",$V11:$V13="NC",$V15:$V17="NC"),"NC",SUM($V6:$V17)/SUMIF($V6:$V17,"<>NC",$W6:$W17))} -> NC | AA3: Stratégie de la PECM | AE3: score global : | AF3: {=IF(AND($AC6:$AC19="NC",$AC21:$AC29="NC",$AC31:$AC39="NC",$AC41:$AC43="NC",$AC45:$AC47="NC"),"NC",SUM($AC6:$AC47)/SUMIF($AC6:$AC47,"<>NC",$AD6:$AD47))} -> NC | AH3: Accompagnement à l'autonomie | AL3: score global : | AM3: {=IF(AND($AJ5:$AJ6="NC"),"NC",SUM($AJ5:$AJ6)/SUMIF($AJ5:$AJ6,"<>NC",$AK5:$AK6))} -> NC | AO3: Stratégie de la PECM | AQ3: =IF($AF3="NC","",$AF3)
B4: Flash 1 | C4: Flash 2 | D4: Flash 3 | E4: cot max | G4: Flash 1 | H4: Flash 2 | I4: Flash 3 | J4: Dernière réponse | N4: Oui | O4: Non | P4: NC | Q4: Moy des 3 dossiers | V4: cotation | W4: cot max | AC4: cotation | AD4: cot max | AH4: Crit 1.12.2 | AL4: score général : | AM4: {=IF(AND($AJ5:$AJ6="NC"),"NC",SUM($AJ5:$AJ6)/SUMIF($AJ5:$AJ6,"<>NC",$AK5:$AK6))} -> NC | AO4: Stratégie et enjeux de la sécu de la PECM | AQ4: =IF($AF5="NC","",$AF5)
