Workbook
Name choix1: '[1]Valid données'!$B$2:$B$3
Name choix2: '[1]Valid données'!$D$2:$D$4
Name choix3: '[1]Valid données'!$F$2:$F$5
Name choix4: '[1]Valid données'!$H$2:$H$6
Name choix5: '[1]Valid données'!$J$2:$J$6
Name Liste_1: Tableau13[[#All],[Liste 1]]

Sheet point méthodologie
A1: question | B1: réponse apportées à la HIA | C1: proposition
A2: quel service choisir (OPH, cardio, ortho… = différents mode de gestion)
A4: Lors de l'audit croisé, nous supposons que les différents documents qualité de la partie "Consultation documentaire" seront envoyés aux auditeurs en amont de la venue sur site. Est-ce bien le cas ? | B4: 1. La méthode prévoit en effet la préparation des différents documents disponibles de la partie « Consultation documentaire » par l’établissement audité receveur pour partage avec les auditeurs en amont de leur visite sur site. | C4: préciser attendus consultation documentaire et rencontre avec la gourvernance objectif : refaire le point sur les attendus / règlementation et les objectifs prioritaires de l'EDS
A5: Une auto-évaluation est-elle prévue avant la réalisation de l'audit croisé ? | B5: 2. Aucune auto-évaluation n’est prévue sauf période d’expérimentation de la grille pour évaluer la compréhension, la pertinence et le temps de saisie des critères
A6: Comment se ferra le choix des 4 DMI traceurs ? Par l'établissement audité, en définissant une catégorie de DMI ou une référence précise ? Par les auditeurs après échange avec l'établissement sur les types de DMI présents ? choix des DMI : EDS receveur, accord avec auditeurs ou imposés? | B6: 3. S’agissant du choix des références traceuses, nous trouvons difficile de les imposer du fait des activités différentes de chaque structure. Nous songions plutôt laisser le choix aux professionnels des structures auditées et auditrices de les identifier avec pour seule contrainte de s’assurer que le nombre de références choisies permet d’évaluer la performance de la traçabilité sanitaire pour l’ensemble des DMI quel que soit son mode de financement (liste en sus ou intra-GHS) ou son mode d’approvisionnement (achat, dépôt permanent ou prêt).
A7: Pour la partie "DMI traceurs", les différents items seront-ils bien complétés par analyse de dossiers ? | B7: 4. A ce jour, il est prévu que les résultats des différents items de l’onglet traçabilité qualitative soient saisis par les auditeurs avec le soutien des équipes auditées lors de l’interrogation des dossiers papiers et/ou informatiques.
A8: Pour la grille d'entretien "Rencontre avec les professionnels", la séparation de la pharmacie et du service utilisateur pose problème. En effet, elle ne permet pas une adaptation aux différentes organisations mises en place dans les hôpitaux. Si je prends pour exemple notre établissement, en l'absence de logiciel de traçabilité au bloc opératoire, une traçabilité papier est faite en salle lors de la pose puis la traçabilité informatique est réalisée par un préparateur dans le logiciel de la pharmacie. Les questions relatives à la traçabilité lors de la pose d'un DMI sont donc aussi applicables aux professionnels de la pharmacie. Idem pour les items D25 à D40, il semble important que chaque acteur du circuit puisse répondre à ces questions. Nous proposons de faire une grille qui ne sépare pas les professionnels de la pharmacie et les professionnels du service utilisateur et de réaliser les entretiens sous forme d'une table ronde avec des représentants de chaque partie du circuit. | B8: La traçabilité des DMI est une mission globale qui s’exerce à plusieurs niveaux du circuit du médicament. La traçabilité de la pose des DMI n’est pas une mission pharmaceutique. Le bloc opératoire peut embaucher une personne qui a un diplôme de préparateur en pharmacie mais cette personne n’exercera pas une activité pharmaceutique au sein du bloc et ne sera pas sous responsabilité pharmaceutique. (ARS Bretagne)
A9: Sous réserve que cette option proposée soit retenue, ne serait-il pas plus simple de différencier dans 2 grilles différentes les items d'entretien avec les professionnels, des items d'observation ?
A10: Il parait aussi important d'introduire dans la grille d'entretien / observation la notion de traçabilité en temps réelle tout au long du circuit du DMI plus particulièrement au moment de la pose mais aussi pour les prêts ponctuels. Je pense que ce sont des points critiques dans de nombreux établissements.
A11: Les questions pour les professionnels utilisateurs ne sont pas forcément pertinentes à mon sens : question sur l’information patient et sur l’enregistrement des données Pour moi, ce n’est pas le service utilisateur (bloc) qui va faire l’information au patient mais plutôt les services de soins ; il n’a pas l’information non plus sur l’enregistrement des données.

Sheet back up
E1: Grille d'audit croisé Qualité et Sécurité du circuit des DMI
B4: Grille audit croisé - visite sur site
B5: L'auditeur réalise la visite sur site et : Rencontre la gouvernance : Il analyse la politique, les activités et les actions mise en place par la gouvernance en cohérence avec les documents qui lui ont été fournies en amont. Rencontre les professionnels : Il vérifie la bonne diffusion de la politique, des activités et des actions de l'établissement Rencontre les personnes accompagnées et représentants des usages : Il s'assure de l'implication des usagers dans leur PECM
B6: Macro-processus | C6: Activité | E6: Elément de mesure | F6: Conforme / Non Conforme/ Partiellement conforme (si différence stock/dépôt) | G6: Commentaires auditeurs | H6: Mode d'évaluation | I6: Précision et attendus | J6: Critères de conformité | K6: Référentiels | L6: Commentaires audité
D7: Axe 2 | E7: Rencontre avec la gouvernance (direction, président de la CME, direction des soins ou équivalent, directeur des systèmes d'information, RSMQ DMI ou référent DMI, CLMV, chef et cadre de bloc, pharmacien)
A8: gouvernance | B8: APPROVISIONNEMENT | D8: B1 | E8: Est-ce que les DMI entrants dans l'établissement sont tracés et sécurisés que ce soit pour : les DMI achetés ; les DMI alloués en dépôt permanents/temporaires par les fabricants ou distributeurs ; les échantillons de DMI remis gratuitement ? | H8: Entretien | K8: Art.15 - arrêté du 8 septembre 2021 B-03 ANAP
A9: gouvernance | B9: QGDR | D9: B2 | E9: Une organisation est-elle prévue afin de répondre aux besoins urgents ? | H9: Entretien | K9: Art.15 - arrêté du 8 septembre 2021 L-04 ANAP module PUI Critère 2.3-07
A10: gouvernance | B10: QGDR | D10: B3 | E10: Une organisation est-elle prévue afin de répondre aux exigences liées aux produits de faible stabilité ? | H10: Entretien | K10: Art.15 - arrêté du 8 septembre 2021 L-04 ANAP module PUI Critère 2.3-07
A11: gouvernance | B11: APPROVISIONNEMENT | C11: Dépôts de DMI | D11: B4 | E11: Les responsabilités entre la PUI et le service utilisateur sont-elles formalisées pour les DMI gérés en dépôt dans le système d'information ? | G11: Consultation documentaire | H11: Entretien | I11: La pharmacie à usage intérieur et le service utilisateur formalisent, dans un document, les modalités d’enregistrement des dispositifs médicaux implantables gérés en dépôts et leurs responsabilités respectives. Une copie de ce document est transmise au responsable du système de management de la qualité du circuit des dispositifs médicaux implantables. | K11: Art.15 - arrêté du 8 septembre 2021
A12: gouvernance | B12: DISPOSITIONS ORGANISATIONNELLES | D12: B5 | E12: La direction a-t-elle désigné un responsable du système de mangement de la qualité du circuit des DMI ? | H12: Entretien | I12: Référence à A7 : PV ou CR de la CME/CfME relatif à la désignation du responsable du système de management de la qualité du circuit des DMI (RSMQ-DMI) | K12: Art.6 - arrêté du 8 septembre 2020
A13: gouvernance | B13: DISPOSITIONS ORGANISATIONNELLES | D13: B6 | E13: Les rôles, les responsabilités, les autorités et les délégations de responsabilités à toutes les étapes du circuit des DMI ont-ils été formalisés ? | H13: Entretien | I13: Référence à A3, A4, A5 et A8 : Description du processus constituant le circuit des dispositifs médicaux implantables (DMI) et leur interaction sous forme de procédure ou schéma opérationnel Organigramme Procédures et Modes opératoires intégrant les différentes responsabilités Fiche de poste du RSMQ-DMI | K13: Art.8 - arrêté du 8 septembre 2021
A14: gouvernance | B14: FORMATION ET COMPETENCES DU PERSONNEL | D14: B7 | E14: Un plan de formation pour les acteurs impliqués dans le circuit des DMI est-il mis en place dans l'établissement et plus particulièrement sur les règles de traçabilité sanitaire ? | H14: Entretien | I14: Référence à A9 et A10 : Plan de formation pluriannuel Feuilles d'émargement et tableau de suivi | K14: Art.9 - arrêté du 8 septembre 2021
A15: gouvernance | B15: GESTION DES ÉVÉNEMENTS INDÉSIRABLES | D15: B8 | E15: Une sensibilisation des acteurs impliqués dans le circuit des DMI est-elle mise en place dans l'établissement pour inciter à la déclaration des erreurs, dysfonctionnements ou défauts de traçabilité liés au circuit des dispositifs médicaux implantables ? | H15: Entretien | I15: Référence à A11 et A13 : Charte (de confiance / d'incitation) à (signaler / déclarer) tout type d'événement indésirable porteur de risque (avec ou sans effet) Fiche de déclaration interne des événements indésirables (système de déclaration dématérialisé) | K15: Art.11-arrêté du 8 septembre 2021
A16: gouvernance | B16: GESTION DES ÉVÉNEMENTS INDÉSIRABLES | D16: B9 | E16: Une organisation pour traiter les déclarations internes est-elle formalisée en vue d'améliorer la qualité et la sécurité du circuit des DMI ? | H16: Entretien | I16: Référence à A12 : Procédures de gestion des événements indésirables, erreurs, dysfonctionnements ou défauts de traçabilité liés au circuit des dispositifs médicaux implantables | K16: Art.11 et 12 - arrêté du 8 septembre 2021
A17: gouvernance | B17: GESTION DES ÉVÉNEMENTS INDÉSIRABLES | D17: B10 | E17: Un bilan annuel des actions d'amélioration est-il présenté à la commission/conférence médicale d'établissement ? | H17: Entretien | I17: Référence à A14 et A15 : Echéancier de réalisation des actions d’amélioration en lien avec la déclaration des évènements indésirables Bilan annuel des actions d'amélioration | K17: Art.11 et 12 - arrêté du 8 septembre 2022
A18: gouvernance | B18: GESTION DES ÉVÉNEMENTS INDÉSIRABLES | D18: B11 | E18: Des retours d'expérience sur la gestion des EI sont-ils organisés et formalisés avec les acteurs concernés ? | H18: Entretien | K18: Art.11 - arrêté du 8 septembre 2022 Critère 2.4-04 et 3.7-04
A19: gouvernance | B19: GESTION DES ÉVÉNEMENTS INDÉSIRABLES | D19: B12 | E19: Etes-vous systématiquement sollicité pour l’analyse des évènements indésirables en lien avec le circuit des DMI ? | H19: Entretien | K19: Art.11 - arrêté du 8 septembre 2022 Critère 2.4-04 et 3.7-04
A20: gouvernance | B20: SI | C20: Traçabilité | D20: B13 | E20: L’interopérabilité des systèmes d’information garantit-il les échanges et l'accessibilité des données échangées entre la PUI et le service utilisateur ? | H20: Entretien | K20: Art.15 - arrêté du 8 septembre 2021 Critère 2.2-05 Les équipes de soins ont accès aux informations du patient avec un système d’information adapté
A21: gouvernance | B21: SI | C21: pose de DMI | D21: B14 | E21: L’interopérabilité des systèmes d’information permet-il de retrouver dans le dossier patient informatisé les données enregistrées par le service utilisateur lors de la pose ou de la dépose d'un DMI ? | H21: Entretien | K21: Art.15 - arrêté du 8 septembre 2021 Critère 2.2-05 Les équipes de soins ont accès aux informations du patient avec un système d’information adapté
A22: gouvernance | B22: SI | C22: pose de DMI | D22: B15 | E22: L’interopérabilité des systèmes d’information permet-il de retrouver dans le dossier médical partagé, les données enregistrées par le service utilisateur lors de la pose ou de la dépose d'un DMI ? | H22: Entretien | K22: Art.15 - arrêté du 8 septembre 2021 Critère 2.2-05 Les équipes de soins ont accès aux informations du patient avec un système d’information adapté
A23: gouvernance | B23: SYSTÈME DOCUMENTAIRE | D23: B16 | E23: La direction conjointement avec le président de la commission médicale d’établissement ou de la conférence médicale d’établissement ont-ils établi une politique qualité et sécurité du circuit du DMI ? | H23: Entretien | I23: Référence à A1 : Politique qualité | K23: Art.5 - arrêté du 8 septembre 2019
A24: gouvernance | B24: SYSTÈME DOCUMENTAIRE | D24: B17 | E24: Une organisation permet-elle de s'assurer que le système documentaire relatif au SMQ des DMI est accessible à tout moment, revu et évalué selon une périodicité définie ? | H24: Entretien | I24: Référence à A1 à A6, A12, A14 à A16 : Politique qualité, Description des procesus du circuit des DMI, Procédures et modes opératoires, étude des risques, informations documentées relatives à la planification des actions d'amélioration | J24: Système documentaire relatif au SMQ des DMI : diffusé et accessible à tout moment revu et évalué avec une périodicité définie appliqué à chaque étape du circuit des DMI | K24: Art.7 - arrêté du 8 septembre 2021
A25: gouvernance | B25: SYSTÈME DOCUMENTAIRE | D25: B18 | E25: Un système d'alertes ou de notifications permettant d'informer les professionnels de tout ajout, modification ou suppression d'un document dans le système documentaire relatif au SMQ des DMI a-t-il été mis en place ? | H25: Entretien | K25: Art.7 - arrêté du 8 septembre 2021
A26: gouvernance | B26: SYSTÈME DOCUMENTAIRE | D26: B19 | E26: Une étude des risques et des audits de conformité liés au circuit des DMI ont-ils été réalisés ? | H26: Entretien | I26: Référence à A6 et A16 : Etude des risques encourus par les patients liés aux circuit des DMI Audit de conformité du système de management de la qualité | K26: Art.10 et 13 - arrêté du 8 septembre 2021
D27: Axe 3 | E27: Rencontre avec les professionnels
E28: Entretien avec les professionnels de la Pharmacie
A29: pui | B29: DISPOSITIONS ORGANISATIONNELLES | D29: C1 | E29: Pourriez-vous m'indiquer le nom du responsable du management de la qualité du circuit des DMI ? | H29: Entretien | I29: La direction désigne un responsable du système de management de la qualité du circuit des dispositifs médicaux implantables. Ce responsable est désigné après avis du président de la commission médicale d'établissement. Le responsable du management de la qualité du circuit des DMI (RSMQ) est connu du personnel médico-soignant | K29: Art.6 - arrêté du 8 septembre 2021 A.01 - ANAP module US
A30: pui | B30: DISPOSITIONS ORGANISATIONNELLES | D30: C2 | E30: Pouvez-vous me montrer l'organigramme en lien avec les responsabilités des acteurs impliqués dans le circuit des DMI ? | H30: Entretien | I30: La direction formalise les responsabilités, les autorités et les délégations de responsabilités du personnel à toutes les étapes du circuit des dispositifs médicaux implantables dans le respect de la réglementation et des compétences en vigueur. Elle les communique à tout le personnel impliqué directement ou indirectement dans le circuit des dispositifs médicaux implantables. La direction s’assure que les rôles, responsabilités et autorités des acteurs du SMQCDM sont communiquées et comprises au sein de l’établissement de santé. | K30: Art.8 - arrêté du 8 septembre 2021
A31: pui | B31: GESTION DES ÉVÉNEMENTS INDÉSIRABLES | D31: C3 | E31: Les professionnels de la PUI sont-ils associés à l'analyse des FSEI en lien avec le circuit des DMI et la traçabilité sanitaire ? | H31: Entretien | K31: Art.11 - arrêté du 8 septembre 2021 Critère 2.4-04 et 3.7-04
A32: pui | B32: APPROVISIONNEMENT | C32: Dotation et renouvellement | D32: C4 | E32: Avez-vous un exemplaire de la dotation des DMI mise en place dans le service utilisateur audité ? | H32: Entretien | I32: Ne pas confondre dotation et dépôt La demande de mise en dotation est réalisée par le service utilisateur sur la base de la liste des dispositifs médicaux implantables référencés La liste qualitative et quantitative des dispositifs médicaux implantables mis en dotation est établie pour chaque service utilisateur. La dotation est datée et conjointement signée par le responsable médical du service utilisateur ou, s'il n'est pas désigné, par un médecin du service utilisateur, le cadre de santé du service utilisateur ou son équivalent, et par le pharmacien. La composition de la dotation est évaluée, au minimum une fois par an, au regard de la consommation réelle en dispositifs médicaux implantables et, le cas échéant, révisée. Un exemplaire de cette dotation est transmis à la pharmacie à usage intérieur, de préférence par voie dématérialisée. | K32: Art.15 - arrêté du 8 septembre 2021
A33: pui | B33: APPROVISIONNEMENT | C33: Dotation et renouvellement | D33: C5 | E33: Un pharmacien a-t-il participé à la rédaction et à la révision de la dotation des DMI mise en place dans le service utilisateur audité ? | H33: Entretien | I33: Cette dotation est définie par les médecins du service utilisateur, le cadre de santé ou son équivalent et le pharmacien, pour répondre aux besoins du service utilisateur sur la base de la liste des DMI référencés. L’analyse de la demande de mise en dotation est réalisée par le pharmacien et prend notamment en compte : – les besoins thérapeutiques auxquels répond le service utilisateur ; – les protocoles de soins et les référentiels de bon usage en vigueur ; – la capacité et les conditions de stockage du service utilisateur. | J33: Liste signée par le pharmacien | K33: Art.15 - arrêté du 8 septembre 2021
A34: pui | B34: APPROVISIONNEMENT | C34: Dépôts de DMI | D34: C6 | E34: Une copie des conventions (établies entre le fabricant ou le distributeur et l’établissement de santé en lien avec le pharmacien) pour le(s) dépôt(s) des DMI du service utilisateur audité est-elle disponible ? | H34: Entretien | I34: Une copie de la convention de dépôts des DMI est transmise par la direction au pharmacien gérant de la pharmacie à usage intérieur. La pharmacie à usage intérieur et le service utilisateur formalisent, dans un document, les modalités d’enregistrement des dispositifs médicaux implantables gérés en dépôts et leurs responsabilités respective | K34: Art.15 - arrêté du 8 septembre 2021
A35: pui | B35: APPROVISIONNEMENT | C35: Commande | D35: C7 | E35: Les commandes de DMI auprès d'un fabricant ou d'un distributeur sont-elles informatisées ? | F35: option : oui, non, oui partiellement | H35: Entretien | I35: Les demandes des services utilisateurs permettent à la pharmacie à usage intérieur d’élaborer une commande informatisée auprès d’un fabricant ou d’un distributeur. Il peut s’agir d’une commande en achat ou d’une commande de dispositifs médicaux implantables alloués en dépôt. Une analyse des demandes de dispositifs médicaux implantables par la pharmacie à usage intérieur vise à assurer la conformité de ces demandes au regard des dotations définies, des exigences réglementaires et, le cas échéant, des règles internes à l’établissement de santé | K35: Art.15 - arrêté du 8 septembre 2021 H-03 ANAP module PUI
A36: pui | B36: APPROVISIONNEMENT | D36: C19 | E36: Une conduite à tenir en cas d'indisponibilité d'un DMI à la date prévue de l'intervention (ex : en cas de rupture d’approvisionnement, de retrait de lot, d’alerte sanitaire, en dehors des horaires d'ouverture de la PUI) a-t-elle été formalisée avec le service ? | H36: Entretien | I36: En cas d’indisponibilité à la date prévue d'utilisation, la pharmacie à usage intérieur informe le service utilisateur afin d’envisager la conduite à tenir. | K36: Art.15 - arrêté du 8 septembre 2021 K-08 ANAP module PUI Critère 2.3-07
A37: pui | B37: APPROVISIONNEMENT | C37: Réception par la PUI | D37: C20 | E37: La réception des DMI par la PUI fait-elle l'objet d'un rapprochement entre le bon de commande, le bon de livraison du fabricant ou du distributeur et les DMI effectivement livrés? | H37: Observation | I37: La réception des dispositifs médicaux implantables par la pharmacie à usage intérieur, fait l’objet d’un rapprochement entre le bon de commande, le bon de livraison du fabricant ou du distributeur et les dispositifs médicaux implantables effectivement livrés. La réception ainsi validée, fait l’objet d’un enregistrement informatique, en temps réel, dans le système d’information de l’établissement de santé ou de l’installation de chirurgie esthétique, à l’aide d’un système d’identification et de saisie automatiques des données adapté à la lecture des informations relatives aux dispositifs médicaux implantables retranscrites dans le support IUD. | K37: Art.15 - arrêté du 8 septembre 2021 I-04 ANAP module PUI
A38: pui | B38: SI | C38: Réception par la PUI | D38: C21 | E38: La réception est-elle enregistrée informatiquement, en temps réel, dans le SI ? | H38: Observation | K38: Art.15 - arrêté du 8 septembre 2021 I-03 ANAP module PUI
A39: pui | B39: SI | C39: Réception par la PUI | D39: C22 | E39: A la réception des DMI, est-ce qu'un système d'identification et de saisie automatique des données adapté (lecteurs de code à barres/datamatrix) permet d'intégrer les informations extraites de l'IUD ? | H39: Observation | K39: Art.15 - arrêté du 8 septembre 2021 I-07 et I-08 ANAP module PUI
A40: pui | B40: SI | C40: Réception par la PUI | D40: C23 | E40: A la réception, les DMI gérés en dépôt permanent font l'objet d'un enregistrement informatique avant leur livraison aux services utilisateurs | F40: prévoir NA si pas de dépôt | H40: Observation | K40: Art.15 - arrêté du 8 septembre 2021 N-04 ANAP module PUI
B41: SI | C41: Réception par la PUI | D41: C24 | E41: A la réception, les DMI gérés en dépôt temporaire font l'objet d'un enregistrement informatique avant leur livraison aux services utilisateurs | H41: Observation
A42: pui | B42: STOCKAGE ET DETENTION | D42: C38 | E42: Les locaux de la PUI permettent des conditions adaptées pour assurer la conservation de l'intégrité et de la stérilité des DMI | F42: prévoir non applicable si pas de stock à la PUI | H42: Observation | I42: Les locaux de la pharmacie à usage intérieur utilisés pour le stockage des dispositifs médicaux implantables sont régulièrement entretenus, d’un volume adapté au volume du stock détenu, à l’abri de la lumière solaire directe et de contaminations de toute nature, à température adaptée, avec une ventilation adaptée. Les dispositifs médicaux implantables ne sont pas stockés à même le sol, absence de périmés | K42: Art.15 - arrêté du 8 septembre 2021 J-02 et J-03 ANAP module PUI Critère 2.3-07
...

Sheet Liste
A1: Liste 1 | B1: Cotation liste 1 | D1: Liste 2 | E1: Cotation liste 2 | G1: Liste 3 | H1: Cotation liste 3 | J1: Liste 4 | K1: Cotation liste 4 | M1: Liste 5 | N1: Cotation liste 5 | P1: Liste 6 | Q1: Cotation liste 6 | S1: Liste 7 | T1: Cotation liste 7 | V1: Liste 8 | W1: Cotation liste 8 | Y1: Liste 9 | Z1: Cotation liste 7
A2: Disponible | B2: 1 | D2: Oui informatique (saisie automatique) | E2: 1 | G2: Oui | H2: 1 | J2: Oui | K2: 1 | M2: Oui | N2: 1 | P2: Oui informatique (saisie automatique) | Q2: 1 | S2: Oui | T2: 1 | V2: Oui | W2: 1 | Y2: Oui totalement | Z2: 1
A3: Non disponible | B3: 0 | D3: Oui informatique (saisie manuelle) | E3: 0.5 | G3: Non | H3: 0 | J3: Non | K3: 0 | M3: En cours | N3: 0.5 | P3: Oui informatique (saisie manuelle) | Q3: 0.5 | S3: Oui partiellement | T3: 0.5 | V3: Oui partiellement | W3: 0.5 | Y3: Oui partiellement pour les DMI en achat et/ou en dépôts permanents | Z3: 0.5
D4: Oui papier | E4: 0.2 | J4: Non applicable | K4: -1 | M4: Non | N4: 0 | P4: Oui papier | Q4: 0.2 | S4: Non | T4: 0 | V4: Non | W4: 0 | Y4: Non | Z4: 0
D5: Non | E5: 0 | P5: Non | Q5: 0 | V5: Non applicable | W5: -1
P6: Non applicable | Q6: -1

Sheet Lisez-moi
A1: Grille d'audit croisé Evaluation de la mise en oeuvre du management de la qualité du circuit des DMI
A2: Préambule
A3: Le décret n°2006-1497 du 29 novembre 2006 sur la matériovigilance a fixé les règles particulières de la matériovigilance exercée sur certains dispositifs médicaux (DM). Ces règles ont pour objet de permettre d'identifier rapidement : 1° Les patients pour lesquels les dispositifs médicaux d'un lot ont été utilisés ; 2° Les lots dont proviennent les dispositifs médicaux utilisés chez un patient. Dans l’instruction DGOS/PF2/2015/200 du 15 juin 2015 relative aux résultats de l’enquête nationale sur l’organisation de la traçabilité sanitaire des DM implantables (DMI), il est recommandé d’effectuer des contrôles sous forme d’inventaires périodiques ou d’audits réguliers pour s’assurer de la présence des informations de traçabilité. L’arrêté du 8 septembre 2021 relatif au management de la qualité du circuit des dispositifs médicaux implantables dans les établissements de santé et les installations de chirurgie esthétique définit les exigences pour assurer la qualité, la sécurisation et la traçabilité à chaque étape du circuit des DMI. Le critère 1.1.10 du manuel HAS de certification des établissements de santé permet d'évaluer si le patient est informé des dispositifs médicaux qui lui sont implantés durant son séjour et reçoit les consignes de suivi appropriées
A4: Champ d'application
A5: * Etablissements de santé publics, privés et privés d'intérêt collectif avec une activité de chirurgie * Dispositifs médicaux implantables soumis aux règles particulières de traçabilité prévues le cas échéant à l’article R. 5212-36 du code de la santé
A6: Objectifs
A7: L'outil "Evaluation de la mise en oeuvre du management de la qualité du circuit des DMI" a pour objectifs d'/de : - susciter un dialogue interprofessionnels et inter-établissements sur la mise en œuvre du système de management de la qualité des DMI - comparer les pratiques professionnelles des établissements de santé entre eux à partir d'une méthode et d'un référentiel commun, - évaluer l'organisation mise en place par la structure auditée pour garantir la sécurisation du circuit des DMI - évaluer la complétude des informations de traçabilité sanitaire, à chaque étape du circuit des DMI - identifier les points forts et les axes d'amélioration envisageables au sein de la structure auditée, - élaborer un plan d'actions adapté à la structure. Attention : Les résultats de l’audit ne préjugent en rien des résultats de la visite d'évaluation externe (HAS) ou d’inspections.
A8: Présentation de l'outil
A9: L'outil est constitué de 8 onglets à remplir en 2 temps : - en amont de la visite : 3 onglets à renseigner par l'établissement audité (étape 1 et étape 2) et 4 dossiers patient à préparer pour l'onglet "Information sortie" rempli au cours de la visite - au cours de la visite : 5 onglets à renseigner par les auditeurs (étape 3 et étape 4) L'outil comporte également un onglet "Résultats" et un onglet "Plan d'actions"
A10: Etape 1 : Informations générales (en amont de la visite) : Cet onglet permet d'identifier la structure auditée et le périmètre de l'audit : L'activité 1 correspond au secteur avec le plus grand volume de DMI posés au sein de la structure L'activité 2 est laissée à l'appréciation des audités (outil de traçabilité différent, circuit différent, ...) NB : Le service ou plateau technique audité doit faire partie de l'une des 2 activités retenues Les professionnels devront indiquer quelle activité a été retenue pour la rencontre avec les acteurs du bloc opératoire
A20: Etape 2 : Auto-évaluation (en amont de la visite) : L'étape d'auto-évaluation comprend les 2 onglets suivants "Documents disponibles" (25 critères) et "Enregistrement des données" (46 critères) Les professionnels de la structure auditée devront saisir les réponses pour chaque élément d'évaluation de ces 2 onglets La grille renseignée sera transmise aux auditeurs en amont de leur visite NB : Les documents relatifs à la qualité et à la sécurité du circuit des DMI de l'établissement audité pourront être demandés pour consultation par les auditeurs le jour de la rencontre avec les acteurs
A23: Etape 3 - Rencontre avec les acteurs (lors de la visite) : Cette étape comprend les 4 onglets suivants : "Encadrement-instances" (27 critères), "PUI" (24 critères), "Bloc opératoire" (26 critères) et "Entretien patient" (7 critères) Pour l'onglet "Entretien patient", choisir un patient porteur d'un DMI nécessitant la remise d'une carte d'implant Les éléments d'évaluation sont déclinés autour de 7 axes : - Gouvernance - Qualité et gestion des risques - Système d'information - Réception/stockage - Délivrance/transport - Pose de DMI - Information patient Les modalités d'évaluation sont de 2 types : entretien ou observation Selon les critères, il existe plusieurs réponses possibles : "oui", "oui partiellement", "en cours", "non" et/ou "non applicable". Les auditeurs devront préciser l'état d'avancement des critères "en cours" dans la colonne "commentaires auditeurs"
... A93: Remerciements aux établissements contributeurs
A94: CH de Versailles CH Rives de Seine Hôpital d'Instruction des Armées Clermont Tonnerre | B94: CH Fougères Centre Hospitalier Public du Cotentin Hôpital Privé Saint Martin Caen
A95: Boîte à outils
A96: ANAP | B96: Diagnostiquer les risques liés à la prise en charge des Dispositifs Médicaux Stériles et Dispositifs Médicaux Implantables : Inter Diag DMS-DMI 2021
A97: Haute Autorité de Santé | B97: Infographies - Méthode audit système / Manuel de certification v.2024
A98: OMéDIT Normandie et Pays de la Loire | B98: Audit traçabilité des DMI
A99: Centre Hospitalier de Fougères | B99: Audit DMI Fougères
A100: Contacts
A101: Pour toutes informations ou remarques sur l'outil, nous vous invitons à contacter l'OMéDIT de votre région : - Bretagne : omedit.bretagne@ch-cornouaille.fr - Centre Val de Loire : omedit-centre@omedit-centre.fr - Ile de France : omedit.idf@aphp.fr - Normandie : ars-normandie-omedit@ars.sante.fr - Pays de la Loire : omedit.pdl@chu-nantes.fr
A102: Version Juillet 2024

Sheet Informations générales
B1: Grille d'audit croisé Evaluation de la mise en oeuvre du management de la qualité du circuit des DMI
B4: Informations générales
B6: Nom de l'Etablissement de santé :
B8: Nom du service ou plateau technique audité
B10: Nom et fonction du responsable du système de management de la qualité des DMI :
B12: Nom et fonction du correspondant local de matériovigilance :
B14: Date de l'audit : (xx/xx/20xx)
B16: Nom et fonction des auditeurs :
B19: Définition du périmètre : choix de 2 secteurs d'activité
C20: Secteur d'activité | D20: Nombre de lignes de délivrance de DMI par an | E20: Nombre de poses de DMI par an | F20: Argumentaire
B21: Activité 1 | F21: Secteur avec le plus grand volume de DMI posés au sein de la structure
B22: Activité 2
B25: Remarques :

Sheet Documents disponibles
A1: Référentiels | B1: Liste des documents à investiguer | C1: Réponse | D1: Commentaires éventuels de l'établissement audité
A2: Art.5 et 7 - arrêté du 8 septembre 2021 La direction établit la politique de la qualité, en fixe les objectifs et le calendrier, et assure le suivi de sa mise en œuvre. Pour les établissements de santé, la politique de la qualité est établie conjointement avec le président de la commission médicale d'établissement (CME) ou de la conférence médicale d'établissement (CfME). Vérifier le statut et la forme du document, son élaboration concertée avec la direction et le président de la commission médicale d'établissement ou de la conférence médicale d'établissement, le mode et la fréquence de révision, le contenu, l'identification des besoins, l'organisation du pilotage, la prise en compte des engagements qui font suite à la procédure de certification prévue à l'article L.6111-3 du CSP, les résultats des contrôles et inspection et le bilan des actions d'amélioration mises en œuvre à la suite de l'analyse des événements indésirables, erreurs, dysfonctionnements ou défauts de traçabilité en lien avec le circuit des DMI. | B2: Politique qualité de l'établissement / Manuel qualité et sécurité du circuit des dispositifs médicaux implantables (DMI)
A3: Art.4 et 7 - arrêté du 8 septembre 2021 Cette procédure, conforme à la réglementation, décrit l’organisation propre à l'établissement pour l’ensemble du circuit : commande, circuit du bon de commande, dispensation par le pharmacien, stockage dans des locaux sécurisés, utilisation et traçabilité sanitaire, surveillance et information du patient Le circuit des dispositifs médicaux implantables mentionnés au paragraphe 5 de l'article 2 du règlement (UE) 2017/745 susvisé est un processus combinant des étapes pluridisciplinaires et interdépendantes mentionnées à l'article 15 visant à un objectif commun : l'utilisation sécurisée, appropriée et tracée du dispositif médical implantable chez le patient pris en charge par un établissement de santé ou une installation de chirurgie esthétique régie par les articles L. 6322-1 et suivants du code de la santé publique. | B3: Description du processus constituant le circuit des dispositifs médicaux implantables (DMI) et leur interaction sous forme de procédure ou schéma opérationnel
A4: Art.8 - arrêté du 8 septembre 2021 La direction formalise les responsabilités, les autorités et les délégations de responsabilités du personnel à toutes les étapes du circuit des dispositifs médicaux implantables dans le respect de la réglementation et des compétences en vigueur. Elle les communique à tout le personnel impliqué directement ou indirectement dans le circuit des dispositifs médicaux implantables. La direction s’assure que les rôles, responsabilités et autorités des acteurs du SMQCDM sont communiquées et comprises au sein de l’établissement de santé. | B4: Organigramme
A5: art.10 - arrêté du 8 septembre 2021 La direction veille à l’élaboration de procédures et, le cas échéant, de modes opératoires intégrant les différentes responsabilités notamment médicales, pharmaceutiques, odontologi_x0002_ques, maïeutiques et infirmières permettant de s’assurer de la qualité et de la sécurité à chaque étape du circuit des dispositifs médicaux implantables | B5: Procédures et Modes opératoires intégrant les différentes responsabilités notamment médicales, pharmaceutiques, odontologiques, maïeutiques et infirmières permettant de s’assurer de la qualité et de la sécurité à chaque étape du circuit des dispositifs médicaux implantables
A6: art.7 et art.10 - arrêté du 8 septembre 2021 Cette étude porte a minima sur : * Les risques pouvant aboutir à un évènement indésirable, à une erreur ou à un dysfonctionnement à chaque étape du circuit des dispositifs médicaux implantables ; * Les risques pouvant aboutir à un défaut de traçabilité à chaque étape du circuit des dispositifs médicaux implantables Une attention particulière est portée sur : – les risques majeurs liés à l’absence d’informatisation des processus ou à l’absence d’interopérabilité des composants du système d’information de l’établissement de santé pour une ou plusieurs étapes du circuit des dispositifs médicaux implantables ; – les risques d’interruption du processus de traçabilité à la sortie du patient de l’établissement de santé Le circuit des dispositifs médicaux implantables (DMI) est évalué/réévalué régulièrement et/ou lors de modification notable des pratiques (réalisation d’une nouvelle activité nécessitant des dispositifs médicaux implantables, transformation des plateaux techniques, évolution du système d’information de l’établissement, référencement d’une nouvelle gamme de dispositif médical) et/ou lors d’évènements indésirables récurrents liés à l’organisation du circuit. | B6: Étude des risques encourus par le patient liés au circuit des dispositifs médicaux implantables (DMI) et le plan d’actions associé
A7: Art.6 - arrêté du 8 septembre 2021 Le responsable du système de management de la qualité du circuit des DMI (RSMQ-DMI) est désigné par la direction après avis de la CME/CfME Une même personne peut assurer cette fonction au sein de plusieurs établissements de santé dans le cadre d’un groupement hospitalier de territoire ou d’un groupement de coopération sanitaire | B7: Procès-verbal (PV) ou compte-rendu (CR) de la CME/CfME relatif à la désignation du responsable du système de management de la qualité du circuit des DMI (RSMQ-DMI) qui identifie la personne pressentie par la direction (nom, prénom), ses missions et le temps dédié
A8: Le responsable du système de management de la qualité du circuit des DMI (RSMQ-DMI) est informé de ses missions Art.6 - arrêté du 8 septembre 2021 Ce responsable dispose de l’autorité nécessaire pour l’exercice des missions suivantes : 1/ Assurer la coordination des acteurs impliqués dans ce circuit ; 2/ Définir, avec ces acteurs, l’ensemble des procédures organisationnelles relatives à ce circuit ; 3/ S’assurer que les processus nécessaires au système de management de la qualité sont établis, mis en œuvre et évalués ; 4/ Rendre compte du fonctionnement du système de management de la qualité et de tout besoin d’amélioration à la direction et, le cas échéant, à la commission médicale d’établissement ou à la conférence médicale d’établissement Il peut être en charge d’autres missions relatives à la qualité et à la sécurité des soins notamment en tant que correspondant local de matériovigilance mentionné à l’article R. 5212-12 du code de la santé publique ou coordonnateur de la gestion des risques associés aux soins mentionné à l’article R. 6111-4 du code de la santé publique. | B8: Fiche de poste du responsable du système de management de la qualité du circuit des DMI (RSMQ-DMI)
A9: Art.9 - arrêté du 8 septembre 2021 Le plan de formation, défini par la direction est intégré au développement professionnel continu Il comporte des formations spécifiques au circuit des dispositifs médicaux implantables. Un tutorat formalisé est mis en place pour les nouveaux salariés et le personnel intérimaire. A minima, un système documentaire permet de décrire le circuit des dispositifs médicaux implantables au sein de l’ES (ex : livret d’accueil salarié, logigramme, planning des tâches détaillé…). Les supports doivent être adaptés au public cible. Des sensibilisations ciblées sur des écarts identifiés lors d’autoévaluation ou d’évaluation des pratiques ou survenue d'EI peuvent également être réalisées pour accompagner la mise en œuvre des procédures. Elles doivent faire l’objet d’une feuille d’émargement comme toutes les autres actions de formation/sensibilisation afin de pouvoir être prises en compte lors de l’évaluation | B9: Plan de formation pluriannuel de l'établissement visant à assurer la qualité et la sécurité du circuit des dispositifs médicaux implantables et garantir leur traçabilité sanitaire
B10: Feuilles d’émargement des participants aux formations et tableau de suivi
A11: Art.14 - arrêté du 8 septembre 2021 La direction met en place des processus pour promouvoir la déclaration interne des évènements indésirables, erreurs, dysfonctionnements ou défauts de traçabilité liés au circuit des dispositifs médicaux implantables et en faire comprendre l’importance ; Dans la charte de confiance, le directeur s'engage – avec le directeur des soins et le président de CME/CfME pour les établissements de santé – à protéger des sanctions disciplinaires les professionnels qui déclarent sans délai tout événement indésirable porteur de risque et analysent les événements indésirables sous réserve de l'absence de manquement délibéré ou répété aux règles de sécurité | B11: Charte de confiance / d'incitation à signaler / déclarer tout type d'événement indésirable porteur de risque (avec ou sans effet)
A12: Manuel de certification HAS v.2024 - Critère impératif 2.4-04 "Les équipes améliorent leurs pratiques en analysant les événements indésirables associés aux soins qu’elles ont déclarés" Décret n° 2016-1606 du 25 novembre 2016 relatif à la déclaration des événements indésirables graves associés à des soins et aux structures régionales d’appui à la qualité des soins et à la sécurité des patients Instruction n° DGS/PP1/DGOS/PF2/DGCS/2A/2017/58 du 17 février 2017 relative à la mise en œuvre du décret n° 2016-1606 du 25 novembre 2016 relatif à la déclaration des événements indésirables graves associés à des soins et aux structures régionales d’appui à la qualité des soins et à la sécurité des patients. Les modalités de signalement doivent être formalisées et adaptées au niveau de gravité de la situation. Tout événement inhabituel en lien avec le circuit des dispositifs médicaux implantables doit faire l’objet d’un signalement d’évènement indésirable en interne +/- en externe selon le type d'événement et l'impact pour le patient. Lorsque le DMI impliqué dans la survenue de l'événement, une déclaration doit être faite sur le portail de déclaration des évènements indésirables en cochant la case matériovigilance art.7 et 12 - arrêté du 8 septembre 2021 procédures formalisant l’organisation adoptée pour traiter les déclarations internes en vue d’améliorer la qualité et la sécurité du circuit des dispositifs médicaux implantables et garantir leur traçabilité. Ces procédures intègrent les différents niveaux d’intervention et de décision, permettant : – d’analyser les causes des évènements indésirables, erreurs, dysfonctionnements ou défauts de traçabilité liés au circuit des dispositifs médicaux implantables déclarés ; – de mettre en place les actions d’amélioration ; – d’assurer un suivi de la mise en œuvre des actions d’amélioration et d’en évaluer l’efficacité ; – d’interrompre ou d’annuler les pratiques qui ne satisfont pas aux exigences spécifiées ; – de reprendre des soins interrompus ou annulés après s’être assuré que le problème a été éliminé ; – de transmettre les évènements aux autorités sanitaires dans le cadre des dispositifs de déclaration en vigueur art.11 - arrêté du 8 septembre 2021 Cette organisation est mise en place en concertation avec le président de CME/CfME. Elle regroupe le RSMQ-DMI et les professionnels impliqués directement ou indirectement dans le circuit des DMI. Elle permet de - prioriser les déclarations internes à analyser, - procéder par toute méthodologie appropriée à l’analyse collective et interdisciplinaire des causes, au plus près du lieu de survenue de l’évènement, de l’erreur, du dysfonctionnement ou du défaut de traçabilité ; – proposer, le cas échéant, des actions d’amélioration après analyse des déclarations internes ; – procéder à l’accompagnement et au suivi de la réalisation des actions d’amélioration et de l’évaluation de leur efficacité ; – communiquer sur ce retour d’expérience dans le cadre de la politique de gestion des risques de l’établissement de santé ou de l’installation de chirurgie esthétique ; – veiller au respect des transmissions dans le cadre des dispositifs de déclaration en vigueur | B12: Procédures de gestion des événements indésirables, erreurs, dysfonctionnements ou défauts de traçabilité liés au circuit des dispositifs médicaux implantables
A13: art.11 - arrêté du 8 septembre 2021 Elle permet de renseigner en particulier les informations sur - le déclarant, - le ou les dispositifs médicaux implantables concernés - les circonstances de survenue de l’évènement indésirable, de l’erreur, du dysfonctionnement ou du défaut de traçabilité, lié au circuit des dispositifs médicaux implantables. La direction met à disposition de tous les acteurs et à tout moment un système de déclaration dématérialisé | B13: Fiche de déclaration interne des événements indésirables (système de déclaration dématérialisé)
A14: art.13 - Arrêté du 8 septembre 2021 La direction s’assure qu’un échéancier de réalisation des actions d’amélioration est fixé et que les responsabilités associées à leur mise en œuvre et à l’évaluation de leur efficacité sont définies. | B14: Échéancier de réalisation des actions d’amélioration en lien avec la déclaration des évènements indésirables
A15: art.13 - Arrêté du 8 septembre 2021 Le bilan annuel des actions d’amélioration mises en œuvre et l’évaluation de leur efficacité sont présentés à la CME/CfME | B15: Bilan annuel des actions d'amélioration
A16: art.13 - Arrêté du 8 septembre 2021 La direction s’assure de la mise en place d’audits à intervalles réguliers pour déterminer si le système de management de la qualité est conforme aux dispositions établies, mis en œuvre et entretenu de manière efficace. Une procédure documentée est établie pour définir les responsabilités et les exigences pour planifier et mener les audits et rendre compte des résultats. | B16: Procédure documentée définissant les responsabilités et exigences pour planifier et mener les audits du système de management de la qualité
A17: Art.15 - Arrêté du 8 septembre 2021 La liste des dispositifs médicaux implantables référencés dont l’utilisation est préconisée dans l’établissement de santé doit être validée par la CME/CFME Elle précise pour chaque dispositif médical implantable : 1/ L’identifiant unique propre au modèle du dispositif (IUD-ID) défini à l’annexe VI, partie C du règlement (UE) 2017/745 , dès lors que celui-ci est disponible, et l’ensemble des informations suivantes : – le nom ou la dénomination commerciale du dispositif ; – la dénomination, selon la nomenclature de référence en vigueur ; – le nom du fabricant et, le cas échéant, de son mandataire ; – la référence ou le numéro dans le catalogue du fabricant ; – les dimensions cliniques (dont le volume, la longueur, le calibre, le diamètre) ; 2/ Le cas échéant, le nom du distributeur et la référence ou le numéro dans le catalogue du distributeur. | B17: Liste des "Dispositifs Médicaux Implantables référencés"
A18: A-10 ANAP module PUI | B18: Procédure de référencement d'un nouveau DMI
A19: art.15 - Arrêté du 8 septembre 2021 La constitution d’une dotation en dispositifs médicaux implantables peut être nécessaire à l’activité d’un service utilisateur. Cette dotation est définie par les médecins du service utilisateur, le cadre de santé ou son équivalent et le pharmacien, pour répondre aux besoins du service. Sur cette liste qualitative et quantitative, figure l’ IUD ID ainsi que les informations suivantes -Nom ou dénomination commerciale du dispositif ; -Dénomination, selon la nomenclature de référence en vigueur ; -Nom du fabricant ; -Référence ou le numéro dans le catalogue du fabricant ; -Les dimensions cliniques (volume, longueur, calibre, diamètre) -Les quantités maximales. | B19: Liste des DMI en dotation du service audité si dotation effective
A20: art.15 Arrêté du 8 septembre 2021 Les dépôts de dispositifs médicaux implantables sont régis par une convention établie entre le fabricant ou le distributeur, et l’établissement de santé ou l’installation de chirurgie esthétique, en lien avec le pharmacien. * Elle définit les responsabilités et obligations de chaque partie : – celles du fabricant ou du distributeur notamment en termes de mise à disposition des données relatives aux dispositifs médicaux implantables alloués en dépôt nécessaires à l’enregistrement informatique, la mise à jour et l’inventaire du dépôt ; – celles de l’établissement de santé ou de l’installation de chirurgie esthétique notamment concernant les conditions de stockage des dispositifs médicaux implantables alloués en dépôt et les modalités de leur inventaire. * La convention précise également les responsabilités en cas de perte, détérioration ou dépassement de la date d’expiration des dispositifs médicaux implantables. | B20: Conventions de dépôts de DMI du service audité si dépôt(s) effectif(s)
A21: art.15 - arrêté du 8 septembre 2021 Le cadre de santé du service utilisateur ou son équivalent définit, en accord avec le pharmacien : les procédures pour les demandes, la réception, et les conditions de stockage, permettant de sécuriser l’accès et l’utilisation des dispositifs médicaux implantables détenus. | B21: Une procédure documentée (ou instruction) pour les demandes de dispositifs médicaux implantables permettant de sécuriser l’accès et l’utilisation des DMI détenus au sein du service utilisateur
A22: art.15 - arrêté du 8 septembre 2021 Le cadre de santé du service utilisateur ou son équivalent définit, en accord avec le pharmacien : les procédures pour les demandes, la réception, et les conditions de stockage, permettant de sécuriser l’accès et l’utilisation des dispositifs médicaux implantables détenus. | B22: Une procédure documentée (ou instruction) pour la réception de dispositifs médicaux implantables permettant de sécuriser l’accès et l’utilisation des DMI détenus au sein du service utilisateur
... A26: art.15 - arrêté du 8 septembre 2021 Les données de traçabilité doivent être conservées, accessibles et exploitables informatiquement pendant toute la durée prévue à l’article R. 5212-37 du code de la santé publique article R. 5212-37 du code de la santé publique Le représentant légal des établissements de santé, des groupements de coopération sanitaire mentionnés à l'article L. 6133-7 et des établissements de chirurgie esthétique fixe, après avis de la commission médicale d'établissement mentionnée à l'article L. 6144-2 ou de la conférence médicale d'établissement mentionnée à l'article L. 6111-2, la procédure écrite selon laquelle les données nécessaires à l'exercice de la traçabilité sont recueillies, conservées et rendues accessibles. Ces données sont conservées pendant une durée de dix ans. Cette durée est portée à quarante ans pour les dispositifs médicaux incorporant une substance qui, si elle est utilisée séparément, est susceptible d'être considérée comme un médicament dérivé du sang. | B26: Procédure écrite selon laquelle les données nécessaires à l'exercice de la traçabilité sont recueillies, conservées et rendues accessibles.

Sheet Enregistrement des données
A1: Référentiels | B1: Thème | C1: Élément enregistré | D1: Réponse | F1: Commentaires éventuels de l'établissement audité
D2: Activité 1 (la + volumineuse) | E2: Activité 2 (laissée au libre choix de l'établissement audité) | H2: pts Act 1 | I2: pts Act 2
A3: Art.15 - arrêté du 8 septembre 2021 | B3: DEMANDE | C3: L’identifiant unique propre au modèle du dispositif (IUD-ID) si disponible | G3: DEMANDE | H3: =IF(D3<>"",VLOOKUP(D3,Tableau1[],2,0),"") | I3: =IF(E3<>"",VLOOKUP(E3,Tableau1[],2,0),"")
A4: Art.15 - arrêté du 8 septembre 2021 | B4: DEMANDE | C4: Nom ou dénomination commerciale du dispositif selon la nomenclature de référence en vigueur | G4: DEMANDE | H4: =IF(D4<>"",VLOOKUP(D4,Tableau1[],2,0),"") | I4: =IF(E4<>"",VLOOKUP(E4,Tableau1[],2,0),"")
A5: Art.15 - arrêté du 8 septembre 2021 | B5: DEMANDE | C5: Nom du fabricant et, le cas échéant, de son mandataire | G5: DEMANDE | H5: =IF(D5<>"",VLOOKUP(D5,Tableau1[],2,0),"") | I5: =IF(E5<>"",VLOOKUP(E5,Tableau1[],2,0),"")
A6: Art.15 - arrêté du 8 septembre 2021 | B6: DEMANDE | C6: Référence ou numéro dans le catalogue du fabricant | G6: DEMANDE | H6: =IF(D6<>"",VLOOKUP(D6,Tableau1[],2,0),"") | I6: =IF(E6<>"",VLOOKUP(E6,Tableau1[],2,0),"")
A7: Art.15 - arrêté du 8 septembre 2021 | B7: DEMANDE | C7: Dimensions cliniques (dont le volume, la longueur, le calibre, le diamètre) prévues | G7: DEMANDE | H7: =IF(D7<>"",VLOOKUP(D7,Tableau1[],2,0),"") | I7: =IF(E7<>"",VLOOKUP(E7,Tableau1[],2,0),"")
A8: Art.15 - arrêté du 8 septembre 2021 | B8: DEMANDE | C8: Le cas échéant, le nom du distributeur et la référence ou le numéro dans le catalogue du distributeur | G8: DEMANDE | H8: =IF(D8<>"",VLOOKUP(D8,Tableau1[],2,0),"") | I8: =IF(E8<>"",VLOOKUP(E8,Tableau1[],2,0),"")
A9: Art.15 - arrêté du 8 septembre 2021 | B9: DEMANDE | C9: Quantité nécessaire | G9: DEMANDE | H9: =IF(D9<>"",VLOOKUP(D9,Tableau1[],2,0),"") | I9: =IF(E9<>"",VLOOKUP(E9,Tableau1[],2,0),"")
A10: Art.15 - arrêté du 8 septembre 2021 | B10: DEMANDE | C10: Date de la commande | G10: DEMANDE | H10: =IF(D10<>"",VLOOKUP(D10,Tableau1[],2,0),"") | I10: =IF(E10<>"",VLOOKUP(E10,Tableau1[],2,0),"")
A11: Art.15 - arrêté du 8 septembre 2021 | B11: DEMANDE | C11: Si demande exceptionnelle (= hors liste des DMI référencés au sein de l'établissement) ou hors dotation du service, la date prévue de l’utilisation | G11: DEMANDE | H11: =IF(D11<>"",VLOOKUP(D11,Tableau1[],2,0),"") | I11: =IF(E11<>"",VLOOKUP(E11,Tableau1[],2,0),"")
A12: Art.15 - arrêté du 8 septembre 2021 | B12: DEMANDE | C12: Si demande exceptionnelle (= hors liste des DMI référencés au sein de l'établissement) ou hors dotation du service, les données relatives à l’identification du service utilisateur | G12: DEMANDE | H12: =IF(D12<>"",VLOOKUP(D12,Tableau1[],2,0),"") | I12: =IF(E12<>"",VLOOKUP(E12,Tableau1[],2,0),"")
A13: Art.15 - arrêté du 8 septembre 2021 | B13: DEMANDE | C13: Si demande exceptionnelle (= hors liste des DMI référencés au sein de l'établissement) ou hors dotation du service, les données relatives à l'identité du demandeur, et notamment ses nom, prénom, profession et son identifiant au « Répertoire partagé des professionnels intervenant dans le système de santé » (RPPS) | G13: DEMANDE | H13: =IF(D13<>"",VLOOKUP(D13,Tableau1[],2,0),"") | I13: =IF(E13<>"",VLOOKUP(E13,Tableau1[],2,0),"")
A14: Art.15 - arrêté du 8 septembre 2021 | B14: DEMANDE | C14: Si demande exceptionnelle (= hors liste des DMI référencés au sein de l'établissement) ou hors dotation du service, les données relatives à l'identification du service utilisateur | G14: DEMANDE | H14: =IF(D14<>"",VLOOKUP(D14,Tableau1[],2,0),"") | I14: =IF(E14<>"",VLOOKUP(E14,Tableau1[],2,0),"")
... A48: Article 18 règlement (EU) 2017/740 Art.15 - arrêté du 8 septembre 2021 | B48: INFORMATION PATIENT | C48: Toute autre information destinée à garantir l'utilisation sûre du dispositif par le patient, notamment les informations figurant dans la notice d'utilisation (ex : les informations quantitatives et qualitatives générales sur les matériaux et substances auxquels les patients sont susceptibles d'être exposés) | G48: INFORMATION PATIENT | H48: =IF(D48<>"",VLOOKUP(D48,Tableau1[],2,0),"") | I48: =IF(E48<>"",VLOOKUP(E48,Tableau1[],2,0),"")

Sheet Encadrement-instances
A1: Référentiels | B1: Thème | C1: Mode d'évaluation | D1: Référence | E1: Libellé du critère | F1: Réponse | G1: Cotation | H1: Commentaires auditeurs | I1: Précisions et attendus | J1: Commentaires éventuels de l'établissement audité
A2: Art.5 et 7 - arrêté du 8 septembre 2021 | B2: GOUVERNANCE | C2: Entretien | D2: A1 | E2: La direction a-t-elle établi une politique qualité et sécurité spécifique du circuit des DMI conjointement avec le président de la commission médicale d’établissement ou de la conférence médicale d’établissement? | G2: =IF(F2="Oui",1,IF(F2="Non",0,IF(F2="En cours",0.5,IF(F2="Non applicable",0,"")))) | I2: Document disponible : Politique qualité La direction établit la politique de la qualité, en fixe les objectifs et le calendrier, et assure le suivi de sa mise en œuvre. Pour les établissements de santé, la politique de la qualité est établie conjointement avec le président de la commission médicale d'établissement (CME) ou de la conférence médicale d'établissement (CfME).
A3: Art.5 - arrêté du 8 septembre 2021 | B3: GOUVERNANCE | C3: Entretien | D3: A2 | E3: Les actions d’amélioration de la qualité et de la gestion des risques en lien avec le circuit des DMI sont-elles intégrées au programme d'actions d'amélioration continue de la qualité, de la pertinence et de la sécurité des soins, planifiées et assorties d'indicateurs de suivi? | G3: =IF(F3="Oui",1,IF(F3="Non",0,IF(F3="En cours",0.5,IF(F3="Non applicable",0,"")))) | I3: Les objectifs de la qualité et de la sécurisation du circuit des dispositifs médicaux implantables sont assortis d'indicateurs de suivi. Au sein d'un établissement de santé, ces objectifs sont définis dans le programme d'actions mentionné aux articles L. 6144-1 et L. 6161-2-2 du code de la santé publique.
A4: Art.6 et 13 - arrêté du 8 septembre 2021 | B4: GOUVERNANCE | C4: Entretien | D4: A3 | E4: Un bilan annuel des actions d'amélioration mises en œuvre et l'évaluation de leur efficacité est-il présenté à la commission médicale d'établissement ou à la conférence médicale d'établissement? | G4: =IF(F4="Oui",1,IF(F4="Non",0,IF(F4="En cours",0.5,IF(F4="Non applicable",0,"")))) | I4: Pour les établissements de santé, le bilan annuel des actions d'amélioration mises en œuvre et l'évaluation de leur efficacité sont présentés à la commission médicale d'établissement ou à la conférence médicale d'établissement. Ce bilan est pris en compte pour l'élaboration du programme d'actions mentionné aux articles L. 6144-1 et L. 6161-2-2 du code de santé publique. Le RSMQ-DMI rend compte du fonctionnement du système de management de la qualité et de tout besoin d'amélioration à la direction et, le cas échéant, à la commission médicale d'établissement ou à la conférence médicale d'établissement annuellement. Documents disponibles : Echéancier de réalisation des actions d’amélioration en lien avec la déclaration des évènements indésirables Bilan annuel des actions d'amélioration
A5: article R. 5212-12 du code de la santé publique | B5: GOUVERNANCE | C5: Entretien | D5: A4 | E5: La direction a-t-elle désigné un correspondant local de matériovigilance après avis du président de la commission médicale d'établissement ou de la conférence médicale d'établissement? | G5: =IF(F5="Oui",1,IF(F5="Non",0,IF(F5="En cours",0.5,IF(F5="Non applicable",0,"")))) | I5: Tout établissement de santé ou groupement de coopération sanitaire qui utilise ou délivre des dispositifs médicaux ou met de tels dispositifs à la disposition de ses membres désigne un correspondant local de matériovigilance
A6: Art.6 - arrêté du 8 septembre 2021 | B6: GOUVERNANCE | C6: Entretien | D6: A5 | E6: La direction a-t-elle désigné un responsable du système de management de la qualité du circuit des DMI (RSMQ-DMI) après avis du président de la commission médicale d'établissement ou de la conférence médicale d'établissement? | G6: =IF(F6="Oui",1,IF(F6="Non",0,IF(F6="En cours",0.5,IF(F6="Non applicable",0,"")))) | I6: Document disponible : PV ou CR de la CME/CfME relatif à la désignation du responsable du système de management de la qualité du circuit des DMI (RSMQ-DMI)
A7: Art.6, 8 et 10 - arrêté du 8 septembre 2021 | B7: GOUVERNANCE | C7: Entretien | D7: A6 | E7: La direction a-t-elle définie, formalisée et communiquée les responsabilités, les autorités, les rôles et les délégations de responsabilités à toutes les étapes du circuit des DMI ? | G7: =IF(F7="Oui",1,IF(F7="Non",0,IF(F7="En cours",0.5,IF(F7="Non applicable",0,"")))) | I7: Documents disponibles : Description du processus constituant le circuit des dispositifs médicaux implantables (DMI) et leur interaction sous forme de procédure ou schéma opérationnel Organigramme Procédures et Modes opératoires intégrant les différentes responsabilités Fiche de poste du RSMQ-DMI
A8: Art.15 - arrêté du 8 septembre 2021 | B8: GOUVERNANCE | C8: Entretien | D8: A7 | E8: En cas de dépôt de DMI constitué(s) au sein des services utilisateurs, une convention définit-elle systématiquement les responsabilités et obligations de chaque partie établie entre fabricant et établissement, en lien avec le pharmacien? | G8: =IF(F8="Oui",1,IF(F8="Non",0,IF(F8="En cours",0.5,IF(F8="Non applicable",0,""))))
A9: Art.15 - arrêté du 8 septembre 2021 | B9: GOUVERNANCE | C9: Entretien | D9: A8 | E9: Une copie des conventions (établies entre le fabricant ou le distributeur et l’établissement de santé en lien avec le pharmacien) pour le(s) dépôt(s) des DMI constitué au sein des services utilisateurs est-elle systématiquement remise au pharmacien ? | G9: =IF(F9="Oui",1,IF(F9="Non",0,IF(F9="En cours",0.5,IF(F9="Non applicable",0,""))))
