Workbook
Name _Toc302132700: Questionnaire!#REF!
Name _Toc318991774: Questionnaire!#REF!
Name Activites: #REF!
Name Permanence: #REF!

Sheet Methodologie
A9: Audits outils d’auto diagnostiques des risques liés au circuit du médicament en EHPAD | B9: > Processus Dispensation et Logistique Pharmaceutique
A11: Méthodologie
A12: Cet audit est à rapprocher de la grille d'audit croisé du circuit des médicaments en EHPAD
A14: Professionnels concernés : Médecin coordonnateur, médecin traitant, pharmacien, cadre de soins, infirmier, responsable qualité Les médecins traitants et pharmaciens seront associés à l'audit. Les résultats d'audit leur seront transmis.
A16: 1. Tirage au sort des dossiers résidents
A17: Minimum de 10 dossiers tirés au sort de résidents de l’EHPAD, admis dans l’EHPAD depuis plus de 3 mois
A19: 2. Modalités de saisie et d’analyse
A20: En fonction de la présence des données précisées pour chacun des items, les réponses seront mentionnées dans les cases « conforme », « non conforme », « partiellement conforme » et non adapté ».
A21: Les réponses seront à rapprocher des items
A23: a. Dossier médical
A25: Item 1 : Informatisation du dossier médical
A26: H1: Le dossier médical est informatisé dans sa totalité
A27: Conforme : dossier médical informatisé dans sa totalité
... A111: Non conforme : pas d’adéquation entre la prescription et le support d’administration ET pas de justification tracée

Sheet Informations générales
A9: Audits outils d’auto diagnostiques des risques liés au circuit du médicament en EHPAD
A11: Informations générales
A13: Date : (xx/xx/20xx)
A15: Nom de l'établissement :
A18: Identification du Service * :
A20: * A renseigner impérativement pour permettre la synthèse des auto-évaluations

Sheet Questionnaire
A9: Grille de saisie des résultats par dossier
A10: >>Votre Grille d'autoévaluation | G10: Mettre "1" dans la case correspondante
A12: DOSSIER | C12: ITEM 1 Information du dossier médical | G12: ITEM 2 Troubles de la déglutition | K12: ITEM 3 Poids du résident | O12: ITEM 4 Fonction rénale | S12: ITEM 5 Autonomie du résident | W12: ITEM 6 Réévaluation des traitements neuroleptiques | AA12: ITEM 7 Informatisation du dossier de soin | AE12: ITEM 8 La (les) prescription(s) | AI12: ITEM 9 Prescription en DCI | AM12: ITEM 10 Benzodiazépine | AQ12: ITEM 11 Neuroleptiques et autrs psychotropes | AU12: ITEM 12 Traçabilité de l'administration
C15: C | D15: PC | E15: NC | F15: NA | G15: C | H15: PC | I15: NC | J15: NA | K15: C | L15: PC | M15: NC | N15: NA | O15: C | P15: PC | Q15: NC | R15: NA | S15: C | T15: PC | U15: NC | V15: NA | W15: C | X15: PC | Y15: NC | Z15: NA | AA15: C | AB15: PC | AC15: NC | AD15: NA | AE15: C | AF15: PC | AG15: NC | AH15: NA | AI15: C | AJ15: PC | AK15: NC | AL15: NA | AM15: C | AN15: PC | AO15: NC | AP15: NA | AQ15: C | AR15: PC | AS15: NC | AT15: NA | AU15: C | AV15: PC | AW15: NC | AX15: NA
A16: 1
A17: 2
A18: 3
A19: 4
A20: 5
A21: 6
A22: 7
A23: 8
A24: 9
A25: 10
A26: 11
A27: 12
... A45: 30
A47: POURCENTAGE CONFORMITE | C47: ITEM 1 | G47: ITEM 2 | K47: ITEM 3 | O47: ITEM 4 | S47: ITEM 5 | W47: ITEM 6 | AA47: ITEM 7 | AE47: ITEM 8 | AI47: ITEM 9 | AM47: ITEM 10 | AQ47: ITEM 11 | AU47: ITEM 12
C48: =(SUM(C16:C45)+SUM(D16:D45)/2+SUM(F16:F45))/SUM(C16:F45) -> #DIV/0! | G48: =(SUM(G16:G45)+SUM(H16:H45)/2+SUM(J16:J45))/SUM(G16:J45) -> #DIV/0! | K48: =(SUM(K16:K45)+SUM(L16:L45)/2+SUM(N16:N45))/SUM(K16:N45) -> #DIV/0! | O48: =(SUM(O16:O45)+SUM(P16:P45)/2+SUM(R16:R45))/SUM(O16:R45) -> #DIV/0! | S48: =(SUM(S16:S45)+SUM(T16:T45)/2+SUM(V16:V45))/SUM(S16:V45) -> #DIV/0! | W48: =(SUM(W16:W45)+SUM(X16:X45)/2+SUM(Z16:Z45))/SUM(W16:Z45) -> #DIV/0! | AA48: =(SUM(AA16:AA45)+SUM(AB16:AB45)/2+SUM(AD16:AD45))/SUM(AA16:AD45) -> #DIV/0! | AE48: =(SUM(AE16:AE45)+SUM(AF16:AF45)/2+SUM(AH16:AH45))/SUM(AE16:AH45) -> #DIV/0! | AI48: =(SUM(AI16:AI45)+SUM(AJ16:AJ45)/2+SUM(AL16:AL45))/SUM(AI16:AL45) -> #DIV/0! | AM48: =(SUM(AM16:AM45)+SUM(AN16:AN45)/2+SUM(AP16:AP45))/SUM(AM16:AP45) -> #DIV/0! | AQ48: =(SUM(AQ16:AQ45)+SUM(AR16:AR45)/2+SUM(AT16:AT45))/SUM(AQ16:AT45) -> #DIV/0! | AU48: =(SUM(AU16:AU45)+SUM(AV16:AV45)/2+SUM(AX16:AX45))/SUM(AU16:AX45) -> #DIV/0!
A51: C | C51: Conforme
A52: PC | C52: Partiellement conforme
A53: NC | C53: Non-conforme
A54: NA | C54: Non applicable

Sheet Synthèse
A9: Audits outils d’auto diagnostiques des risques liés au circuit du médicament en EHPAD
A10: >> Votre résultat d'autoévaluation | B10: =B74 -> #DIV/0!
A13: Etablissement : | B13: ='Informations générales'!D15 -> 0
A14: Identification du Service : | B14: ='Informations générales'!D18 -> 0
A15: Date : | B15: ='Informations générales'!D13 -> 0
B49: conformité
A50: Item 1 : Informatisation du dossier médical | B50: =Questionnaire!C48 -> #DIV/0!
A52: Item 2: Troubles de la déglutition | B52: =Questionnaire!G48 -> #DIV/0!
A54: Item 3 : Poids du résident | B54: =Questionnaire!K48 -> #DIV/0!
A56: Item 4 : Fonction rénale | B56: =Questionnaire!O48 -> #DIV/0!
A58: Item 5 : Autonomie du résident | B58: =Questionnaire!S48 -> #DIV/0!
A60: Item 6 : Réévaluation des traitements - neuroleptiques | B60: =Questionnaire!W48 -> #DIV/0!
A62: Item 7 : Informatisation du dossier de soin | B62: =Questionnaire!AA48 -> #DIV/0!
A64: Item 8 : La (les) prescription(s) | B64: =Questionnaire!AE48 -> #DIV/0!
A66: Item 9 : Prescription en DCI | B66: =Questionnaire!AI48 -> #DIV/0!
A68: Item 10 : Benzodiazépine | B68: =Questionnaire!AM48 -> #DIV/0!
A70: Item 11 : Neuroleptiques et autres psychotropes | B70: =Questionnaire!AQ48 -> #DIV/0!
A72: Item 12 : traçabilité de l’administration : | B72: =Questionnaire!AU48 -> #DIV/0!
A74: Pourcentage de conformité globale sur le processus | B74: =(SUM(Questionnaire!C16:C45,Questionnaire!G16:G45,Questionnaire!K16:K45,Questionnaire!O16:O45,Questionnaire!S16:S45,Questionnaire!W16:W45,Questionnaire!AA16:AA45,Questionnaire!AE16:AE45,Questionnaire!AI16:AI45,Questionnaire!AM16:AM45,Questionnaire!AQ16:AQ45,Questionnaire!AU16:AU45)+SUM(Questionnaire!T16:T45,Questionnaire!L16:L45,Questionnaire!P16:P45,Questionnaire!X16:X45,Questionnaire!AJ16:AJ45)/2)/SUM(Questionnaire!C16:E45,Questionnaire!G16:I45,Questionnaire!K16:M45,Questionnaire!O16:Q45,Questionnaire!S16:U45,Questionnaire!W16:Y45,Questionnaire!AA16:AC45,Questionnaire!AE16:AG45,Questionnaire!AI16:AK45,Questionnaire!AM16:AO45,Questionnaire!AQ16:AS45,Questionnaire!AU16:AW45) -> #DIV/0!
