Workbook
Name choix1: 'Valid données'!$A$1:$A$2
Name choix2: 'Valid données'!$B$1:$B$3
Name choix3: 'Valid données'!$C$1:$C$4
Name choix4: 'Valid données'!$D$1:$D$5
Name choix5: 'Valid données'!$E$1:$E$3
Name COTA: #REF!
Name RéfN4: [1]Réf!$B$100:$F$331

Sheet Lisez-moi
B2: Evaluation de la prise en charge médicamenteuse en HAD
B3: Cette grille doit impérativement être enregistrée au format excel (xls ou xlsx).
B4: Avant propos
B5: Les structures d'hospitalisation à domicile sont soumises aux mêmes exigences que les établissements de santé sur la cadre réglementaire relatif à l'amélioration continue de la qualité et de la sécurité des soins : - Le contrat d'amélioration de la qualité et de l'efficience des soins (CAQES) - La certification HAS "démarche de qualité de la prise en charge médicamenteuse" Le processus de prise en charge en HAD est caractérisé par la multiplicité des étapes de la prise en charge et un nombre d'interfaces important. La pluri-disciplinarité et la coordination entre les acteurs sont souvent complexes. La structure fait intervenir des professionnels hospitaliers et libéraux et est rattachée à une pharmacie à usage intérieure ou une pharmacie d'officine par convention. Les prises en charge peuvent être associées à l'utilisation de médicaments à hauts risques (stupéfiants, chimiothérapies anti-cancéreuses, gaz médicaux...) et impliquent un stockage au domicile du patient. La nécessité d'une organisation bien définie afin de sécuriser la prise en charge médicamenteuse s'impose dans ces structures où chaque étape est associée à un potentiel risque d'erreurs médicamenteuses. La iatrogénie médicamenteuse est à l'origine de 10 000 décès et 130 000 hospitalisations par an en France. L'OMéDIT Normandie et le Qual'va vous proposent un outil permettant d'identifier les risques associés à chaque étape de la prise en charge médicamenteuse en HAD selon le modèle du parcours patient : bilan d'entrée, prescription, dispensation, préparation et administration du médicament au domicile, stockage et bilan de sortie. Il propose également un entretien avec le patient pour s'assurer au plus près du terrain de la compréhension des patients. Il se présente sous la forme d’un audit croisé inter-structures de la prise en charge médicamenteuse sur le secteur HAD et permet de renforcer le rôle et l'implication de chaque professionnel dans la qualité de la prise en charge médicamenteuse en incluant le patient comme acteur de sa prise en charge. Les critères présents dans cet audit ont été constitués selon les exigences de la certification v2020.
B7: Objectifs de l'outil : - réaliser une cartographie des risques sur l'organisation de votre structure, - identifier des points forts et des axes de progrès afin de sécuriser le processus et d'élaborer un plan d'actions d'améliorations personnalisé. L’objectif de l'audit croisé est de : - favoriser l’échange d’expérience dans les domaines de la qualité et de la gestion des risques entre les établissements et les professionnels de santé, - réaliser un état des lieux de la prise en charge médicamenteuse au sein des établissements, - intégrer le patient dans cette démarche.
B9: Mode d'emploi
B10: Documents mis à disposition = kit audité auditeur : Protocole d’audit Fiche signalétique Grille d’audit Programme de la journée Check-list Préparation de l’établissement audité Fiche pratique pour l’auditeur Charte de l'auditeur Notice d'information patient Receuil de consentement Feuille d'émargement
B12: Informations générales : Les auditeurs commencent par remplir les données dans "Informations générales".
B14: Grilles : Cette évaluation s'adresse aux structures d'HAD rattachées ou non à une PUI. L'outil comprend 2 grilles : • 1ère grille en "Auto évaluation" : La structure complète cette partie en présence des interlocuteurs identifiés en amont du passage des auditeurs externes. Les auditeurs pourront vérifier la cohérence de certains points de la partie auto évaluation à leur guise. Elle comprend 4 parties : - Management de la qualité de la prise en charge médicamenteuse - Gestion des erreurs médicamenteuses - Informatisation - Formation et sensibilisation
B15: • 2ème grille « Audit croisé » : Cette partie est remplie par un binôme d'auditeurs externes à la structure. Il est conseillé de rester le plus possible en binôme pour l'audit mais certaines parties peuvent être effectuée de façon individuel en fonction du programme de la journée. Elle comprend 7 parties : - Bilan d’admission - Prescriptions - Dispensation à la pharmacie : passage des auditeurs externes à la pharmacie - Domicile du patient : Administration et suivi thérapeutique (préparation, administration, élimination des médicaments) - Logistique : stockage à la structure HAD ou au domicile - Organisation - Bilan de sortie
B16: Situations à risque : L'audit inclue également des critères faisant référence à des situations à risque concernant l'utilisation de certains médicaments afin d'en évaluer la mise en oeuvre réelle sur le terrain. Ces critères sont représentatifs du circuit du médicament et des produits de santé de certaines prises en charge à haut risque en HAD qui peuvent être révélateurs d'un défaut de processus et qui doivent être sécurisés de façon pioritaires pour la prise en chage du patient. Au total, quatre situations ciblées ont été choisis :
B17: La prise en charge médicamenteuse via une analgésie controlée par le patient, nommé "PCA" dans la grille et repéré par une couleur rose
... B69: Bonnes pratiques de perfusion, module "Analgésie contrôlée par le patient", OMéDIT Centre et haute Normandie, 2013

Sheet Informations générales
B6: Evaluation de la prise en charge médicamenteuse en HAD
B8: Informations générales
B10: Nom de l'HAD :
B12: Date de l'audit en autoévaluation : (xx/xx/20xx)
B14: Date de l'audit croisé: (xx/xx/20xx)
B16: Nom des auditeurs :

Sheet Grille autoévaluation
A3: Grille d'auto-évaluation de la prise en charge médicamenteuse en HAD
A4: N° | B4: Traceur ciblé | C4: Critères | D4: Oui En grande partie Partiellement/ Non/ +/- Non applicable | E4: Interlocuteurs | F4: Eléments de preuve | G4: Commentaires
A5: MANAGEMENT DE LA QUALITE DE LA PRISE EN CHARGE MEDICAMENTEUSE | I5: =COUNTA(C6:C22)-COUNTIF(D6:D22,"NA")-COUNTIF(D6:D22,"") -> 0
A6: 1 | C6: Il existe une politique d'amélioration de la qualité et de la sécurité de la prise en charge médicamenteuse | E6: Direction RSMQPECM | F6: *Politique institutionnelle formalisée ou indication de la politique dans le manuel qualité de la PECM/ projet d'établissement *Engagement du représentant légal de l'établissement *Engagement du président de CME/CfME *Dispositions spécifiques à l'HAD (pour les HAD rattachées à un établissement) | H6: =IF(D6="Oui",1,IF(D6="Non",0,IF(D6="en grande partie",0.75,IF(D6="Partiellement",0.25,0)))) -> 0
A7: 2 | C7: Des indicateurs sont définis et suivis, en lien avec la politique et la gestion des risques de la PECM de la structure | E7: Direction Responsable PECM RSMQPECM | F7: *Indicateurs enregistrés et suivis *Compte qualité ou CAQES mis à jour | H7: =IF(D7="Oui",1,IF(D7="Non",0,IF(D7="en grande partie",0.75,IF(D7="Partiellement",0.25,0)))) -> 0
A8: 3 | C8: Les responsabilités et le rôle de chaque acteur dans la prise en charge du patient sont formalisés y compris les collaborations avec les professionnels libéraux | E8: Direction RSMQPECM | F8: *Manuel qualité de la PECM *Procédure circuit du médicament spécifique HAD (pour les HAD rattachées à un établissement) précisant notament les coopérations /collaborations entre IDE/AS sur l'aide à la prise par l'aide soignant '*Accords signés pour les médecins *Conventions types (EHPAD, SSIAD) * Tableau de suivi des conventions avec officines | H8: =IF(D8="Oui",1,IF(D8="Non",0,IF(D8="en grande partie",0.75,IF(D8="Partiellement",0.25,0)))) -> 0
A9: 4 | C9: Les missions du responsable de management de la qualité de la PECM sont définies | E9: Direction RSMQPECM | F9: *Fiche de mission du RSMQ (si structure) ou référent qualité (si pharmacie d'officine conventionnée) | H9: =IF(D9="Oui",1,IF(D9="Non",0,IF(D9="en grande partie",0.75,IF(D9="Partiellement",0.25,0)))) -> 0
A10: 5 | C10: L'HAD organise ou participe régulièrement à des réunions de coordination impliquant tous les partenaires | E10: Direction RSMQPECM | F10: *CR des réunions de coordination / COMEDIMS / sous-commissions spécifiques | H10: =IF(D10="Oui",1,IF(D10="Non",0,IF(D10="en grande partie",0.75,IF(D10="Partiellement",0.25,0)))) -> 0
A11: 6 | C11: Il existe une cartographie des risques à toutes les étapes de la prise en charge médicamenteuse et sur les dispositifs médicaux | E11: RSMQPECM | F11: *Cartographie des risques liés à la prise en charge médicamenteuse et/ou Interdiag et/ou Analyse processus Dispositifs médicaux : (stockage, transport, désinfection, maintenance , sécurisation …) Etapes La prescription (y compris la gestion du traitement personnel à l'admission et à la prescription de sortie) La dispensation La préparation L'approvisionnement La détention et le stockage au sein de la PUI et au domicile Le transport L'information du patient L'administration / L'auto-gestion La surveillance du patient | H11: =IF(D11="Oui",1,IF(D11="Non",0,IF(D11="en grande partie",0.75,IF(D11="Partiellement",0.25,0)))) -> 0
A12: 7 | C12: L'HAD a identifié des médicaments à risque, des situations à risque et des patients à risque et mis en place des dispositions spécifiques de prescription / gestion / préparation / administration et d'identification | E12: RSMQPECM | F12: *Identification et organisation spécifique pour des catégories de patients à risques spécifique HAD : âge > 75 ans, patient polymédiqué, dénutri, insuffisant rénal, insuffisant hépatique, insuffisant cardiaque... *Exemples de situations à risque : patient seul au domicile, conjoint dément, conditions d'hébergements précaires, animaux au domicile, difficultés d'accès au domicile, problèmes sociaux économiques... *Exemples de médicaments à risque : chimiothérapies orales et injectables, anticoagulants, chlorure de potassium injectable, méthotrexate oral, insuline, gaz à usage médical (médicaments à marge thérapeutique étroite ou inhabituel)... * Protocoles spécifiques de prise en charge | H12: =IF(D12="Oui",1,IF(D12="Non",0,IF(D12="en grande partie",0.75,IF(D12="Partiellement",0.25,0)))) -> 0
A13: 8 | C13: L'HAD met à disposition des outils actualisés et validés sur le médicament pour les professionnels | E13: Direction RSMQPECM | F13: *Accès à au moins une des bases de données sur les médicaments agréée par le HAS (Base Vidal, Base Thériaque, Base Thésorimed, Base Claude Bernard...) *Liste des médicaments à ne pas écraser et gélules à ne pas ouvrir *Autre : document, outil informatique - guide d'usage d'équipement - précautions d'usage des fluides médicaux - grilles / check list pour sécurisation de préparation/administration '*Modalités de mise à disposition à domicile | H13: =IF(D13="Oui",1,IF(D13="Non",0,IF(D13="en grande partie",0.75,IF(D13="Partiellement",0.25,0)))) -> 0
A14: 9 | B14: CHIMIO | C14: Il existe un protocole sur les chimiothérapies anti-cancéreuses injectables et orales en HAD | E14: RSMQPECM | F14: *Rreprend la prescription, le transport, la préparation, la manipulation, l'administration, la surveillance, l'élimination et les conduites à tenir en cas d'évènements ou d'effets indésirables liées à la manipulation et à l'administration de chimiothérapies anti-cancéreuses y compris en cas de casses, fuites... Guide : remplir "NA" si jamais de prise en charge de patients sous chimiothérapies anti-cancéreuses dans l'HAD | H14: =IF(D14="Oui",1,IF(D14="Non",0,IF(D14="en grande partie",0.75,IF(D14="Partiellement",0.25,0)))) -> 0
A15: 10 | B15: STUP | C15: Il existe un protocole sur les stupéfiants en HAD | E15: RSMQPECM | F15: *Reprend la prescription, la préparation, le transport, l'administration, le stockage au domicile du patient (malette sécurisée) et les conduites à tenir en cas d'évènements ou d'effets indésirables liées aux stupéfiants… | H15: =IF(D15="Oui",1,IF(D15="Non",0,IF(D15="en grande partie",0.75,IF(D15="Partiellement",0.25,0)))) -> 0
A16: 11 | B16: PCA | C16: Il existe un protocole sur l'utilisation des PCA en HAD | E16: RSMQPECM | F16: *Reprend la table d'équianalgésie des morphiniques forts, la CAT en cas d'effets secondaires, le protocole de PEC de surdosage aux opiacés, le protocole antidote "Naloxone"… | H16: =IF(D16="Oui",1,IF(D16="Non",0,IF(D16="en grande partie",0.75,IF(D16="Partiellement",0.25,0)))) -> 0
A17: 12 | B17: MEOPA | C17: Il existe un protocole pour l'utilisation du MEOPA | E17: RSMQPECM | F17: *Reprend la prescription, le transport, l'administration, le stockage au domicile du patient, les éléments de surveillance et les conduites à tenir en cas d'évènements ou d'effets indésirables Guide : Remplir "NA" si jamais de prise en charge de patients sous MEOPA dans l'HAD | H17: =IF(D17="Oui",1,IF(D17="Non",0,IF(D17="en grande partie",0.75,IF(D17="Partiellement",0.25,0)))) -> 0
A18: 13 | C18: Il existe une conduite à tenir en cas d'urgence liée à la prise en charge médicamenteuse | E18: RSMQPECM | F18: *Document qualité actualisé et validé régulièrement *Rôle de chaque professionnel *ex : : détresse respiratoire sous opiacé, médicaments à risque et antidotes… | H18: =IF(D18="Oui",1,IF(D18="Non",0,IF(D18="en grande partie",0.75,IF(D18="Partiellement",0.25,0)))) -> 0
A19: 14 | C19: Un outil de coordination est mis à disposition à l'ensemble des professionnels en charge du patient | E19: Direction RSMQPECM | F19: *réunions pluri-professionnelles, dossier commun, messagerie sécurisée, plateforme dédiée, logiciel commun… *Tous les professionnels, médecin traitant, médecin coordonnateur, IDE cpordonnateur, IDE libéral, pharmacien, préparateur en pharmacie (professionnels hospitaliers ou libéraux)… | H19: =IF(D19="Oui",1,IF(D19="Non",0,IF(D19="en grande partie",0.75,IF(D19="Partiellement",0.25,0)))) -> 0
A20: 15 | C20: Les modalités de communication entre le médecin traitant et le médecin coordonnateur sont définies | E20: Médecin coordonnateur Médecin traitant RSMQPECM | F20: *dossier commun, messagerie sécurisée, logiciel commun… | H20: =IF(D20="Oui",1,IF(D20="Non",0,IF(D20="en grande partie",0.75,IF(D20="Partiellement",0.25,0)))) -> 0
A21: 16 | C21: Une procédure décrit les modalités d'organisation de la prescription entre le médecin traitant et le médecin coordonnateur | E21: Médecin coordonnateur Médecin traitant RSMQPECM | F21: *Procédure existante et médecin traitant informé | H21: =IF(D21="Oui",1,IF(D21="Non",0,IF(D21="en grande partie",0.75,IF(D21="Partiellement",0.25,0)))) -> 0
A22: 17 | C22: Un dispositif de sensibilisation aux interruptions de tâches lors de la prise en charge médicamenteuse lors de la préparation des médicaments est déployé dans la structure | E22: Direction RSMQPECM | F22: *Documents présentant le dispositif en place (compte-rendus de réunions, feuilles d'émargement des sensibilisations, diaporamas de sensibilisation, résultats d'audits, etc…), locaux et temps dédiés (salle de préparation des PCA) | H22: =IF(D22="Oui",1,IF(D22="Non",0,IF(D22="en grande partie",0.75,IF(D22="Partiellement",0.25,0)))) -> 0
A23: GESTION DES ERREURS MEDICAMENTEUSES | I23: =COUNTA(C24:C29)-COUNTIF(D24:D29,"NA")--COUNTIF(D24:D29,"") -> 12
A24: 18 | C24: Il existe une charte d'incitation au signalement des erreurs médicamenteuses validée par la structure et connue des professionnels | E24: Direction RSMQPECM | F24: *Charte d'incitation au signalement par la direction et les professionnels | H24: =IF(D24="Oui",1,IF(D24="Non",0,IF(D24="en grande partie",0.75,IF(D24="Partiellement",0.25,0)))) -> 0
A25: 19 | C25: Des réunions d'analyse des erreurs médicamenteuses sont réalisées entre médecins, pharmacien et infirmiers (salariés et libéraux) intervenant dans la prise en charge du patient | E25: RSMQPECM | F25: *CR des CREX (au moins 1 CREX par an) *Pluri disciplinaire : Participation au CREX d'au moins 1 professionnel de chaque métier *Invitation de partenaires libéraux | H25: =IF(D25="Oui",1,IF(D25="Non",0,IF(D25="en grande partie",0.75,IF(D25="Partiellement",0.25,0)))) -> 0
A26: 20 | C26: Les médecins, infirmiers et le pharmacien sont prévenus en cas d'erreurs et destinataires des retours d'expérience suite à l'analyse des EI. | E26: Direction RSMQPECM | F26: Entretien '*Réunions organisées, lettres d'information, autre (préciser) *Actions d'améliorations mises en place et diffusées | H26: =IF(D26="Oui",1,IF(D26="Non",0,IF(D26="en grande partie",0.75,IF(D26="Partiellement",0.25,0)))) -> 0
A27: 21 | C27: Les EIG médicamenteux sont signalés à l'ARS via le portail de signalement des événements sanitaires indésirables (https://signalement.social-sante.gouv.fr/psig_ihm_utilisateurs/index.html#/accueil) | E27: Direction RSMQPECM | F27: *Procédure de signalement des EIG EIG : événement indésirable grave associé à des soins (...) est un événement inattendu au regard de l'état de santé et de la pathologie de la personne et dont les conséquences sont le décès, la mise en jeu du pronostic vital, la survenue probable d'un déficit fonctionnel permanent y compris une anomalie ou une malformation congénitale. | H27: =IF(D27="Oui",1,IF(D27="Non",0,IF(D27="en grande partie",0.75,IF(D27="Partiellement",0.25,0)))) -> 0
A28: 22 | C28: Les effets indésirables médicamenteux sont signalés au Centre Régional de Pharmacovigilance (CRPV) et les prescripteurs sont informés. | E28: Médecin coordonnateur Pharmacien RSMQPECM | F28: *Faire le constat d'exemples de déclarations réalisées au CRPV | H28: =IF(D28="Oui",1,IF(D28="Non",0,IF(D28="en grande partie",0.75,IF(D28="Partiellement",0.25,0)))) -> 0
A29: 23 | C29: Parmi les actions d'amélioration, la structure a priorisé la prévention des "Never Events médicamenteux" | E29: Direction RSMQPECM | F29: *Programme d'actions des never events médicamenteux avec hiérarchisation adaptée aux risques de la structure pour HAD avec PUI, y compris formation (e-learning par exemple) Les Never Events médicamenteux sont répertoriés dans une liste élaborée par l'ANSM et représentent 12 événements indésirables qui ne devraient jamais arriver : https://www.ansm.sante.fr/Dossiers/Securite-du-medicament-a-l-hopital/Les-evenements-qui-ne-devraient-jamais-arriver-Never-Events/(offset)/0 | H29: =IF(D29="Oui",1,IF(D29="Non",0,IF(D29="en grande partie",0.75,IF(D29="Partiellement",0.25,0)))) -> 0
A30: INFORMATISATION | I30: =COUNTA(C31:C33)-COUNTIF(D31:D33,"NA") -> 3
A31: 24 | C31: L'HAD dispose d'un support unique sécurisé par un identifiant et un mot de passe confidentiel et reservé à chaque prescripteur | E31: Direction RSMQPECM | F31: *Logiciel *Protocole de soin, prescription, administration des médicaments *Visualiser l'organisation du système d'informations, la charte informatique | H31: =IF(D31="Oui",1,IF(D31="Non",0,IF(D31="en grande partie",0.75,IF(D31="Partiellement",0.25,0)))) -> 0
A32: 25 | C32: L'HAD met à disposition des moyens dédiés qui permettent de tracer l'administration des médicaments à domicile | E32: Direction RSMQPECM | F32: *Feuille de traçabilité dédiée prescription/administration, systèmes informatiques disponibles pour les professionnels pour la traçabilité en temps réel à domicile | H32: =IF(D32="Oui",1,IF(D32="Non",0,IF(D32="en grande partie",0.75,IF(D32="Partiellement",0.25,0)))) -> 0
A33: 26 | C33: Un protocole décrit la conduite à tenir (procédure dégradée) en cas d'impossibilité d'accéder au logiciel informatique de soins ou de prescription (panne informatique, panne réseau...) et est connu par les professionnels | E33: Direction RSMQPECM | F33: *Document qualité (procédures/protocoles) Guide : remplir "NA" si pas d'utilisation de logiciel | H33: =IF(D33="Oui",1,IF(D33="Non",0,IF(D33="en grande partie",0.75,IF(D33="Partiellement",0.25,0)))) -> 0
A34: FORMATION ET SENSIBILISATION | I34: =COUNTA(C35:C40)-COUNTIF(D35:D40,"NA")-COUNTIF(D35:D40,"") -> 0
A35: 27 | C35: Tous les nouveaux arrivants ont bénéficié d'une formation sur les modalités de la PECM de l'HAD (guide du nouvel arrivant) | E35: Direction RSMQPECM | F35: *Plan de formation des nouveaux arrivants *programme/support des journées d'intégration pour chaque catégorie professionnelle, livret d'accueil disponible *Formation e-learning, orale ou écrite | H35: =IF(D35="Oui",1,IF(D35="Non",0,IF(D35="en grande partie",0.75,IF(D35="Partiellement",0.25,0)))) -> 0
A36: 28 | C36: Une évaluation des connaissances lors de la formation des nouveaux arrivants en HAD est réalisée | E36: Direction RSMQPECM | F36: *Formulaire d'évaluation des connaissances de fin de formation (quiz, …), accompagnement par binome… | H36: =IF(D36="Oui",1,IF(D36="Non",0,IF(D36="en grande partie",0.75,IF(D36="Partiellement",0.25,0)))) -> 0
A37: 29 | C37: Des formations avec une réactualisation régulière des connaissances sont proposées aux professionnels sur la prise en charge médicamenteuse | E37: Direction RSMQPECM | F37: *Plan de formation *Formation continue *Renouvellement des formations au minimum tous les 2 ans *Différents thèmes proposés (hygiène, DASRI, médicaments…) | H37: =IF(D37="Oui",1,IF(D37="Non",0,IF(D37="en grande partie",0.75,IF(D37="Partiellement",0.25,0)))) -> 0
A38: 30 | B38: CHIMIO | C38: L'HAD a organisé la formation et la sensibilisation des professionnels à la manipulation des cytotoxiques injectables et per os | E38: Direction RSMQPECM | F38: *Plan de formation et supports de formation, ateliers pratiques pour la manipulation et la gestion des cytotoxiques *Formation renouvelée a minima tous les 2 ans et actualisée Guide : remplir "NA" si jamais de prise en charge de patients sous chimiothérapies anti-cancéreuses dans l'HAD | H38: =IF(D38="Oui",1,IF(D38="Non",0,IF(D38="en grande partie",0.75,IF(D38="Partiellement",0.25,0)))) -> 0
A39: 31 | B39: PCA | C39: L'HAD a organisé la formation des professionnels à l'utilisation des PCA | E39: Direction RSMQPECM | F39: *Plan de formation et supports de formation, ateliers pratiques pour la manipulation et la gestion des PCA *Formation renouvelée a minima tous les 2 ans et actualisée | H39: =IF(D39="Oui",1,IF(D39="Non",0,IF(D39="en grande partie",0.75,IF(D39="Partiellement",0.25,0)))) -> 0
A40: 32 | B40: MEOPA | C40: L'HAD a organisé la formation et la sensibilisation des professionnels à l'utilisation du MEOPA | E40: Direction RSMQPECM | F40: *Plan de formation et supports de formation à la manipulation des bouteilles de MEOPA *Formation renouvelée a minima tous les 2 ans et actualisée *Pas d'administration par du personnel non formé Guide : Remplir "NA" si jamais de prise en charge de patients sous MEOPA dans l'HAD | H40: =IF(D40="Oui",1,IF(D40="Non",0,IF(D40="en grande partie",0.75,IF(D40="Partiellement",0.25,0)))) -> 0

Sheet Grille audit croisé
A2: Grille d'audit croisé de la prise en charge médicamenteuse en HAD
A3: N° | B3: Traceur ciblé | C3: Critères | D3: Oui En grande partie Partiellement/ Non/ +/- Non applicable | E3: Interlocuteurs | F3: Eléments de preuve | G3: Commentaires
A4: BILAN D'ADMISSION | J4: =COUNTA(C5:C17)-COUNTIF(D5:D17,"NA")-COUNTIF(D5:D17,"") -> 0
A5: 1 | C5: Les critères d'admission à la HAD sont définis, inscrits dans un protocole et connus des professionnels de l'HAD | E5: Direction Médecin coordonnateur | F5: Entretien et constat *Document relatif à la demande d'admission en HAD | H5: =IF(D5="Oui",1,IF(D5="Non",0,IF(D5="en grande partie",0.75,IF(D5="Partiellement",0.25,0)))) -> 0
A6: 2 | C6: Le médecin coordonnateur évalue la pertinence de la prescription d'HAD | E6: Médecin coordonnateur | F6: Entretien *Critères relatifs à l'admission respectées | H6: =IF(D6="Oui",1,IF(D6="Non",0,IF(D6="en grande partie",0.75,IF(D6="Partiellement",0.25,0)))) -> 0
A7: 3 | C7: Le médecin traitant est contacté pour information et accord de la prise en charge de son patient en HAD | E7: Médecin coordonnateur | F7: Entretien et constat *Accord du médecin traitant tracé dans le dossier du patient | H7: =IF(D7="Oui",1,IF(D7="Non",0,IF(D7="en grande partie",0.75,IF(D7="Partiellement",0.25,0)))) -> 0
A8: 4 | C8: Le dossier du patient (ou autre support institutionnel) permet de recueillir l'identité des professionnels en charge du patient (ville et hôpital) | E8: Direction RSMQPECM | F8: Entretien et constat *Fiche de recueil des données ou place de l'information dans le dossier ou fiche de liaison | H8: =IF(D8="Oui",1,IF(D8="Non",0,IF(D8="en grande partie",0.75,IF(D8="Partiellement",0.25,0)))) -> 0
A9: 5 | C9: Le médecin coordonnateur demande un bilan des médicaments du patient à son admission en HAD (ou une conciliation médicamenteuse est présente) | E9: Médecin coordonnateur Pharmacien | F9: Entretien et constat *Visualisation des ordonnances du patient, de la conciliation de sortie (ES) ou du bilan partagé de médication (ville) | H9: =IF(D9="Oui",1,IF(D9="Non",0,IF(D9="en grande partie",0.75,IF(D9="Partiellement",0.25,0)))) -> 0
A10: 6 | C10: Une évaluation initiale dès l'admission des aptitudes des patients et /ou de l'entourage (degré d'autonomie) et des capacités d'observance à l'aide d'une grille d'évaluation est réalisée | E10: Médecin coordonnateur IDE coordonnateur | F10: Entretien et constat *Décision partagée en équipe, tracée dans le dossier et fait l'objet d'une réévaluation périodique *Visualiser le protocole définissant les modalités d’administration des médicaments per-os à domicile selon le degré d'autonomie du patient : préparation et administration par le patient ; préparation par l’entourage et administration par le patient ; préparation et administration avec l’entourage ; préparation par un IDE et administration par le patient et/ou avec l’entourage ; préparation par un IDE et administration par un IDE ; préparation par un IDE et administration avec l’aide d’un professionnel habilité (AS, AVS). | H10: =IF(D10="Oui",1,IF(D10="Non",0,IF(D10="en grande partie",0.75,IF(D10="Partiellement",0.25,0)))) -> 0
A11: 7 | C11: Les capacités de déglutition du patient sont déterminées à l'entrée, indiquées dans le dossier, réévaluées régulièrement et sont prises en compte pour la prescription des traitements | E11: Médecin coordonnateur | F11: Entretien et constat *Visualiser le protocole définissant l'évaluation des capacités de déglutition *Visualiser un dossier patient avec réévaluation durant le séjour (note de l'IDE ...) *Visualiser des prescriptions de médicaments adaptés aux capacités de déglutition si besoin (ex : solutions buvables, médicaments écrasables...) | H11: =IF(D11="Oui",1,IF(D11="Non",0,IF(D11="en grande partie",0.75,IF(D11="Partiellement",0.25,0)))) -> 0
A12: 8 | C12: Une évaluation de la douleur est réalisée à l'entrée pour les patients le nécessitant et réévaluée selon une échelle validée et identique à chaque passage | E12: Médecin coordonnateur | F12: Entretien et constat *Document qualité validé et réactualisé régulièrement *Visualiser un dossier avec des réévaluations tracées et précision de l'échelle utilisée Guide ; Remplir "Non" si évaluation réalisée avec des échelles différentes | H12: =IF(D12="Oui",1,IF(D12="Non",0,IF(D12="en grande partie",0.75,IF(D12="Partiellement",0.25,0)))) -> 0
A13: 9 | C13: La taille, le poids et la fonction rénale du patient sont tracés dans le dossier et réévalués régulièrement | E13: Médecin coordonnateur | F13: Entretien et constat *Document qualité validé et réactualisé régulièrement *Visualiser un dossier avec taille, poids, fonction rénale précisés et réévaluations tracées | H13: =IF(D13="Oui",1,IF(D13="Non",0,IF(D13="en grande partie",0.75,IF(D13="Partiellement",0.25,0)))) -> 0
A14: 10 | C14: Il existe une organisation pour informer le patient/l'aidant sur le bon usage des médicament dans les situations le nécessitant (à l'entrée, lors de modifications de traitements, à la sortie etc...) | E14: Médecin coordonnateur RSMQPECM | F14: Entretien *Documentation remise au patient (supports d'information, plaquettes, dépliants etc…) | H14: =IF(D14="Oui",1,IF(D14="Non",0,IF(D14="en grande partie",0.75,IF(D14="Partiellement",0.25,0)))) -> 0
A15: 11 | B15: CHIMIO | C15: L'éligibilité de la prise en charge des patients atteints de cancers en HAD a été déterminée après administration d'une 1ère cure en HDJ et validation du thésaurus régional des chimiothérapies injectables selon la faisabilité du protocole en HAD | E15: Médecin coordonnateur RSMQPECM | F15: Entretien et constat *Visualisation du protocole/Document qualité validé et réactualisé régulièrement *Visualiser un dossier avec des chimiothérapies injectables Guide : remplir "NA" si jamais de prise en charge de patients sous chimiothérapies anti-cancéreuses dans l'HAD | H15: =IF(D15="Oui",1,IF(D15="Non",0,IF(D15="en grande partie",0.75,IF(D15="Partiellement",0.25,0)))) -> 0
A16: 12 | C16: La vérification de la présence de toutes les ordonnances pour l'initiation du traitement au domicile du patient est effectuée | E16: Médecin coordonnateur IDE coordonnateur | F16: Entretien et constat *Médicaments et dispositifs médicaux *Visualiser un dossier | H16: =IF(D16="Oui",1,IF(D16="Non",0,IF(D16="en grande partie",0.75,IF(D16="Partiellement",0.25,0)))) -> 0
A17: 13 | C17: Les médicaments et dispositifs médicaux nécessaires à la prise en charge en HAD sont transmis à la pharmacie en amont de la prise en charge | E17: IDE coordonnateur | F17: Entretien et constat *Médicaments et dispositifs médicaux pour l'anticipation des besoins | H17: =IF(D17="Oui",1,IF(D17="Non",0,IF(D17="en grande partie",0.75,IF(D17="Partiellement",0.25,0)))) -> 0
A18: PRESCRIPTIONS | J18: =COUNTA(C19:C32)-COUNTIF(D19:D32,"NA")-COUNTIF(D19:D32,"") -> 0
A19: 14 | C19: Les outils d'aide à la prescription pour l'HAD sont actualisés, validés et mis à disposition du médecin traitant par l'HAD | E19: RSMQPECM Médecin coordonateur Pharmacien | F19: Entretien et constat *Livret pharmaceutique disponible et mis à disposition alternatives proposées *Accès à une base validée par la HAS (Base Vidal, Base Thériaque, Base Théorie, Base Claude Bernard) * Liste des médicaments à ne pas écraser et gélules à ne pas ouvrir * Liste des alternatives possibles : formes buvables, principe actif équivalent * Autre : document, guide, outil informatique- guide d'usage d'équipement - précautions d'usage des fluides médicaux - grille check list pour sécurisation de préparation/administration | H19: =IF(D19="Oui",1,IF(D19="Non",0,IF(D19="en grande partie",0.75,IF(D19="Partiellement",0.25,0)))) -> 0
A20: 15 | C20: Les prescriptions sont réalisées sur un support unique de prescription/administration | E20: RSMQPECM Médecin coordonateur Pharmacien | F20: Entretien et constat *Observation du logiciel HAD ou du dossier papier permettant de tracer l'ensemble des prescriptions en cours et administration sur un même support | H20: =IF(D20="Oui",1,IF(D20="Non",0,IF(D20="en grande partie",0.75,IF(D20="Partiellement",0.25,0)))) -> 0
A21: 16 | C21: Le médecin traitant et le médecin coordonnateur se sont organisés pour prescrire et centraliser les ordonnances du patient | E21: RSMQPECM Médecin coordonateur Pharmacien | F21: Entretien et constat *Le médecin coordonnateur prescrit uniquement les médicaments en situation d'urgence ou informe le médecin traitant en cas d'autres prescriptions non urgentes *Aucun professionnel ne retranscrit les ordonnances | H21: =IF(D21="Oui",1,IF(D21="Non",0,IF(D21="en grande partie",0.75,IF(D21="Partiellement",0.25,0)))) -> 0
A22: 17 | C22: Les prescriptions sont intégralement conformes aux bonnes pratiques | E22: RSMQPECM Médecin coordonateur Pharmacien | F22: Entretien et constat *Visualiser les prescriptions *Critères de conformité : prescriptions horodatées (date et heure), lisibles, signées avec identification du prescripteur et du patient, DCI, dosages, posologies, voie d'administration et conditions, durées du traitement *Pour les injectables : précision claire des modalités de dilution, vitesse et durée ou renvoient à un protocole écrit *Prescriptions conditionnelles : conditions d’administration clairement établies : nombre maximal d’administrations par période de 24 heures accompagné d’un intervalle temporel entre deux prises consécutives, durée maximale de traitement. | H22: =IF(D22="Oui",1,IF(D22="Non",0,IF(D22="en grande partie",0.75,IF(D22="Partiellement",0.25,0)))) -> 0
A23: 18 | B23: STUP | C23: Les prescriptions de stupéfiants sont adaptées à l'intensité de la douleur évaluée et tracée dans le dossier | E23: RSMQPECM Médecin coordonateur Pharmacien | F23: Entretien et constat *Visualiser un dossier de patients sous stupéfiants, l'évaluation de la douleur et la réévaluation des prescriptions de stupéfiants | H23: =IF(D23="Oui",1,IF(D23="Non",0,IF(D23="en grande partie",0.75,IF(D23="Partiellement",0.25,0)))) -> 0
A24: 19 | B24: STUP | C24: Les prescriptions conditionnelles de stupéfiants font l'objet d'un protocole d'administration nominatif détaillant les modalités de prise | E24: RSMQPECM Médecin coordonateur Pharmacien | F24: Entretien et constat *Visualiser une prescription conditionnelle et le protocole d'administration correspondant *Visualiser le cas des interdoses des patients sous opiacés forts : interdose au 1/6ème ou 1/10ème de la dose quotidienne si antalgie insuffisante sous morphinique à libération prolongée (corrélation entre résultat échelle d'évaluation de la douleur et prescription) | H24: =IF(D24="Oui",1,IF(D24="Non",0,IF(D24="en grande partie",0.75,IF(D24="Partiellement",0.25,0)))) -> 0
A25: 20 | C25: Toute prescripition d'un traitement antibiotique répond à une justification et est réévaluée entre 48h et 72h selon la clinique et l'antibiogramme | E25: RSMQPECM Médecin coordonateur Pharmacien | F25: Entretien et constat *Visualiser un dossier de patient sous antibiothérapie avec réévaluation du traitement (clinique et/ou microbiologique) *Réévaluation de l'antibiothérapie entre 24h et 72h | H25: =IF(D25="Oui",1,IF(D25="Non",0,IF(D25="en grande partie",0.75,IF(D25="Partiellement",0.25,0)))) -> 0
A26: 21 | C26: Toute modification de traitement est relayée sur le support unique de prescription / administration | E26: RSMQPECM Médecin coordonateur Pharmacien | F26: Entretien *Evaluer la gestion des changements de traitement en cours de séjour (pas de prescription orale, relai d'information aux différents acteurs …) | H26: =IF(D26="Oui",1,IF(D26="Non",0,IF(D26="en grande partie",0.75,IF(D26="Partiellement",0.25,0)))) -> 0
A27: 22 | B27: CHIMIO | C27: Dans le cadre d'une prise en charge des patients atteints de cancer, le dossier du patient comprend le protocole de chimiothérapie, le planning des cycles, les ordonnances, la lettre de consentement et le plan personnalisé de soin | E27: RSMQPECM Médecin coordonateur Pharmacien | F27: Entretien et constat *Visualiser un dossier de patient sous chimiothérapies avec présence des éléments suivants : protocole de chimiothérapies, le planning des cycles, les ordonnances, la lettre de consentement et le plan de soin personnalisé Guide : Remplir "NA" si jamais de prise en charge de patients sous chimiothérapies anti-cancéreuses dans l'HAD | H27: =IF(D27="Oui",1,IF(D27="Non",0,IF(D27="en grande partie",0.75,IF(D27="Partiellement",0.25,0)))) -> 0
A28: 23 | B28: CHIMIO | C28: Une consultation médicale et un bilan biologique sont effectués la veille ou le jour de chaque nouvelle administration de chimiothérapie anti-cancéreuse (feu vert médical) | E28: RSMQPECM Médecin coordonateur Pharmacien | F28: Entretien et constat *Visualiser un dossier de patient sous chimiothérapie injectable avec traçabilité des critères et bilan biologique Guide : Remplir "NA" si jamais de prise en charge de patients sous chimiothérapies anti-cancéreuses dans l'HAD | H28: =IF(D28="Oui",1,IF(D28="Non",0,IF(D28="en grande partie",0.75,IF(D28="Partiellement",0.25,0)))) -> 0
A29: 24 | B29: PCA | C29: La prescription médicale de la PCA est réalisée sur un support/modèle de prescription "type" | E29: RSMQPECM Médecin coordonateur Pharmacien | F29: Entretien et constat *Visualiser les prescriptions "type" avec précision des critères nécessaires à la prescription : débit de base en mg/h posologie du bolus en mg (1/24 à 1/6 de la dose totale/24h) la période réfractaire entre 2 bolus le nombre maximal de bolus/h heure de début durée du traitement et date de la réévaluation dispositifs médicaux nécessaires à l'administration | H29: =IF(D29="Oui",1,IF(D29="Non",0,IF(D29="en grande partie",0.75,IF(D29="Partiellement",0.25,0)))) -> 0
A30: 25 | B30: PCA | C30: La prescription médicale comporte la surveillance des paramètres du patient (effets secondaires, surdosage) | E30: RSMQPECM Médecin coordonateur Pharmacien | F30: Entretien et constat : *Visualisation d'une prescription des éléments de surveillance | H30: =IF(D30="Oui",1,IF(D30="Non",0,IF(D30="en grande partie",0.75,IF(D30="Partiellement",0.25,0)))) -> 0
A31: 26 | B31: PCA | C31: Une réévaluation et adaptation régulière de la prescription de la PCA est effectuée selon les suivis de consommation à domicile, les effets indésirables, l'évaluation de la douleur | E31: RSMQPECM Médecin coordonateur Pharmacien | F31: Entretien et constat *Visualisation d'une prescription de PCA avec réévaluation des bolus demandés et administrés | H31: =IF(D31="Oui",1,IF(D31="Non",0,IF(D31="en grande partie",0.75,IF(D31="Partiellement",0.25,0)))) -> 0
A32: 27 | B32: MEOPA | C32: Les soins avec utilisation du MEOPA sont prescrits et limités aux indications pertinentes | E32: RSMQPECM Médecin coordonateur Pharmacien | F32: Entretien et constat si possible *Visualisation de la fiche de prescription type si existante *Prescription en s'appuyant sur les éléments du dossier du patient : fiche d'évaluation de la douleur et soins pratiqués : Actes douloureux et gestes de courte durée < 1h : soins d'escarres et d'ulcères douloureux, co-antalgiques lors de soins douloureux répétées *Limiter à 60min/j pendant 15jours maximum (48h de pause pour la poursuite du traitement avec réalisation d'une NFS de contrôle et dosage vitamine B12) Guide : Remplir "NA" si jamais de prise en charge de patients sous MEOPA dans l'HAD | H32: =IF(D32="Oui",1,IF(D32="Non",0,IF(D32="en grande partie",0.75,IF(D32="Partiellement",0.25,0)))) -> 0
A33: DISPENSATION - Pharmacie d'officine ou PUI | J33: =COUNTA(C34:C44)-COUNTIF(D34:D44,"NA")-COUNTIF(D34:D44,"") -> 0
A34: 28 | C34: Une convention entre la structure HAD et la pharmacie d'officine et/ou l'établissement réalisant la sous traitance a été signée pour la dispensation et la préparation des médicaments (y compris les cytotoxiques) | E34: Direction Pharmacien RSMQPECM | F34: Entretien et constat *Visualisation de la convention signée Guide : Remplir "NA" si HAD rattachée à une PUI | H34: =IF(D34="Oui",1,IF(D34="Non",0,IF(D34="en grande partie",0.75,IF(D34="Partiellement",0.25,0)))) -> 0
A35: 29 | C35: Le pharmacien dispose des coordonnées des professionnels de l'HAD | E35: Pharmacien | F35: Entretien et constat *Document reprenant les coordonnées de professionnels de l'HAD et des partenaires libéraux : médecin coordonnateur, médecin traitant, IDE salariés, IDE libéraux… | H35: =IF(D35="Oui",1,IF(D35="Non",0,IF(D35="en grande partie",0.75,IF(D35="Partiellement",0.25,0)))) -> 0
A36: 30 | C36: Les modalités de communication pharmacie-soignants sont précisés et sont utilisées et les échanges sont tracés | E36: Pharmacien RSMQPECM | F36: Entretien et constat '*Document précisant les modalités de communication ex : messagerie intégrée au logiciel ou messagerie sécurisée ou traçabilité directement dans le logiciel | H36: =IF(D36="Oui",1,IF(D36="Non",0,IF(D36="en grande partie",0.75,IF(D36="Partiellement",0.25,0)))) -> 0
A37: 31 | C37: La conciliation médicamenteuse est mise en œuvre pour les situations les plus à risque | E37: Pharmacien Préparateur pharmacie RSMQPECM | F37: Entretien et constat *Procédure reprenant la conduite à tenir pour effectuer une conciliation médicamenteuse ou un bilan médicamenteux *Visualisation de conciliation ou bilan d'entrée effectué par la pharmacie *Critères de priorisation des patients les plus à risque nécessitant une conciliation | H37: =IF(D37="Oui",1,IF(D37="Non",0,IF(D37="en grande partie",0.75,IF(D37="Partiellement",0.25,0)))) -> 0
A38: 32 | C38: Il est systématiquement proposé au patient l'ouverture de son dossier médical partagé | E38: Pharmacien | F38: Entretien | H38: =IF(D38="Oui",1,IF(D38="Non",0,IF(D38="en grande partie",0.75,IF(D38="Partiellement",0.25,0)))) -> 0
A39: 33 | C39: L'analyse pharmaceutique est organisée et pertinente et intègre les informations du dossier pharmaceutique s'il existe | E39: Pharmacien RSMQPECM | F39: Entretien et constat *Procédure relative à la validation pharmaceutique (pour PUI) *Constat d'avis pharmaceutiques tracés *Accès au dossier du patient (antécédents, accès à l'ensemble des prescriptions en cours, aux données biologiques et cliniques) *Vérification : posologies, interactions médicamenteuses... *Traçabilité des avis Guide : Remplir "En grande partie" ou "Partiellement" selon l'accès aux données cliniques et/ou biologiques | H39: =IF(D39="Oui",1,IF(D39="Non",0,IF(D39="en grande partie",0.75,IF(D39="Partiellement",0.25,0)))) -> 0
A40: 34 | C40: Le traitement du patient est délivré nominativement par la pharmacie (officine ou PUI) et transporté dans des contenants nominatifs et fermés | E40: Pharmacien RSMQPECM | F40: Entretien et constat *Visualiser les contenants nominatifs Les traitements médicamenteux sont au nom et prénom du patient avec l'ordonnance correspondante, la durée de délivrance est limitée à 1 mois *Les conditions d’hygiène et de conservation optimales | H40: =IF(D40="Oui",1,IF(D40="Non",0,IF(D40="en grande partie",0.75,IF(D40="Partiellement",0.25,0)))) -> 0
A41: 35 | B41: PCA | C41: Un contrôle des doses est effectué au moment de la dispensation d'une prescription de PCA | E41: Pharmacien RSMQPECM | F41: Entretien et constat si possible *contrôle de l'ensemble des calculs de la prescription Prendre une prescription de PCA et observation de la connaissance des recalculs *Interroger un membre de l'équipe | H41: =IF(D41="Oui",1,IF(D41="Non",0,IF(D41="en grande partie",0.75,IF(D41="Partiellement",0.25,0)))) -> 0
...

Sheet Résultats
B3: Nom de l'établissement : | D3: ='Informations générales'!C10 -> 0
B5: Grille d'auto-évaluation de la prise en charge médicamenteuse en HAD | K5: Grille d'audit croisé de la prise en charge médicamenteuse en HAD | T5: Evaluation des situations à risques
B7: Date (format JJ/MM/AAAA): | D7: ='Informations générales'!C12 -> 0 | K7: Date (format JJ/MM/AAAA): | M7: ='Informations générales'!C14 -> 0
V8: Niveau de conformité | W8: Zone 4 | X8: Zone 3 | Y8: Zone 2 | Z8: Zone 1
D9: Niveau de conformité | E9: Zone 4 | F9: Zone 3 | G9: Zone 2 | H9: Zone 1 | M9: Niveau de conformité | N9: Zone 4 | O9: Zone 3 | P9: Zone 2 | Q9: Zone 1 | S9: PCA | T9: PCA | U9: =COUNTIF('Grille autoévaluation'!B:B,S9)+COUNTIF('Grille audit croisé'!B:B,S9)-COUNTIFS('Grille autoévaluation'!B:B,S9,'Grille autoévaluation'!D:D,"NA")-COUNTIFS('Grille audit croisé'!B:B,S9,'Grille audit croisé'!D:D,"NA")-COUNTIFS('Grille autoévaluation'!B:B,S9,'Grille autoévaluation'!D:D,"")-COUNTIFS('Grille audit croisé'!B:B,S9,'Grille audit croisé'!D:D,"") -> 0 | V9: =(SUMIF('Grille autoévaluation'!B:B,S9,'Grille autoévaluation'!H:H)+SUMIF('Grille audit croisé'!B:B,S9,'Grille audit croisé'!H:H))/U9 -> #DIV/0! | W9: 1 | X9: 0.9 | Y9: 0.5 | Z9: 0.2
B10: 1. Management de la qualite de la prise en charge médicameuteuse | D10: =IFERROR(SUM('Grille autoévaluation'!H6:'Grille autoévaluation'!H22)/'Grille autoévaluation'!I5,"") | E10: 1 | F10: 0.9 | G10: 0.5 | H10: 0.2 | K10: 1 : Bilan d'admission | M10: =IFERROR(SUM('Grille audit croisé'!H5:H17)/'Grille audit croisé'!J4,"") | N10: 1 | O10: 0.9 | P10: 0.5 | Q10: 0.2 | S10: STUP | T10: STUPEFIANTS | U10: =COUNTIF('Grille autoévaluation'!B:B,S10)+COUNTIF('Grille audit croisé'!B:B,S10)-COUNTIFS('Grille autoévaluation'!B:B,S10,'Grille autoévaluation'!D:D,"NA")-COUNTIFS('Grille audit croisé'!B:B,S10,'Grille audit croisé'!D:D,"NA")-COUNTIFS('Grille autoévaluation'!B:B,S10,'Grille autoévaluation'!D:D,"")-COUNTIFS('Grille audit croisé'!B:B,S10,'Grille audit croisé'!D:D,"") -> 0 | V10: =(SUMIF('Grille autoévaluation'!B:B,S10,'Grille autoévaluation'!H:H)+SUMIF('Grille audit croisé'!B:B,S10,'Grille audit croisé'!H:H))/U10 -> #DIV/0! | W10: 1 | X10: 0.9 | Y10: 0.5 | Z10: 0.2
B11: 2. Gestion des erreurs médicamenteuses | D11: =IFERROR(SUM('Grille autoévaluation'!H24:H29)/'Grille autoévaluation'!I23,"") -> 0 | E11: 1 | F11: 0.9 | G11: 0.5 | H11: 0.2 | K11: 2 : Prescriptions | M11: =IFERROR(SUM('Grille audit croisé'!H19:H32)/'Grille audit croisé'!J18,"") | N11: 1 | O11: 0.9 | P11: 0.5 | Q11: 0.2 | S11: CHIMIO | T11: CHIMIOTHERAPIES ANTI-CANCEREUSES INJECTABLES ET ORALES | U11: =COUNTIF('Grille autoévaluation'!B:B,S11)+COUNTIF('Grille audit croisé'!B:B,S11)-COUNTIFS('Grille autoévaluation'!B:B,S11,'Grille autoévaluation'!D:D,"NA")-COUNTIFS('Grille audit croisé'!B:B,S11,'Grille audit croisé'!D:D,"NA")-COUNTIFS('Grille autoévaluation'!B:B,S11,'Grille autoévaluation'!D:D,"")-COUNTIFS('Grille audit croisé'!B:B,S11,'Grille audit croisé'!D:D,"") -> 0 | V11: =(SUMIF('Grille autoévaluation'!B:B,S11,'Grille autoévaluation'!H:H)+SUMIF('Grille audit croisé'!B:B,S11,'Grille audit croisé'!H:H))/U11 -> #DIV/0! | W11: 1 | X11: 0.9 | Y11: 0.5 | Z11: 0.2
B12: 3. Informatisation | D12: =IFERROR(SUM('Grille autoévaluation'!H31:H33)/'Grille autoévaluation'!I30,"") -> 0 | E12: 1 | F12: 0.9 | G12: 0.5 | H12: 0.2 | K12: 3 : Dispensation - pharmacie d'officine ou PUI | M12: =IFERROR(SUM('Grille audit croisé'!H34:H44)/'Grille audit croisé'!J33,"") | N12: 1 | O12: 0.9 | P12: 0.5 | Q12: 0.2 | S12: MEOPA | T12: MEOPA | U12: =COUNTIF('Grille autoévaluation'!B:B,S12)+COUNTIF('Grille audit croisé'!B:B,S12)-COUNTIFS('Grille autoévaluation'!B:B,S12,'Grille autoévaluation'!D:D,"NA")-COUNTIFS('Grille audit croisé'!B:B,S12,'Grille audit croisé'!D:D,"NA")-COUNTIFS('Grille autoévaluation'!B:B,S12,'Grille autoévaluation'!D:D,"")-COUNTIFS('Grille audit croisé'!B:B,S12,'Grille audit croisé'!D:D,"") -> 0 | V12: =(SUMIF('Grille autoévaluation'!B:B,S12,'Grille autoévaluation'!H:H)+SUMIF('Grille audit croisé'!B:B,S12,'Grille audit croisé'!H:H))/U12 -> #DIV/0! | W12: 1 | X12: 0.9 | Y12: 0.5 | Z12: 0.2
B13: 4. Formation et sensibilisation | D13: =IFERROR(SUM('Grille autoévaluation'!H35:H40)/'Grille autoévaluation'!I34,"") | E13: 1 | F13: 0.9 | G13: 0.5 | H13: 0.2 | K13: 4 : Administration au domicile | M13: =IFERROR(SUM('Grille audit croisé'!H47:H54,'Grille audit croisé'!H56:H79,'Grille audit croisé'!H81:H84)/'Grille audit croisé'!J45,"") | N13: 1 | O13: 0.9 | P13: 0.5 | Q13: 0.2
K14: A. Preparation des medicaments | M14: =IFERROR(SUM('Grille audit croisé'!H47:H54)/'Grille audit croisé'!I46,"")
B15: Pourcentage de conformité globale : | D15: =IFERROR(SUM('Grille autoévaluation'!H:H)/SUM('Grille autoévaluation'!I:I),"") -> 0 | K15: B. Administration des medicaments | M15: =IFERROR(SUM('Grille audit croisé'!H56:H79)/'Grille audit croisé'!I55,"")
K16: C. Elimination des medicaments | M16: =IFERROR(SUM('Grille audit croisé'!H81:H84)/'Grille audit croisé'!I80,"")
K17: 5 : Logistique | M17: =IFERROR(SUM('Grille audit croisé'!H87:H95,'Grille audit croisé'!H97:H101)/'Grille audit croisé'!J85,"") | N17: 1 | O17: 0.9 | P17: 0.5 | Q17: 0.2
K18: A. Stockage des medicaments au sein de la structure HAD | M18: =IFERROR(SUM('Grille audit croisé'!H87:H95)/'Grille audit croisé'!I86,"")
K19: B. Stockage des medicaments au domicile du patient | M19: =IFERROR(SUM('Grille audit croisé'!H97:H101)/'Grille audit croisé'!I96,"")
K20: 6 : Organisation/qualite | M20: =IFERROR(SUM('Grille audit croisé'!H103:H108)/'Grille audit croisé'!J102,"") | N20: 1 | O20: 0.9 | P20: 0.5 | Q20: 0.2
K21: 7 : Bilan de sortie | M21: =IFERROR(SUM('Grille audit croisé'!H110:H113)/'Grille audit croisé'!J109,"") | N21: 1 | O21: 0.9 | P21: 0.5 | Q21: 0.2
K22: 8 : Entretien avec le patient (ou l'aidant) | M22: =IFERROR(SUM('Grille audit croisé'!H115:H135)/'Grille audit croisé'!J114,"") | N22: 1 | O22: 0.9 | P22: 0.5 | Q22: 0.2
K24: Pourcentage de conformité globale : | M24: =IFERROR(SUM('Grille audit croisé'!H:H)/SUM('Grille audit croisé'!J:J),"")
B58: Pourcentage de conformité totale sur l'audit | T58: =(SUM('Grille audit croisé'!H:H)+SUM('Grille autoévaluation'!H:H))/(SUM('Grille autoévaluation'!I:I)+SUM('Grille audit croisé'!J:J)) -> 0
B60: Points forts | K60: Axes d'améliorations

Sheet Plan d'actions
C1: Nom de l'établissement : | E1: ='Informations générales'!C10 -> 0
C2: Date de mise à jour : | E2: =NOW() -> 44726.602
A3: Evaluation de la prise en charge médicamenteuse en HAD
A5: N° | B5: Traceur ciblé | C5: CRITERES | D5: Oui En grande partie Partiellement/ Non/ +/- Non applicable | E5: COMMENTAIRES AUDITEURS | F5: COMMENTAIRES AUDITES | G5: ACTIONS D'AMELIORATIONS | H5: PILOTE | I5: ECHEANCE | J5: STATUT DE L'ACTION
A7: Grille d'auto-évaluation de la prise en charge médicamenteuse en HAD
A8: MANAGEMENT DE LA QUALITE DE LA PRISE EN CHARGE MEDICAMEUTEUSE
A9: ='Grille autoévaluation'!A6 -> 1 | B9: ='Grille autoévaluation'!B6 -> 0 | C9: ='Grille autoévaluation'!C6 -> Il existe une politique d'amélioration de la qualité et de la sécurité de la prise en charge médicamenteuse | D9: ='Grille autoévaluation'!D6 -> 0 | E9: =IF(OR(D9="NA"),"",'Grille autoévaluation'!G6) -> 0
A10: ='Grille autoévaluation'!A7 -> 2 | B10: ='Grille autoévaluation'!B7 -> 0 | C10: ='Grille autoévaluation'!C7 -> Des indicateurs sont définis et suivis, en lien avec la politique et la gestion des risques de la PECM de la structure | D10: ='Grille autoévaluation'!D7 -> 0 | E10: =IF(OR(D10="NA"),"",'Grille autoévaluation'!G7) -> 0
A11: ='Grille autoévaluation'!A8 -> 3 | B11: ='Grille autoévaluation'!B8 -> 0 | C11: ='Grille autoévaluation'!C8 -> Les responsabilités et le rôle de chaque acteur dans la prise en charge du patient sont formalisés y compris les collaborations avec les professionnels libéraux | D11: ='Grille autoévaluation'!D8 -> 0 | E11: =IF(OR(D11="NA"),"",'Grille autoévaluation'!G8) -> 0
A12: ='Grille autoévaluation'!A9 -> 4 | B12: ='Grille autoévaluation'!B9 -> 0 | C12: ='Grille autoévaluation'!C9 -> Les missions du responsable de management de la qualité de la PECM sont définies | D12: ='Grille autoévaluation'!D9 -> 0 | E12: =IF(OR(D12="NA"),"",'Grille autoévaluation'!G9) -> 0
A13: ='Grille autoévaluation'!A10 -> 5 | B13: ='Grille autoévaluation'!B10 -> 0 | C13: ='Grille autoévaluation'!C10 -> L'HAD organise ou participe régulièrement à des réunions de coordination impliquant tous les partenaires | D13: ='Grille autoévaluation'!D10 -> 0 | E13: =IF(OR(D13="NA"),"",'Grille autoévaluation'!G10) -> 0
A14: ='Grille autoévaluation'!A11 -> 6 | B14: ='Grille autoévaluation'!B11 -> 0 | C14: ='Grille autoévaluation'!C11 -> Il existe une cartographie des risques à toutes les étapes de la prise en charge médicamenteuse et sur les dispositifs médicaux | D14: ='Grille autoévaluation'!D11 -> 0 | E14: =IF(OR(D14="NA"),"",'Grille autoévaluation'!G11) -> 0
A15: ='Grille autoévaluation'!A12 -> 7 | B15: ='Grille autoévaluation'!B12 -> 0 | C15: ='Grille autoévaluation'!C12 -> L'HAD a identifié des médicaments à risque, des situations à risque et des patients à risque et mis en place des dispositions spécifiques de prescription / gestion / préparation / administration et d'identification | D15: ='Grille autoévaluation'!D12 -> 0 | E15: =IF(OR(D15="NA"),"",'Grille autoévaluation'!G12) -> 0
A16: ='Grille autoévaluation'!A13 -> 8 | B16: ='Grille autoévaluation'!B13 -> 0 | C16: ='Grille autoévaluation'!C13 -> L'HAD met à disposition des outils actualisés et validés sur le médicament pour les professionnels | D16: ='Grille autoévaluation'!D13 -> 0 | E16: =IF(OR(D16="NA"),"",'Grille autoévaluation'!G13) -> 0
A17: ='Grille autoévaluation'!A14 -> 9 | B17: ='Grille autoévaluation'!B14 -> CHIMIO | C17: ='Grille autoévaluation'!C14 -> Il existe un protocole sur les chimiothérapies anti-cancéreuses injectables et orales en HAD | D17: ='Grille autoévaluation'!D14 -> 0 | E17: =IF(OR(D17="NA"),"",'Grille autoévaluation'!G14) -> 0
A18: ='Grille autoévaluation'!A15 -> 10 | B18: ='Grille autoévaluation'!B15 -> STUP | C18: ='Grille autoévaluation'!C15 -> Il existe un protocole sur les stupéfiants en HAD | D18: ='Grille autoévaluation'!D15 -> 0 | E18: =IF(OR(D18="NA"),"",'Grille autoévaluation'!G15) -> 0
A19: ='Grille autoévaluation'!A16 -> 11 | B19: ='Grille autoévaluation'!B16 -> PCA | C19: ='Grille autoévaluation'!C16 -> Il existe un protocole sur l'utilisation des PCA en HAD | D19: ='Grille autoévaluation'!D16 -> 0 | E19: =IF(OR(D19="NA"),"",'Grille autoévaluation'!G16) -> 0
A20: ='Grille autoévaluation'!A17 -> 12 | B20: ='Grille autoévaluation'!B17 -> MEOPA | C20: ='Grille autoévaluation'!C17 -> Il existe un protocole pour l'utilisation du MEOPA | D20: ='Grille autoévaluation'!D17 -> 0 | E20: =IF(OR(D20="NA"),"",'Grille autoévaluation'!G17) -> 0
... A25: ='Grille autoévaluation'!A22 -> 17 | B25: ='Grille autoévaluation'!B22 -> 0 | C25: ='Grille autoévaluation'!C22 -> Un dispositif de sensibilisation aux interruptions de tâches lors de la prise en charge médicamenteuse lors de la préparation des médicaments est déployé dans la structure | D25: ='Grille autoévaluation'!D22 -> 0 | E25: =IF(OR(D25="NA"),"",'Grille autoévaluation'!G22) -> 0
A26: GESTION DES ERREURS MEDICAMENTEUSES
A27: ='Grille autoévaluation'!A24 -> 18 | B27: ='Grille autoévaluation'!B24 -> 0 | C27: ='Grille autoévaluation'!C24 -> Il existe une charte d'incitation au signalement des erreurs médicamenteuses validée par la structure et connue des professionnels | D27: ='Grille autoévaluation'!D24 -> 0 | E27: =IF(OR(D27="NA"),"",'Grille autoévaluation'!G24) -> 0
A28: ='Grille autoévaluation'!A25 -> 19 | B28: ='Grille autoévaluation'!B25 -> 0 | C28: ='Grille autoévaluation'!C25 -> Des réunions d'analyse des erreurs médicamenteuses sont réalisées entre médecins, pharmacien et infirmiers (salariés et libéraux) intervenant dans la prise en charge du patient | D28: ='Grille autoévaluation'!D25 -> 0 | E28: =IF(OR(D28="NA"),"",'Grille autoévaluation'!G25) -> 0
A29: ='Grille autoévaluation'!A26 -> 20 | B29: ='Grille autoévaluation'!B26 -> 0 | C29: ='Grille autoévaluation'!C26 -> Les médecins, infirmiers et le pharmacien sont prévenus en cas d'erreurs et destinataires des retours d'expérience suite à l'analyse des EI. | D29: ='Grille autoévaluation'!D26 -> 0 | E29: =IF(OR(D29="NA"),"",'Grille autoévaluation'!G26) -> 0
A30: ='Grille autoévaluation'!A27 -> 21 | B30: ='Grille autoévaluation'!B27 -> 0 | C30: ='Grille autoévaluation'!C27 -> Les EIG médicamenteux sont signalés à l'ARS via le portail de signalement des événements sanitaires indésirables (https://signalement.social-sante.gouv.fr/psig_ihm_utilisateurs/index.html#/accueil) | D30: ='Grille autoévaluation'!D27 -> 0 | E30: =IF(OR(D30="NA"),"",'Grille autoévaluation'!G27) -> 0
A31: ='Grille autoévaluation'!A28 -> 22 | B31: ='Grille autoévaluation'!B28 -> 0 | C31: ='Grille autoévaluation'!C28 -> Les effets indésirables médicamenteux sont signalés au Centre Régional de Pharmacovigilance (CRPV) et les prescripteurs sont informés. | D31: ='Grille autoévaluation'!D28 -> 0 | E31: =IF(OR(D31="NA"),"",'Grille autoévaluation'!G28) -> 0
A32: ='Grille autoévaluation'!A29 -> 23 | B32: ='Grille autoévaluation'!B29 -> 0 | C32: ='Grille autoévaluation'!C29 -> Parmi les actions d'amélioration, la structure a priorisé la prévention des "Never Events médicamenteux" | D32: ='Grille autoévaluation'!D29 -> 0 | E32: =IF(OR(D32="NA"),"",'Grille autoévaluation'!G29) -> 0
A33: INFORMATISATION
A34: ='Grille autoévaluation'!A31 -> 24 | B34: ='Grille autoévaluation'!B31 -> 0 | C34: ='Grille autoévaluation'!C31 -> L'HAD dispose d'un support unique sécurisé par un identifiant et un mot de passe confidentiel et reservé à chaque prescripteur | D34: ='Grille autoévaluation'!D31 -> 0 | E34: =IF(OR(D34="NA"),"",'Grille autoévaluation'!G31) -> 0
A35: ='Grille autoévaluation'!A32 -> 25 | B35: ='Grille autoévaluation'!B32 -> 0 | C35: ='Grille autoévaluation'!C32 -> L'HAD met à disposition des moyens dédiés qui permettent de tracer l'administration des médicaments à domicile | D35: ='Grille autoévaluation'!D32 -> 0 | E35: =IF(OR(D35="NA"),"",'Grille autoévaluation'!G32) -> 0
A36: ='Grille autoévaluation'!A33 -> 26 | B36: ='Grille autoévaluation'!B33 -> 0 | C36: ='Grille autoévaluation'!C33 -> Un protocole décrit la conduite à tenir (procédure dégradée) en cas d'impossibilité d'accéder au logiciel informatique de soins ou de prescription (panne informatique, panne réseau...) et est connu par les professionnels | D36: ='Grille autoévaluation'!D33 -> 0 | E36: =IF(OR(D36="NA"),"",'Grille autoévaluation'!G33) -> 0
A37: FORMATION ET SENSIBILISATION
A38: ='Grille autoévaluation'!A35 -> 27 | B38: ='Grille autoévaluation'!B35 -> 0 | C38: ='Grille autoévaluation'!C35 -> Tous les nouveaux arrivants ont bénéficié d'une formation sur les modalités de la PECM de l'HAD (guide du nouvel arrivant) | D38: ='Grille autoévaluation'!D35 -> 0 | E38: =IF(OR(D38="NA"),"",'Grille autoévaluation'!G35) -> 0
A39: ='Grille autoévaluation'!A36 -> 28 | B39: ='Grille autoévaluation'!B36 -> 0 | C39: ='Grille autoévaluation'!C36 -> Une évaluation des connaissances lors de la formation des nouveaux arrivants en HAD est réalisée | D39: ='Grille autoévaluation'!D36 -> 0 | E39: =IF(OR(D39="NA"),"",'Grille autoévaluation'!G36) -> 0
A40: ='Grille autoévaluation'!A37 -> 29 | B40: ='Grille autoévaluation'!B37 -> 0 | C40: ='Grille autoévaluation'!C37 -> Des formations avec une réactualisation régulière des connaissances sont proposées aux professionnels sur la prise en charge médicamenteuse | D40: ='Grille autoévaluation'!D37 -> 0 | E40: =IF(OR(D40="NA"),"",'Grille autoévaluation'!G37) -> 0
A41: ='Grille autoévaluation'!A38 -> 30 | B41: ='Grille autoévaluation'!B38 -> CHIMIO | C41: ='Grille autoévaluation'!C38 -> L'HAD a organisé la formation et la sensibilisation des professionnels à la manipulation des cytotoxiques injectables et per os | D41: ='Grille autoévaluation'!D38 -> 0 | E41: =IF(OR(D41="NA"),"",'Grille autoévaluation'!G38) -> 0
A42: ='Grille autoévaluation'!A39 -> 31 | B42: ='Grille autoévaluation'!B39 -> PCA | C42: ='Grille autoévaluation'!C39 -> L'HAD a organisé la formation des professionnels à l'utilisation des PCA | D42: ='Grille autoévaluation'!D39 -> 0 | E42: =IF(OR(D42="NA"),"",'Grille autoévaluation'!G39) -> 0
A43: ='Grille autoévaluation'!A40 -> 32 | B43: ='Grille autoévaluation'!B40 -> MEOPA | C43: ='Grille autoévaluation'!C40 -> L'HAD a organisé la formation et la sensibilisation des professionnels à l'utilisation du MEOPA | D43: ='Grille autoévaluation'!D40 -> 0 | E43: =IF(OR(D43="NA"),"",'Grille autoévaluation'!G40) -> 0
A44: Grille d'audit croisé de la prise en charge médicamenteuse en HAD
A45: BILAN D'ADMISSION
A46: ='Grille audit croisé'!A5 -> 1 | B46: ='Grille audit croisé'!B5 -> 0 | C46: ='Grille audit croisé'!C5 -> Les critères d'admission à la HAD sont définis, inscrits dans un protocole et connus des professionnels de l'HAD | D46: ='Grille audit croisé'!D5 -> 0 | E46: =IF(OR(D46="NA"),"",'Grille audit croisé'!G5) -> 0
...

Sheet Analyse Qual'Va
A1: ='Informations générales'!B10 -> Nom de l'HAD : | B1: ='Informations générales'!C10 -> 0
A2: ='Informations générales'!B12 -> Date de l'audit en autoévaluation : (xx/xx/20xx) | B2: ='Informations générales'!C12 -> 0
A3: ='Informations générales'!B14 -> Date de l'audit croisé: (xx/xx/20xx) | B3: ='Informations générales'!C14 -> 0
A4: ='Informations générales'!B16 -> Nom des auditeurs : | B4: ='Informations générales'!C16 -> 0
A5: Grille autoévaluation
A6: MANAGEMENT DE LA QUALITE DE LA PRISE EN CHARGE MEDICAMENTEUSE
A7: ='Grille autoévaluation'!A6 -> 1 | B7: ='Grille autoévaluation'!D6 -> 0
A8: ='Grille autoévaluation'!A7 -> 2 | B8: ='Grille autoévaluation'!D7 -> 0
