Workbook

Sheet Guide d'utilisation
B1: Audit de traçabilité des Dispositifs Médicaux Implantables (DMI)
A3: Guide d'utilisation de la grille de l'audit :
A4: Saisir les éléments demandés dans les zones vertes. Les cellules blanches sont programmées pour un calcul automatique et ne doivent pas être renseignées : ne pas saisir dans les cellules blanches.
A5: Dans la feuille "Périmètre", renseigner les DMI sélectionnés pour l'audit, en précisant : - le libellé et le fabricant/fournisseur du DMI ; - la modalité de gestion du DMI : achat ou dépôt ; - le financement du DMI : intra-GHS ou hors GHS ; - la spécialité chirurgicale ou interventionnelle. Préciser aussi si l'ETS dispose : - d'un responsable du système de management de la qualité du circuit des DMI ; - d'une procédure écrite décrivant les modalités de traçabilité sanitaire des DMI.
A6: Dans la feuille "Traçabilité quantitative", renseigner pour chaque référence traceuse : - le nombre de DMI : - En stock inventorié à J0, - Réceptionnés entre J0 et J30 , - En stock inventorié à J30, - Implantés et tracés informatiquement entre J0 et J30, - En échec de pose, périmés, retours, matériovigilances… entre J0 et J30 ; - les commentaires éventuels.
A7: Dans la feuille "Traçabilité qualitative", renseigner pour chaque DMI implanté dont la qualité de la traçabilité est évaluée (Patients 1 à 50) : - le numéro de la référence traceuse correspondante (DMI 1 à 10, cf. onglet "Périmètre") ; - pour chacun des 28 critères : Oui / Non / NA pour non applicable (uniquement pour les critères avec des astérisques et . NB : Si l'ETS ne peut pas retrouver rétrospectivement les informations présentes sur le document remis au patient, laisser les cases correspondantes vides.
A8: La feuille "Impression des résultats" se remplit automatiquement à partir des données renseignées dans les onglets précédents. Les résultats de l'audit de traçabilité qualitative sont présentés sous forme de tableaux et sous forme graphique.

Sheet Périmètre
B2: Etablissement :
B4: Date de l'audit :
B6: Responsable de l'audit :
B9: Définition du périmètre : choix des 5 à 10 références "traceuses"
C10: Libellé du DMI | F10: Fabriquant / Fournisseur | H10: Modalité de gestion | I10: Financement | J10: Spécialité
B11: DMI 1
B12: DMI 2
B13: DMI 3
B14: DMI 4
B15: DMI 5
B16: DMI 6
B17: DMI 7
B18: DMI 8
B19: DMI 9
B20: DMI 10
H21: Achat | I21: Intra-GHS | J21: Cardiologie interventionnelle
H22: Dépôt | I22: Hors GHS | J22: Chirurgie cardio-vasculaire
B23: Un responsable du système de management de la qualité du circuit des DMI est désigné par le directeur conjointement avec le président de CME ? | J23: Existence d'une procédure portant sur la traçabilité sanitaire des DMI dans l'établissement ?
H24: Oui | J24: Chirurgie ophtalmique
H25: Non | J25: Chirurgie orthopédique et traumatique
J26: Chirurgie plastique, reconstructrice et esthétique
J27: Chirurgie thoracique
J28: Chirurgie urologique et gynécologique
J29: Neurochirurgie
J30: Perfusion
J31: Radiologie interventionnelle
J32: Stomatologie et chirurgie dentaire
J33: Autre

Sheet Traçabilité quantitative
B2: Calcul du taux de traçabilité quantitative
C3: Nombre de DMI en stock à J0 | D3: Nombre de DMI réceptionnés entre J0 et J30 | E3: Nombre de DMI en stock à J30 | F3: Nombre de DMI implantés et informatiquement tracés entre J0 et J30 | G3: Nombre de DMI en échec de pose, périmés, retours, matériovigilances… entre J0 et J30 | H3: Ecart (en nombre de DMI) | I3: Commentaires
B4: DMI 1 | H4: =ABS(C4+D4-E4-F4-G4) -> 0
B5: DMI 2 | H5: =ABS(C5+D5-E5-F5-G5) -> 0
B6: DMI 3 | H6: =ABS(C6+D6-E6-F6-G6) -> 0
B7: DMI 4 | H7: =ABS(C7+D7-E7-F7-G7) -> 0
B8: DMI 5 | H8: =ABS(C8+D8-E8-F8-G8) -> 0
B9: DMI 6 | H9: =ABS(C9+D9-E9-F9-G9) -> 0
B10: DMI 7 | H10: =ABS(C10+D10-E10-F10-G10) -> 0
B11: DMI 8 | H11: =ABS(C11+D11-E11-F11-G11) -> 0
B12: DMI 9 | H12: =ABS(C12+D12-E12-F12-G12) -> 0
B13: DMI 10 | H13: =ABS(C13+D13-E13-F13-G13) -> 0
B14: Total | C14: =SUM(C4:C13) -> 0 | D14: =SUM(D4:D13) -> 0 | E14: =SUM(E4:E13) -> 0 | F14: =SUM(F4:F13) -> 0 | G14: =SUM(G4:G13) -> 0 | H14: =SUM(H4:H13) -> 0
B15: Taux de traçabilité informatique de l'implantation des DMI : | G15: =IFERROR(F14/(F14+H14),"") | I15: Taux de traçabilité informatique globale des DMI : | N15: =IFERROR((E14+F14+G14)/(C14+D14),"")
F17: écart négatif : | G17: =ABS(SUMIF(H4:H13,"<0")) -> 0

Sheet Traçabilité qualitative
B2: Audit rétrospectif sur la conformité de la traçabilité : | BC2: Résultats :
D4: Patient 1 | E4: Patient 2 | F4: Patient 3 | G4: Patient 4 | H4: Patient 5 | I4: Patient 6 | J4: Patient 7 | K4: Patient 8 | L4: Patient 9 | M4: Patient 10 | N4: Patient 11 | O4: Patient 12 | P4: Patient 13 | Q4: Patient 14 | R4: Patient 15 | S4: Patient 16 | T4: Patient 17 | U4: Patient 18 | V4: Patient 19 | W4: Patient 20 | X4: Patient 21 | Y4: Patient 22 | Z4: Patient 23 | AA4: Patient 24 | AB4: Patient 25 | AC4: Patient 26 | AD4: Patient 27 | AE4: Patient 28 | AF4: Patient 29 | AG4: Patient 30 | AH4: Patient 31 | AI4: Patient 32 | AJ4: Patient 33 | AK4: Patient 34 | AL4: Patient 35 | AM4: Patient 36 | AN4: Patient 37 | AO4: Patient 38 | AP4: Patient 39 | AQ4: Patient 40 | AR4: Patient 41 | AS4: Patient 42 | AT4: Patient 43 | AU4: Patient 44 | AV4: Patient 45 | AW4: Patient 46 | AX4: Patient 47 | AY4: Patient 48 | AZ4: Patient 49 | BA4: Patient 50 | BC4: Effectifs | BG4: Pourcentages
B5: Numéro de référence traceuse (cf. onglet "Périmètre") | BB5: NA | BC5: Oui | BD5: Non | BE5: Total | BG5: Oui | BH5: Non
B6: Traçabilité par la PUI (ou par la personne en charge des commandes/gestion des stocks pour les ETS sans PUI) | C6: Date de réception du DMI et quantité réceptionnée | BC6: =COUNTIF(D6:BA6,"Oui") -> 0 | BD6: =COUNTIF(D6:BA6,"Non") -> 0 | BE6: =BC6+BD6 -> 0 | BG6: =IFERROR(BC6/BE6,"") | BH6: =IFERROR(BD6/BE6,"")
C7: Identifiant unique des dispositifs (IUD)* | BC7: =COUNTIF(D7:BA7,"Oui") -> 0 | BD7: =COUNTIF(D7:BA7,"Non") -> 0 | BE7: =BC7+BD7 -> 0 | BG7: =IFERROR(BC7/BE7,"") | BH7: =IFERROR(BD7/BE7,"")
C8: Identification du DMI : dénomination | BC8: =COUNTIF(D8:BA8,"Oui") -> 0 | BD8: =COUNTIF(D8:BA8,"Non") -> 0 | BE8: =BC8+BD8 -> 0 | BG8: =IFERROR(BC8/BE8,"") | BH8: =IFERROR(BD8/BE8,"")
C9: Identification du DMI : numéro de série ou de lot | BC9: =COUNTIF(D9:BA9,"Oui") -> 0 | BD9: =COUNTIF(D9:BA9,"Non") -> 0 | BE9: =BC9+BD9 -> 0 | BG9: =IFERROR(BC9/BE9,"") | BH9: =IFERROR(BD9/BE9,"")
C10: Identification du DMI : nom du fabricant ou de son mandataire | BC10: =COUNTIF(D10:BA10,"Oui") -> 0 | BD10: =COUNTIF(D10:BA10,"Non") -> 0 | BE10: =BC10+BD10 -> 0 | BG10: =IFERROR(BC10/BE10,"") | BH10: =IFERROR(BD10/BE10,"")
C11: Identification du DMI : dimensions cliniques | BC11: =COUNTIF(D11:BA11,"Oui") -> 0 | BD11: =COUNTIF(D11:BA11,"Non") -> 0 | BE11: =BC11+BD11 -> 0 | BG11: =IFERROR(BC11/BE11,"") | BH11: =IFERROR(BD11/BE11,"")
C12: Identification du DMI : date d'expiration | BC12: =COUNTIF(D12:BA12,"Oui") -> 0 | BD12: =COUNTIF(D12:BA12,"Non") -> 0 | BE12: =BC12+BD12 -> 0 | BG12: =IFERROR(BC12/BE12,"") | BH12: =IFERROR(BD12/BE12,"")
C13: Date de délivrance du DMI au service utilisateur et quantité délivrée | BC13: =COUNTIF(D13:BA13,"Oui") -> 0 | BD13: =COUNTIF(D13:BA13,"Non") -> 0 | BE13: =BC13+BD13 -> 0 | BG13: =IFERROR(BC13/BE13,"") | BH13: =IFERROR(BD13/BE13,"")
C14: Identification du service utilisateur | BC14: =COUNTIF(D14:BA14,"Oui") -> 0 | BD14: =COUNTIF(D14:BA14,"Non") -> 0 | BE14: =BC14+BD14 -> 0 | BG14: =IFERROR(BC14/BE14,"") | BH14: =IFERROR(BD14/BE14,"")
B15: Traçabilité par le service utilisateur | C15: Date de réception, quantité réceptionnée et lieu de stockage du DMI** | BC15: =COUNTIF(D15:BA15,"Oui") -> 0 | BD15: =COUNTIF(D15:BA15,"Non") -> 0 | BE15: =BC15+BD15 -> 0 | BG15: =IFERROR(BC15/BE15,"") | BH15: =IFERROR(BD15/BE15,"")
C16: Date d’utilisation du DMI | BC16: =COUNTIF(D16:BA16,"Oui") -> 0 | BD16: =COUNTIF(D16:BA16,"Non") -> 0 | BE16: =BC16+BD16 -> 0 | BG16: =IFERROR(BC16/BE16,"") | BH16: =IFERROR(BD16/BE16,"")
C17: Identification du patient : sexe, nom et prénom | BC17: =COUNTIF(D17:BA17,"Oui") -> 0 | BD17: =COUNTIF(D17:BA17,"Non") -> 0 | BE17: =BC17+BD17 -> 0 | BG17: =IFERROR(BC17/BE17,"") | BH17: =IFERROR(BD17/BE17,"")
C18: Identification du patient : date et lieu de naissance | BC18: =COUNTIF(D18:BA18,"Oui") -> 0 | BD18: =COUNTIF(D18:BA18,"Non") -> 0 | BE18: =BC18+BD18 -> 0 | BG18: =IFERROR(BC18/BE18,"") | BH18: =IFERROR(BD18/BE18,"")
C19: Identification du professionnel de santé utilisateur : nom et prénom | BC19: =COUNTIF(D19:BA19,"Oui") -> 0 | BD19: =COUNTIF(D19:BA19,"Non") -> 0 | BE19: =BC19+BD19 -> 0 | BG19: =IFERROR(BC19/BE19,"") | BH19: =IFERROR(BD19/BE19,"")
C20: Identification du professionnel de santé utilisateur : RPPS | BC20: =COUNTIF(D20:BA20,"Oui") -> 0 | BD20: =COUNTIF(D20:BA20,"Non") -> 0 | BE20: =BC20+BD20 -> 0 | BG20: =IFERROR(BC20/BE20,"") | BH20: =IFERROR(BD20/BE20,"")
B21: Information du patient | C21: Identifiant unique des dispositifs (IUD)* | BC21: =COUNTIF(D21:BA21,"Oui") -> 0 | BD21: =COUNTIF(D21:BA21,"Non") -> 0 | BE21: =BC21+BD21 -> 0 | BG21: =IFERROR(BC21/BE21,"") | BH21: =IFERROR(BD21/BE21,"")
C22: Identification du DMI : dénomination | BC22: =COUNTIF(D22:BA22,"Oui") -> 0 | BD22: =COUNTIF(D22:BA22,"Non") -> 0 | BE22: =BC22+BD22 -> 0 | BG22: =IFERROR(BC22/BE22,"") | BH22: =IFERROR(BD22/BE22,"")
C23: Identification du DMI : numéro de série ou de lot | BC23: =COUNTIF(D23:BA23,"Oui") -> 0 | BD23: =COUNTIF(D23:BA23,"Non") -> 0 | BE23: =BC23+BD23 -> 0 | BG23: =IFERROR(BC23/BE23,"") | BH23: =IFERROR(BD23/BE23,"")
C24: Identification du DMI : nom du fabricant ou de son mandataire | BC24: =COUNTIF(D24:BA24,"Oui") -> 0 | BD24: =COUNTIF(D24:BA24,"Non") -> 0 | BE24: =BC24+BD24 -> 0 | BG24: =IFERROR(BC24/BE24,"") | BH24: =IFERROR(BD24/BE24,"")
C25: Date et lieu d’utilisation (service/ETS) | BC25: =COUNTIF(D25:BA25,"Oui") -> 0 | BD25: =COUNTIF(D25:BA25,"Non") -> 0 | BE25: =BC25+BD25 -> 0 | BG25: =IFERROR(BC25/BE25,"") | BH25: =IFERROR(BD25/BE25,"")
C26: Nom du médecin ou du chirurgien-dentiste utilisateur | BC26: =COUNTIF(D26:BA26,"Oui") -> 0 | BD26: =COUNTIF(D26:BA26,"Non") -> 0 | BE26: =BC26+BD26 -> 0 | BG26: =IFERROR(BC26/BE26,"") | BH26: =IFERROR(BD26/BE26,"")
C27: Durée de vie prévue du dispositif et suivi éventuel | BC27: =COUNTIF(D27:BA27,"Oui") -> 0 | BD27: =COUNTIF(D27:BA27,"Non") -> 0 | BE27: =BC27+BD27 -> 0 | BG27: =IFERROR(BC27/BE27,"") | BH27: =IFERROR(BD27/BE27,"")
C28: Mises en garde, précautions ou mesures à prendre par le patient ou le professionnel de santé* | BC28: =COUNTIF(D28:BA28,"Oui") -> 0 | BD28: =COUNTIF(D28:BA28,"Non") -> 0 | BE28: =BC28+BD28 -> 0 | BG28: =IFERROR(BC28/BE28,"") | BH28: =IFERROR(BD28/BE28,"")
C29: Carte d'implant* | BC29: =COUNTIF(D29:BA29,"Oui") -> 0 | BD29: =COUNTIF(D29:BA29,"Non") -> 0 | BE29: =BC29+BD29 -> 0 | BG29: =IFERROR(BC29/BE29,"") | BH29: =IFERROR(BD29/BE29,"")
C30: Traçabilité dans le dossier patient informatisé | BC30: =COUNTIF(D30:BA30,"Oui") -> 0 | BD30: =COUNTIF(D30:BA30,"Non") -> 0 | BE30: =BC30+BD30 -> 0 | BG30: =IFERROR(BC30/BE30,"") | BH30: =IFERROR(BD30/BE30,"")
C31: Traçabilité dans la lettre de liaison | BC31: =COUNTIF(D31:BA31,"Oui") -> 0 | BD31: =COUNTIF(D31:BA31,"Non") -> 0 | BE31: =BC31+BD31 -> 0 | BG31: =IFERROR(BC31/BE31,"") | BH31: =IFERROR(BD31/BE31,"")
C32: Traçabilité dans le dossier médical partagé, le cas échéant*** | BC32: =COUNTIF(D32:BA32,"Oui") -> 0 | BD32: =COUNTIF(D32:BA32,"Non") -> 0 | BE32: =BC32+BD32 -> 0 | BG32: =IFERROR(BC32/BE32,"") | BH32: =IFERROR(BD32/BE32,"")
C33: Traçabilité dans le dossier pharmaceutique, le cas échéant*** | BC33: =COUNTIF(D33:BA33,"Oui") -> 0 | BD33: =COUNTIF(D33:BA33,"Non") -> 0 | BE33: =BC33+BD33 -> 0 | BG33: =IFERROR(BC33/BE33,"") | BH33: =IFERROR(BD33/BE33,"")
B34: Conformité de la traçabilité | C34: Traçabilité du DMI conforme dans le dossier patient informatisé | D34: =IFERROR(COUNTIF(D6:D20,"Oui")/(COUNTA(D6:D20)-COUNTIF(D6:D20,"NA")),"") | E34: =IFERROR(COUNTIF(E6:E20,"Oui")/(COUNTA(E6:E20)-COUNTIF(E6:E20,"NA")),"") | F34: =IFERROR(COUNTIF(F6:F20,"Oui")/(COUNTA(F6:F20)-COUNTIF(F6:F20,"NA")),"") | G34: =IFERROR(COUNTIF(G6:G20,"Oui")/(COUNTA(G6:G20)-COUNTIF(G6:G20,"NA")),"") | H34: =IFERROR(COUNTIF(H6:H20,"Oui")/(COUNTA(H6:H20)-COUNTIF(H6:H20,"NA")),"") | I34: =IFERROR(COUNTIF(I6:I20,"Oui")/(COUNTA(I6:I20)-COUNTIF(I6:I20,"NA")),"") | J34: =IFERROR(COUNTIF(J6:J20,"Oui")/(COUNTA(J6:J20)-COUNTIF(J6:J20,"NA")),"") | K34: =IFERROR(COUNTIF(K6:K20,"Oui")/(COUNTA(K6:K20)-COUNTIF(K6:K20,"NA")),"") | ... BA34: =IFERROR(COUNTIF(BA6:BA20,"Oui")/(COUNTA(BA6:BA20)-COUNTIF(BA6:BA20,"NA")),"") | BC34: =SUM(BC6:BC20) -> 0 | BD34: =SUM(BD6:BD20) -> 0 | BE34: =SUM(BE6:BE20) -> 0 | BG34: =IFERROR(BC34/BE34,"") | BH34: =IFERROR(BD34/BE34,"")
C35: Traçabilité de la PUI conforme | D35: =IFERROR(COUNTIF(D6:D14,"Oui")/(COUNTA(D6:D14)-COUNTIF(D6:D14,"NA")),"") | E35: =IFERROR(COUNTIF(E6:E14,"Oui")/(COUNTA(E6:E14)-COUNTIF(E6:E14,"NA")),"") | F35: =IFERROR(COUNTIF(F6:F14,"Oui")/(COUNTA(F6:F14)-COUNTIF(F6:F14,"NA")),"") | G35: =IFERROR(COUNTIF(G6:G14,"Oui")/(COUNTA(G6:G14)-COUNTIF(G6:G14,"NA")),"") | H35: =IFERROR(COUNTIF(H6:H14,"Oui")/(COUNTA(H6:H14)-COUNTIF(H6:H14,"NA")),"") | I35: =IFERROR(COUNTIF(I6:I14,"Oui")/(COUNTA(I6:I14)-COUNTIF(I6:I14,"NA")),"") | J35: =IFERROR(COUNTIF(J6:J14,"Oui")/(COUNTA(J6:J14)-COUNTIF(J6:J14,"NA")),"") | K35: =IFERROR(COUNTIF(K6:K14,"Oui")/(COUNTA(K6:K14)-COUNTIF(K6:K14,"NA")),"") | ... BA35: =IFERROR(COUNTIF(BA6:BA14,"Oui")/(COUNTA(BA6:BA14)-COUNTIF(BA6:BA14,"NA")),"") | BC35: =SUM(BC6:BC14) -> 0 | BD35: =SUM(BD6:BD14) -> 0 | BE35: =SUM(BE6:BE14) -> 0 | BG35: =IFERROR(BC35/BE35,"") | BH35: =IFERROR(BD35/BE35,"")
C36: Traçabilité du service conforme | D36: =IFERROR(COUNTIF(D15:D20,"Oui")/(COUNTA(D15:D20)-COUNTIF(D15:D20,"NA")),"") | E36: =IFERROR(COUNTIF(E15:E20,"Oui")/(COUNTA(E15:E20)-COUNTIF(E15:E20,"NA")),"") | F36: =IFERROR(COUNTIF(F15:F20,"Oui")/(COUNTA(F15:F20)-COUNTIF(F15:F20,"NA")),"") | G36: =IFERROR(COUNTIF(G15:G20,"Oui")/(COUNTA(G15:G20)-COUNTIF(G15:G20,"NA")),"") | H36: =IFERROR(COUNTIF(H15:H20,"Oui")/(COUNTA(H15:H20)-COUNTIF(H15:H20,"NA")),"") | I36: =IFERROR(COUNTIF(I15:I20,"Oui")/(COUNTA(I15:I20)-COUNTIF(I15:I20,"NA")),"") | J36: =IFERROR(COUNTIF(J15:J20,"Oui")/(COUNTA(J15:J20)-COUNTIF(J15:J20,"NA")),"") | K36: =IFERROR(COUNTIF(K15:K20,"Oui")/(COUNTA(K15:K20)-COUNTIF(K15:K20,"NA")),"") | ... BA36: =IFERROR(COUNTIF(BA15:BA20,"Oui")/(COUNTA(BA15:BA20)-COUNTIF(BA15:BA20,"NA")),"") | BC36: =SUM(BC15:BC20) -> 0 | BD36: =SUM(BD15:BD20) -> 0 | BE36: =SUM(BE15:BE20) -> 0 | BG36: =IFERROR(BC36/BE36,"") | BH36: =IFERROR(BD36/BE36,"")
C37: Traçabilité de l’information du patient conforme | D37: =IFERROR(COUNTIF(D21:D33,"Oui")/(COUNTA(D21:D33)-COUNTIF(D21:D33,"NA")),"") | E37: =IFERROR(COUNTIF(E21:E33,"Oui")/(COUNTA(E21:E33)-COUNTIF(E21:E33,"NA")),"") | F37: =IFERROR(COUNTIF(F21:F33,"Oui")/(COUNTA(F21:F33)-COUNTIF(F21:F33,"NA")),"") | G37: =IFERROR(COUNTIF(G21:G33,"Oui")/(COUNTA(G21:G33)-COUNTIF(G21:G33,"NA")),"") | H37: =IFERROR(COUNTIF(H21:H33,"Oui")/(COUNTA(H21:H33)-COUNTIF(H21:H33,"NA")),"") | I37: =IFERROR(COUNTIF(I21:I33,"Oui")/(COUNTA(I21:I33)-COUNTIF(I21:I33,"NA")),"") | J37: =IFERROR(COUNTIF(J21:J33,"Oui")/(COUNTA(J21:J33)-COUNTIF(J21:J33,"NA")),"") | K37: =IFERROR(COUNTIF(K21:K33,"Oui")/(COUNTA(K21:K33)-COUNTIF(K21:K33,"NA")),"") | ... BA37: =IFERROR(COUNTIF(BA21:BA33,"Oui")/(COUNTA(BA21:BA33)-COUNTIF(BA21:BA33,"NA")),"") | BC37: =SUM(BC21:BC33) -> 0 | BD37: =SUM(BD21:BD33) -> 0 | BE37: =SUM(BE21:BE33) -> 0 | BG37: =IFERROR(BC37/BE37,"") | BH37: =IFERROR(BD37/BE37,"")
C38: * pour les DMI certifiés conformément au règlement européen UE 2017/745
C39: ** pour les DMI en dépôts
C40: *** selon les dispositions règlementaires en vigueur

Sheet Impression des résultats
A2: Etablissement : | C2: =Périmètre!E2 -> 0
A4: Date de l'audit : | C4: =IF(Périmètre!E4<>"",Périmètre!E4,"")
A6: Responsable de l'audit : | C6: =Périmètre!E6 -> 0
A8: Conformité de la traçabilité : Tableau des résultats
A12: Critères | F12: Effectifs | I12: Pourcentages
F13: Oui | G13: Non | H13: Total | I13: Oui | J13: Non
A14: Traçabilité par la PUI (ou par la personne en charge des commandes/gestion des stocks pour les ETS sans PUI) | C14: PUI - Date de réception du DMI et quantité réceptionnée | F14: ='Traçabilité qualitative'!BC6 -> 0 | G14: ='Traçabilité qualitative'!BD6 -> 0 | H14: ='Traçabilité qualitative'!BE6 -> 0 | I14: =IFERROR('Traçabilité qualitative'!BG6,"") | J14: =IFERROR('Traçabilité qualitative'!BH6,"")
C15: PUI - Identifiant unique des dispositifs (IUD) | F15: ='Traçabilité qualitative'!BC7 -> 0 | G15: ='Traçabilité qualitative'!BD7 -> 0 | H15: ='Traçabilité qualitative'!BE7 -> 0 | I15: =IFERROR('Traçabilité qualitative'!BG7,"") | J15: =IFERROR('Traçabilité qualitative'!BH7,"")
C16: PUI - Identification de chaque DMI : dénomination | F16: ='Traçabilité qualitative'!BC8 -> 0 | G16: ='Traçabilité qualitative'!BD8 -> 0 | H16: ='Traçabilité qualitative'!BE8 -> 0 | I16: =IFERROR('Traçabilité qualitative'!BG8,"") | J16: =IFERROR('Traçabilité qualitative'!BH8,"")
C17: PUI - Identification de chaque DMI : numéro de série ou de lot | F17: ='Traçabilité qualitative'!BC9 -> 0 | G17: ='Traçabilité qualitative'!BD9 -> 0 | H17: ='Traçabilité qualitative'!BE9 -> 0 | I17: =IFERROR('Traçabilité qualitative'!BG9,"") | J17: =IFERROR('Traçabilité qualitative'!BH9,"")
C18: PUI - Identification de chaque DMI : nom du fabricant ou de son mandataire | F18: ='Traçabilité qualitative'!BC10 -> 0 | G18: ='Traçabilité qualitative'!BD10 -> 0 | H18: ='Traçabilité qualitative'!BE10 -> 0 | I18: =IFERROR('Traçabilité qualitative'!BG10,"") | J18: =IFERROR('Traçabilité qualitative'!BH10,"")
C19: PUI - Identification de chaque DMI : dimensions cliniques | F19: ='Traçabilité qualitative'!BC11 -> 0 | G19: ='Traçabilité qualitative'!BD11 -> 0 | H19: ='Traçabilité qualitative'!BE11 -> 0 | I19: =IFERROR('Traçabilité qualitative'!BG11,"") | J19: =IFERROR('Traçabilité qualitative'!BH11,"")
C20: PUI - Identification de chaque DMI : date d'expiration | F20: ='Traçabilité qualitative'!BC12 -> 0 | G20: ='Traçabilité qualitative'!BD12 -> 0 | H20: ='Traçabilité qualitative'!BE12 -> 0 | J20: =IFERROR('Traçabilité qualitative'!BH12,"")
C21: PUI - Date de délivrance du DMI au service utilisateur et quantité délivrée | F21: ='Traçabilité qualitative'!BC13 -> 0 | G21: ='Traçabilité qualitative'!BD13 -> 0 | H21: ='Traçabilité qualitative'!BE13 -> 0 | I21: =IFERROR('Traçabilité qualitative'!BG13,"") | J21: =IFERROR('Traçabilité qualitative'!BH13,"")
C22: PUI - Identification du service utilisateur | F22: ='Traçabilité qualitative'!BC14 -> 0 | G22: ='Traçabilité qualitative'!BD14 -> 0 | H22: ='Traçabilité qualitative'!BE14 -> 0 | I22: =IFERROR('Traçabilité qualitative'!BG14,"") | J22: =IFERROR('Traçabilité qualitative'!BH14,"")
A23: Traçabilité par le service utilisateur | C23: Service - Date de réception, quantité réceptionnée et lieu de stockage du DMI en dépôt | F23: ='Traçabilité qualitative'!BC15 -> 0 | G23: ='Traçabilité qualitative'!BD15 -> 0 | H23: ='Traçabilité qualitative'!BE15 -> 0 | I23: =IFERROR('Traçabilité qualitative'!BG15,"") | J23: =IFERROR('Traçabilité qualitative'!BH15,"")
C24: Service - Date d’utilisation du DMI | F24: ='Traçabilité qualitative'!BC16 -> 0 | G24: ='Traçabilité qualitative'!BD16 -> 0 | H24: ='Traçabilité qualitative'!BE16 -> 0 | I24: =IFERROR('Traçabilité qualitative'!BG16,"") | J24: =IFERROR('Traçabilité qualitative'!BH16,"")
C25: Service - Identification du patient : sexe, nom et prénom | F25: ='Traçabilité qualitative'!BC17 -> 0 | G25: ='Traçabilité qualitative'!BD17 -> 0 | H25: ='Traçabilité qualitative'!BE17 -> 0 | I25: =IFERROR('Traçabilité qualitative'!BG17,"") | J25: =IFERROR('Traçabilité qualitative'!BH17,"")
C26: Service - Identification du patient : date et lieu de naissance | F26: ='Traçabilité qualitative'!BC18 -> 0 | G26: ='Traçabilité qualitative'!BD18 -> 0 | H26: ='Traçabilité qualitative'!BE18 -> 0 | I26: =IFERROR('Traçabilité qualitative'!BG18,"") | J26: =IFERROR('Traçabilité qualitative'!BH18,"")
C27: Service - Identification du professionnel de santé utilisateur : nom et prénom | F27: ='Traçabilité qualitative'!BC19 -> 0 | G27: ='Traçabilité qualitative'!BD19 -> 0 | H27: ='Traçabilité qualitative'!BE19 -> 0 | I27: =IFERROR('Traçabilité qualitative'!BG19,"") | J27: =IFERROR('Traçabilité qualitative'!BH19,"")
C28: Service - Identification du professionnel de santé utilisateur : RPPS | F28: ='Traçabilité qualitative'!BC20 -> 0 | G28: ='Traçabilité qualitative'!BD20 -> 0 | H28: ='Traçabilité qualitative'!BE20 -> 0 | I28: =IFERROR('Traçabilité qualitative'!BG20,"") | J28: =IFERROR('Traçabilité qualitative'!BH20,"")
A29: Information du patient | C29: Identifiant unique des dispositifs (IUD) | F29: ='Traçabilité qualitative'!BC21 -> 0 | G29: ='Traçabilité qualitative'!BD21 -> 0 | H29: ='Traçabilité qualitative'!BE21 -> 0 | I29: =IFERROR('Traçabilité qualitative'!BG21,"") | J29: =IFERROR('Traçabilité qualitative'!BH21,"")
C30: Identification du DMI : dénomination | F30: ='Traçabilité qualitative'!BC22 -> 0 | G30: ='Traçabilité qualitative'!BD22 -> 0 | H30: ='Traçabilité qualitative'!BE22 -> 0 | I30: =IFERROR('Traçabilité qualitative'!BG22,"") | J30: =IFERROR('Traçabilité qualitative'!BH22,"")
C31: Identification du DMI : numéro de série ou de lot | F31: ='Traçabilité qualitative'!BC23 -> 0 | G31: ='Traçabilité qualitative'!BD23 -> 0 | H31: ='Traçabilité qualitative'!BE23 -> 0 | I31: =IFERROR('Traçabilité qualitative'!BG23,"") | J31: =IFERROR('Traçabilité qualitative'!BH23,"")
C32: Identification du DMI : nom du fabricant ou de son mandataire | F32: ='Traçabilité qualitative'!BC24 -> 0 | G32: ='Traçabilité qualitative'!BD24 -> 0 | H32: ='Traçabilité qualitative'!BE24 -> 0 | I32: =IFERROR('Traçabilité qualitative'!BG24,"") | J32: =IFERROR('Traçabilité qualitative'!BH24,"")
C33: Date et lieu d’utilisation (service/ETS) | F33: ='Traçabilité qualitative'!BC25 -> 0 | G33: ='Traçabilité qualitative'!BD25 -> 0 | H33: ='Traçabilité qualitative'!BE25 -> 0 | I33: =IFERROR('Traçabilité qualitative'!BG25,"") | J33: =IFERROR('Traçabilité qualitative'!BH25,"")
C34: Nom du médecin ou du chirurgien-dentiste utilisateur | F34: ='Traçabilité qualitative'!BC26 -> 0 | G34: ='Traçabilité qualitative'!BD26 -> 0 | H34: ='Traçabilité qualitative'!BE26 -> 0 | I34: =IFERROR('Traçabilité qualitative'!BG26,"") | J34: =IFERROR('Traçabilité qualitative'!BH26,"")
C35: Durée de vie prévue du dispositif et suivi eventuel | F35: ='Traçabilité qualitative'!BC27 -> 0 | G35: ='Traçabilité qualitative'!BD27 -> 0 | H35: ='Traçabilité qualitative'!BE27 -> 0 | I35: =IFERROR('Traçabilité qualitative'!BG27,"") | J35: =IFERROR('Traçabilité qualitative'!BH27,"")
C36: Mises en garde, précautions ou mesures à prendre par le patient ou le professionnel de santé | F36: ='Traçabilité qualitative'!BC28 -> 0 | G36: ='Traçabilité qualitative'!BD28 -> 0 | H36: ='Traçabilité qualitative'!BE28 -> 0 | I36: =IFERROR('Traçabilité qualitative'!BG28,"") | J36: =IFERROR('Traçabilité qualitative'!BH28,"")
C37: Carte d'implant | F37: ='Traçabilité qualitative'!BC29 -> 0 | G37: ='Traçabilité qualitative'!BD29 -> 0 | H37: ='Traçabilité qualitative'!BE29 -> 0 | I37: =IFERROR('Traçabilité qualitative'!BG29,"") | J37: =IFERROR('Traçabilité qualitative'!BH29,"")
C38: Traçabilité dans le dossier patient informatisé | F38: ='Traçabilité qualitative'!BC30 -> 0 | G38: ='Traçabilité qualitative'!BD30 -> 0 | H38: ='Traçabilité qualitative'!BE30 -> 0 | I38: =IFERROR('Traçabilité qualitative'!BG30,"") | J38: =IFERROR('Traçabilité qualitative'!BH30,"")
C39: Traçabilité dans la lettre de liaison | F39: ='Traçabilité qualitative'!BC31 -> 0 | G39: ='Traçabilité qualitative'!BD31 -> 0 | H39: ='Traçabilité qualitative'!BE31 -> 0 | I39: =IFERROR('Traçabilité qualitative'!BG31,"") | J39: =IFERROR('Traçabilité qualitative'!BH31,"")
C40: Traçabilité dans le dossier médical partagé | F40: ='Traçabilité qualitative'!BC32 -> 0 | G40: ='Traçabilité qualitative'!BD32 -> 0 | H40: ='Traçabilité qualitative'!BE32 -> 0 | I40: =IFERROR('Traçabilité qualitative'!BG32,"") | J40: =IFERROR('Traçabilité qualitative'!BH32,"")
C41: Traçabilité dans le dossier pharmaceutique | F41: ='Traçabilité qualitative'!BC33 -> 0 | G41: ='Traçabilité qualitative'!BD33 -> 0 | H41: ='Traçabilité qualitative'!BE33 -> 0 | I41: =IFERROR('Traçabilité qualitative'!BG33,"") | J41: =IFERROR('Traçabilité qualitative'!BH33,"")
A42: Critères | I42: Pourcentages
I43: Oui | J43: Non
A44: Conformité de la traçabilité | C44: Traçabilité du DMI conforme dans le dossier patient informatisé | F44: ='Traçabilité qualitative'!BC34 -> 0 | G44: ='Traçabilité qualitative'!BD34 -> 0 | H44: ='Traçabilité qualitative'!BE34 -> 0 | I44: =IFERROR('Traçabilité qualitative'!BG34,"") | J44: =IFERROR('Traçabilité qualitative'!BH34,"")
C45: Traçabilité par la PUI conforme | F45: ='Traçabilité qualitative'!BC35 -> 0 | G45: ='Traçabilité qualitative'!BD35 -> 0 | H45: ='Traçabilité qualitative'!BE35 -> 0 | I45: =IFERROR('Traçabilité qualitative'!BG35,"") | J45: =IFERROR('Traçabilité qualitative'!BH35,"")
C46: Traçabilité par le service conforme | F46: ='Traçabilité qualitative'!BC36 -> 0 | G46: ='Traçabilité qualitative'!BD36 -> 0 | H46: ='Traçabilité qualitative'!BE36 -> 0 | I46: =IFERROR('Traçabilité qualitative'!BG36,"") | J46: =IFERROR('Traçabilité qualitative'!BH36,"")
C47: Traçabilité de l’information du patient conforme | F47: ='Traçabilité qualitative'!BC37 -> 0 | G47: ='Traçabilité qualitative'!BD37 -> 0 | H47: ='Traçabilité qualitative'!BE37 -> 0 | I47: =IFERROR('Traçabilité qualitative'!BG37,"") | J47: =IFERROR('Traçabilité qualitative'!BH37,"")
A48: Etablissement : | C48: =Périmètre!E2 -> 0
A50: Date de la saisie : | C50: =C4
A52: Responsable de l'audit : | C52: =Périmètre!E6 -> 0
A54: Conformité de la traçabilité : Graphiques
A98: Etablissement : | C98: =Périmètre!E2 -> 0
A100: Date de l'audit : | C100: =C4
A102: Responsable de l'audit : | C102: =Périmètre!E6 -> 0
A104: Réponses aux indicateurs à retranscrire dans le cadre du Contrat d'Amélioration de la Qualité et de l'Efficience des Soins (CAQES)
A110: REG 18 : Existence d'une procédure portant sur la traçabilité sanitaire des DMI (art. R.5212-37 du CSP) | J110: =Périmètre!N23 -> 0
A115: REG 19 : Traçabilité complète des DMI dans le dossier patient | C115: Nombre de dossiers patient avec pose d'un DMI comportant l'ensemble des informations de traçabilité réglementaire | I115: ='Traçabilité qualitative'!BC37 -> 0 | J115: =IFERROR(I115/I116,"")
C116: Nombre total d'unités de DMI implantées | I116: ='Traçabilité qualitative'!BE37 -> 0
A119: NAT 2 : Taux de traçabilité des DMI | C119: Nombre d'unités de DMI dont l'implantation est informatiquement tracée | I119: ='Traçabilité quantitative'!F14 -> 0 | J119: =IFERROR(I119/I120,"")
C120: Nombre de dossiers patient avec pose d'un DMI analysés | I120: ='Traçabilité quantitative'!H14+'Traçabilité quantitative'!F14 -> 0

Sheet Comparaison entre années
B2: Etablissement : | C2: =Périmètre!E2 -> 0
B4: Responsable de l'audit : | C4: =Périmètre!E6 -> 0
E5: Résultats de l'audit rétrospectif sur la conformité de la traçabilité :
D7: Année : | G7: =IF(Périmètre!E4<>"",YEAR(Périmètre!E4),"") | I7: Année : | N7: Année :
D8: Effectifs | G8: Pourcentages | I8: Effectifs | L8: Pourcentages | N8: Effectifs | Q8: Pourcentages
D9: Oui | E9: Non | F9: Total | G9: Oui | H9: Non | I9: Oui | J9: Non | K9: Total | L9: Oui | M9: Non | N9: Oui | O9: Non | P9: Total | Q9: Oui | R9: Non
B10: Traçabilité par la PUI (ou par la personne en charge des commandes/gestion des stocks pour les ETS sans PUI) | C10: Date de réception du DMI et quantité réceptionnée | D10: ='Traçabilité qualitative'!BC6 -> 0 | E10: ='Traçabilité qualitative'!BD6 -> 0 | F10: ='Traçabilité qualitative'!BE6 -> 0 | G10: ='Traçabilité qualitative'!BG6 | H10: ='Traçabilité qualitative'!BH6 | K10: =I10+J10 -> 0 | L10: =IFERROR(I10/K10,"") | M10: =IFERROR(J10/K10,"") | P10: =O10+N10 -> 0 | Q10: =IFERROR(N10/P10,"") | R10: =IFERROR(O10/P10,"")
C11: Identifiant unique des dispositifs (IUD) | D11: ='Traçabilité qualitative'!BC7 -> 0 | E11: ='Traçabilité qualitative'!BD7 -> 0 | F11: ='Traçabilité qualitative'!BE7 -> 0 | G11: ='Traçabilité qualitative'!BG7 | H11: ='Traçabilité qualitative'!BH7 | K11: =I11+J11 -> 0 | L11: =IFERROR(I11/K11,"") | M11: =IFERROR(J11/K11,"") | P11: =O11+N11 -> 0 | Q11: =IFERROR(N11/P11,"") | R11: =IFERROR(O11/P11,"")
C12: Identification du DMI : dénomination | D12: ='Traçabilité qualitative'!BC8 -> 0 | E12: ='Traçabilité qualitative'!BD8 -> 0 | F12: ='Traçabilité qualitative'!BE8 -> 0 | G12: ='Traçabilité qualitative'!BG8 | H12: ='Traçabilité qualitative'!BH8 | K12: =I12+J12 -> 0 | L12: =IFERROR(I12/K12,"") | M12: =IFERROR(J12/K12,"") | P12: =O12+N12 -> 0 | Q12: =IFERROR(N12/P12,"") | R12: =IFERROR(O12/P12,"")
C13: Identification du DMI : numéro de série ou de lot | D13: ='Traçabilité qualitative'!BC9 -> 0 | E13: ='Traçabilité qualitative'!BD9 -> 0 | F13: ='Traçabilité qualitative'!BE9 -> 0 | G13: ='Traçabilité qualitative'!BG9 | H13: ='Traçabilité qualitative'!BH9 | K13: =I13+J13 -> 0 | L13: =IFERROR(I13/K13,"") | M13: =IFERROR(J13/K13,"") | P13: =O13+N13 -> 0 | Q13: =IFERROR(N13/P13,"") | R13: =IFERROR(O13/P13,"")
C14: Identification du DMI : nom du fabricant ou de son mandataire | D14: ='Traçabilité qualitative'!BC10 -> 0 | E14: ='Traçabilité qualitative'!BD10 -> 0 | F14: ='Traçabilité qualitative'!BE10 -> 0 | G14: ='Traçabilité qualitative'!BG10 | H14: ='Traçabilité qualitative'!BH10 | K14: =I14+J14 -> 0 | L14: =IFERROR(I14/K14,"") | M14: =IFERROR(J14/K14,"") | P14: =O14+N14 -> 0 | Q14: =IFERROR(N14/P14,"") | R14: =IFERROR(O14/P14,"")
C15: Identification du DMI : dimensions cliniques | D15: ='Traçabilité qualitative'!BC11 -> 0 | E15: ='Traçabilité qualitative'!BD11 -> 0 | F15: ='Traçabilité qualitative'!BE11 -> 0 | G15: ='Traçabilité qualitative'!BG11 | H15: ='Traçabilité qualitative'!BH11 | K15: =I15+J15 -> 0 | L15: =IFERROR(I15/K15,"") | M15: =IFERROR(J15/K15,"") | P15: =O15+N15 -> 0 | Q15: =IFERROR(N15/P15,"") | R15: =IFERROR(O15/P15,"")
C16: Identification du DMI : date d'expiration | D16: ='Traçabilité qualitative'!BC12 -> 0 | E16: ='Traçabilité qualitative'!BD12 -> 0 | F16: ='Traçabilité qualitative'!BE12 -> 0 | G16: ='Traçabilité qualitative'!BG12 | H16: ='Traçabilité qualitative'!BH12 | K16: =I16+J16 -> 0 | L16: =IFERROR(I16/K16,"") | M16: =IFERROR(J16/K16,"") | P16: =O16+N16 -> 0 | Q16: =IFERROR(N16/P16,"") | R16: =IFERROR(O16/P16,"")
C17: Date de délivrance du DMI au service utilisateur et quantité délivrée | D17: ='Traçabilité qualitative'!BC13 -> 0 | E17: ='Traçabilité qualitative'!BD13 -> 0 | F17: ='Traçabilité qualitative'!BE13 -> 0 | G17: ='Traçabilité qualitative'!BG13 | H17: ='Traçabilité qualitative'!BH13 | K17: =I17+J17 -> 0 | L17: =IFERROR(I17/K17,"") | M17: =IFERROR(J17/K17,"") | P17: =O17+N17 -> 0 | Q17: =IFERROR(N17/P17,"") | R17: =IFERROR(O17/P17,"")
C18: Identification du service utilisateur | D18: ='Traçabilité qualitative'!BC14 -> 0 | E18: ='Traçabilité qualitative'!BD14 -> 0 | F18: ='Traçabilité qualitative'!BE14 -> 0 | G18: ='Traçabilité qualitative'!BG14 | H18: ='Traçabilité qualitative'!BH14 | K18: =I18+J18 -> 0 | L18: =IFERROR(I18/K18,"") | M18: =IFERROR(J18/K18,"") | P18: =O18+N18 -> 0 | Q18: =IFERROR(N18/P18,"") | R18: =IFERROR(O18/P18,"")
B19: Traçabilité par le service utilisateur | C19: Date de réception, quantité réceptionnée et lieu de stockage du DMI | D19: ='Traçabilité qualitative'!BC15 -> 0 | E19: ='Traçabilité qualitative'!BD15 -> 0 | F19: ='Traçabilité qualitative'!BE15 -> 0 | G19: ='Traçabilité qualitative'!BG15 | H19: ='Traçabilité qualitative'!BH15 | K19: =I19+J19 -> 0 | L19: =IFERROR(I19/K19,"") | M19: =IFERROR(J19/K19,"") | P19: =O19+N19 -> 0 | Q19: =IFERROR(N19/P19,"") | R19: =IFERROR(O19/P19,"")
C20: Date d’utilisation du DMI | D20: ='Traçabilité qualitative'!BC16 -> 0 | E20: ='Traçabilité qualitative'!BD16 -> 0 | F20: ='Traçabilité qualitative'!BE16 -> 0 | G20: ='Traçabilité qualitative'!BG16 | H20: ='Traçabilité qualitative'!BH16 | K20: =I20+J20 -> 0 | L20: =IFERROR(I20/K20,"") | M20: =IFERROR(J20/K20,"") | P20: =O20+N20 -> 0 | Q20: =IFERROR(N20/P20,"") | R20: =IFERROR(O20/P20,"")
C21: Identification du patient : sexe, nom et prénom | D21: ='Traçabilité qualitative'!BC17 -> 0 | E21: ='Traçabilité qualitative'!BD17 -> 0 | F21: ='Traçabilité qualitative'!BE17 -> 0 | G21: ='Traçabilité qualitative'!BG17 | H21: ='Traçabilité qualitative'!BH17 | K21: =I21+J21 -> 0 | L21: =IFERROR(I21/K21,"") | M21: =IFERROR(J21/K21,"") | P21: =O21+N21 -> 0 | Q21: =IFERROR(N21/P21,"") | R21: =IFERROR(O21/P21,"")
C22: Identification du patient : date et lieu de naissance | D22: ='Traçabilité qualitative'!BC18 -> 0 | E22: ='Traçabilité qualitative'!BD18 -> 0 | F22: ='Traçabilité qualitative'!BE18 -> 0 | G22: ='Traçabilité qualitative'!BG18 | H22: ='Traçabilité qualitative'!BH18 | K22: =I22+J22 -> 0 | L22: =IFERROR(I22/K22,"") | M22: =IFERROR(J22/K22,"") | P22: =O22+N22 -> 0 | Q22: =IFERROR(N22/P22,"") | R22: =IFERROR(O22/P22,"")
C23: Identification du professionnel de santé utilisateur : nom et prénom | D23: ='Traçabilité qualitative'!BC19 -> 0 | E23: ='Traçabilité qualitative'!BD19 -> 0 | F23: ='Traçabilité qualitative'!BE19 -> 0 | G23: ='Traçabilité qualitative'!BG19 | H23: ='Traçabilité qualitative'!BH19 | K23: =I23+J23 -> 0 | L23: =IFERROR(I23/K23,"") | M23: =IFERROR(J23/K23,"") | P23: =O23+N23 -> 0 | Q23: =IFERROR(N23/P23,"") | R23: =IFERROR(O23/P23,"")
C24: Identification du professionnel de santé utilisateur : RPPS | D24: ='Traçabilité qualitative'!BC20 -> 0 | E24: ='Traçabilité qualitative'!BD20 -> 0 | F24: ='Traçabilité qualitative'!BE20 -> 0 | G24: ='Traçabilité qualitative'!BG20 | H24: ='Traçabilité qualitative'!BH20 | K24: =I24+J24 -> 0 | L24: =IFERROR(I24/K24,"") | M24: =IFERROR(J24/K24,"") | P24: =O24+N24 -> 0 | Q24: =IFERROR(N24/P24,"") | R24: =IFERROR(O24/P24,"")
B25: Information du patient | C25: Identifiant unique des dispositifs (IUD) | D25: ='Traçabilité qualitative'!BC21 -> 0 | E25: ='Traçabilité qualitative'!BD21 -> 0 | F25: ='Traçabilité qualitative'!BE21 -> 0 | G25: ='Traçabilité qualitative'!BG21 | H25: ='Traçabilité qualitative'!BH21 | K25: =I25+J25 -> 0 | L25: =IFERROR(I25/K25,"") | M25: =IFERROR(J25/K25,"") | P25: =O25+N25 -> 0 | Q25: =IFERROR(N25/P25,"") | R25: =IFERROR(O25/P25,"")
C26: Identification du DMI : dénomination | D26: ='Traçabilité qualitative'!BC22 -> 0 | E26: ='Traçabilité qualitative'!BD22 -> 0 | F26: ='Traçabilité qualitative'!BE22 -> 0 | G26: ='Traçabilité qualitative'!BG22 | H26: ='Traçabilité qualitative'!BH22 | K26: =I26+J26 -> 0 | L26: =IFERROR(I26/K26,"") | M26: =IFERROR(J26/K26,"") | P26: =O26+N26 -> 0 | Q26: =IFERROR(N26/P26,"") | R26: =IFERROR(O26/P26,"")
C27: Identification du DMI : numéro de série ou de lot | D27: ='Traçabilité qualitative'!BC23 -> 0 | E27: ='Traçabilité qualitative'!BD23 -> 0 | F27: ='Traçabilité qualitative'!BE23 -> 0 | G27: ='Traçabilité qualitative'!BG23 | H27: ='Traçabilité qualitative'!BH23 | K27: =I27+J27 -> 0 | L27: =IFERROR(I27/K27,"") | M27: =IFERROR(J27/K27,"") | P27: =O27+N27 -> 0 | Q27: =IFERROR(N27/P27,"") | R27: =IFERROR(O27/P27,"")
C28: Identification du DMI : nom du fabricant ou de son mandataire | D28: ='Traçabilité qualitative'!BC24 -> 0 | E28: ='Traçabilité qualitative'!BD24 -> 0 | F28: ='Traçabilité qualitative'!BE24 -> 0 | G28: ='Traçabilité qualitative'!BG24 | H28: ='Traçabilité qualitative'!BH24 | K28: =I28+J28 -> 0 | L28: =IFERROR(I28/K28,"") | M28: =IFERROR(J28/K28,"") | P28: =O28+N28 -> 0 | Q28: =IFERROR(N28/P28,"") | R28: =IFERROR(O28/P28,"")
C29: Date et lieu d’utilisation (service/ETS) | D29: ='Traçabilité qualitative'!BC25 -> 0 | E29: ='Traçabilité qualitative'!BD25 -> 0 | F29: ='Traçabilité qualitative'!BE25 -> 0 | G29: ='Traçabilité qualitative'!BG25 | H29: ='Traçabilité qualitative'!BH25 | K29: =I29+J29 -> 0 | L29: =IFERROR(I29/K29,"") | M29: =IFERROR(J29/K29,"") | P29: =O29+N29 -> 0 | Q29: =IFERROR(N29/P29,"") | R29: =IFERROR(O29/P29,"")
C30: Nom du médecin ou du chirurgien-dentiste utilisateur | D30: ='Traçabilité qualitative'!BC26 -> 0 | E30: ='Traçabilité qualitative'!BD26 -> 0 | F30: ='Traçabilité qualitative'!BE26 -> 0 | G30: ='Traçabilité qualitative'!BG26 | H30: ='Traçabilité qualitative'!BH26 | K30: =I30+J30 -> 0 | L30: =IFERROR(I30/K30,"") | M30: =IFERROR(J30/K30,"") | P30: =O30+N30 -> 0 | Q30: =IFERROR(N30/P30,"") | R30: =IFERROR(O30/P30,"")
C31: Durée de vie prévue du dispositif et suivi éventuel | D31: ='Traçabilité qualitative'!BC27 -> 0 | E31: ='Traçabilité qualitative'!BD27 -> 0 | F31: ='Traçabilité qualitative'!BE27 -> 0 | G31: ='Traçabilité qualitative'!BG27 | H31: ='Traçabilité qualitative'!BH27 | K31: =I31+J31 -> 0 | L31: =IFERROR(I31/K31,"") | M31: =IFERROR(J31/K31,"") | P31: =O31+N31 -> 0 | Q31: =IFERROR(N31/P31,"") | R31: =IFERROR(O31/P31,"")
C32: Mises en garde, précautions ou mesures à prendre par le patient ou le professionnel de santé | D32: ='Traçabilité qualitative'!BC28 -> 0 | E32: ='Traçabilité qualitative'!BD28 -> 0 | F32: ='Traçabilité qualitative'!BE28 -> 0 | G32: ='Traçabilité qualitative'!BG28 | H32: ='Traçabilité qualitative'!BH28 | K32: =I32+J32 -> 0 | L32: =IFERROR(I32/K32,"") | M32: =IFERROR(J32/K32,"") | P32: =O32+N32 -> 0 | Q32: =IFERROR(N32/P32,"") | R32: =IFERROR(O32/P32,"")
C33: Carte d'implant | D33: ='Traçabilité qualitative'!BC29 -> 0 | E33: ='Traçabilité qualitative'!BD29 -> 0 | F33: ='Traçabilité qualitative'!BE29 -> 0 | G33: ='Traçabilité qualitative'!BG29 | H33: ='Traçabilité qualitative'!BH29 | K33: =I33+J33 -> 0 | L33: =IFERROR(I33/K33,"") | M33: =IFERROR(J33/K33,"") | P33: =O33+N33 -> 0 | Q33: =IFERROR(N33/P33,"") | R33: =IFERROR(O33/P33,"")
C34: Traçabilité dans le dossier patient informatisé | D34: ='Traçabilité qualitative'!BC30 -> 0 | E34: ='Traçabilité qualitative'!BD30 -> 0 | F34: ='Traçabilité qualitative'!BE30 -> 0 | G34: ='Traçabilité qualitative'!BG30 | H34: ='Traçabilité qualitative'!BH30 | K34: =I34+J34 -> 0 | L34: =IFERROR(I34/K34,"") | M34: =IFERROR(J34/K34,"") | P34: =O34+N34 -> 0 | Q34: =IFERROR(N34/P34,"") | R34: =IFERROR(O34/P34,"")
C35: Traçabilité dans la lettre de liaison | D35: ='Traçabilité qualitative'!BC31 -> 0 | E35: ='Traçabilité qualitative'!BD31 -> 0 | F35: ='Traçabilité qualitative'!BE31 -> 0 | G35: ='Traçabilité qualitative'!BG31 | H35: ='Traçabilité qualitative'!BH31 | K35: =I35+J35 -> 0 | L35: =IFERROR(I35/K35,"") | M35: =IFERROR(J35/K35,"") | P35: =O35+N35 -> 0 | Q35: =IFERROR(N35/P35,"") | R35: =IFERROR(O35/P35,"")
C36: Traçabilité dans le dossier médical partagé, le cas échéant | D36: ='Traçabilité qualitative'!BC32 -> 0 | E36: ='Traçabilité qualitative'!BD32 -> 0 | F36: ='Traçabilité qualitative'!BE32 -> 0 | G36: ='Traçabilité qualitative'!BG32 | H36: ='Traçabilité qualitative'!BH32 | K36: =I36+J36 -> 0 | L36: =IFERROR(I36/K36,"") | M36: =IFERROR(J36/K36,"") | P36: =O36+N36 -> 0 | Q36: =IFERROR(N36/P36,"") | R36: =IFERROR(O36/P36,"")
C37: Traçabilité dans le dossier pharmaceutique, le cas échéant | D37: ='Traçabilité qualitative'!BC33 -> 0 | E37: ='Traçabilité qualitative'!BD33 -> 0 | F37: ='Traçabilité qualitative'!BE33 -> 0 | G37: ='Traçabilité qualitative'!BG33 | H37: ='Traçabilité qualitative'!BH33 | K37: =I37+J37 -> 0 | L37: =IFERROR(I37/K37,"") | M37: =IFERROR(J37/K37,"") | P37: =O37+N37 -> 0 | Q37: =IFERROR(N37/P37,"") | R37: =IFERROR(O37/P37,"")
B38: Conformité de la traçabilité | C38: Traçabilité du DMI conforme dans le dossier patient informatisé | D38: ='Traçabilité qualitative'!BC34 -> 0 | E38: ='Traçabilité qualitative'!BD34 -> 0 | F38: ='Traçabilité qualitative'!BE34 -> 0 | G38: ='Traçabilité qualitative'!BG34 | H38: ='Traçabilité qualitative'!BH34 | K38: =I38+J38 -> 0 | L38: =IFERROR(I38/K38,"") | M38: =IFERROR(J38/K38,"") | P38: =O38+N38 -> 0 | Q38: =IFERROR(N38/P38,"") | R38: =IFERROR(O38/P38,"")
C39: Traçabilité de la PUI conforme | D39: ='Traçabilité qualitative'!BC35 -> 0 | E39: ='Traçabilité qualitative'!BD35 -> 0 | F39: ='Traçabilité qualitative'!BE35 -> 0 | G39: ='Traçabilité qualitative'!BG35 | H39: ='Traçabilité qualitative'!BH35 | K39: =I39+J39 -> 0 | L39: =IFERROR(I39/K39,"") | M39: =IFERROR(J39/K39,"") | P39: =O39+N39 -> 0 | Q39: =IFERROR(N39/P39,"") | R39: =IFERROR(O39/P39,"")
C40: Traçabilité du service conforme | D40: ='Traçabilité qualitative'!BC36 -> 0 | E40: ='Traçabilité qualitative'!BD36 -> 0 | F40: ='Traçabilité qualitative'!BE36 -> 0 | G40: ='Traçabilité qualitative'!BG36 | H40: ='Traçabilité qualitative'!BH36 | K40: =I40+J40 -> 0 | L40: =IFERROR(I40/K40,"") | M40: =IFERROR(J40/K40,"") | P40: =O40+N40 -> 0 | Q40: =IFERROR(N40/P40,"") | R40: =IFERROR(O40/P40,"")
C41: Traçabilité de l’information du patient conforme | D41: ='Traçabilité qualitative'!BC37 -> 0 | E41: ='Traçabilité qualitative'!BD37 -> 0 | F41: ='Traçabilité qualitative'!BE37 -> 0 | G41: ='Traçabilité qualitative'!BG37 | H41: ='Traçabilité qualitative'!BH37 | K41: =I41+J41 -> 0 | L41: =IFERROR(I41/K41,"") | M41: =IFERROR(J41/K41,"") | P41: =O41+N41 -> 0 | Q41: =IFERROR(N41/P41,"") | R41: =IFERROR(O41/P41,"")
D43: Copier et "coller les valeurs" des données obtenues pour chaque année dans la feuille "Traçabilité qualitative"

Sheet Plan d'actions
A1: Date :
A2: Plan d'actions à mettre en œuvre suite à l'audit de traçabilité des DMI
A3: Eléments de contexte/diagnostic :
A7: Objectifs fixés :
A8: 1
A9: 2
A10: 3
A11: 4
A12: Actions mises en œuvre :
A13: 1
A15: 2
A17: 3
A19: 4
A21: Niveau de priorité : | E21: Responsable : | G21: Échéance :
A22: 1
A23: 2
A24: 3
A25: 4
A26: Indicateurs d’évaluation : | F26: Etat d'avancement :
A27: 1
A28: 2
A29: 3
A30: 4
