Workbook
Name Activites: #REF!
Name Permanence: #REF!
Name RéfN4: [1]Réf!$B$71:$F$268

Sheet Avant Propos
B9: Management de la prise en charge médicamenteuse en dialyse Approche PDCA
B14: Avant propos
B16: Objectifs :
B17: Favoriser un état des lieux de l'organisation et des pratiques de l'établissement sur la thématique "Management de la prise en charge médicamenteuse du patient" en se référant au manuel de certification (V2014 - Version de mars 2016) et à la Réglementation en vigueur. Identifier le niveau de maîtrise des principaux risques liés à la thématique Management de la prise en charge médicamenteuse.
B19: Sources documentaires :
B21: - HAS. Manuel de certification des établissements de santé V2014. Version de mars 2016 - Arrêté du 6 avril 2011 relatif au management de la qualité de la prise en charge médicamenteuse et aux médicaments dans les établissements de santé - Bonnes pratiques Hospitalières
B24: Guide d'utilisation :
B26: Ce référentiel permet de présenter la thématique Management de la prise en charge médicamenteuse du patient sous la forme d'une approche PDCA.
B27: Cet outil ne se substitue pas aux analyses de risques réalisées sur le circuit du médicament notamment en lien avec la mise en oeuvre de l'arrêté du 6 avril 2011.
B28: L'outil est construit sur une approche processus selon 4 grandes étapes : prévoir, mettre en œuvre, évaluer et agir. Il a vocation a être un outil de pilotage global du processus "Management de la prise en charge médicamenteuse du patient.
B30: L'outil doit être complété à partir des données existantes au sein de l'établissement : analyse de risques, analyse des événements indésirables, résultats des évaluations, indicateurs de suivi, etc.
B32: Les onglets "Informations générales" et "Grille d'évaluation" seront à compléter par l'auditeur.
... B35: Les résultats de l'identification des risques sont présentés dans l'onglet "synthèse"

Sheet Informations générales
B9: Management de la prise en charge médicamenteuse en dialyse Approche PDCA
B14: Informations générales
B17: Date (xx/xx/20xx) :
B19: Département de l'établissement :
B22: Nom de l'établissement * :
B24: * A renseigner OBLIGATOIREMENT pour permettre la synthèse de l'évaluation

Sheet Grille évaluation
E1: Oui
E2: Non
E3: Partiel
E4: Non concerné
A6: Grille d'audit Management de la Prise en Charge Médicamenteuse en dialyse
A8: Evaluation | F8: Eléments à investiguer
A10: 1 | B10: PREVOIR
A12: Axe 1 | B12: Définition de la stratégie
B14: Intitulé | F14: Acteurs pressentis | G14: Eléments d'appréciation (exemples) | H14: Commentaires
A16: A1 | B16: Une étude des risques sur la PECM comprenant l'ensemble des étapes du circuit du médicament (prescription, dispensation, administration, surveillance) et du circuit logistique existe | E16: =IF(D16="Oui",0,IF(D16="Non",1,IF(D16="Non concerné",0,IF(D16="Partiel",0.5,"")))) | F16: Direction Cellule qualité RSMQPECM | G16: Cartographie ou étude des risques (vérifier son champs d'action (partiel ou complet), s'assurer des actions validées et/ou mises en œuvre), plan d'actions, compte qualité
A17: A2 | B17: Une politiqued'amélioration de la qualité et de la sécurité de la PCEM est formalisée | E17: =IF(D17="Oui",0,IF(D17="Non",1,IF(D17="Non concerné",0,IF(D17="Partiel",0.5,"")))) | F17: Direction CME Cellule qualité RSMQPECM | G17: Politique institutionnelle formalisée ou indication de la politique dans le manuel Qualité de la PECM en cours et validée Engagement du représentant légal de l'établissement Engagement du président de CME/CfME
A18: A3 | B18: La politique qualité de la prise en charge médicamenteuse de l'établissement couvre : | E18: =IF(D18="Oui",0,IF(D18="Non",1,IF(D18="Non concerné",0,IF(D18="Partiel",0.5,""))))
B19: A3.1. La gestion des évènements indésirables liés aux soins | E19: =IF(D19="Oui",0,IF(D19="Non",1,IF(D19="Non concerné",0,IF(D19="Partiel",0.5,"")))) | F19: Direction CME Cellule qualité RSMQPECM | G19: description de l'organisation mise en place, enregistrements relatifs à l'analyse des erreurs médicamenteuses, document relatif aux modalités de fonctionnement de la cellule d'analyse des erreurs médicamenteuses (CREX ou REMED), Procédure de déclaration des EIG
B20: A3.2. Le développement de la culture sécurité des soins | E20: =IF(D20="Oui",0,IF(D20="Non",1,IF(D20="Non concerné",0,IF(D20="Partiel",0.5,"")))) | F20: Direction CME Cellule qualité RSMQPECM | G20: Charte d'incitation à la déclaration des évènements indésirables, description de l'organisation mise en place, modalité de difusion aux professionnels
B21: A3.3. La gestion du système informatique | E21: =IF(D21="Oui",0,IF(D21="Non",1,IF(D21="Non concerné",0,IF(D21="Partiel",0.5,"")))) | F21: Direction CME Cellule qualité RSMQPECM | G21: En cas d'informatisation de la PECM, une procédure dégradée en cas d'indisponibilité du système existe (document qualité).
B22: A3.4. La gestion des médicaments à risque (identification et sécurisation) | E22: =IF(D22="Oui",0,IF(D22="Non",1,IF(D22="Non concerné",0,IF(D22="Partiel",0.5,"")))) | F22: Direction CME Cellule qualité RSMQPECM | G22: Une stratégie de gestion des médicaments à risque est formalisée. : Liste des médicaments à hauts risques Protocoles de prescription et d'administration des médicaments à risques (ou inscrit dans MAQ pharmacie) (AVK, EPO, fer, héparine/KT dialyse par exemple)
B23: A3.5. La sécurisation du traitement médicamenteux dans les populations à risque (sujet âgé) | E23: =IF(D23="Oui",0,IF(D23="Non",1,IF(D23="Non concerné",0,IF(D23="Partiel",0.5,"")))) | F23: Direction CME Cellule qualité RSMQPECM | G23: Une stratégie de gestion des populations à risque est formalisée. : Liste des catégories de patients à risque Protocoles de prise en charge des patients à risque (sujet âgé, patients atteints de cancer, santé mentale... )
B24: A3.6. La continuité du traitement médicamenteux tout au long du parcours patient | E24: =IF(D24="Oui",0,IF(D24="Non",1,IF(D24="Non concerné",0,IF(D24="Partiel",0.5,"")))) | F24: Direction CME Cellule qualité RSMQPECM | G24: Une stratégie de continuité du traitement médicamenteux est formalisée : voir procédure(s)
B25: A3.7. Le développement des EPP et/ou APP (Analyses des Pratiques Professionnelles) | E25: =IF(D25="Oui",0,IF(D25="Non",1,IF(D25="Non concerné",0,IF(D25="Partiel",0.5,"")))) | F25: Direction CME Cellule qualité RSMQPECM | G25: Liste des EPP et/ou APP relatives à la PECM (audit de pertinence de prescription sur EPO/Fer par exemple)
A26: A4 | B26: Un programme d'actions d'amélioration formalisé (annuel ou pluri-annuel) est établi en lien avec la politique qualité de la PECM de l'établissement | E26: =IF(D26="Oui",0,IF(D26="Non",1,IF(D26="Non concerné",0,IF(D26="Partiel",0.5,"")))) | F26: Direction CME Cellule qualité RSMQPECM | G26: Programme d'action annuel/pluriannuel
A27: A5 | B27: Les objectifs de la politique qualité de la PECM sont assortis d'indicateurs de suivi | E27: =IF(D27="Oui",0,IF(D27="Non",1,IF(D27="Non concerné",0,IF(D27="Partiel",0.5,"")))) | F27: Direction CME Cellule qualité RSMQPECM | G27: Tableau de bord PECM (indicateurs de suivis)
A29: Axe 2 | B29: Organisation interne
B31: Intitulé | F31: Acteurs pressentis | G31: Eléments d'appréciation (exemples) | H31: Commentaires
E32: =IF(D32="Oui",0,IF(D32="Non",1,IF(D32="Non concerné",0,IF(D32="Partiel",0.5,""))))
A33: B1 | B33: Un responsable du sytème de management de la qualité de prise en charge médicamenteuse est nommé (RSMQPECM) | E33: =IF(D33="Oui",0,IF(D33="Non",1,IF(D33="Non concerné",0,IF(D33="Partiel",0.5,"")))) | F33: Direction CME | G33: Fiche de nomination, compte rendu de CME
A34: B2 | B34: Les missions du RSMQPECM sont définies | E34: =IF(D34="Oui",0,IF(D34="Non",1,IF(D34="Non concerné",0,IF(D34="Partiel",0.5,"")))) | F34: Direction CME Cellule qualité RSMQPECM | G34: Fiche de poste du RSMQPECM
A35: B3 | B35: Les responsabilités et délégations de responsabilités sont définies pour l'ensemble des acteurs de la PECM | E35: =IF(D35="Oui",0,IF(D35="Non",1,IF(D35="Non concerné",0,IF(D35="Partiel",0.5,"")))) | F35: Direction CME Cellule qualité RSMQPECM | G35: Procédures de responsabilités et de délégtaions
A36: B4 | B36: Un Comité des médicaments et des dispositifs médicaux stériles existe au sein de l'établissement | E36: =IF(D36="Oui",0,IF(D36="Non",1,IF(D36="Non concerné",0,IF(D36="Partiel",0.5,"")))) | F36: Direction CME RSMQPECM | G36: fiche de nomination, comptes rendu de réunion
A37: B5 | B37: Les besoins en compétences et effectifs sont identifiés par secteur d'activité | E37: =IF(D37="Oui",0,IF(D37="Non",1,IF(D37="Non concerné",0,IF(D37="Partiel",0.5,"")))) | F37: Direction Direction des soins Responsable de soins | G37: Evaluation des effectifs par secteur d'activité (semestrielle, annuelle)
A38: B6 | B38: Un plan de formation pluriannuel de sensibilisation pour l'ensemble des professionnels concernés par la PECM existe | E38: =IF(D38="Oui",0,IF(D38="Non",1,IF(D38="Non concerné",0,IF(D38="Partiel",0.5,"")))) | F38: Direction CME | G38: Plan de formation, taux de formation
A39: B7 | B39: Un programme de formation pluriannuel des nouveaux arrivants comprenant des axes spécifiques de la PECM existe | E39: =IF(D39="Oui",0,IF(D39="Non",1,IF(D39="Non concerné",0,IF(D39="Partiel",0.5,"")))) | F39: Direction CME | G39: Plan de formation, procédure nouvel arrivant, livret d'accueil,
A40: B8 | B40: Un organigramme de la Pharmacie à Usage Intérieur est défini et actualisé | E40: =IF(D40="Oui",0,IF(D40="Non",1,IF(D40="Non concerné",0,IF(D40="Partiel",0.5,"")))) | F40: Pharmacien | G40: Organigramme PUI (vérifier version et date de mise à jour), fiches de postes, trombinoscope
A41: B9 | B41: L'accessibilité aux médicaments pour répondre aux besoins urgents est assurée | E41: =IF(D41="Oui",0,IF(D41="Non",1,IF(D41="Non concerné",0,IF(D41="Partiel",0.5,"")))) | F41: Direction Pharmacien | G41: Procédure de demande d'urgence de médicament + Ouverture et accès à la pharmacie (réservé aux personnes habililitées : pharmaciens, internes, service logistique ou préparateur sous la responsabilité pharmaceutique), convention avec PUI des établissements de proximité, procédure pour besoins urgents
A42: B10 | B42: Une présence pharmaceutique est organisée à la Pharmacie à Usage Intérieur | E42: =IF(D42="Oui",0,IF(D42="Non",1,IF(D42="Non concerné",0,IF(D42="Partiel",0.5,"")))) | F42: Direction Pharmacien | G42: Organisation de la présence pharmaceutique aux jours et heures d'ouverture de la PUI
A43: B11 | B43: Un manuel qualité relatif à la PECM existe | E43: =IF(D43="Oui",0,IF(D43="Non",1,IF(D43="Non concerné",0,IF(D43="Partiel",0.5,"")))) | F43: CME Cellule qualité RSMQPECM Pharmacien | G43: Manuel qualité (vérifier date de mise à jour)
A44: B12 | B44: Une procédure formalisée du circuit du médicament existe | E44: =IF(D44="Oui",0,IF(D44="Non",1,IF(D44="Non concerné",0,IF(D44="Partiel",0.5,"")))) | F44: CME Cellule qualité RSMQPECM Pharmacien | G44: Procédure du circuit du médicament (vérifier version et date de mise à jour)
... A47: B15 | B47: Les processus logistiques (achat-approvisionnement-stockage) prennent en compte la prévention des risques liés aux médicaments et dispositifs médicaux | E47: =IF(D47="Oui",0,IF(D47="Non",1,IF(D47="Non concerné",0,IF(D47="Partiel",0.5,"")))) | F47: Pharmacien | G47: Une stratégie est formalisée
B48: B15.1. Ces processus prennent en compte l'acheminement des produits de santé entre la PUI et l'unité de dialyse médicalisée ou l'antenne d'autodialyse ou le centre de formation | E48: =IF(D48="Oui",0,IF(D48="Non",1,IF(D48="Non concerné",0,IF(D48="Partiel",0.5,"")))) | F48: Pharmacien | G48: Une stratégie est formalisée
B49: B15.2. Ces processus prennent en compte l'acheminement des produits de santé entre la PUI et le domicile des patients en dialyse péritonéale ou en hémodialyse | E49: =IF(D49="Oui",0,IF(D49="Non",1,IF(D49="Non concerné",0,IF(D49="Partiel",0.5,"")))) | F49: Pharmacien | G49: Une stratégie est formalisée
A50: B16 | B50: Un plan d'informatisation de la PECM existe dans l'établissement | E50: =IF(D50="Oui",0,IF(D50="Non",1,IF(D50="Non concerné",0,IF(D50="Partiel",0.5,"")))) | F50: Direction CME Pharmacien | G50: Plan d'informatisation
A51: B17 | B51: Un programme de mise en œuvre de la conciliation existe | E51: =IF(D51="Oui",0,IF(D51="Non",1,IF(D51="Non concerné",0,IF(D51="Partiel",0.5,"")))) | F51: Pharmacien | G51: Document de programmation, procédure, fiche de conciliation, bilan d'activité
A52: B18 | B52: L'établissement possède un système de gestion de documents regroupant des procédures, protocoles, mode opératoires, fiches techniques, … | E52: =IF(D52="Oui",0,IF(D52="Non",1,IF(D52="Non concerné",0,IF(D52="Partiel",0.5,"")))) | F52: Direction Cellule qualité CME RSMQPECM | G52: Accès à la GED
A53: B19 | B53: Le système documentaire spécifique pour la PECM est intégré à celui de l'établissement | E53: =IF(D53="Oui",0,IF(D53="Non",1,IF(D53="Non concerné",0,IF(D53="Partiel",0.5,"")))) | F53: Direction Cellule qualité CME RSMQPECM | G53: Accès à la GED et aux documents de la PECM
A54: B20 | B54: Des moyens de diffusion/communication des documents permettant de sensibiliser l'ensemble des professionnels de santé concernés existent | E54: =IF(D54="Oui",0,IF(D54="Non",1,IF(D54="Non concerné",0,IF(D54="Partiel",0.5,"")))) | F54: Direction CME Cellule qualité | G54: Plan, outils de communication (analyser les moyens de communication utilisés)
A55: B21 | B55: Un dispositif de signalement de suivi et d'analyse des évènements indésirables existe | E55: =IF(D55="Oui",0,IF(D55="Non",1,IF(D55="Non concerné",0,IF(D55="Partiel",0.5,"")))) | F55: Direction CME Cellule qualité | G55: Procédure de signalement d'un EI, Indicateur de suivi, CR de réunion (ex: CREI)
A56: B22 | B56: Des documents d'information et des outils d'aide à destination des prescripteurs existent (livret thérapeutique, protocole thérapeutique, …) | E56: =IF(D56="Oui",0,IF(D56="Non",1,IF(D56="Non concerné",0,IF(D56="Partiel",0.5,"")))) | F56: Direction CME Cellule qualité Pharmacien | G56: Documents d'information et outils d'aide à destination des prescipteurs (ex: référentiel de prescription des antalgiques chez l'insuffisant rénal chronique, …)
A57: B23 | B57: Des documents d'information à destination des patients existent (plaquette, affiche, dépliants, brochure, sur modalité d'approvisionnement, de stockage, d'hygiène des médicaments et des dispositifs médicaux, de retour des médicaments et DM non utilisés …) | E57: =IF(D57="Oui",0,IF(D57="Non",1,IF(D57="Non concerné",0,IF(D57="Partiel",0.5,"")))) | F57: Direction CME Cellule qualité Pharmacien | G57: Documents d'information à destination des patients (ex : document sur les EPO, héparine, Fer, etc,)
A59: 2 | B59: METTRE EN ŒUVRE
A61: Axe 3 | B61: Mobilisation des équipes pour la mise en œuvre opérationnelle
B63: Intitulé | F63: Acteurs pressentis | G63: Eléments d'appréciation (exemples) | H63: Commentaires
A65: C1 | B65: Au sein de la pharmacie à usage intérieur
B66: C1.1. Une démarche d'amélioration continue de la PEC thérapeutique est instaurée | E66: =IF(D66="Oui",0,IF(D66="Non",1,IF(D66="Non concerné",0,IF(D66="Partiel",0.5,"")))) | F66: Correspondant qualité | G66: Demander les projets en cours, les axes de travail (exemples : inscrit dans le projet d'établissement, axe d'amélioration)
B67: C1.2. Le service est sensibilé à la PEC thérapeutique | E67: =IF(D67="Oui",0,IF(D67="Non",1,IF(D67="Non concerné",0,IF(D67="Partiel",0.5,"")))) | F67: Chef de service Cadre de service Pharmacien Préparateur en pharmacie | G67: Demander les actions de sensibilisation à la PEC thérapeutique (ex : erreurs médicamenteuses, déclaration d'évènements indésirables, démarches d'EPP et/ou APP en cours)
B68: C1.3. Des retours d'expérience dans le cadre de la gestion des risques associés aux soins et de la sécurisation de la PEC thérapeutique sont réalisés | E68: =IF(D68="Oui",0,IF(D68="Non",1,IF(D68="Non concerné",0,IF(D68="Partiel",0.5,"")))) | F68: Chef de service Cadre de service Pharmacien Préparateur en pharmacie | G68: Demander rapport de REX/CREX/REMED (sur médicaments, dispositifs médicaux dont l'oxygène)
A69: C2 | B69: Au sein des antennes, des unités de dialyse médicalisée et des centres de formation
B70: C2.1. Une démarche d'amélioration continue de la PEC thérapeutiques est instaurée | E70: =IF(D70="Oui",0,IF(D70="Non",1,IF(D70="Non concerné",0,IF(D70="Partiel",0.5,"")))) | F70: Correspondant qualité | G70: Demander les projets en cours, les axes de travail (exemples : inscrit dans le projet de service, axe d'amélioration)
B71: C2.2. Le service est sensibilé à la PEC thérapeutique | E71: =IF(D71="Oui",0,IF(D71="Non",1,IF(D71="Non concerné",0,IF(D71="Partiel",0.5,"")))) | F71: Medecin chef de service Cadre de service IDE | G71: Demander les actions de sensibilisation à la PEC thérapeutique (ex : erreurs médicamenteuses, déclaration d'évènements indésirables, démarches d'EPP et/ou APP en cours)
B72: C2.3. Des retours d'expérience dans le cadre de la gestion des risques associés aux soins et de la sécurisation de la PEC thérapeutique sont réalisés | E72: =IF(D72="Oui",0,IF(D72="Non",1,IF(D72="Non concerné",0,IF(D72="Partiel",0.5,"")))) | F72: Medecin chef de service Cadre de service IDE | G72: Demander rapport de REX/CREX/REMED (sur médicaments, dispositifs médicaux dont l'oxygène)
A74: Axe 4 | B74: Prescription
B76: Intitulé | F76: Acteurs pressentis | G76: Eléments d'appréciation (exemples) | H76: Commentaires
A78: D1 | B78: Une procédure formalisée de l'acte de prescription existe | E78: =IF(D78="Oui",0,IF(D78="Non",1,IF(D78="Non concerné",0,IF(D78="Partiel",0.5,"")))) | F78: Direction Cellule qualité CME RSMQPECM | G78: Demander la procédure de prescription
A79: D2 | B79: Une liste des médecins habilités, mise à jour régulièrement (nouveaux arrivants, nouveaux internes) et transmise à la pharmacie existe | E79: =IF(D79="Oui",0,IF(D79="Non",1,IF(D79="Non concerné",0,IF(D79="Partiel",0.5,"")))) | F79: Direction Cellule qualité CME RSMQPECM Pharmacien | G79: Demander la liste des prescripteurs (vérifier la date de mise à jour)
A80: D3 | B80: La prescription respecte la réglementation en vigueur et comprend:
B81: D3.1. Le nom et prénom du patient | E81: =IF(D81="Oui",0,IF(D81="Non",1,IF(D81="Non concerné",0,IF(D81="Partiel",0.5,"")))) | F81: Médecin Pharmacien | G81: Demander un exemple de prescription de patient du service
B82: D3.2. La date de naissance du patient | E82: =IF(D82="Oui",0,IF(D82="Non",1,IF(D82="Non concerné",0,IF(D82="Partiel",0.5,"")))) | F82: Médecin Pharmacien | G82: Demander un exemple de prescription de patient du service
B83: D3.3. Le poids du patient | E83: =IF(D83="Oui",0,IF(D83="Non",1,IF(D83="Non concerné",0,IF(D83="Partiel",0.5,"")))) | F83: Médecin Pharmacien | G83: Demander un exemple de prescription de patient du service
B84: D3.4. L'identification de l'unité de soins | E84: =IF(D84="Oui",0,IF(D84="Non",1,IF(D84="Non concerné",0,IF(D84="Partiel",0.5,"")))) | F84: Médecin Pharmacien | G84: Demander un exemple de prescription de patient du service
B85: D3.5. La date de la prescription | E85: =IF(D85="Oui",0,IF(D85="Non",1,IF(D85="Non concerné",0,IF(D85="Partiel",0.5,"")))) | F85: Médecin Pharmacien | G85: Demander un exemple de prescription de patient du service
B86: D3.6. La dénomination commune du médicament | E86: =IF(D86="Oui",0,IF(D86="Non",1,IF(D86="Non concerné",0,IF(D86="Partiel",0.5,"")))) | F86: Médecin Pharmacien | G86: Demander un exemple de prescription de patient du service
B87: D3.7. Le dosage du médicament | E87: =IF(D87="Oui",0,IF(D87="Non",1,IF(D87="Non concerné",0,IF(D87="Partiel",0.5,"")))) | F87: Médecin Pharmacien | G87: Demander un exemple de prescription de patient du service
B88: D3.8. La forme galénique du médicament | E88: =IF(D88="Oui",0,IF(D88="Non",1,IF(D88="Non concerné",0,IF(D88="Partiel",0.5,"")))) | F88: Médecin Pharmacien | G88: Demander un exemple de prescription de patient du service
B89: D3.9. La voie d'administration du médicament | E89: =IF(D89="Oui",0,IF(D89="Non",1,IF(D89="Non concerné",0,IF(D89="Partiel",0.5,"")))) | F89: Médecin Pharmacien | G89: Demander un exemple de prescription de patient du service
B90: D3.10. La durée du traitement | E90: =IF(D90="Oui",0,IF(D90="Non",1,IF(D90="Non concerné",0,IF(D90="Partiel",0.5,"")))) | F90: Médecin Pharmacien | G90: Demander un exemple de prescription de patient du service
B91: D3.11. La qualité et la signature du prescripteur | E91: =IF(D91="Oui",0,IF(D91="Non",1,IF(D91="Non concerné",0,IF(D91="Partiel",0.5,"")))) | F91: Médecin Pharmacien | G91: Demander un exemple de prescription de patient du service
A92: D4 | B92: Les prescripteurs sont informés des changements du livret thérapeutique | E92: =IF(D92="Oui",0,IF(D92="Non",1,IF(D92="Non concerné",0,IF(D92="Partiel",0.5,"")))) | F92: Pharmacien CME | G92: CR de séance de CME ou de la sous commission (ex COMEDIMS)
A93: D5 | B93: Concernant la prescription initiale :
B94: D5.1. Le médecin prend connaissance du traitement personnel du patient et décide quel médicament est conservé, subsitué ou arrêté | E94: =IF(D94="Oui",0,IF(D94="Non",1,IF(D94="Non concerné",0,IF(D94="Partiel",0.5,"")))) | F94: Médecin | G94: Bilan médicamenteux d'entrée, dossier médical d'un patient
B95: D5.2. La prescription est rédigée après examen du patient et selon les recommandations de bon usage | E95: =IF(D95="Oui",0,IF(D95="Non",1,IF(D95="Non concerné",0,IF(D95="Partiel",0.5,"")))) | F95: Médecin | G95: Voir dossier médical d'un patient
B96: D5.3. L'administration de médicaments provennant du traitement personnel du patient est tracée | E96: =IF(D96="Oui",0,IF(D96="Non",1,IF(D96="Non concerné",0,IF(D96="Partiel",0.5,"")))) | F96: Médecin | G96: Voir prescription et vérifier la mise en œuvre effective
B97: D5.4. La date d'arrêt de traitement est prescrite | E97: =IF(D97="Oui",0,IF(D97="Non",1,IF(D97="Non concerné",0,IF(D97="Partiel",0.5,"")))) | F97: Médecin | G97: Voir prescription et vérifier la mise en œuvre effective
A98: D6 | B98: Concernant la prescription informatisée
B99: D6.1. La formation à la prescription informatisée et le support technique est organisée | E99: =IF(D99="Oui",0,IF(D99="Non",1,IF(D99="Non concerné",0,IF(D99="Partiel",0.5,"")))) | F99: Médecin Pharmacien Service informatique | G99: Procédure d'utilisation, support de formation, hotline
B100: D6.2. Le logiciel de prescription est paramétré pour aider les prescripteurs à la prescription | E100: =IF(D100="Oui",0,IF(D100="Non",1,IF(D100="Non concerné",0,IF(D100="Partiel",0.5,"")))) | F100: Médecin Pharmacien | G100: Alerte sur les dépassements de doses maximales, sur les interactions médicamenteuses, sur les doublons de prescriptions., LAP, interface avec une base de donnée médicamenteuse certifiée
B101: D6.3. La prescription informatisée est standardisée | E101: =IF(D101="Oui",0,IF(D101="Non",1,IF(D101="Non concerné",0,IF(D101="Partiel",0.5,"")))) | F101: Médecin Pharmacien | G101: Suppression des abbréviations, prescription en DCI
B102: D6.4. La signature électronique du prescripteur est présente | E102: =IF(D102="Oui",0,IF(D102="Non",1,IF(D102="Non concerné",0,IF(D102="Partiel",0.5,"")))) | F102: Médecin Pharmacien | G102: Voir prescription et vérifier la mise en œuvre effective (identifiant et mot de passe)
B103: D6.5. L'édition de la prescription informatisée sur papier est possible | E103: =IF(D103="Oui",0,IF(D103="Non",1,IF(D103="Non concerné",0,IF(D103="Partiel",0.5,"")))) | F103: Médecin Pharmacien IDE | G103: Demander l'impression d'une prescription informatisée
B104: D6.6. En cas de non-fonctionnement du système informatique, une procédure dégradée de prescription existe | E104: =IF(D104="Oui",0,IF(D104="Non",1,IF(D104="Non concerné",0,IF(D104="Partiel",0.5,"")))) | F104: Médecin Pharmacien Service informatique | G104: Procédure dégradée de prescription et vérifier la mise en œuvre effective
B105: D6.7. La déconnexion du prescripteur est automatique | E105: =IF(D105="Oui",0,IF(D105="Non",1,IF(D105="Non concerné",0,IF(D105="Partiel",0.5,"")))) | F105: Médecin Service informatique | G105: Vérifier le caractère effectif
A106: D7 | B106: Concernant la prescription non informatisée
B107: D7.1. Les prescriptions sont rédigées sur un support unique de prescription/administration | E107: =IF(D107="Oui",0,IF(D107="Non",1,IF(D107="Non concerné",0,IF(D107="Partiel",0.5,"")))) | F107: Médecin Pharmacien | G107: Procédure d'utilisation du support et support de prescription
B108: D7.2. L'originale de la prescription est conservée dans le dossier patient | E108: =IF(D108="Oui",0,IF(D108="Non",1,IF(D108="Non concerné",0,IF(D108="Partiel",0.5,"")))) | F108: Médecin IDE | G108: Vérification dans le dossier patient
A109: D8 | B109: Concernant la prescription de sortie (vacanciers, transferts, transplantation)
B110: D8.1. Identification FINESS l'établissement présente | E110: =IF(D110="Oui",0,IF(D110="Non",1,IF(D110="Non concerné",0,IF(D110="Partiel",0.5,"")))) | F110: Médecin Pharmacien | G110: Voir prescription de sortie
B111: D8.2. Identification du service de soins présente | E111: =IF(D111="Oui",0,IF(D111="Non",1,IF(D111="Non concerné",0,IF(D111="Partiel",0.5,"")))) | F111: Médecin Pharmacien | G111: Voir prescription de sortie
B112: D8.3 Identification du prescripteur présente (numéro RPPS) | E112: =IF(D112="Oui",0,IF(D112="Non",1,IF(D112="Non concerné",0,IF(D112="Partiel",0.5,"")))) | F112: Médecin Pharmacien | G112: Voir prescription de sortie
B113: D8.4 Identification du patient présente | E113: =IF(D113="Oui",0,IF(D113="Non",1,IF(D113="Non concerné",0,IF(D113="Partiel",0.5,"")))) | F113: Médecin Pharmacien | G113: Voir prescription de sortie
A115: Axe 5 | B115: Dispensation
B117: Intitulé | F117: Acteurs pressentis | G117: Eléments d'appréciation (exemples) | H117: Commentaires
A119: E1 | B119: La dispensation
B120: E1.1. Une procédure formalisée décrivant les règles de dispensation des produits de santé pour l'ensemble des antennes d'autodialyse, des unités de dialyse médicalisée et des centres de formation existe | E120: =IF(D120="Oui",0,IF(D120="Non",1,IF(D120="Non concerné",0,IF(D120="Partiel",0.5,"")))) | F120: Pharmacien | G120: Visualiser la procédure de dispensation et interroger les professionnels concernés (vérification de la mise en œuvre)
...

Sheet Résultats - Synthèse
B8: Management de la prise en charge médicamenteuse en dialyse Résultats - Synthèse
B16: Département : | D16: ='Informations générales'!N19 -> 0
B18: Nom de l'établissement : | D18: ='Informations générales'!N22 -> 0
B20: Date : | D20: ='Informations générales'!N17 -> 0
D24: Votre niveau de risque
B26: 1 - Prévoir | D26: =IFERROR(SUM('Grille évaluation'!E16:E57)/((36-(COUNTBLANK('Grille évaluation'!D16:D57)-6))),"Non renseigné") -> Non renseigné
B28: Axe 1 - Définition de la stratégie | D28: =IFERROR(SUM('Grille évaluation'!E16:E27)/(11-(COUNTBLANK('Grille évaluation'!D16:D27)-1)),"Non renseigné") -> Non renseigné
B30: Axe 2 - Organisation interne | D30: =IFERROR(SUM('Grille évaluation'!E33:E57)/(25-(COUNTBLANK('Grille évaluation'!D33:D57))),"Non renseigné") -> Non renseigné
B32: 2 - Mettre en œuvre | D32: =IFERROR(SUM('Grille évaluation'!E66:E220)/((113-(COUNTBLANK('Grille évaluation'!D66:D220)-42))),"Non renseigné") -> Non renseigné
B34: Axe 3 - Mobilisation des équipes pour la mise en œuvre opérationnelle | D34: =IFERROR(SUM('Grille évaluation'!E66:E72)/(6-(COUNTBLANK('Grille évaluation'!D66:D72)-1)),"Non renseigné") -> Non renseigné
B36: Axe 4 - Prescription | D36: =IFERROR(SUM('Grille évaluation'!E78:E113)/(31-(COUNTBLANK('Grille évaluation'!D78:D113)-5)),"Non renseigné") -> Non renseigné
B38: Axe 5 - Dispensation | D38: =IFERROR(SUM('Grille évaluation'!E120:E157)/(31-(COUNTBLANK('Grille évaluation'!D120:D157)-7)),"Non renseigné") -> Non renseigné
B40: Axe 6 - Administration | D40: =IFERROR(SUM('Grille évaluation'!E164:E220)/(45-(COUNTBLANK('Grille évaluation'!D164:D220)-12)),"Non renseigné") -> Non renseigné
B42: 3 - Evaluer | D42: =IFERROR(SUM('Grille évaluation'!E226:E232)/((6-(COUNTBLANK('Grille évaluation'!D226:D232)-1))),"Non renseigné") -> Non renseigné
B44: 4 - Agir | D44: =IFERROR(SUM('Grille évaluation'!E238:E240)/((3-COUNTBLANK('Grille évaluation'!D238:D240))),"Non renseigné") -> Non renseigné
B47: Pourcentage de risque global sur le processus | D47: =IFERROR(SUM('Grille évaluation'!E16:E240)/((158-(COUNTBLANK('Grille évaluation'!D16:D240)-67))),"Non renseigné") -> Non renseigné
B48: Résultat de votre auto-évaluation
