Workbook

Sheet Methodologie
A10: Etat des lieux de la prise en charge des patients sous opiacés forts en HAD
A13: Professionnels concernés : Médecin coordonnateur, Médecin traitant, IDE, Pharmacien, Responsable qualité
A15: 1. Objectifs
A16: Faire un état des lieux et évaluer la conformité aux recommandations, sur la prise en charge des patients sous opiacés forts en HAD Améliorer les pratiques liées à la prescription (évaluation de la douleur, prévention d’effets indésirables…).
A19: 2. Critères d'Inclusion
A20: Tout patient hospitalisé pendant au moins 7 jours
A21: Ayant un traitement par opiacé fort
A24: 3. Modalités de recueil
A25: Procéder à une analyse collective et pluri-professionnelle de 10 dossiers de patients.
A26: Audit rétrospectif sur les dossiers des 10 derniers patients pris en charge avec un traitement par opiacé fort
A27: Le recueil se fait à partir des données présentes dans le dossier patient et à partir de la grille de recueil.
A30: 4. Modalités de saisie et d'analyse
... A195: Non applicable: Pas de douleur rebelle au traitement par opiacés forts

Sheet Informations générales
A9: Etat des lieux de la prise en charge des patients sous opiacés forts en HAD
A11: Informations générales
A13: Date : (xx/xx/20xx)
A15: Nom de l'établissement :

Sheet Questionnaire
A9: Grille de saisie des résultats par dossier
A10: >>Votre Grille d'autoévaluation Mettre "1" dans la case correspondante
C12: Evaluation de la douleur | E12: Evaluation des caractéristiques de la douleur | M12: Morphinique et douleur | O12: Douleurs neuropthiques | R12: Voie orale privilégiée | U12: Titration et ré-évaluation de l'efficacité du traitement | AD12: Inter-doses | AP12: Prescription laxatif osmotique | AR12: Effets indésirables recherchés | BC12: Effets indésirables pris en charge | BT12: Effets indésirables prévenus | BX12: Demande d'un avis spécialisé
A13: DOSSIER | C13: ITEM 1 | E13: ITEM 2 | G13: ITEM 2 BIS | I13: ITEM 2 TER | K13: ITEM 3 | M13: ITEM 4 | O13: ITEM 5 | R13: ITEM 6 | U13: ITEM 7 | X13: ITEM 8 | AA13: ITEM 9 | AD13: ITEM 10 | AG13: ITEM 11 | AJ13: ITEM 12 | AM13: ITEM 13 | AP13: ITEM 14 | AR13: ITEM 15 | AT13: ITEM 16 | AW13: ITEM 17 | AZ13: ITEM 18 | BC13: ITEM 19 | BF13: ITEM 20 | BI13: ITEM 21 | BL13: ITEM 22 | BO13: ITEM 23 | BQ13: ITEM 24 | BT13: ITEM 25 | BV13: ITEM 26 | BX13: ITEM 27
C16: C | D16: NC | E16: C | F16: NC | G16: C | H16: NC | I16: C | J16: NC | K16: C | L16: NC | M16: C | N16: NC | O16: C | P16: NC | Q16: NA | R16: C | S16: NC | T16: NA | U16: C | V16: NC | W16: NA | X16: C | Y16: NC | Z16: NA | AA16: C | AB16: NC | AC16: NA | AD16: C | AE16: NC | AF16: NA | AG16: C | AH16: NC | AI16: NA | AJ16: C | AK16: NC | AL16: NA | AM16: C | AN16: NC | AO16: NA | AP16: C | AQ16: NC | AR16: C | AS16: NC | AT16: C | AU16: NC | AV16: NA | AW16: C | AX16: NC | AY16: NA | AZ16: C | BA16: NC | BB16: NA | BC16: C | BD16: NC | BE16: NA | BF16: C | BG16: NC | BH16: NA | BI16: C | BJ16: NC | BK16: NA | BL16: C | BM16: NC | BN16: NA | BO16: C | BP16: NC | BQ16: C | BR16: NC | BS16: NA | BT16: C | BU16: NC | BV16: C | BW16: NC | BX16: C | BY16: NC | BZ16: NA
A17: 1
A18: 2
A19: 3
A20: 4
A21: 5
A22: 6
A23: 7
A24: 8
A25: 9
A26: 10
A27: 11
A28: 12
... A46: 30
A48: POURCENTAGE CONFORMITE | C48: ITEM 1 | E48: ITEM 2, 2 bis et 2 ter | K48: ITEM 3 | M48: ITEM 4 | O48: ITEM 5 | R48: ITEM 6 | U48: ITEM 7 | X48: ITEM 8 | AA48: ITEM 9 | AD48: ITEM 10 | AG48: ITEM 11 | AJ48: ITEM 12 | AM48: ITEM 13 | AP48: ITEM 14 | AR48: ITEM 15 | AT48: ITEM 16 | AW48: ITEM 17 | AZ48: ITEM 18 | BC48: ITEM 19 | BF48: ITEM 20 | BI48: ITEM 21 | BL48: ITEM 22 | BO48: ITEM 23 | BQ48: ITEM 24 | BT48: ITEM 25 | BV48: ITEM 26 | BX48: ITEM 27
C49: =IFERROR((SUM(C17:C46))/SUM(C17:D46),"") | E49: =IFERROR((SUM(E17:E46)+SUM(G17:G46)+SUM(I17:I46))/SUM(E17:J46),"") | K49: =IFERROR((SUM(K17:K46))/SUM(K17:L46),"") | M49: =IFERROR((SUM(M17:M46))/SUM(M17:N46),"") | O49: =IFERROR((SUM(O17:O46))/SUM(O17:P46),"") | R49: =IFERROR((SUM(R17:R46))/SUM(R17:S46),"") | U49: =IFERROR((SUM(U17:U46))/SUM(U17:V46),"") | X49: =IFERROR((SUM(X17:X46))/SUM(X17:Y46),"") | AA49: =IFERROR((SUM(AA17:AA46))/SUM(AA17:AB46),"") | AD49: =IFERROR((SUM(AD17:AD46))/SUM(AD17:AE46),"") | AG49: =IFERROR((SUM(AG17:AG46))/SUM(AG17:AH46),"") | AJ49: =IFERROR((SUM(AJ17:AJ46))/SUM(AJ17:AK46),"") | AM49: =IFERROR((SUM(AM17:AM46))/SUM(AM17:AN46),"") | AP49: =IFERROR((SUM(AP17:AP46))/SUM(AP17:AQ46),"") | AR49: =IFERROR((SUM(AR17:AR46))/SUM(AR17:AS46),"") | AT49: =IFERROR((SUM(AT17:AT46))/SUM(AT17:AU46),"") | AW49: =IFERROR((SUM(AW17:AW46))/SUM(AW17:AX46),"") | AZ49: =IFERROR((SUM(AZ17:AZ46))/SUM(AZ17:BA46),"") | BC49: =IFERROR((SUM(BC17:BC46))/SUM(BC17:BD46),"") | BF49: =IFERROR((SUM(BF17:BF46))/SUM(BF17:BG46),"") | BI49: =IFERROR((SUM(BI17:BI46))/SUM(BI17:BJ46),"") | BL49: =IFERROR((SUM(BL17:BL46))/SUM(BL17:BM46),"") | BO49: =IFERROR((SUM(BO17:BO46))/SUM(BO17:BP46),"") | BQ49: =IFERROR((SUM(BQ17:BQ46))/SUM(BQ17:BR46),"") | BT49: =IFERROR((SUM(BT17:BT46))/SUM(BT17:BU46),"") | BV49: =IFERROR((SUM(BV17:BV46))/SUM(BV17:BW46),"") | BX49: =IFERROR((SUM(BX17:BX46))/SUM(BX17:BY46),"")
A52: C | C52: Conforme
A53: NC | C53: Non-conforme
A54: NA | C54: Non-applicable

Sheet Synthèse
A9: Audits outils d’auto diagnostiques des risques liés au circuit du médicament en EHPAD
A10: >> Votre résultat d'autoévaluation | B10: =B97 -> #DIV/0!
A13: Etablissement : | B13: ='Informations générales'!D15 -> 0
A15: Date : | B15: ='Informations générales'!D13 -> 0
B19: Conformité
A21: Evaluation de la douleur
A23: Item 1: une évaluation de la douleur à chaque passage d'infirmier et/ou d'aide-soignant est retrouvée | B23: =Questionnaire!C49
A25: Evaluation des caractéristiques de la douleur
A27: Item 2 : Sujet communiquant/sujet non communiquant/échelle adaptée aux critères cliniques | B27: =Questionnaire!E49
A29: Item 3: Les douleurs neuropathiques ont été dépistées | B29: =Questionnaire!K49
A31: La prescription médicale est adaptée au type et à l'intensité des douleurs
A33: Item 4: Morphiniques prescrits pour des douleurs très intenses et dans les douleurs modérées à intenses ne répondant pas aux opiacés faibles | B33: =Questionnaire!M49
A35: Item 5 : En cas de douleurs neuropathiques ou mixtes, des traitements adaptés sont prescrits | B35: =Questionnaire!O49
A37: La voie orale doit être privilégiée
A39: Item 6 : Si utilisation d'opiacés autres que par voie orale, argumentation dans le dossier patient | B39: =Questionnaire!R49
A41: Titration et réévaluation de l'efficacité du traitement
A43: Item 7 : Si patient naif, initiation du traitement avec une forme à libération immédiate | B43: =Questionnaire!U49
A45: Item 8 : Relai par forme à libération prolongée, une fois équilibre antalgique satisfaisant | B45: =Questionnaire!X49
A47: Item 9: Réévaluation quotidienne de l'efficacité antalgique | B47: =Questionnaire!AA49
A49: Inter-doses
A51: Item 10 : Prescription inter-dose d'1/6ème à 1/10ème si antalgie insufficante | B51: =Questionnaire!AD49
A53: Item 11: En cas de douleurs et/ou de recrudescence de la douleur: interdoses prescrites | B53: =Questionnaire!AG49
A55: Item 12: Utilisation du Fentanyl transmuqueux réservée à la PEC des accès douloureux pour les douleurs cancéreuses | B55: =Questionnaire!AJ49
A57: Item 13: Prise et non-prise des inter-doses tracée dans le dossier | B57: =Questionnaire!AM49
A59: Prescription laxatif osmotique
A61: Item 14 : Prescription de laxatif osmotique concomittante | B61: =Questionnaire!AP49
A63: Effets indésirables recherchés
A65: Item 15: Troubles du transit | B65: =Questionnaire!AR49
A67: Item 16: Troubles de la conscience ou neuropsychique | B67: =Questionnaire!AT49
A69: Item 17: Rétention urinaire | B69: =Questionnaire!AW49
A71: Item 18: Détresse respiratoire | B71: =Questionnaire!AZ49
A73: Effets indésirables pris en charge
A75: Item 19: Constipation | B75: =Questionnaire!BC49
A77: Item 20: Nausées/vomissements | B77: =Questionnaire!BF49
A79: Item 21: Sécheresse buccale | B79: =Questionnaire!BI49
A81: Item 22: Myoclonies | B81: =Questionnaire!BL49
A83: Item 23: existe-t-il un protocole naloxone? | B83: =Questionnaire!BO49
A85: Item 24: Ce protocole est-il connu des professionnels de santé? | B85: =Questionnaire!BQ49
A87: Effets indésirables prévenus
A89: Item 25: fiche de précaution remise aux patients | B89: =Questionnaire!BT49
A91: Item 26: procédure de surveillance et de prise en charge des surdosages remise aux professionnels de santé | B91: =Questionnaire!BV49
A93: Demande d'un avis spécialisé en cas de douleur rebelle au traitement
A95: Item 27: avis spécialisé demandé en cas de douleur rebelle au traitement par opiacé fort | B95: =Questionnaire!BX49
A97: Pourcentage de conformité globale sur le processus | B97: =SUM(Questionnaire!C17:C46,Questionnaire!E17:E46,Questionnaire!G17:G46,Questionnaire!I17:I46,Questionnaire!K17:K46,Questionnaire!M17:M46,Questionnaire!O17:O46,Questionnaire!R17:R46,Questionnaire!U17:U46,Questionnaire!X17:X46,Questionnaire!AA17:AA46,Questionnaire!AD17:AD46,Questionnaire!AG17:AG46,Questionnaire!AJ17:AJ46,Questionnaire!AM17:AM46,Questionnaire!AP17:AP46,Questionnaire!AR17:AR46,Questionnaire!AT17:AT46,Questionnaire!AW17:AW46,Questionnaire!AZ17:AZ46,Questionnaire!BC17:BC46,Questionnaire!BF17:BF46,Questionnaire!BI17:BI46,Questionnaire!BL17:BL46,Questionnaire!BO17:BO46,Questionnaire!BQ17:BQ46,Questionnaire!BT17:BT46,Questionnaire!BV17:BV46,Questionnaire!BX17:BX46)/SUM(Questionnaire!C17:BY46) -> #DIV/0!
