Workbook

Sheet Fiche
C4: Certification HAS v2014 - Management de la PECM
C11: 1 - Sélectionner le département -> | D11: 14
C13: 2 - Sélectionner l'établissement -> | D13: CHU CAEN
C15: GHT -> | D15: =VLOOKUP(D13,DataBase!E:G,3,0) -> 6 - GHT Normandie Centre
D17: Cliquez ici pour enregistrer la fiche PDF de l'établissement
C20: =IF(VLOOKUP($D$13,DataBase!$E:$L,4,0)=0,"",VLOOKUP($D$13,DataBase!$E:$L,4,0)) -> X | D20: =IF(VLOOKUP($D$13,DataBase!$E:$L,5,0)=0,"",VLOOKUP($D$13,DataBase!$E:$L,5,0)) | E20: =IF(VLOOKUP($D$13,DataBase!$E:$L,6,0)=0,"",VLOOKUP($D$13,DataBase!$E:$L,6,0)) -> X | F20: =IF(VLOOKUP($D$13,DataBase!$E:$L,7,0)=0,"",VLOOKUP($D$13,DataBase!$E:$L,7,0)) -> X | G20: =IF(VLOOKUP($D$13,DataBase!$E:$L,8,0)=0,"",VLOOKUP($D$13,DataBase!$E:$L,8,0))
B21: Activité(s): | C21: MCO | D21: SSR | E21: PSY | F21: HAD | G21: DIA
B24: Management de la prise en charge médicamenteuse:
C26: PREVOIR | E26: METTRE EN ŒUVRE | H26: EVALUER | I26: AGIR
C27: Définition de la stratégie | D27: Organisation interne | E27: Mobilisation des équipes | F27: Disponibilité des ressources | G27: Effectivité de la mise en œuvre | H27: Evaluation du fonctionnement | I27: Mise en place des actions d'amélioration
B28: Note | C28: =VLOOKUP(Fiche!$D$13,DataBase!$E:$S,9,0) -> 4 | D28: =VLOOKUP(Fiche!$D$13,DataBase!$E:$S,10,0) -> 1 | E28: =VLOOKUP(Fiche!$D$13,DataBase!$E:$S,11,0) -> 3 | F28: =VLOOKUP(Fiche!$D$13,DataBase!$E:$S,12,0) -> 1 | G28: =VLOOKUP(Fiche!$D$13,DataBase!$E:$S,13,0) -> 1 | H28: =VLOOKUP(Fiche!$D$13,DataBase!$E:$S,14,0) -> 3 | I28: =VLOOKUP(Fiche!$D$13,DataBase!$E:$S,15,0) -> 3
A29: =VLOOKUP(D13,DataBase!$E:$G,2,0) -> CH > 300 lits | B29: Médiane même catégorie | C29: =VLOOKUP($A$29,Médianes!$B$4:$I$12,2,0) -> 3 | D29: =VLOOKUP($A$29,Médianes!$B$4:$I$12,3,0) -> 3 | E29: =VLOOKUP($A$29,Médianes!$B$4:$I$12,4,0) -> 3 | F29: =VLOOKUP($A$29,Médianes!$B$4:$I$12,5,0) -> 3 | G29: =VLOOKUP($A$29,Médianes!$B$4:$I$12,6,0) -> 3 | H29: =VLOOKUP($A$29,Médianes!$B$4:$I$12,7,0) -> 3 | I29: =VLOOKUP($A$29,Médianes!$B$4:$I$12,8,0) -> 3
B30: =VLOOKUP(D13,DataBase!$E:$G,3,0) -> 6 - GHT Normandie Centre | C30: =VLOOKUP($B$30,Médianes!$B$20:$I$30,2,0) -> 3 | D30: =VLOOKUP($B$30,Médianes!$B$20:$I$30,3,0) -> 3 | E30: =VLOOKUP($B$30,Médianes!$B$20:$I$30,4,0) -> 3 | F30: =VLOOKUP($B$30,Médianes!$B$20:$I$30,5,0) -> 3 | G30: =VLOOKUP($B$30,Médianes!$B$20:$I$30,6,0) -> 3 | H30: =VLOOKUP($B$30,Médianes!$B$20:$I$30,7,0) -> 3 | I30: =VLOOKUP($B$30,Médianes!$B$20:$I$30,8,0) -> 3
D31: % d'aboutissement sur le processus | E31: =VLOOKUP(Fiche!$D$13,DataBase!$E:$T,16,0) -> 0.57142857
D32: Niveau d'Avis sur la thématique PECM HAS | E32: =VLOOKUP(Fiche!$D$13,DataBase!$E:$V,18,0) -> Obligation d'amélioration
B51: Etablissement | D51: =B29 -> Médiane même catégorie | G51: =IF(D15="Aucun","",D15) -> 6 - GHT Normandie Centre
D52: =IFERROR(IF(AND(#REF!=C29,#REF!=D29,#REF!=E29,#REF!=F29,#REF!=G29,#REF!=H29,#REF!=I29),"Données médiane même catégorie=ES",""),"") | G52: =IFERROR(IF(AND(#REF!=C30,#REF!=D30,#REF!=E30,#REF!=F30,#REF!=G30,#REF!=H30,#REF!=I30),"Données GHT=ES",""),"")
A55: Certification HAS
D56: Décision processus PECM HAS | E56: =VLOOKUP(Fiche!$D$13,DataBase!$E:$V,18,0) -> Obligation d'amélioration
D58: Niveau décision certification HAS v2014 | E58: =VLOOKUP(Fiche!$D$13,DataBase!$E:$W,19,0) -> C : Certification avec obligation d'amélioration
D60: Lien vers le rapport de certification: | E60: =HYPERLINK(VLOOKUP(D13,DataBase!E:Z,22,0)) -> https://www.has-sante.fr/portail/jcms/c_262359/fr/centre-hospitalier-universitaire-de-caen

Sheet DataBase
A1: Certification des établissements de santé de Normandie
B2: 14 | F2: CH < 100 lits | G2: 1 - GHT Rouen Cœur de Seine
B3: 50 | F3: CH 100 - 300 lits | G3: 2 - GHT Caux Maritime
B4: 61 | F4: CH > 300 lits | G4: 3 - GHT Val de Seine et plateaux de l'Eure
B5: 76 | F5: Clinique < 100 lits | G5: 4 - GHT Estuaire de la Seine | H5: Score choisi selon méthode HAS "Guide méthodologique - Certification v 2014)
B6: 27 | F6: Clinique > 100 lits | G6: 5 - GHT Eure-Seine
F7: HL | G7: 6 - GHT Normandie Centre | M7: Note | P7: Score maturité PECM HAS
F8: SSR | G8: 7 - GHT Orne Perche Saosnois | H8: Non défini | M8: 0 | P8: Borne | R8: Statut
F9: PSY | G9: 8 - GHT Les Collines de Normandie | H9: Fonctionnement de base | M9: 1 | P9: 0 | Q9: 0.39 | R9: Réserve
F10: Dialyse | G10: 9 - GHT Groupe Hospitalier Mont Saint Michel | H10: Défini | M10: 3 | P10: 0.4 | Q10: 0.59 | R10: Obligation d'amélioration
F11: HAD | G11: 10 - GHT Centre Manche | H11: Maitrisé | M11: 4 | P11: 0.6 | Q11: 0.74 | R11: Recommandation d'amélioration
G12: 11 - GHT Cotentin | H12: Optimisé | M12: 5 | P12: 0.75 | Q12: 1 | R12: Exigence atteinte
G13: Aucun
M15: Management de la prise en charge médicamenteuse du patient | U15: Niveau d'Avis sur la thématique PECM HAS | V15: Decision HAS sur le processus PECM | W15: Niveau décision initial V2014 HAS final | Y15: Lien rapport de certification v2014
M16: Données brutes | T16: Score de maturité du processus (%)
B17: n° | C17: Dép. | D17: Finess | E17: Etablissement | F17: Typologie | G17: GHT | H17: Activité | M17: PREVOIR | O17: METTRE EN ŒUVRE | R17: EVALUER | S17: AGIR | X17: Additif après modalités de suivi
H18: MCO | I18: SSR | J18: PSY | K18: HAD | L18: DIA | M18: Définition de la stratégie | N18: Organisation interne | O18: Mobilisation des équipes | P18: Disponibilité des ressources | Q18: Effectivité de la mise en œuvre | R18: Evaluation du fonctionnement | S18: Mise en place des actions d'amélioration | Y18: Lien rapport initial et visites de suivi changer le lien vers HAS (initial + additifs) | Z18: chemin
B19: 1 | C19: 14 | D19: 140017278 | E19: IMPR BOIS DE LEBISEY HEROUVILLE ST CLAIR | F19: SSR | G19: Aucun | I19: X | M19: 3 | N19: 3 | O19: 4 | P19: 4 | Q19: 3 | R19: 3 | S19: 3 | T19: =IF((M19+N19+O19+P19+Q19+R19+S19)/28<>0,(M19+N19+O19+P19+Q19+R19+S19)/28,"") -> 0.82142857 | U19: =IF(T19<0.4,"Réserve",IF(AND(T19>=0.4,T19<0.6),"Obligation d'amélioration",IF(AND(T19>=0.6,T19<0.75),"Recommandation d'amélioration",IF(T19>=0.75,"Exigence atteinte","")))) -> Exigence atteinte | V19: Exigence atteinte | W19: A : Certification | Y19: Lien Rapport de certification | Z19: https://www.has-sante.fr/portail/jcms/c_261160/fr/institut-de-medecine-physique-et-de-readaptation-du-bois-de-lebisey-herouville-saint-clair
B20: =1+B19 -> 2 | C20: 14 | D20: 140015975 | E20: KORIAN THALATTA OUISTREHAM | F20: SSR | G20: Aucun | I20: X | M20: 3 | N20: 3 | O20: 3 | P20: 3 | Q20: 3 | R20: 3 | S20: 3 | T20: =IF((M20+N20+O20+P20+Q20+R20+S20)/28<>0,(M20+N20+O20+P20+Q20+R20+S20)/28,"") -> 0.75 | U20: =IF(T20<0.4,"Réserve",IF(AND(T20>=0.4,T20<0.6),"Obligation d'amélioration",IF(AND(T20>=0.6,T20<0.75),"Recommandation d'amélioration",IF(T20>=0.75,"Exigence atteinte","")))) -> Exigence atteinte | V20: Exigence atteinte | W20: A : Certification | Y20: Lien Rapport de certification | Z20: https://www.has-sante.fr/portail/jcms/c_260736/fr/korian-thalatta
B21: =1+B20 -> 3 | C21: 14 | D21: 140000555 | E21: CRLCC FRANCOIS BACLESSE | F21: CH 100 - 300 lits | G21: Aucun | H21: X | M21: 3 | N21: 3 | O21: 4 | P21: 3 | Q21: 3 | R21: 3 | S21: 4 | T21: =IF((M21+N21+O21+P21+Q21+R21+S21)/28<>0,(M21+N21+O21+P21+Q21+R21+S21)/28,"") -> 0.82142857 | U21: =IF(T21<0.4,"Réserve",IF(AND(T21>=0.4,T21<0.6),"Obligation d'amélioration",IF(AND(T21>=0.6,T21<0.75),"Recommandation d'amélioration",IF(T21>=0.75,"Exigence atteinte","")))) -> Exigence atteinte | V21: Exigence atteinte | W21: B : Certification avec recommandation d'amélioration | Y21: Lien Rapport de certification | Z21: https://www.has-sante.fr/portail/jcms/c_259364/fr/centre-francois-baclesse
B22: =1+B21 -> 4 | C22: 14 | D22: 140017237 | E22: HOPITAL PRIVE SAINT MARTIN | F22: Clinique > 100 lits | G22: Aucun | H22: X | M22: 3 | N22: 3 | O22: 3 | P22: 3 | Q22: 1 | R22: 3 | S22: 3 | T22: =IF((M22+N22+O22+P22+Q22+R22+S22)/28<>0,(M22+N22+O22+P22+Q22+R22+S22)/28,"") -> 0.67857143 | U22: =IF(T22<0.4,"Réserve",IF(AND(T22>=0.4,T22<0.6),"Obligation d'amélioration",IF(AND(T22>=0.6,T22<0.75),"Recommandation d'amélioration",IF(T22>=0.75,"Exigence atteinte","")))) -> Recommandation d'amélioration | V22: Recommandation d'amélioration | W22: B : Certification avec recommandation d'amélioration | Y22: Lien Rapport de certification | Z22: https://www.has-sante.fr/portail/jcms/c_259838/fr/hopital-prive-saint-martin-caen
B23: =1+B22 -> 5 | C23: 14 | D23: 140016759 | E23: POLYCLINIQUE DU PARC | F23: Clinique > 100 lits | G23: Aucun | H23: X | M23: 4 | N23: 3 | O23: 3 | P23: 3 | Q23: 3 | R23: 3 | S23: 3 | T23: =IF((M23+N23+O23+P23+Q23+R23+S23)/28<>0,(M23+N23+O23+P23+Q23+R23+S23)/28,"") -> 0.78571429 | U23: =IF(T23<0.4,"Réserve",IF(AND(T23>=0.4,T23<0.6),"Obligation d'amélioration",IF(AND(T23>=0.6,T23<0.75),"Recommandation d'amélioration",IF(T23>=0.75,"Exigence atteinte","")))) -> Exigence atteinte | V23: Exigence atteinte | W23: A : Certification | Y23: Lien Rapport de certification | Z23: https://www.has-sante.fr/portail/jcms/c_261945/fr/polyclinique-du-parc-caen
B24: =1+B23 -> 6 | C24: 14 | D24: 140002619 | E24: HAD CROIX ROUGE CAEN | F24: HAD | G24: Aucun | K24: X | M24: 1 | N24: 1 | O24: 4 | P24: 3 | Q24: 1 | R24: 3 | S24: 3 | T24: =IF((M24+N24+O24+P24+Q24+R24+S24)/28<>0,(M24+N24+O24+P24+Q24+R24+S24)/28,"") -> 0.57142857 | U24: =IF(T24<0.4,"Réserve",IF(AND(T24>=0.4,T24<0.6),"Obligation d'amélioration",IF(AND(T24>=0.6,T24<0.75),"Recommandation d'amélioration",IF(T24>=0.75,"Exigence atteinte","")))) -> Obligation d'amélioration | V24: Obligation d'amélioration | W24: C : Certification avec obligation d'amélioration | X24: B : Certification avec recommandation d'amélioration | Y24: Lien Rapport de certification | Z24: https://www.has-sante.fr/portail/jcms/c_811095/fr/had-croix-rouge-francaise-caen
B25: =1+B24 -> 7 | C25: 14 | D25: 140016155 | E25: HAD BAYEUX | F25: HAD | G25: Aucun | K25: X | M25: 3 | N25: 1 | O25: 3 | P25: 3 | Q25: 3 | R25: 3 | S25: 3 | T25: =IF((M25+N25+O25+P25+Q25+R25+S25)/28<>0,(M25+N25+O25+P25+Q25+R25+S25)/28,"") -> 0.67857143 | U25: =IF(T25<0.4,"Réserve",IF(AND(T25>=0.4,T25<0.6),"Obligation d'amélioration",IF(AND(T25>=0.6,T25<0.75),"Recommandation d'amélioration",IF(T25>=0.75,"Exigence atteinte","")))) -> Recommandation d'amélioration | V25: Recommandation d'amélioration | W25: B : Certification avec recommandation d'amélioration | Y25: Lien Rapport de certification | Z25: https://www.has-sante.fr/portail/jcms/c_664200/fr/service-d-hospitalisation-a-domicile-bayeux
B26: =1+B25 -> 8 | C26: 14 | D26: 140000027 | E26: CH LISIEUX | F26: CH > 300 lits | G26: 6 - GHT Normandie Centre | H26: X | I26: X | K26: X | M26: 3 | N26: 1 | O26: 3 | P26: 3 | Q26: 3 | R26: 3 | S26: 3 | T26: =IF((M26+N26+O26+P26+Q26+R26+S26)/28<>0,(M26+N26+O26+P26+Q26+R26+S26)/28,"") -> 0.67857143 | U26: =IF(T26<0.4,"Réserve",IF(AND(T26>=0.4,T26<0.6),"Obligation d'amélioration",IF(AND(T26>=0.6,T26<0.75),"Recommandation d'amélioration",IF(T26>=0.75,"Exigence atteinte","")))) -> Recommandation d'amélioration | V26: Recommandation d'amélioration | W26: B : Certification avec recommandation d'amélioration | Y26: Lien Rapport de certification | Z26: https://www.has-sante.fr/portail/jcms/c_266189/fr/centre-hospitalier-robert-bisson
B27: =1+B26 -> 9 | C27: 14 | D27: 140026410 | E27: CH LA COTE FLEURIE | F27: CH 100 - 300 lits | G27: 6 - GHT Normandie Centre | H27: X | I27: X | M27: 3 | N27: 4 | O27: 3 | P27: 3 | Q27: 3 | R27: 3 | S27: 3 | T27: =IF((M27+N27+O27+P27+Q27+R27+S27)/28<>0,(M27+N27+O27+P27+Q27+R27+S27)/28,"") -> 0.78571429 | U27: =IF(T27<0.4,"Réserve",IF(AND(T27>=0.4,T27<0.6),"Obligation d'amélioration",IF(AND(T27>=0.6,T27<0.75),"Recommandation d'amélioration",IF(T27>=0.75,"Exigence atteinte","")))) -> Exigence atteinte | V27: Exigence atteinte | W27: B : Certification avec recommandation d'amélioration | Y27: Lien Rapport de certification | Z27: https://www.has-sante.fr/portail/jcms/c_1262759/fr/centre-hospitalier-de-la-cote-fleurie
B28: =1+B27 -> 10 | C28: 14 | D28: 140000308 | E28: CH PONT L'EVEQUE | F28: SSR | G28: 6 - GHT Normandie Centre | I28: X | M28: 4 | N28: 3 | O28: 3 | P28: 3 | Q28: 3 | R28: 3 | S28: 3 | T28: =IF((M28+N28+O28+P28+Q28+R28+S28)/28<>0,(M28+N28+O28+P28+Q28+R28+S28)/28,"") -> 0.78571429 | U28: =IF(T28<0.4,"Réserve",IF(AND(T28>=0.4,T28<0.6),"Obligation d'amélioration",IF(AND(T28>=0.6,T28<0.75),"Recommandation d'amélioration",IF(T28>=0.75,"Exigence atteinte","")))) -> Exigence atteinte | V28: Exigence atteinte | W28: A : Certification | Y28: Lien Rapport de certification | Z28: https://www.has-sante.fr/portail/jcms/c_263979/fr/centre-hospitalier-de-pont-l-eveque
B29: =1+B28 -> 11 | C29: 14 | D29: 140024886 | E29: CH BAYEUX | F29: CH > 300 lits | G29: 6 - GHT Normandie Centre | H29: X | I29: X | K29: X | M29: 3 | N29: 1 | O29: 3 | P29: 3 | Q29: 1 | R29: 3 | S29: 3 | T29: =IF((M29+N29+O29+P29+Q29+R29+S29)/28<>0,(M29+N29+O29+P29+Q29+R29+S29)/28,"") -> 0.60714286 | U29: =IF(T29<0.4,"Réserve",IF(AND(T29>=0.4,T29<0.6),"Obligation d'amélioration",IF(AND(T29>=0.6,T29<0.75),"Recommandation d'amélioration",IF(T29>=0.75,"Exigence atteinte","")))) -> Recommandation d'amélioration | V29: Recommandation d'amélioration | W29: C : Certification avec obligation d'amélioration | X29: B : Certification avec recommandation d'amélioration | Y29: Lien Rapport de certification | Z29: https://www.has-sante.fr/portail/jcms/c_705121/fr/centre-hospitalier-de-bayeux
B30: =1+B29 -> 12 | C30: 14 | D30: 140000100 | E30: CHU CAEN | F30: CH > 300 lits | G30: 6 - GHT Normandie Centre | H30: X | J30: X | K30: X | M30: 4 | N30: 1 | O30: 3 | P30: 1 | Q30: 1 | R30: 3 | S30: 3 | T30: =IF((M30+N30+O30+P30+Q30+R30+S30)/28<>0,(M30+N30+O30+P30+Q30+R30+S30)/28,"") -> 0.57142857 | U30: =IF(T30<0.4,"Réserve",IF(AND(T30>=0.4,T30<0.6),"Obligation d'amélioration",IF(AND(T30>=0.6,T30<0.75),"Recommandation d'amélioration",IF(T30>=0.75,"Exigence atteinte","")))) -> Obligation d'amélioration | V30: Obligation d'amélioration | W30: C : Certification avec obligation d'amélioration | X30: B : Certification avec recommandation d'amélioration | Y30: Lien Rapport de certification | Z30: https://www.has-sante.fr/portail/jcms/c_262359/fr/centre-hospitalier-universitaire-de-caen
B31: =1+B30 -> 13 | C31: 14 | D31: 140000233 | E31: CH FALAISE | F31: CH 100 - 300 lits | G31: 6 - GHT Normandie Centre | H31: X | I31: X | K31: X | M31: 3 | N31: 3 | O31: 3 | P31: 3 | Q31: 3 | R31: 3 | S31: 3 | T31: =IF((M31+N31+O31+P31+Q31+R31+S31)/28<>0,(M31+N31+O31+P31+Q31+R31+S31)/28,"") -> 0.75 | U31: =IF(T31<0.4,"Réserve",IF(AND(T31>=0.4,T31<0.6),"Obligation d'amélioration",IF(AND(T31>=0.6,T31<0.75),"Recommandation d'amélioration",IF(T31>=0.75,"Exigence atteinte","")))) -> Exigence atteinte | V31: Exigence atteinte | W31: B : Certification avec recommandation d'amélioration | Y31: Lien Rapport de certification | Z31: https://www.has-sante.fr/portail/jcms/c_259493/fr/centre-hospitalier-de-falaise
B32: =1+B31 -> 14 | C32: 14 | D32: 140000290 | E32: CLINIQUE NOTRE DAME DE VIRE | F32: Clinique < 100 lits | G32: Aucun | H32: X | M32: 3 | N32: 3 | O32: 3 | P32: 3 | Q32: 3 | R32: 3 | S32: 3 | T32: =IF((M32+N32+O32+P32+Q32+R32+S32)/28<>0,(M32+N32+O32+P32+Q32+R32+S32)/28,"") -> 0.75 | U32: =IF(T32<0.4,"Réserve",IF(AND(T32>=0.4,T32<0.6),"Obligation d'amélioration",IF(AND(T32>=0.6,T32<0.75),"Recommandation d'amélioration",IF(T32>=0.75,"Exigence atteinte","")))) -> Exigence atteinte | V32: Exigence atteinte | W32: B : Certification avec recommandation d'amélioration | Y32: Lien Rapport de certification | Z32: https://www.has-sante.fr/portail/jcms/c_262371/fr/clinique-notre-dame
B33: =1+B32 -> 15 | C33: 14 | D33: 140019175 | E33: ADAPT MANOIR D'APRIGNY | F33: SSR | G33: Aucun | I33: X | M33: 4 | N33: 3 | O33: 3 | P33: 3 | Q33: 3 | R33: 3 | S33: 3 | T33: =IF((M33+N33+O33+P33+Q33+R33+S33)/28<>0,(M33+N33+O33+P33+Q33+R33+S33)/28,"") -> 0.78571429 | U33: =IF(T33<0.4,"Réserve",IF(AND(T33>=0.4,T33<0.6),"Obligation d'amélioration",IF(AND(T33>=0.6,T33<0.75),"Recommandation d'amélioration",IF(T33>=0.75,"Exigence atteinte","")))) -> Exigence atteinte | V33: Exigence atteinte | W33: A : Certification | Y33: Lien Rapport de certification | Z33: https://www.has-sante.fr/portail/jcms/c_264651/fr/adapt-le-manoir-d-aprigny
B34: =1+B33 -> 16 | C34: 14 | D34: 140025255 | E34: CLINIQUE KORIAN COTE NORMANDE SSR | F34: SSR | G34: Aucun | I34: X | M34: 3 | N34: 3 | O34: 3 | P34: 3 | Q34: 1 | R34: 3 | S34: 3 | T34: =IF((M34+N34+O34+P34+Q34+R34+S34)/28<>0,(M34+N34+O34+P34+Q34+R34+S34)/28,"") -> 0.67857143 | U34: =IF(T34<0.4,"Réserve",IF(AND(T34>=0.4,T34<0.6),"Obligation d'amélioration",IF(AND(T34>=0.6,T34<0.75),"Recommandation d'amélioration",IF(T34>=0.75,"Exigence atteinte","")))) -> Recommandation d'amélioration | V34: Recommandation d'amélioration | W34: B : Certification avec recommandation d'amélioration | Y34: Lien Rapport de certification | Z34: https://www.has-sante.fr/portail/jcms/c_1367985/fr/clinique-korian-cote-normande
B35: =1+B34 -> 17 | C35: 14 | D35: 140026709 | E35: POLYCLINIQUE DE DEAUVILLE | F35: Clinique > 100 lits | G35: Aucun | H35: X | I35: X | K35: X | M35: 3 | N35: 3 | O35: 3 | P35: 3 | Q35: 3 | R35: 3 | S35: 3 | T35: =IF((M35+N35+O35+P35+Q35+R35+S35)/28<>0,(M35+N35+O35+P35+Q35+R35+S35)/28,"") -> 0.75 | U35: =IF(T35<0.4,"Réserve",IF(AND(T35>=0.4,T35<0.6),"Obligation d'amélioration",IF(AND(T35>=0.6,T35<0.75),"Recommandation d'amélioration",IF(T35>=0.75,"Exigence atteinte","")))) -> Exigence atteinte | V35: Exigence atteinte | W35: A : Certification | Y35: Lien Rapport de certification | Z35: https://www.has-sante.fr/portail/jcms/c_475382/fr/polyclinique-de-deauville
B36: =1+B35 -> 18 | C36: 14 | D36: 140017948 | E36: EPSM CAEN | F36: PSY | G36: 6 - GHT Normandie Centre | J36: X | M36: 3 | N36: 3 | O36: 3 | P36: 3 | Q36: 1 | R36: 3 | S36: 3 | T36: =IF((M36+N36+O36+P36+Q36+R36+S36)/28<>0,(M36+N36+O36+P36+Q36+R36+S36)/28,"") -> 0.67857143 | U36: =IF(T36<0.4,"Réserve",IF(AND(T36>=0.4,T36<0.6),"Obligation d'amélioration",IF(AND(T36>=0.6,T36<0.75),"Recommandation d'amélioration",IF(T36>=0.75,"Exigence atteinte","")))) -> Recommandation d'amélioration | V36: Recommandation d'amélioration | W36: D : Sursis à statuer | Y36: Lien Rapport de certification | Z36: https://www.has-sante.fr/portail/jcms/c_458832/fr/etablissement-public-de-sante-caen
B37: =1+B36 -> 19 | C37: 14 | D37: 140018730 | E37: POLYCLINIQUE DE LISIEUX | F37: Clinique < 100 lits | G37: Aucun | H37: X | M37: 3 | N37: 3 | O37: 3 | P37: 3 | Q37: 3 | R37: 3 | S37: 3 | T37: =IF((M37+N37+O37+P37+Q37+R37+S37)/28<>0,(M37+N37+O37+P37+Q37+R37+S37)/28,"") -> 0.75 | U37: =IF(T37<0.4,"Réserve",IF(AND(T37>=0.4,T37<0.6),"Obligation d'amélioration",IF(AND(T37>=0.6,T37<0.75),"Recommandation d'amélioration",IF(T37>=0.75,"Exigence atteinte","")))) -> Exigence atteinte | V37: Exigence atteinte | W37: A : Certification | Y37: Lien Rapport de certification | Z37: https://www.has-sante.fr/portail/jcms/c_447983/fr/polyclinique-de-lisieux
B38: =1+B37 -> 20 | C38: 14 | D38: 140000159 | E38: CH VIRE | F38: CH 100 - 300 lits | G38: 8 - GHT Les Collines de Normandie | H38: X | I38: X | J38: X | M38: 3 | N38: 1 | O38: 3 | P38: 3 | Q38: 4 | R38: 3 | S38: 3 | T38: =IF((M38+N38+O38+P38+Q38+R38+S38)/28<>0,(M38+N38+O38+P38+Q38+R38+S38)/28,"") -> 0.71428571 | U38: =IF(T38<0.4,"Réserve",IF(AND(T38>=0.4,T38<0.6),"Obligation d'amélioration",IF(AND(T38>=0.6,T38<0.75),"Recommandation d'amélioration",IF(T38>=0.75,"Exigence atteinte","")))) -> Recommandation d'amélioration | V38: Recommandation d'amélioration | W38: B : Certification avec recommandation d'amélioration | Y38: Lien Rapport de certification | Z38: https://www.has-sante.fr/portail/jcms/c_264159/fr/centre-hospitalier-de-vire
B39: =1+B38 -> 21 | C39: 14 | D39: 140025123 | E39: CENTRE DE READAPTATION FONCTIONNELLE DE CAEN | F39: SSR | G39: Aucun | I39: X | M39: 4 | N39: 3 | O39: 4 | P39: 3 | Q39: 4 | R39: 4 | S39: 4 | T39: =IF((M39+N39+O39+P39+Q39+R39+S39)/28<>0,(M39+N39+O39+P39+Q39+R39+S39)/28,"") -> 0.92857143 | U39: =IF(T39<0.4,"Réserve",IF(AND(T39>=0.4,T39<0.6),"Obligation d'amélioration",IF(AND(T39>=0.6,T39<0.75),"Recommandation d'amélioration",IF(T39>=0.75,"Exigence atteinte","")))) -> Exigence atteinte | V39: Exigence atteinte | W39: A : Certification | Y39: Lien Rapport de certification | Z39: https://www.has-sante.fr/portail/jcms/c_465418/fr/centre-de-readaptation-fonctionnelle-de-caen
B40: =1+B39 -> 22 | C40: 14 | D40: 140025800 | E40: FONDATION DE LA MISERICORDE | F40: Clinique > 100 lits | G40: Aucun | H40: X | I40: X | M40: 4 | N40: 4 | O40: 4 | P40: 4 | Q40: 3 | R40: 4 | S40: 4 | T40: =IF((M40+N40+O40+P40+Q40+R40+S40)/28<>0,(M40+N40+O40+P40+Q40+R40+S40)/28,"") -> 0.96428571 | U40: =IF(T40<0.4,"Réserve",IF(AND(T40>=0.4,T40<0.6),"Obligation d'amélioration",IF(AND(T40>=0.6,T40<0.75),"Recommandation d'amélioration",IF(T40>=0.75,"Exigence atteinte","")))) -> Exigence atteinte | V40: Exigence atteinte | W40: A : Certification | Y40: Lien Rapport de certification | Z40: https://www.has-sante.fr/portail/jcms/c_419197/fr/clinique-de-la-misericorde
B41: =1+B40 -> 23 | C41: 27 | D41: 270000326 | E41: CLINIQUE CHIRURGICALE PASTEUR EVREUX | F41: Clinique < 100 lits | G41: Aucun | H41: X | M41: 3 | N41: 3 | O41: 3 | P41: 3 | Q41: 1 | R41: 3 | S41: 3 | T41: =IF((M41+N41+O41+P41+Q41+R41+S41)/28<>0,(M41+N41+O41+P41+Q41+R41+S41)/28,"") -> 0.67857143 | U41: =IF(T41<0.4,"Réserve",IF(AND(T41>=0.4,T41<0.6),"Obligation d'amélioration",IF(AND(T41>=0.6,T41<0.75),"Recommandation d'amélioration",IF(T41>=0.75,"Exigence atteinte","")))) -> Recommandation d'amélioration | V41: Recommandation d'amélioration | W41: B : Certification avec recommandation d'amélioration | Y41: Lien Rapport de certification | Z41: https://www.has-sante.fr/portail/jcms/c_262938/fr/clinique-chirurgicale-pasteur
...

Sheet Médianes
B3: Médiane | C3: Définition de la stratégie | D3: Organisation interne | E3: Mobilisation des équipes | F3: Disponibilité des ressources | G3: Effectivité de la mise en œuvre | H3: Evaluation du fonctionnement | I3: Mise en place des actions d'amélioration
B4: CH < 100 lits | C4: {=MEDIAN(IF(DataBase!$F$19:$F$499=$B4,DataBase!$M$19:$M$499))} -> 3 | D4: {=MEDIAN(IF(DataBase!$F$19:$F$499=$B4,DataBase!$M$19:$M$499))} -> 3 | E4: {=MEDIAN(IF(DataBase!$F$19:$F$499=$B4,DataBase!$M$19:$M$499))} -> 3 | F4: {=MEDIAN(IF(DataBase!$F$19:$F$499=$B4,DataBase!$M$19:$M$499))} -> 3 | G4: {=MEDIAN(IF(DataBase!$F$19:$F$499=$B4,DataBase!$M$19:$M$499))} -> 3 | H4: {=MEDIAN(IF(DataBase!$F$19:$F$499=$B4,DataBase!$M$19:$M$499))} -> 3 | I4: {=MEDIAN(IF(DataBase!$F$19:$F$499=$B4,DataBase!$M$19:$M$499))} -> 3
B5: CH 100 - 300 lits | C5: {=MEDIAN(IF(DataBase!$F$19:$F$499=$B5,DataBase!$M$19:$M$499))} -> 3 | D5: {=MEDIAN(IF(DataBase!$F$19:$F$499=$B5,DataBase!$M$19:$M$499))} -> 3 | E5: {=MEDIAN(IF(DataBase!$F$19:$F$499=$B5,DataBase!$M$19:$M$499))} -> 3 | F5: {=MEDIAN(IF(DataBase!$F$19:$F$499=$B5,DataBase!$M$19:$M$499))} -> 3 | G5: {=MEDIAN(IF(DataBase!$F$19:$F$499=$B5,DataBase!$M$19:$M$499))} -> 3 | H5: {=MEDIAN(IF(DataBase!$F$19:$F$499=$B5,DataBase!$M$19:$M$499))} -> 3 | I5: {=MEDIAN(IF(DataBase!$F$19:$F$499=$B5,DataBase!$M$19:$M$499))} -> 3
B6: CH > 300 lits | C6: {=MEDIAN(IF(DataBase!$F$19:$F$499=$B6,DataBase!$M$19:$M$499))} -> 3 | D6: {=MEDIAN(IF(DataBase!$F$19:$F$499=$B6,DataBase!$M$19:$M$499))} -> 3 | E6: {=MEDIAN(IF(DataBase!$F$19:$F$499=$B6,DataBase!$M$19:$M$499))} -> 3 | F6: {=MEDIAN(IF(DataBase!$F$19:$F$499=$B6,DataBase!$M$19:$M$499))} -> 3 | G6: {=MEDIAN(IF(DataBase!$F$19:$F$499=$B6,DataBase!$M$19:$M$499))} -> 3 | H6: {=MEDIAN(IF(DataBase!$F$19:$F$499=$B6,DataBase!$M$19:$M$499))} -> 3 | I6: {=MEDIAN(IF(DataBase!$F$19:$F$499=$B6,DataBase!$M$19:$M$499))} -> 3
B7: Clinique < 100 lits | C7: {=MEDIAN(IF(DataBase!$F$19:$F$499=$B7,DataBase!$M$19:$M$499))} -> 3 | D7: {=MEDIAN(IF(DataBase!$F$19:$F$499=$B7,DataBase!$M$19:$M$499))} -> 3 | E7: {=MEDIAN(IF(DataBase!$F$19:$F$499=$B7,DataBase!$M$19:$M$499))} -> 3 | F7: {=MEDIAN(IF(DataBase!$F$19:$F$499=$B7,DataBase!$M$19:$M$499))} -> 3 | G7: {=MEDIAN(IF(DataBase!$F$19:$F$499=$B7,DataBase!$M$19:$M$499))} -> 3 | H7: {=MEDIAN(IF(DataBase!$F$19:$F$499=$B7,DataBase!$M$19:$M$499))} -> 3 | I7: {=MEDIAN(IF(DataBase!$F$19:$F$499=$B7,DataBase!$M$19:$M$499))} -> 3
B8: Clinique > 100 lits | C8: {=MEDIAN(IF(DataBase!$F$19:$F$499=$B8,DataBase!$M$19:$M$499))} -> 3 | D8: {=MEDIAN(IF(DataBase!$F$19:$F$499=$B8,DataBase!$M$19:$M$499))} -> 3 | E8: {=MEDIAN(IF(DataBase!$F$19:$F$499=$B8,DataBase!$M$19:$M$499))} -> 3 | F8: {=MEDIAN(IF(DataBase!$F$19:$F$499=$B8,DataBase!$M$19:$M$499))} -> 3 | G8: {=MEDIAN(IF(DataBase!$F$19:$F$499=$B8,DataBase!$M$19:$M$499))} -> 3 | H8: {=MEDIAN(IF(DataBase!$F$19:$F$499=$B8,DataBase!$M$19:$M$499))} -> 3 | I8: {=MEDIAN(IF(DataBase!$F$19:$F$499=$B8,DataBase!$M$19:$M$499))} -> 3
B9: SSR | C9: {=MEDIAN(IF(DataBase!$F$19:$F$499=$B9,DataBase!$M$19:$M$499))} -> 3 | D9: {=MEDIAN(IF(DataBase!$F$19:$F$499=$B9,DataBase!$M$19:$M$499))} -> 3 | E9: {=MEDIAN(IF(DataBase!$F$19:$F$499=$B9,DataBase!$M$19:$M$499))} -> 3 | F9: {=MEDIAN(IF(DataBase!$F$19:$F$499=$B9,DataBase!$M$19:$M$499))} -> 3 | G9: {=MEDIAN(IF(DataBase!$F$19:$F$499=$B9,DataBase!$M$19:$M$499))} -> 3 | H9: {=MEDIAN(IF(DataBase!$F$19:$F$499=$B9,DataBase!$M$19:$M$499))} -> 3 | I9: {=MEDIAN(IF(DataBase!$F$19:$F$499=$B9,DataBase!$M$19:$M$499))} -> 3
B10: HAD | C10: {=MEDIAN(IF(DataBase!$F$19:$F$499=$B10,DataBase!$M$19:$M$499))} -> 2 | D10: {=MEDIAN(IF(DataBase!$F$19:$F$499=$B10,DataBase!$M$19:$M$499))} -> 2 | E10: {=MEDIAN(IF(DataBase!$F$19:$F$499=$B10,DataBase!$M$19:$M$499))} -> 2 | F10: {=MEDIAN(IF(DataBase!$F$19:$F$499=$B10,DataBase!$M$19:$M$499))} -> 2 | G10: {=MEDIAN(IF(DataBase!$F$19:$F$499=$B10,DataBase!$M$19:$M$499))} -> 2 | H10: {=MEDIAN(IF(DataBase!$F$19:$F$499=$B10,DataBase!$M$19:$M$499))} -> 2 | I10: {=MEDIAN(IF(DataBase!$F$19:$F$499=$B10,DataBase!$M$19:$M$499))} -> 2
B11: PSY | C11: {=MEDIAN(IF(DataBase!$F$19:$F$499=$B11,DataBase!$M$19:$M$499))} -> 3 | D11: {=MEDIAN(IF(DataBase!$F$19:$F$499=$B11,DataBase!$M$19:$M$499))} -> 3 | E11: {=MEDIAN(IF(DataBase!$F$19:$F$499=$B11,DataBase!$M$19:$M$499))} -> 3 | F11: {=MEDIAN(IF(DataBase!$F$19:$F$499=$B11,DataBase!$M$19:$M$499))} -> 3 | G11: {=MEDIAN(IF(DataBase!$F$19:$F$499=$B11,DataBase!$M$19:$M$499))} -> 3 | H11: {=MEDIAN(IF(DataBase!$F$19:$F$499=$B11,DataBase!$M$19:$M$499))} -> 3 | I11: {=MEDIAN(IF(DataBase!$F$19:$F$499=$B11,DataBase!$M$19:$M$499))} -> 3
B12: Dialyse | C12: {=MEDIAN(IF(DataBase!$F$19:$F$499=$B12,DataBase!$M$19:$M$499))} -> 3 | D12: {=MEDIAN(IF(DataBase!$F$19:$F$499=$B12,DataBase!$M$19:$M$499))} -> 3 | E12: {=MEDIAN(IF(DataBase!$F$19:$F$499=$B12,DataBase!$M$19:$M$499))} -> 3 | F12: {=MEDIAN(IF(DataBase!$F$19:$F$499=$B12,DataBase!$M$19:$M$499))} -> 3 | G12: {=MEDIAN(IF(DataBase!$F$19:$F$499=$B12,DataBase!$M$19:$M$499))} -> 3 | H12: {=MEDIAN(IF(DataBase!$F$19:$F$499=$B12,DataBase!$M$19:$M$499))} -> 3 | I12: {=MEDIAN(IF(DataBase!$F$19:$F$499=$B12,DataBase!$M$19:$M$499))} -> 3
B19: Médiane | C19: Définition de la stratégie | D19: Organisation interne | E19: Mobilisation des équipes | F19: Disponibilité des ressources | G19: Effectivité de la mise en œuvre | H19: Evaluation du fonctionnement | I19: Mise en place des actions d'amélioration
B20: 1 - GHT Rouen Cœur de Seine | C20: {=MEDIAN(IF(DataBase!$G$19:$G$499=$B20,DataBase!$M$19:$M$499))} -> 3 | D20: {=MEDIAN(IF(DataBase!$G$19:$G$499=$B20,DataBase!$M$19:$M$499))} -> 3 | E20: {=MEDIAN(IF(DataBase!$G$19:$G$499=$B20,DataBase!$M$19:$M$499))} -> 3 | F20: {=MEDIAN(IF(DataBase!$G$19:$G$499=$B20,DataBase!$M$19:$M$499))} -> 3 | G20: {=MEDIAN(IF(DataBase!$G$19:$G$499=$B20,DataBase!$M$19:$M$499))} -> 3 | H20: {=MEDIAN(IF(DataBase!$G$19:$G$499=$B20,DataBase!$M$19:$M$499))} -> 3 | I20: {=MEDIAN(IF(DataBase!$G$19:$G$499=$B20,DataBase!$M$19:$M$499))} -> 3
B21: 2 - GHT Caux Maritime | C21: {=MEDIAN(IF(DataBase!$G$19:$G$499=$B21,DataBase!$M$19:$M$499))} -> 3 | D21: {=MEDIAN(IF(DataBase!$G$19:$G$499=$B21,DataBase!$M$19:$M$499))} -> 3 | E21: {=MEDIAN(IF(DataBase!$G$19:$G$499=$B21,DataBase!$M$19:$M$499))} -> 3 | F21: {=MEDIAN(IF(DataBase!$G$19:$G$499=$B21,DataBase!$M$19:$M$499))} -> 3 | G21: {=MEDIAN(IF(DataBase!$G$19:$G$499=$B21,DataBase!$M$19:$M$499))} -> 3 | H21: {=MEDIAN(IF(DataBase!$G$19:$G$499=$B21,DataBase!$M$19:$M$499))} -> 3 | I21: {=MEDIAN(IF(DataBase!$G$19:$G$499=$B21,DataBase!$M$19:$M$499))} -> 3
B22: 3 - GHT Val de Seine et plateaux de l'Eure | C22: {=MEDIAN(IF(DataBase!$G$19:$G$499=$B22,DataBase!$M$19:$M$499))} -> 3 | D22: {=MEDIAN(IF(DataBase!$G$19:$G$499=$B22,DataBase!$M$19:$M$499))} -> 3 | E22: {=MEDIAN(IF(DataBase!$G$19:$G$499=$B22,DataBase!$M$19:$M$499))} -> 3 | F22: {=MEDIAN(IF(DataBase!$G$19:$G$499=$B22,DataBase!$M$19:$M$499))} -> 3 | G22: {=MEDIAN(IF(DataBase!$G$19:$G$499=$B22,DataBase!$M$19:$M$499))} -> 3 | H22: {=MEDIAN(IF(DataBase!$G$19:$G$499=$B22,DataBase!$M$19:$M$499))} -> 3 | I22: {=MEDIAN(IF(DataBase!$G$19:$G$499=$B22,DataBase!$M$19:$M$499))} -> 3
B23: 4 - GHT Estuaire de la Seine | C23: {=MEDIAN(IF(DataBase!$G$19:$G$499=$B23,DataBase!$M$19:$M$499))} -> 3 | D23: {=MEDIAN(IF(DataBase!$G$19:$G$499=$B23,DataBase!$M$19:$M$499))} -> 3 | E23: {=MEDIAN(IF(DataBase!$G$19:$G$499=$B23,DataBase!$M$19:$M$499))} -> 3 | F23: {=MEDIAN(IF(DataBase!$G$19:$G$499=$B23,DataBase!$M$19:$M$499))} -> 3 | G23: {=MEDIAN(IF(DataBase!$G$19:$G$499=$B23,DataBase!$M$19:$M$499))} -> 3 | H23: {=MEDIAN(IF(DataBase!$G$19:$G$499=$B23,DataBase!$M$19:$M$499))} -> 3 | I23: {=MEDIAN(IF(DataBase!$G$19:$G$499=$B23,DataBase!$M$19:$M$499))} -> 3
B24: 5 - GHT Eure-Seine | C24: {=MEDIAN(IF(DataBase!$G$19:$G$499=$B24,DataBase!$M$19:$M$499))} -> 3 | D24: {=MEDIAN(IF(DataBase!$G$19:$G$499=$B24,DataBase!$M$19:$M$499))} -> 3 | E24: {=MEDIAN(IF(DataBase!$G$19:$G$499=$B24,DataBase!$M$19:$M$499))} -> 3 | F24: {=MEDIAN(IF(DataBase!$G$19:$G$499=$B24,DataBase!$M$19:$M$499))} -> 3 | G24: {=MEDIAN(IF(DataBase!$G$19:$G$499=$B24,DataBase!$M$19:$M$499))} -> 3 | H24: {=MEDIAN(IF(DataBase!$G$19:$G$499=$B24,DataBase!$M$19:$M$499))} -> 3 | I24: {=MEDIAN(IF(DataBase!$G$19:$G$499=$B24,DataBase!$M$19:$M$499))} -> 3
B25: 6 - GHT Normandie Centre | C25: {=MEDIAN(IF(DataBase!$G$19:$G$499=$B25,DataBase!$M$19:$M$499))} -> 3 | D25: {=MEDIAN(IF(DataBase!$G$19:$G$499=$B25,DataBase!$M$19:$M$499))} -> 3 | E25: {=MEDIAN(IF(DataBase!$G$19:$G$499=$B25,DataBase!$M$19:$M$499))} -> 3 | F25: {=MEDIAN(IF(DataBase!$G$19:$G$499=$B25,DataBase!$M$19:$M$499))} -> 3 | G25: {=MEDIAN(IF(DataBase!$G$19:$G$499=$B25,DataBase!$M$19:$M$499))} -> 3 | H25: {=MEDIAN(IF(DataBase!$G$19:$G$499=$B25,DataBase!$M$19:$M$499))} -> 3 | I25: {=MEDIAN(IF(DataBase!$G$19:$G$499=$B25,DataBase!$M$19:$M$499))} -> 3
B26: 7 - GHT Orne Perche Saosnois | C26: {=MEDIAN(IF(DataBase!$G$19:$G$499=$B26,DataBase!$M$19:$M$499))} -> 3 | D26: {=MEDIAN(IF(DataBase!$G$19:$G$499=$B26,DataBase!$M$19:$M$499))} -> 3 | E26: {=MEDIAN(IF(DataBase!$G$19:$G$499=$B26,DataBase!$M$19:$M$499))} -> 3 | F26: {=MEDIAN(IF(DataBase!$G$19:$G$499=$B26,DataBase!$M$19:$M$499))} -> 3 | G26: {=MEDIAN(IF(DataBase!$G$19:$G$499=$B26,DataBase!$M$19:$M$499))} -> 3 | H26: {=MEDIAN(IF(DataBase!$G$19:$G$499=$B26,DataBase!$M$19:$M$499))} -> 3 | I26: {=MEDIAN(IF(DataBase!$G$19:$G$499=$B26,DataBase!$M$19:$M$499))} -> 3
B27: 8 - GHT Les Collines de Normandie | C27: {=MEDIAN(IF(DataBase!$G$19:$G$499=$B27,DataBase!$M$19:$M$499))} -> 3 | D27: {=MEDIAN(IF(DataBase!$G$19:$G$499=$B27,DataBase!$M$19:$M$499))} -> 3 | E27: {=MEDIAN(IF(DataBase!$G$19:$G$499=$B27,DataBase!$M$19:$M$499))} -> 3 | F27: {=MEDIAN(IF(DataBase!$G$19:$G$499=$B27,DataBase!$M$19:$M$499))} -> 3 | G27: {=MEDIAN(IF(DataBase!$G$19:$G$499=$B27,DataBase!$M$19:$M$499))} -> 3 | H27: {=MEDIAN(IF(DataBase!$G$19:$G$499=$B27,DataBase!$M$19:$M$499))} -> 3 | I27: {=MEDIAN(IF(DataBase!$G$19:$G$499=$B27,DataBase!$M$19:$M$499))} -> 3
B28: 9 - GHT Groupe Hospitalier Mont Saint Michel | C28: {=MEDIAN(IF(DataBase!$G$19:$G$499=$B28,DataBase!$M$19:$M$499))} -> 3.5 | D28: {=MEDIAN(IF(DataBase!$G$19:$G$499=$B28,DataBase!$M$19:$M$499))} -> 3.5 | E28: {=MEDIAN(IF(DataBase!$G$19:$G$499=$B28,DataBase!$M$19:$M$499))} -> 3.5 | F28: {=MEDIAN(IF(DataBase!$G$19:$G$499=$B28,DataBase!$M$19:$M$499))} -> 3.5 | G28: {=MEDIAN(IF(DataBase!$G$19:$G$499=$B28,DataBase!$M$19:$M$499))} -> 3.5 | H28: {=MEDIAN(IF(DataBase!$G$19:$G$499=$B28,DataBase!$M$19:$M$499))} -> 3.5 | I28: {=MEDIAN(IF(DataBase!$G$19:$G$499=$B28,DataBase!$M$19:$M$499))} -> 3.5
B29: 10 - GHT Centre Manche | C29: {=MEDIAN(IF(DataBase!$G$19:$G$499=$B29,DataBase!$M$19:$M$499))} -> 4 | D29: {=MEDIAN(IF(DataBase!$G$19:$G$499=$B29,DataBase!$M$19:$M$499))} -> 4 | E29: {=MEDIAN(IF(DataBase!$G$19:$G$499=$B29,DataBase!$M$19:$M$499))} -> 4 | F29: {=MEDIAN(IF(DataBase!$G$19:$G$499=$B29,DataBase!$M$19:$M$499))} -> 4 | G29: {=MEDIAN(IF(DataBase!$G$19:$G$499=$B29,DataBase!$M$19:$M$499))} -> 4 | H29: {=MEDIAN(IF(DataBase!$G$19:$G$499=$B29,DataBase!$M$19:$M$499))} -> 4 | I29: {=MEDIAN(IF(DataBase!$G$19:$G$499=$B29,DataBase!$M$19:$M$499))} -> 4
B30: 11 - GHT Cotentin | C30: {=MEDIAN(IF(DataBase!$G$19:$G$499=$B30,DataBase!$M$19:$M$499))} -> 3 | D30: {=MEDIAN(IF(DataBase!$G$19:$G$499=$B30,DataBase!$M$19:$M$499))} -> 3 | E30: {=MEDIAN(IF(DataBase!$G$19:$G$499=$B30,DataBase!$M$19:$M$499))} -> 3 | F30: {=MEDIAN(IF(DataBase!$G$19:$G$499=$B30,DataBase!$M$19:$M$499))} -> 3 | G30: {=MEDIAN(IF(DataBase!$G$19:$G$499=$B30,DataBase!$M$19:$M$499))} -> 3 | H30: {=MEDIAN(IF(DataBase!$G$19:$G$499=$B30,DataBase!$M$19:$M$499))} -> 3 | I30: {=MEDIAN(IF(DataBase!$G$19:$G$499=$B30,DataBase!$M$19:$M$499))} -> 3
