Workbook

Sheet Fiche
C4: Certification HAS v2014 - Management de la PECM
C11: 1 - Sélectionner le département -> | D11: 14
C13: 2 - Sélectionner l'établissement -> | D13: CHU CAEN
C15: GHT -> | D15: =VLOOKUP(D13,DataBase!E:G,3,0) -> 6 - GHT Normandie Centre
D17: Cliquez ici pour enregistrer la fiche PDF de l'établissement
C20: =IF(VLOOKUP($D$13,DataBase!$E:$L,4,0)=0,"",VLOOKUP($D$13,DataBase!$E:$L,4,0)) -> X | D20: =IF(VLOOKUP($D$13,DataBase!$E:$L,5,0)=0,"",VLOOKUP($D$13,DataBase!$E:$L,5,0)) | E20: =IF(VLOOKUP($D$13,DataBase!$E:$L,6,0)=0,"",VLOOKUP($D$13,DataBase!$E:$L,6,0)) -> X | F20: =IF(VLOOKUP($D$13,DataBase!$E:$L,7,0)=0,"",VLOOKUP($D$13,DataBase!$E:$L,7,0)) -> X | G20: =IF(VLOOKUP($D$13,DataBase!$E:$L,8,0)=0,"",VLOOKUP($D$13,DataBase!$E:$L,8,0))
B21: Activité(s): | C21: MCO | D21: SSR | E21: PSY | F21: HAD | G21: DIA
B24: Management de la prise en charge médicamenteuse:
C26: PREVOIR | E26: METTRE EN ŒUVRE | H26: EVALUER | I26: AGIR
C27: Définition de la stratégie | D27: Organisation interne | E27: Mobilisation des équipes | F27: Disponibilité des ressources | G27: Effectivité de la mise en œuvre | H27: Evaluation du fonctionnement | I27: Mise en place des actions d'amélioration
B28: Note | C28: =VLOOKUP(Fiche!$D$13,DataBase!$E:$S,9,0) -> 4 | D28: =VLOOKUP(Fiche!$D$13,DataBase!$E:$S,10,0) -> 1 | E28: =VLOOKUP(Fiche!$D$13,DataBase!$E:$S,11,0) -> 3 | F28: =VLOOKUP(Fiche!$D$13,DataBase!$E:$S,12,0) -> 1 | G28: =VLOOKUP(Fiche!$D$13,DataBase!$E:$S,13,0) -> 1 | H28: =VLOOKUP(Fiche!$D$13,DataBase!$E:$S,14,0) -> 3 | I28: =VLOOKUP(Fiche!$D$13,DataBase!$E:$S,15,0) -> 3
A29: =VLOOKUP(D13,DataBase!$E:$G,2,0) -> CH > 300 lits | B29: Médiane même catégorie | C29: =VLOOKUP($A$29,Médianes!$B$4:$I$12,2,0) -> 3 | D29: =VLOOKUP($A$29,Médianes!$B$4:$I$12,3,0) -> 3 | E29: =VLOOKUP($A$29,Médianes!$B$4:$I$12,4,0) -> 3 | F29: =VLOOKUP($A$29,Médianes!$B$4:$I$12,5,0) -> 3 | G29: =VLOOKUP($A$29,Médianes!$B$4:$I$12,6,0) -> 3 | H29: =VLOOKUP($A$29,Médianes!$B$4:$I$12,7,0) -> 3 | I29: =VLOOKUP($A$29,Médianes!$B$4:$I$12,8,0) -> 3
B30: =VLOOKUP(D13,DataBase!$E:$G,3,0) -> 6 - GHT Normandie Centre | C30: =VLOOKUP($B$30,Médianes!$B$20:$I$30,2,0) -> 3 | D30: =VLOOKUP($B$30,Médianes!$B$20:$I$30,3,0) -> 3 | E30: =VLOOKUP($B$30,Médianes!$B$20:$I$30,4,0) -> 3 | F30: =VLOOKUP($B$30,Médianes!$B$20:$I$30,5,0) -> 3 | G30: =VLOOKUP($B$30,Médianes!$B$20:$I$30,6,0) -> 3 | H30: =VLOOKUP($B$30,Médianes!$B$20:$I$30,7,0) -> 3 | I30: =VLOOKUP($B$30,Médianes!$B$20:$I$30,8,0) -> 3
D31: % d'aboutissement sur le processus | E31: =VLOOKUP(Fiche!$D$13,DataBase!$E:$T,16,0) -> 0.57142857
D32: Niveau d'Avis sur la thématique PECM HAS | E32: =VLOOKUP(Fiche!$D$13,DataBase!$E:$V,18,0) -> Obligation d'amélioration
B51: Etablissement | D51: =B29 -> Médiane même catégorie | G51: =IF(D15="Aucun","",D15) -> 6 - GHT Normandie Centre
D52: =IFERROR(IF(AND(#REF!=C29,#REF!=D29,#REF!=E29,#REF!=F29,#REF!=G29,#REF!=H29,#REF!=I29),"Données médiane même catégorie=ES",""),"") | G52: =IFERROR(IF(AND(#REF!=C30,#REF!=D30,#REF!=E30,#REF!=F30,#REF!=G30,#REF!=H30,#REF!=I30),"Données GHT=ES",""),"")
A55: Certification HAS
D56: Décision processus PECM HAS | E56: =VLOOKUP(Fiche!$D$13,DataBase!$E:$V,18,0) -> Obligation d'amélioration
D58: Niveau décision certification HAS v2014 | E58: =VLOOKUP(Fiche!$D$13,DataBase!$E:$W,19,0) -> C : Certification avec obligation d'amélioration
D60: Lien vers le rapport de certification: | E60: =HYPERLINK(VLOOKUP(D13,DataBase!E:Z,22,0)) -> https://www.has-sante.fr/portail/jcms/c_262359/fr/centre-hospitalier-universitaire-de-caen

Sheet DataBase
A1: Certification des établissements de santé de Normandie
B2: 14 | F2: CH < 100 lits | G2: 1 - GHT Rouen Cœur de Seine
B3: 50 | F3: CH 100 - 300 lits | G3: 2 - GHT Caux Maritime
B4: 61 | F4: CH > 300 lits | G4: 3 - GHT Val de Seine et plateaux de l'Eure
B5: 76 | F5: Clinique < 100 lits | G5: 4 - GHT Estuaire de la Seine | H5: Score choisi selon méthode HAS "Guide méthodologique - Certification v 2014)
B6: 27 | F6: Clinique > 100 lits | G6: 5 - GHT Eure-Seine
F7: HL | G7: 6 - GHT Normandie Centre | M7: Note | P7: Score maturité PECM HAS
F8: SSR | G8: 7 - GHT Orne Perche Saosnois | H8: Non défini | M8: 0 | P8: Borne | R8: Statut
F9: PSY | G9: 8 - GHT Les Collines de Normandie | H9: Fonctionnement de base | M9: 1 | P9: 0 | Q9: 0.39 | R9: Réserve
F10: Dialyse | G10: 9 - GHT Groupe Hospitalier Mont Saint Michel | H10: Défini | M10: 3 | P10: 0.4 | Q10: 0.59 | R10: Obligation d'amélioration
F11: HAD | G11: 10 - GHT Centre Manche | H11: Maitrisé | M11: 4 | P11: 0.6 | Q11: 0.74 | R11: Recommandation d'amélioration
G12: 11 - GHT Cotentin | H12: Optimisé | M12: 5 | P12: 0.75 | Q12: 1 | R12: Exigence atteinte
G13: Aucun
M15: Management de la prise en charge médicamenteuse du patient | U15: Niveau d'Avis sur la thématique PECM HAS | V15: Decision HAS sur le processus PECM | W15: Niveau décision initial V2014 HAS final | Y15: Lien rapport de certification v2014
M16: Données brutes | T16: Score de maturité du processus (%)
B17: n° | C17: Dép. | D17: Finess | E17: Etablissement | F17: Typologie | G17: GHT | H17: Activité | M17: PREVOIR | O17: METTRE EN ŒUVRE | R17: EVALUER | S17: AGIR | X17: Additif après modalités de suivi
H18: MCO | I18: SSR | J18: PSY | K18: HAD | L18: DIA | M18: Définition de la stratégie | N18: Organisation interne | O18: Mobilisation des équipes | P18: Disponibilité des ressources | Q18: Effectivité de la mise en œuvre | R18: Evaluation du fonctionnement | S18: Mise en place des actions d'amélioration | Y18: Lien rapport initial et visites de suivi changer le lien vers HAS (initial + additifs) | Z18: chemin
B19: 1 | C19: 14 | D19: 140017278 | E19: IMPR BOIS DE LEBISEY HEROUVILLE ST CLAIR | F19: SSR | G19: Aucun | I19: X | M19: 3 | N19: 3 | O19: 4 | P19: 4 | Q19: 3 | R19: 3 | S19: 3 | T19: =IF((M19+N19+O19+P19+Q19+R19+S19)/28<>0,(M19+N19+O19+P19+Q19+R19+S19)/28,"") -> 0.82142857 | U19: =IF(T19<0.4,"Réserve",IF(AND(T19>=0.4,T19<0.6),"Obligation d'amélioration",IF(AND(T19>=0.6,T19<0.75),"Recommandation d'amélioration",IF(T19>=0.75,"Exigence atteinte","")))) -> Exigence atteinte | V19: Exigence atteinte | W19: A : Certification | Y19: Lien Rapport de certification | Z19: https://www.has-sante.fr/portail/jcms/c_261160/fr/institut-de-medecine-physique-et-de-readaptation-du-bois-de-lebisey-herouville-saint-clair
B20: =1+B19 -> 2 | C20: 14 | D20: 140015975 | E20: KORIAN THALATTA OUISTREHAM | F20: SSR | G20: Aucun | I20: X | M20: 3 | N20: 3 | O20: 3 | P20: 3 | Q20: 3 | R20: 3 | S20: 3 | T20: =IF((M20+N20+O20+P20+Q20+R20+S20)/28<>0,(M20+N20+O20+P20+Q20+R20+S20)/28,"") -> 0.75 | U20: =IF(T20<0.4,"Réserve",IF(AND(T20>=0.4,T20<0.6),"Obligation d'amélioration",IF(AND(T20>=0.6,T20<0.75),"Recommandation d'amélioration",IF(T20>=0.75,"Exigence atteinte","")))) -> Exigence atteinte | V20: Exigence atteinte | W20: A : Certification | Y20: Lien Rapport de certification | Z20: https://www.has-sante.fr/portail/jcms/c_260736/fr/korian-thalatta
B21: =1+B20 -> 3 | C21: 14 | D21: 140000555 | E21: CRLCC FRANCOIS BACLESSE | F21: CH 100 - 300 lits | G21: Aucun | H21: X | M21: 3 | N21: 3 | O21: 4 | P21: 3 | Q21: 3 | R21: 3 | S21: 4 | T21: =IF((M21+N21+O21+P21+Q21+R21+S21)/28<>0,(M21+N21+O21+P21+Q21+R21+S21)/28,"") -> 0.82142857 | U21: =IF(T21<0.4,"Réserve",IF(AND(T21>=0.4,T21<0.6),"Obligation d'amélioration",IF(AND(T21>=0.6,T21<0.75),"Recommandation d'amélioration",IF(T21>=0.75,"Exigence atteinte","")))) -> Exigence atteinte | V21: Exigence atteinte | W21: B : Certification avec recommandation d'amélioration | Y21: Lien Rapport de certification | Z21: https://www.has-sante.fr/portail/jcms/c_259364/fr/centre-francois-baclesse
B22: =1+B21 -> 4 | C22: 14 | D22: 140017237 | E22: HOPITAL PRIVE SAINT MARTIN | F22: Clinique > 100 lits | G22: Aucun | H22: X | M22: 3 | N22: 3 | O22: 3 | P22: 3 | Q22: 1 | R22: 3 | S22: 3 | T22: =IF((M22+N22+O22+P22+Q22+R22+S22)/28<>0,(M22+N22+O22+P22+Q22+R22+S22)/28,"") -> 0.67857143 | U22: =IF(T22<0.4,"Réserve",IF(AND(T22>=0.4,T22<0.6),"Obligation d'amélioration",IF(AND(T22>=0.6,T22<0.75),"Recommandation d'amélioration",IF(T22>=0.75,"Exigence atteinte","")))) -> Recommandation d'amélioration | V22: Recommandation d'amélioration | W22: B : Certification avec recommandation d'amélioration | Y22: Lien Rapport de certification | Z22: https://www.has-sante.fr/portail/jcms/c_259838/fr/hopital-prive-saint-martin-caen
B23: =1+B22 -> 5 | C23: 14 | D23: 140016759 | E23: POLYCLINIQUE DU PARC | F23: Clinique > 100 lits | G23: Aucun | H23: X | M23: 4 | N23: 3 | O23: 3 | P23: 3 | Q23: 3 | R23: 3 | S23: 3 | T23: =IF((M23+N23+O23+P23+Q23+R23+S23)/28<>0,(M23+N23+O23+P23+Q23+R23+S23)/28,"") -> 0.78571429 | U23: =IF(T23<0.4,"Réserve",IF(AND(T23>=0.4,T23<0.6),"Obligation d'amélioration",IF(AND(T23>=0.6,T23<0.75),"Recommandation d'amélioration",IF(T23>=0.75,"Exigence atteinte","")))) -> Exigence atteinte | V23: Exigence atteinte | W23: A : Certification | Y23: Lien Rapport de certification | Z23: https://www.has-sante.fr/portail/jcms/c_261945/fr/polyclinique-du-parc-caen
B24: =1+B23 -> 6 | C24: 14 | D24: 140002619 | E24: HAD CROIX ROUGE CAEN | F24: HAD | G24: Aucun | K24: X | M24: 1 | N24: 1 | O24: 4 | P24: 3 | Q24: 1 | R24: 3 | S24: 3 | T24: =IF((M24+N24+O24+P24+Q24+R24+S24)/28<>0,(M24+N24+O24+P24+Q24+R24+S24)/28,"") -> 0.57142857 | U24: =IF(T24<0.4,"Réserve",IF(AND(T24>=0.4,T24<0.6),"Obligation d'amélioration",IF(AND(T24>=0.6,T24<0.75),"Recommandation d'amélioration",IF(T24>=0.75,"Exigence atteinte","")))) -> Obligation d'amélioration | V24: Obligation d'amélioration | W24: C : Certification avec obligation d'amélioration | X24: B : Certification avec recommandation d'amélioration | Y24: Lien Rapport de certification | Z24: https://www.has-sante.fr/portail/jcms/c_811095/fr/had-croix-rouge-francaise-caen
B25: =1+B24 -> 7 | C25: 14 | D25: 140016155 | E25: HAD BAYEUX | F25: HAD | G25: Aucun | K25: X | M25: 3 | N25: 1 | O25: 3 | P25: 3 | Q25: 3 | R25: 3 | S25: 3 | T25: =IF((M25+N25+O25+P25+Q25+R25+S25)/28<>0,(M25+N25+O25+P25+Q25+R25+S25)/28,"") -> 0.67857143 | U25: =IF(T25<0.4,"Réserve",IF(AND(T25>=0.4,T25<0.6),"Obligation d'amélioration",IF(AND(T25>=0.6,T25<0.75),"Recommandation d'amélioration",IF(T25>=0.75,"Exigence atteinte","")))) -> Recommandation d'amélioration | V25: Recommandation d'amélioration | W25: B : Certification avec recommandation d'amélioration | Y25: Lien Rapport de certification | Z25: https://www.has-sante.fr/portail/jcms/c_664200/fr/service-d-hospitalisation-a-domicile-bayeux
B26: =1+B25 -> 8 | C26: 14 | D26: 140000027 | E26: CH LISIEUX | F26: CH > 300 lits | G26: 6 - GHT Normandie Centre | H26: X | I26: X | K26: X | M26: 3 | N26: 1 | O26: 3 | P26: 3 | Q26: 3 | R26: 3 | S26: 3 | T26: =IF((M26+N26+O26+P26+Q26+R26+S26)/28<>0,(M26+N26+O26+P26+Q26+R26+S26)/28,"") -> 0.67857143 | U26: =IF(T26<0.4,"Réserve",IF(AND(T26>=0.4,T26<0.6),"Obligation d'amélioration",IF(AND(T26>=0.6,T26<0.75),"Recommandation d'amélioration",IF(T26>=0.75,"Exigence atteinte","")))) -> Recommandation d'amélioration | V26: Recommandation d'amélioration | W26: B : Certification avec recommandation d'amélioration | Y26: Lien Rapport de certification | Z26: https://www.has-sante.fr/portail/jcms/c_266189/fr/centre-hospitalier-robert-bisson
B27: =1+B26 -> 9 | C27: 14 | D27: 140026410 | E27: CH LA COTE FLEURIE | F27: CH 100 - 300 lits | G27: 6 - GHT Normandie Centre | H27: X | I27: X | M27: 3 | N27: 4 | O27: 3 | P27: 3 | Q27: 3 | R27: 3 | S27: 3 | T27: =IF((M27+N27+O27+P27+Q27+R27+S27)/28<>0,(M27+N27+O27+P27+Q27+R27+S27)/28,"") -> 0.78571429 | U27: =IF(T27<0.4,"Réserve",IF(AND(T27>=0.4,T27<0.6),"Obligation d'amélioration",IF(AND(T27>=0.6,T27<0.75),"Recommandation d'amélioration",IF(T27>=0.75,"Exigence atteinte","")))) -> Exigence atteinte | V27: Exigence atteinte | W27: B : Certification avec recommandation d'amélioration | Y27: Lien Rapport de certification | Z27: https://www.has-sante.fr/portail/jcms/c_1262759/fr/centre-hospitalier-de-la-cote-fleurie
B28: =1+B27 -> 10 | C28: 14 | D28: 140000308 | E28: CH PONT L'EVEQUE | F28: SSR | G28: 6 - GHT Normandie Centre | I28: X | M28: 4 | N28: 3 | O28: 3 | P28: 3 | Q28: 3 | R28: 3 | S28: 3 | T28: =IF((M28+N28+O28+P28+Q28+R28+S28)/28<>0,(M28+N28+O28+P28+Q28+R28+S28)/28,"") -> 0.78571429 | U28: =IF(T28<0.4,"Réserve",IF(AND(T28>=0.4,T28<0.6),"Obligation d'amélioration",IF(AND(T28>=0.6,T28<0.75),"Recommandation d'amélioration",IF(T28>=0.75,"Exigence atteinte","")))) -> Exigence atteinte | V28: Exigence atteinte | W28: A : Certification | Y28: Lien Rapport de certification | Z28: https://www.has-sante.fr/portail/jcms/c_263979/fr/centre-hospitalier-de-pont-l-eveque
B29: =1+B28 -> 11 | C29: 14 | D29: 140024886 | E29: CH BAYEUX | F29: CH > 300 lits | G29: 6 - GHT Normandie Centre | H29: X | I29: X | K29: X | M29: 3 | N29: 1 | O29: 3 | P29: 3 | Q29: 1 | R29: 3 | S29: 3 | T29: =IF((M29+N29+O29+P29+Q29+R29+S29)/28<>0,(M29+N29+O29+P29+Q29+R29+S29)/28,"") -> 0.60714286 | U29: =IF(T29<0.4,"Réserve",IF(AND(T29>=0.4,T29<0.6),"Obligation d'amélioration",IF(AND(T29>=0.6,T29<0.75),"Recommandation d'amélioration",IF(T29>=0.75,"Exigence atteinte","")))) -> Recommandation d'amélioration | V29: Recommandation d'amélioration | W29: C : Certification avec obligation d'amélioration | X29: B : Certification avec recommandation d'amélioration | Y29: Lien Rapport de certification | Z29: https://www.has-sante.fr/portail/jcms/c_705121/fr/centre-hospitalier-de-bayeux
B30: =1+B29 -> 12 | C30: 14 | D30: 140000100 | E30: CHU CAEN | F30: CH > 300 lits | G30: 6 - GHT Normandie Centre | H30: X | J30: X | K30: X | M30: 4 | N30: 1 | O30: 3 | P30: 1 | Q30: 1 | R30: 3 | S30: 3 | T30: =IF((M30+N30+O30+P30+Q30+R30+S30)/28<>0,(M30+N30+O30+P30+Q30+R30+S30)/28,"") -> 0.57142857 | U30: =IF(T30<0.4,"Réserve",IF(AND(T30>=0.4,T30<0.6),"Obligation d'amélioration",IF(AND(T30>=0.6,T30<0.75),"Recommandation d'amélioration",IF(T30>=0.75,"Exigence atteinte","")))) -> Obligation d'amélioration | V30: Obligation d'amélioration | W30: C : Certification avec obligation d'amélioration | X30: B : Certification avec recommandation d'amélioration | Y30: Lien Rapport de certification | Z30: https://www.has-sante.fr/portail/jcms/c_262359/fr/centre-hospitalier-universitaire-de-caen
B31: =1+B30 -> 13 | C31: 14 | D31: 140000233 | E31: CH FALAISE | F31: CH 100 - 300 lits | G31: 6 - GHT Normandie Centre | H31: X | I31: X | K31: X | M31: 3 | N31: 3 | O31: 3 | P31: 3 | Q31: 3 | R31: 3 | S31: 3 | T31: =IF((M31+N31+O31+P31+Q31+R31+S31)/28<>0,(M31+N31+O31+P31+Q31+R31+S31)/28,"") -> 0.75 | U31: =IF(T31<0.4,"Réserve",IF(AND(T31>=0.4,T31<0.6),"Obligation d'amélioration",IF(AND(T31>=0.6,T31<0.75),"Recommandation d'amélioration",IF(T31>=0.75,"Exigence atteinte","")))) -> Exigence atteinte | V31: Exigence atteinte | W31: B : Certification avec recommandation d'amélioration | Y31: Lien Rapport de certification | Z31: https://www.has-sante.fr/portail/jcms/c_259493/fr/centre-hospitalier-de-falaise
B32: =1+B31 -> 14 | C32: 14 | D32: 140000290 | E32: CLINIQUE NOTRE DAME DE VIRE | F32: Clinique < 100 lits | G32: Aucun | H32: X | M32: 3 | N32: 3 | O32: 3 | P32: 3 | Q32: 3 | R32: 3 | S32: 3 | T32: =IF((M32+N32+O32+P32+Q32+R32+S32)/28<>0,(M32+N32+O32+P32+Q32+R32+S32)/28,"") -> 0.75 | U32: =IF(T32<0.4,"Réserve",IF(AND(T32>=0.4,T32<0.6),"Obligation d'amélioration",IF(AND(T32>=0.6,T32<0.75),"Recommandation d'amélioration",IF(T32>=0.75,"Exigence atteinte","")))) -> Exigence atteinte | V32: Exigence atteinte | W32: B : Certification avec recommandation d'amélioration | Y32: Lien Rapport de certification | Z32: https://www.has-sante.fr/portail/jcms/c_262371/fr/clinique-notre-dame
B33: =1+B32 -> 15 | C33: 14 | D33: 140019175 | E33: ADAPT MANOIR D'APRIGNY | F33: SSR | G33: Aucun | I33: X | M33: 4 | N33: 3 | O33: 3 | P33: 3 | Q33: 3 | R33: 3 | S33: 3 | T33: =IF((M33+N33+O33+P33+Q33+R33+S33)/28<>0,(M33+N33+O33+P33+Q33+R33+S33)/28,"") -> 0.78571429 | U33: =IF(T33<0.4,"Réserve",IF(AND(T33>=0.4,T33<0.6),"Obligation d'amélioration",IF(AND(T33>=0.6,T33<0.75),"Recommandation d'amélioration",IF(T33>=0.75,"Exigence atteinte","")))) -> Exigence atteinte | V33: Exigence atteinte | W33: A : Certification | Y33: Lien Rapport de certification | Z33: https://www.has-sante.fr/portail/jcms/c_264651/fr/adapt-le-manoir-d-aprigny
B34: =1+B33 -> 16 | C34: 14 | D34: 140025255 | E34: CLINIQUE KORIAN COTE NORMANDE SSR | F34: SSR | G34: Aucun | I34: X | M34: 3 | N34: 3 | O34: 3 | P34: 3 | Q34: 1 | R34: 3 | S34: 3 | T34: =IF((M34+N34+O34+P34+Q34+R34+S34)/28<>0,(M34+N34+O34+P34+Q34+R34+S34)/28,"") -> 0.67857143 | U34: =IF(T34<0.4,"Réserve",IF(AND(T34>=0.4,T34<0.6),"Obligation d'amélioration",IF(AND(T34>=0.6,T34<0.75),"Recommandation d'amélioration",IF(T34>=0.75,"Exigence atteinte","")))) -> Recommandation d'amélioration | V34: Recommandation d'amélioration | W34: B : Certification avec recommandation d'amélioration | Y34: Lien Rapport de certification | Z34: https://www.has-sante.fr/portail/jcms/c_1367985/fr/clinique-korian-cote-normande
B35: =1+B34 -> 17 | C35: 14 | D35: 140026709 | E35: POLYCLINIQUE DE DEAUVILLE | F35: Clinique > 100 lits | G35: Aucun | H35: X | I35: X | K35: X | M35: 3 | N35: 3 | O35: 3 | P35: 3 | Q35: 3 | R35: 3 | S35: 3 | T35: =IF((M35+N35+O35+P35+Q35+R35+S35)/28<>0,(M35+N35+O35+P35+Q35+R35+S35)/28,"") -> 0.75 | U35: =IF(T35<0.4,"Réserve",IF(AND(T35>=0.4,T35<0.6),"Obligation d'amélioration",IF(AND(T35>=0.6,T35<0.75),"Recommandation d'amélioration",IF(T35>=0.75,"Exigence atteinte","")))) -> Exigence atteinte | V35: Exigence atteinte | W35: A : Certification | Y35: Lien Rapport de certification | Z35: https://www.has-sante.fr/portail/jcms/c_475382/fr/polyclinique-de-deauville
B36: =1+B35 -> 18 | C36: 14 | D36: 140017948 | E36: EPSM CAEN | F36: PSY | G36: 6 - GHT Normandie Centre | J36: X | M36: 3 | N36: 3 | O36: 3 | P36: 3 | Q36: 1 | R36: 3 | S36: 3 | T36: =IF((M36+N36+O36+P36+Q36+R36+S36)/28<>0,(M36+N36+O36+P36+Q36+R36+S36)/28,"") -> 0.67857143 | U36: =IF(T36<0.4,"Réserve",IF(AND(T36>=0.4,T36<0.6),"Obligation d'amélioration",IF(AND(T36>=0.6,T36<0.75),"Recommandation d'amélioration",IF(T36>=0.75,"Exigence atteinte","")))) -> Recommandation d'amélioration | V36: Recommandation d'amélioration | W36: D : Sursis à statuer | Y36: Lien Rapport de certification | Z36: https://www.has-sante.fr/portail/jcms/c_458832/fr/etablissement-public-de-sante-caen
B37: =1+B36 -> 19 | C37: 14 | D37: 140018730 | E37: POLYCLINIQUE DE LISIEUX | F37: Clinique < 100 lits | G37: Aucun | H37: X | M37: 3 | N37: 3 | O37: 3 | P37: 3 | Q37: 3 | R37: 3 | S37: 3 | T37: =IF((M37+N37+O37+P37+Q37+R37+S37)/28<>0,(M37+N37+O37+P37+Q37+R37+S37)/28,"") -> 0.75 | U37: =IF(T37<0.4,"Réserve",IF(AND(T37>=0.4,T37<0.6),"Obligation d'amélioration",IF(AND(T37>=0.6,T37<0.75),"Recommandation d'amélioration",IF(T37>=0.75,"Exigence atteinte","")))) -> Exigence atteinte | V37: Exigence atteinte | W37: A : Certification | Y37: Lien Rapport de certification | Z37: https://www.has-sante.fr/portail/jcms/c_447983/fr/polyclinique-de-lisieux
B38: =1+B37 -> 20 | C38: 14 | D38: 140000159 | E38: CH VIRE | F38: CH 100 - 300 lits | G38: 8 - GHT Les Collines de Normandie | H38: X | I38: X | J38: X | M38: 3 | N38: 1 | O38: 3 | P38: 3 | Q38: 4 | R38: 3 | S38: 3 | T38: =IF((M38+N38+O38+P38+Q38+R38+S38)/28<>0,(M38+N38+O38+P38+Q38+R38+S38)/28,"") -> 0.71428571 | U38: =IF(T38<0.4,"Réserve",IF(AND(T38>=0.4,T38<0.6),"Obligation d'amélioration",IF(AND(T38>=0.6,T38<0.75),"Recommandation d'amélioration",IF(T38>=0.75,"Exigence atteinte","")))) -> Recommandation d'amélioration | V38: Recommandation d'amélioration | W38: B : Certification avec recommandation d'amélioration | Y38: Lien Rapport de certification | Z38: https://www.has-sante.fr/portail/jcms/c_264159/fr/centre-hospitalier-de-vire
B39: =1+B38 -> 21 | C39: 14 | D39: 140025123 | E39: CENTRE DE READAPTATION FONCTIONNELLE DE CAEN | F39: SSR | G39: Aucun | I39: X | M39: 4 | N39: 3 | O39: 4 | P39: 3 | Q39: 4 | R39: 4 | S39: 4 | T39: =IF((M39+N39+O39+P39+Q39+R39+S39)/28<>0,(M39+N39+O39+P39+Q39+R39+S39)/28,"") -> 0.92857143 | U39: =IF(T39<0.4,"Réserve",IF(AND(T39>=0.4,T39<0.6),"Obligation d'amélioration",IF(AND(T39>=0.6,T39<0.75),"Recommandation d'amélioration",IF(T39>=0.75,"Exigence atteinte","")))) -> Exigence atteinte | V39: Exigence atteinte | W39: A : Certification | Y39: Lien Rapport de certification | Z39: https://www.has-sante.fr/portail/jcms/c_465418/fr/centre-de-readaptation-fonctionnelle-de-caen
B40: =1+B39 -> 22 | C40: 14 | D40: 140025800 | E40: FONDATION DE LA MISERICORDE | F40: Clinique > 100 lits | G40: Aucun | H40: X | I40: X | M40: 4 | N40: 4 | O40: 4 | P40: 4 | Q40: 3 | R40: 4 | S40: 4 | T40: =IF((M40+N40+O40+P40+Q40+R40+S40)/28<>0,(M40+N40+O40+P40+Q40+R40+S40)/28,"") -> 0.96428571 | U40: =IF(T40<0.4,"Réserve",IF(AND(T40>=0.4,T40<0.6),"Obligation d'amélioration",IF(AND(T40>=0.6,T40<0.75),"Recommandation d'amélioration",IF(T40>=0.75,"Exigence atteinte","")))) -> Exigence atteinte | V40: Exigence atteinte | W40: A : Certification | Y40: Lien Rapport de certification | Z40: https://www.has-sante.fr/portail/jcms/c_419197/fr/clinique-de-la-misericorde
B41: =1+B40 -> 23 | C41: 27 | D41: 270000326 | E41: CLINIQUE CHIRURGICALE PASTEUR EVREUX | F41: Clinique < 100 lits | G41: Aucun | H41: X | M41: 3 | N41: 3 | O41: 3 | P41: 3 | Q41: 1 | R41: 3 | S41: 3 | T41: =IF((M41+N41+O41+P41+Q41+R41+S41)/28<>0,(M41+N41+O41+P41+Q41+R41+S41)/28,"") -> 0.67857143 | U41: =IF(T41<0.4,"Réserve",IF(AND(T41>=0.4,T41<0.6),"Obligation d'amélioration",IF(AND(T41>=0.6,T41<0.75),"Recommandation d'amélioration",IF(T41>=0.75,"Exigence atteinte","")))) -> Recommandation d'amélioration | V41: Recommandation d'amélioration | W41: B : Certification avec recommandation d'amélioration | Y41: Lien Rapport de certification | Z41: https://www.has-sante.fr/portail/jcms/c_262938/fr/clinique-chirurgicale-pasteur
B42: =1+B41 -> 24 | C42: 27 | D42: 270000441 | E42: CH VERNEUIL SUR AVRE | F42: CH < 100 lits | G42: 5 - GHT Eure-Seine | H42: X | I42: X | K42: X | M42: 3 | N42: 3 | O42: 3 | P42: 1 | Q42: 1 | R42: 1 | S42: 3 | T42: =IF((M42+N42+O42+P42+Q42+R42+S42)/28<>0,(M42+N42+O42+P42+Q42+R42+S42)/28,"") -> 0.53571429 | U42: =IF(T42<0.4,"Réserve",IF(AND(T42>=0.4,T42<0.6),"Obligation d'amélioration",IF(AND(T42>=0.6,T42<0.75),"Recommandation d'amélioration",IF(T42>=0.75,"Exigence atteinte","")))) -> Obligation d'amélioration | V42: Obligation d'amélioration | W42: B : Certification avec recommandation d'amélioration | Y42: Lien Rapport de certification | Z42: https://www.has-sante.fr/portail/jcms/c_261556/fr/centre-hospitalier-de-verneuil-sur-avre
B43: =1+B42 -> 25 | C43: 27 | D43: 270000359 | E43: CHI EURE SEINE EVREUX | F43: CH > 300 lits | G43: 5 - GHT Eure-Seine | H43: X | I43: X | M43: 3 | N43: 3 | O43: 3 | P43: 3 | Q43: 1 | R43: 3 | S43: 3 | T43: =IF((M43+N43+O43+P43+Q43+R43+S43)/28<>0,(M43+N43+O43+P43+Q43+R43+S43)/28,"") -> 0.67857143 | U43: =IF(T43<0.4,"Réserve",IF(AND(T43>=0.4,T43<0.6),"Obligation d'amélioration",IF(AND(T43>=0.6,T43<0.75),"Recommandation d'amélioration",IF(T43>=0.75,"Exigence atteinte","")))) -> Recommandation d'amélioration | V43: Recommandation d'amélioration | W43: B : Certification avec recommandation d'amélioration | Y43: Lien Rapport de certification | Z43: https://www.has-sante.fr/portail/jcms/c_418596/fr/centre-hospitalier-intercommunal-eure-seine-site-d-evreux
B44: =1+B43 -> 26 | C44: 27 | D44: 270000474 | E44: CH LES ANDELYS | F44: SSR | G44: 5 - GHT Eure-Seine | I44: X | M44: 3 | N44: 3 | O44: 1 | P44: 3 | Q44: 1 | R44: 1 | S44: 3 | T44: =IF((M44+N44+O44+P44+Q44+R44+S44)/28<>0,(M44+N44+O44+P44+Q44+R44+S44)/28,"") -> 0.53571429 | U44: =IF(T44<0.4,"Réserve",IF(AND(T44>=0.4,T44<0.6),"Obligation d'amélioration",IF(AND(T44>=0.6,T44<0.75),"Recommandation d'amélioration",IF(T44>=0.75,"Exigence atteinte","")))) -> Obligation d'amélioration | V44: Obligation d'amélioration | W44: B : Certification avec recommandation d'amélioration | Y44: Lien Rapport de certification | Z44: https://www.has-sante.fr/portail/jcms/c_263232/fr/centre-hospitalier-saint-jacques
B45: =1+B44 -> 27 | C45: 27 | D45: 270000045 | E45: CH BERNAY | F45: CH < 100 lits | G45: 5 - GHT Eure-Seine | H45: X | I45: X | M45: 3 | N45: 3 | O45: 3 | P45: 3 | Q45: 1 | R45: 1 | S45: 1 | T45: =IF((M45+N45+O45+P45+Q45+R45+S45)/28<>0,(M45+N45+O45+P45+Q45+R45+S45)/28,"") -> 0.53571429 | U45: =IF(T45<0.4,"Réserve",IF(AND(T45>=0.4,T45<0.6),"Obligation d'amélioration",IF(AND(T45>=0.6,T45<0.75),"Recommandation d'amélioration",IF(T45>=0.75,"Exigence atteinte","")))) -> Obligation d'amélioration | V45: Obligation d'amélioration | W45: E : Non certification | Y45: Lien Rapport de certification | Z45: https://www.has-sante.fr/portail/jcms/c_262070/fr/centre-hospitalier-anne-de-ticheville
B46: =1+B45 -> 28 | C46: 27 | D46: 270000367 | E46: CH GISORS | F46: CH 100 - 300 lits | G46: 5 - GHT Eure-Seine | H46: X | I46: X | M46: 3 | N46: 3 | O46: 3 | P46: 3 | Q46: 3 | R46: 4 | S46: 4 | T46: =IF((M46+N46+O46+P46+Q46+R46+S46)/28<>0,(M46+N46+O46+P46+Q46+R46+S46)/28,"") -> 0.82142857 | U46: =IF(T46<0.4,"Réserve",IF(AND(T46>=0.4,T46<0.6),"Obligation d'amélioration",IF(AND(T46>=0.6,T46<0.75),"Recommandation d'amélioration",IF(T46>=0.75,"Exigence atteinte","")))) -> Exigence atteinte | V46: Exigence atteinte | W46: B : Certification avec recommandation d'amélioration | Y46: Lien Rapport de certification | Z46: https://www.has-sante.fr/portail/jcms/c_266159/fr/centre-hospitalier-de-gisors
B47: =1+B46 -> 29 | C47: 27 | D47: 270000219 | E47: NOUVEL HOPITAL DE NAVARRE | F47: PSY | G47: 5 - GHT Eure-Seine | J47: X | M47: 3 | N47: 1 | O47: 3 | P47: 1 | Q47: 1 | R47: 3 | S47: 3 | T47: =IF((M47+N47+O47+P47+Q47+R47+S47)/28<>0,(M47+N47+O47+P47+Q47+R47+S47)/28,"") -> 0.53571429 | U47: =IF(T47<0.4,"Réserve",IF(AND(T47>=0.4,T47<0.6),"Obligation d'amélioration",IF(AND(T47>=0.6,T47<0.75),"Recommandation d'amélioration",IF(T47>=0.75,"Exigence atteinte","")))) -> Obligation d'amélioration | V47: Réserves | W47: D : Sursis à statuer | X47: B : Certification avec recommandation d'amélioration | Y47: Lien Rapport de certification | Z47: https://www.has-sante.fr/portail/jcms/c_263301/fr/centre-hospitalier-specialise-de-navarre
B48: =1+B47 -> 30 | C48: 27 | D48: 270000417 | E48: SSR HOSTREA NOYERS | F48: SSR | G48: Aucun | I48: X | M48: 4 | N48: 3 | O48: 3 | P48: 3 | Q48: 3 | R48: 3 | S48: 3 | T48: =IF((M48+N48+O48+P48+Q48+R48+S48)/28<>0,(M48+N48+O48+P48+Q48+R48+S48)/28,"") -> 0.78571429 | U48: =IF(T48<0.4,"Réserve",IF(AND(T48>=0.4,T48<0.6),"Obligation d'amélioration",IF(AND(T48>=0.6,T48<0.75),"Recommandation d'amélioration",IF(T48>=0.75,"Exigence atteinte","")))) -> Exigence atteinte | V48: Exigence atteinte | W48: A : Certification | Y48: Lien Rapport de certification | Z48: https://www.has-sante.fr/portail/jcms/c_261499/fr/centre-de-soins-de-suite-et-de-longue-duree-hostrea
B49: =1+B48 -> 31 | C49: 27 | D49: 270000516 | E49: HL DU NEUBOURG | F49: SSR | G49: 3 - GHT Val de Seine et plateaux de l'Eure | I49: X | M49: 3 | N49: 3 | O49: 3 | P49: 3 | Q49: 3 | R49: 3 | S49: 3 | T49: =IF((M49+N49+O49+P49+Q49+R49+S49)/28<>0,(M49+N49+O49+P49+Q49+R49+S49)/28,"") -> 0.75 | U49: =IF(T49<0.4,"Réserve",IF(AND(T49>=0.4,T49<0.6),"Obligation d'amélioration",IF(AND(T49>=0.6,T49<0.75),"Recommandation d'amélioration",IF(T49>=0.75,"Exigence atteinte","")))) -> Exigence atteinte | V49: Exigence atteinte | W49: B : Certification avec recommandation d'amélioration | Y49: Lien Rapport de certification | Z49: https://www.has-sante.fr/portail/jcms/c_264042/fr/hopital-local-du-neubourg
B50: =1+B49 -> 32 | C50: 27 | D50: 270000482 | E50: HL PIERRE HURABIELLE BOURG-ACHARD | F50: SSR | G50: 3 - GHT Val de Seine et plateaux de l'Eure | I50: X | M50: 3 | N50: 3 | O50: 3 | P50: 3 | Q50: 3 | R50: 3 | S50: 3 | T50: =IF((M50+N50+O50+P50+Q50+R50+S50)/28<>0,(M50+N50+O50+P50+Q50+R50+S50)/28,"") -> 0.75 | U50: =IF(T50<0.4,"Réserve",IF(AND(T50>=0.4,T50<0.6),"Obligation d'amélioration",IF(AND(T50>=0.6,T50<0.75),"Recommandation d'amélioration",IF(T50>=0.75,"Exigence atteinte","")))) -> Exigence atteinte | V50: Exigence atteinte | W50: A : Certification | Y50: Lien Rapport de certification | Z50: https://www.has-sante.fr/portail/jcms/c_265610/fr/hopital-local-pierre-hurabielle-bourg-achard
B51: =1+B50 -> 33 | C51: 27 | D51: 270025984 | E51: CLINIQUE MARE O DANS | F51: PSY | G51: Aucun | J51: X | M51: 4 | N51: 3 | O51: 3 | P51: 3 | Q51: 4 | R51: 4 | S51: 4 | T51: =IF((M51+N51+O51+P51+Q51+R51+S51)/28<>0,(M51+N51+O51+P51+Q51+R51+S51)/28,"") -> 0.89285714 | U51: =IF(T51<0.4,"Réserve",IF(AND(T51>=0.4,T51<0.6),"Obligation d'amélioration",IF(AND(T51>=0.6,T51<0.75),"Recommandation d'amélioration",IF(T51>=0.75,"Exigence atteinte","")))) -> Exigence atteinte | V51: Exigence atteinte | W51: A : Certification | Y51: Lien Rapport de certification | Z51: https://www.has-sante.fr/portail/jcms/c_264780/fr/clinique-de-la-mare-o-dans
B52: =1+B51 -> 34 | C52: 27 | D52: 270000912 | E52: HOPITAL LA MUSSE | F52: SSR | G52: Aucun | I52: X | M52: 3 | N52: 1 | O52: 3 | P52: 3 | Q52: 1 | R52: 3 | S52: 3 | T52: =IF((M52+N52+O52+P52+Q52+R52+S52)/28<>0,(M52+N52+O52+P52+Q52+R52+S52)/28,"") -> 0.60714286 | U52: =IF(T52<0.4,"Réserve",IF(AND(T52>=0.4,T52<0.6),"Obligation d'amélioration",IF(AND(T52>=0.6,T52<0.75),"Recommandation d'amélioration",IF(T52>=0.75,"Exigence atteinte","")))) -> Recommandation d'amélioration | V52: Recommandation d'amélioration | W52: B : Certification avec recommandation d'amélioration | Y52: Lien Rapport de certification | Z52: https://www.has-sante.fr/portail/jcms/c_264051/fr/hopital-la-musse
B53: =1+B52 -> 35 | C53: 27 | D53: 270000433 | E53: CLINIQUE LE VALLON | F53: SSR | G53: Aucun | I53: X | M53: 3 | N53: 3 | O53: 3 | P53: 3 | Q53: 3 | R53: 3 | S53: 3 | T53: =IF((M53+N53+O53+P53+Q53+R53+S53)/28<>0,(M53+N53+O53+P53+Q53+R53+S53)/28,"") -> 0.75 | U53: =IF(T53<0.4,"Réserve",IF(AND(T53>=0.4,T53<0.6),"Obligation d'amélioration",IF(AND(T53>=0.6,T53<0.75),"Recommandation d'amélioration",IF(T53>=0.75,"Exigence atteinte","")))) -> Exigence atteinte | V53: Exigence atteinte | W53: A : Certification | Y53: Lien Rapport de certification | Z53: https://www.has-sante.fr/portail/jcms/c_264852/fr/clinique-le-vallon
B54: =1+B53 -> 36 | C54: 27 | D54: 270000425 | E54: CH PONT AUDEMER | F54: CH 100 - 300 lits | G54: 4 - GHT Estuaire de la Seine | H54: X | I54: X | K54: X | M54: 3 | N54: 3 | O54: 3 | P54: 3 | Q54: 3 | R54: 3 | S54: 3 | T54: =IF((M54+N54+O54+P54+Q54+R54+S54)/28<>0,(M54+N54+O54+P54+Q54+R54+S54)/28,"") -> 0.75 | U54: =IF(T54<0.4,"Réserve",IF(AND(T54>=0.4,T54<0.6),"Obligation d'amélioration",IF(AND(T54>=0.6,T54<0.75),"Recommandation d'amélioration",IF(T54>=0.75,"Exigence atteinte","")))) -> Exigence atteinte | V54: Exigence atteinte | W54: A : Certification | Y54: Lien Rapport de certification | Z54: https://www.has-sante.fr/portail/jcms/c_1758789/fr/association-had-de-bernay-et-de-pont-audemer
B55: =1+B54 -> 37 | C55: 27 | D55: 270000870 | E55: CLINIQUE LES BRUYERES | F55: SSR | G55: Aucun | I55: X | M55: 3 | N55: 3 | O55: 3 | P55: 3 | Q55: 3 | R55: 3 | S55: 3 | T55: =IF((M55+N55+O55+P55+Q55+R55+S55)/28<>0,(M55+N55+O55+P55+Q55+R55+S55)/28,"") -> 0.75 | U55: =IF(T55<0.4,"Réserve",IF(AND(T55>=0.4,T55<0.6),"Obligation d'amélioration",IF(AND(T55>=0.6,T55<0.75),"Recommandation d'amélioration",IF(T55>=0.75,"Exigence atteinte","")))) -> Exigence atteinte | V55: Exigence atteinte | W55: A : Certification | Y55: Lien Rapport de certification | Z55: https://www.has-sante.fr/portail/jcms/c_261701/fr/clinique-les-bruyeres
B56: =1+B55 -> 38 | C56: 27 | E56: CLINIQUE DE BERGOUIGNAN | F56: Clinique > 100 lits | G56: Aucun | H56: X | T56: =IF((M56+N56+O56+P56+Q56+R56+S56)/28<>0,(M56+N56+O56+P56+Q56+R56+S56)/28,"") | U56: =IF(T56<0.4,"Réserve",IF(AND(T56>=0.4,T56<0.6),"Obligation d'amélioration",IF(AND(T56>=0.6,T56<0.75),"Recommandation d'amélioration",IF(T56>=0.75,"Exigence atteinte","")))) -> Exigence atteinte | Y56: Lien Rapport de certification | Z56: https://www.has-sante.fr/portail/jcms/c_460231/fr/clinique-bergouignan
B57: =1+B56 -> 39 | C57: 27 | D57: 270000698 | E57: CLINIQUE LA LOVIERE | F57: SSR | G57: Aucun | I57: X | M57: 3 | N57: 3 | O57: 3 | P57: 3 | Q57: 3 | R57: 3 | S57: 3 | T57: =IF((M57+N57+O57+P57+Q57+R57+S57)/28<>0,(M57+N57+O57+P57+Q57+R57+S57)/28,"") -> 0.75 | U57: =IF(T57<0.4,"Réserve",IF(AND(T57>=0.4,T57<0.6),"Obligation d'amélioration",IF(AND(T57>=0.6,T57<0.75),"Recommandation d'amélioration",IF(T57>=0.75,"Exigence atteinte","")))) -> Exigence atteinte | V57: Exigence atteinte | W57: A : Certification | Y57: Lien Rapport de certification | Z57: https://www.has-sante.fr/portail/jcms/c_797291/fr/clinique-la-loviere
B58: =1+B57 -> 40 | C58: 27 | E58: HAD EURE DE SEINE | F58: HAD | G58: Aucun | K58: X | T58: =IF((M58+N58+O58+P58+Q58+R58+S58)/28<>0,(M58+N58+O58+P58+Q58+R58+S58)/28,"") | U58: =IF(T58<0.4,"Réserve",IF(AND(T58>=0.4,T58<0.6),"Obligation d'amélioration",IF(AND(T58>=0.6,T58<0.75),"Recommandation d'amélioration",IF(T58>=0.75,"Exigence atteinte","")))) -> Exigence atteinte | Y58: Lien Rapport de certification | Z58: https://www.has-sante.fr/portail/jcms/c_1365878/fr/had-eure-seine
B59: =1+B58 -> 41 | C59: 27 | E59: ASSOCIATION HAD DE BERNAY ET DE PONT AUDEMER | F59: HAD | G59: Aucun | K59: X | T59: =IF((M59+N59+O59+P59+Q59+R59+S59)/28<>0,(M59+N59+O59+P59+Q59+R59+S59)/28,"") | U59: =IF(T59<0.4,"Réserve",IF(AND(T59>=0.4,T59<0.6),"Obligation d'amélioration",IF(AND(T59>=0.6,T59<0.75),"Recommandation d'amélioration",IF(T59>=0.75,"Exigence atteinte","")))) -> Exigence atteinte | Y59: Lien Rapport de certification | Z59: https://www.has-sante.fr/portail/jcms/c_1758789/fr/association-had-de-bernay-et-de-pont-audemer
B60: =1+B59 -> 42 | C60: 27 | E60: HL PACY SUR EURE | F60: CH < 100 lits | G60: 5 - GHT Eure-Seine | H60: X | I60: X | T60: =IF((M60+N60+O60+P60+Q60+R60+S60)/28<>0,(M60+N60+O60+P60+Q60+R60+S60)/28,"") | U60: =IF(T60<0.4,"Réserve",IF(AND(T60>=0.4,T60<0.6),"Obligation d'amélioration",IF(AND(T60>=0.6,T60<0.75),"Recommandation d'amélioration",IF(T60>=0.75,"Exigence atteinte","")))) -> Exigence atteinte | Y60: Lien Rapport de certification | Z60: https://www.has-sante.fr/portail/jcms/c_261791/fr/hopital-local-de-pacy-sur-eure
B61: =1+B60 -> 43 | C61: 50 | D61: 500000187 | E61: CHP DU COTENTIN | F61: CH > 300 lits | G61: 11 - GHT Cotentin | H61: X | I61: X | K61: X | M61: 3 | N61: 3 | O61: 3 | P61: 3 | Q61: 1 | R61: 3 | S61: 3 | T61: =IF((M61+N61+O61+P61+Q61+R61+S61)/28<>0,(M61+N61+O61+P61+Q61+R61+S61)/28,"") -> 0.67857143 | U61: =IF(T61<0.4,"Réserve",IF(AND(T61>=0.4,T61<0.6),"Obligation d'amélioration",IF(AND(T61>=0.6,T61<0.75),"Recommandation d'amélioration",IF(T61>=0.75,"Exigence atteinte","")))) -> Recommandation d'amélioration | V61: Recommandation d'amélioration | W61: B : Certification avec recommandation d'amélioration | Y61: Lien Rapport de certification | Z61: https://www.has-sante.fr/portail/jcms/c_264021/fr/centre-hospitalier-public-du-cotentin
B62: =1+B61 -> 44 | C62: 50 | D62: 500010384 | E62: FONDATION BON SAUVEUR | F62: PSY | G62: Aucun | I62: X | J62: X | M62: 3 | N62: 3 | O62: 3 | P62: 3 | Q62: 3 | R62: 3 | S62: 3 | T62: =IF((M62+N62+O62+P62+Q62+R62+S62)/28<>0,(M62+N62+O62+P62+Q62+R62+S62)/28,"") -> 0.75 | U62: =IF(T62<0.4,"Réserve",IF(AND(T62>=0.4,T62<0.6),"Obligation d'amélioration",IF(AND(T62>=0.6,T62<0.75),"Recommandation d'amélioration",IF(T62>=0.75,"Exigence atteinte","")))) -> Exigence atteinte | V62: Exigence atteinte | W62: B : Certification avec recommandation d'amélioration | Y62: Lien Rapport de certification | Z62: https://www.has-sante.fr/portail/jcms/c_260760/fr/fondation-bon-sauveur
B63: =1+B62 -> 45 | C63: 50 | D63: 500015185 | E63: CH LE BON SAUVEUR | F63: PSY | G63: Aucun | J63: X | M63: 1 | N63: 3 | O63: 3 | P63: 3 | Q63: 3 | R63: 3 | S63: 3 | T63: =IF((M63+N63+O63+P63+Q63+R63+S63)/28<>0,(M63+N63+O63+P63+Q63+R63+S63)/28,"") -> 0.67857143 | U63: =IF(T63<0.4,"Réserve",IF(AND(T63>=0.4,T63<0.6),"Obligation d'amélioration",IF(AND(T63>=0.6,T63<0.75),"Recommandation d'amélioration",IF(T63>=0.75,"Exigence atteinte","")))) -> Recommandation d'amélioration | V63: Recommandation d'amélioration | W63: B : Certification avec recommandation d'amélioration | Y63: Lien Rapport de certification | Z63: https://www.has-sante.fr/portail/jcms/c_259868/fr/centre-hospitalier-specialise-le-bon-sauveur
B64: =1+B63 -> 46 | C64: 50 | D64: 500000401 | E64: CLINIQUE DU DR HENRI GUILLARD | F64: Clinique < 100 lits | G64: Aucun | H64: X | M64: 3 | N64: 3 | O64: 3 | P64: 3 | Q64: 1 | R64: 3 | S64: 3 | T64: =IF((M64+N64+O64+P64+Q64+R64+S64)/28<>0,(M64+N64+O64+P64+Q64+R64+S64)/28,"") -> 0.67857143 | U64: =IF(T64<0.4,"Réserve",IF(AND(T64>=0.4,T64<0.6),"Obligation d'amélioration",IF(AND(T64>=0.6,T64<0.75),"Recommandation d'amélioration",IF(T64>=0.75,"Exigence atteinte","")))) -> Recommandation d'amélioration | V64: Exigence atteinte | W64: A : Certification | Y64: Lien Rapport de certification | Z64: https://www.has-sante.fr/portail/jcms/c_260282/fr/clinique-du-docteur-henry-guillard
B65: =1+B64 -> 47 | C65: 50 | D65: 500000591 | E65: CH DE COUTANCES | F65: CH 100 - 300 lits | G65: 10 - GHT Centre Manche | H65: X | I65: X | M65: 3 | N65: 3 | O65: 3 | P65: 1 | Q65: 3 | R65: 3 | S65: 3 | T65: =IF((M65+N65+O65+P65+Q65+R65+S65)/28<>0,(M65+N65+O65+P65+Q65+R65+S65)/28,"") -> 0.67857143 | U65: =IF(T65<0.4,"Réserve",IF(AND(T65>=0.4,T65<0.6),"Obligation d'amélioration",IF(AND(T65>=0.6,T65<0.75),"Recommandation d'amélioration",IF(T65>=0.75,"Exigence atteinte","")))) -> Recommandation d'amélioration | V65: Recommandation d'amélioration | W65: B : Certification avec recommandation d'amélioration | Y65: Lien Rapport de certification | Z65: https://www.has-sante.fr/portail/jcms/c_265442/fr/centre-hospitalier-de-coutances
B66: =1+B65 -> 48 | C66: 50 | D66: 500000450 | E66: CH MEMORIAL SAINT-LO | F66: CH > 300 lits | G66: 10 - GHT Centre Manche | H66: X | I66: X | K66: X | M66: 4 | N66: 4 | O66: 4 | P66: 3 | Q66: 3 | R66: 3 | S66: 3 | T66: =IF((M66+N66+O66+P66+Q66+R66+S66)/28<>0,(M66+N66+O66+P66+Q66+R66+S66)/28,"") -> 0.85714286 | U66: =IF(T66<0.4,"Réserve",IF(AND(T66>=0.4,T66<0.6),"Obligation d'amélioration",IF(AND(T66>=0.6,T66<0.75),"Recommandation d'amélioration",IF(T66>=0.75,"Exigence atteinte","")))) -> Exigence atteinte | V66: Exigence atteinte | W66: A : Certification | Y66: Lien Rapport de certification | Z66: https://www.has-sante.fr/portail/jcms/c_265973/fr/centre-hospitalier-memorial-france-etats-unis-de-saint-lo
B67: =1+B66 -> 49 | C67: 50 | D67: 500000195 | E67: CH DE CARENTAN | F67: CH < 100 lits | G67: 10 - GHT Centre Manche | H67: X | I67: X | M67: 4 | N67: 3 | O67: 3 | P67: 3 | Q67: 3 | R67: 4 | S67: 3 | T67: =IF((M67+N67+O67+P67+Q67+R67+S67)/28<>0,(M67+N67+O67+P67+Q67+R67+S67)/28,"") -> 0.82142857 | U67: =IF(T67<0.4,"Réserve",IF(AND(T67>=0.4,T67<0.6),"Obligation d'amélioration",IF(AND(T67>=0.6,T67<0.75),"Recommandation d'amélioration",IF(T67>=0.75,"Exigence atteinte","")))) -> Exigence atteinte | V67: Exigence atteinte | W67: A : Certification | Y67: Lien Rapport de certification | Z67: https://www.has-sante.fr/portail/jcms/c_264930/fr/hopital-local-de-carentan
B68: =1+B67 -> 50 | C68: 50 | D68: 500000229 | E68: CRRRF LE NORMANDY | F68: SSR | G68: Aucun | I68: X | M68: 4 | N68: 3 | O68: 4 | P68: 4 | Q68: 3 | R68: 4 | S68: 4 | T68: =IF((M68+N68+O68+P68+Q68+R68+S68)/28<>0,(M68+N68+O68+P68+Q68+R68+S68)/28,"") -> 0.92857143 | U68: =IF(T68<0.4,"Réserve",IF(AND(T68>=0.4,T68<0.6),"Obligation d'amélioration",IF(AND(T68>=0.6,T68<0.75),"Recommandation d'amélioration",IF(T68>=0.75,"Exigence atteinte","")))) -> Exigence atteinte | V68: Exigence atteinte | W68: A : Certification | Y68: Lien Rapport de certification | Z68: https://www.has-sante.fr/portail/jcms/c_259268/fr/etablissement-de-medecine-physique-reeducation-et-readaptation-en-milieu-marin-empr-le-normandy
B69: =1+B68 -> 51 | C69: 50 | D69: 500000260 | E69: CH AVRANCHES-GRANVILLE | F69: CH > 300 lits | G69: 9 - GHT Groupe Hospitalier Mont Saint Michel | H69: X | I69: X | K69: X | M69: 4 | N69: 3 | O69: 3 | P69: 4 | Q69: 1 | R69: 3 | S69: 3 | T69: =IF((M69+N69+O69+P69+Q69+R69+S69)/28<>0,(M69+N69+O69+P69+Q69+R69+S69)/28,"") -> 0.75 | U69: =IF(T69<0.4,"Réserve",IF(AND(T69>=0.4,T69<0.6),"Obligation d'amélioration",IF(AND(T69>=0.6,T69<0.75),"Recommandation d'amélioration",IF(T69>=0.75,"Exigence atteinte","")))) -> Exigence atteinte | V69: Exigence atteinte | W69: B : Certification avec recommandation d'amélioration | Y69: Lien Rapport de certification | Z69: https://www.has-sante.fr/portail/jcms/c_2787104/fr/centre-hospitalier-de-saint-hilaire-du-harcouet-centre-hospitalier-d-avranches-granville-l-hopital-local-de-mortain
B70: =1+B69 -> 52 | C70: 50 | D70: 500000427 | E70: CH DE ST HILAIRE DU HARCOUET | F70: CH < 100 lits | G70: 9 - GHT Groupe Hospitalier Mont Saint Michel | H70: X | I70: X | M70: 4 | N70: 3 | O70: 3 | P70: 4 | Q70: 1 | R70: 3 | S70: 3 | T70: =IF((M70+N70+O70+P70+Q70+R70+S70)/28<>0,(M70+N70+O70+P70+Q70+R70+S70)/28,"") -> 0.75 | U70: =IF(T70<0.4,"Réserve",IF(AND(T70>=0.4,T70<0.6),"Obligation d'amélioration",IF(AND(T70>=0.6,T70<0.75),"Recommandation d'amélioration",IF(T70>=0.75,"Exigence atteinte","")))) -> Exigence atteinte | V70: Exigence atteinte | W70: B : Certification avec recommandation d'amélioration | Y70: Lien Rapport de certification | Z70: https://www.has-sante.fr/portail/jcms/c_2787104/fr/centre-hospitalier-de-saint-hilaire-du-harcouet-centre-hospitalier-d-avranches-granville-l-hopital-local-de-mortain
B71: =1+B70 -> 53 | C71: 50 | D71: 500000302 | E71: CH MORTAIN | F71: CH < 100 lits | G71: 9 - GHT Groupe Hospitalier Mont Saint Michel | H71: X | I71: X | M71: 4 | N71: 3 | O71: 3 | P71: 4 | Q71: 1 | R71: 3 | S71: 3 | T71: =IF((M71+N71+O71+P71+Q71+R71+S71)/28<>0,(M71+N71+O71+P71+Q71+R71+S71)/28,"") -> 0.75 | U71: =IF(T71<0.4,"Réserve",IF(AND(T71>=0.4,T71<0.6),"Obligation d'amélioration",IF(AND(T71>=0.6,T71<0.75),"Recommandation d'amélioration",IF(T71>=0.75,"Exigence atteinte","")))) -> Exigence atteinte | V71: Exigence atteinte | W71: B : Certification avec recommandation d'amélioration | Y71: Lien Rapport de certification | Z71: https://www.has-sante.fr/portail/jcms/c_2787104/fr/centre-hospitalier-de-saint-hilaire-du-harcouet-centre-hospitalier-d-avranches-granville-l-hopital-local-de-mortain
B72: =1+B71 -> 54 | C72: 50 | D72: 500000476 | E72: CH VILLEDIEU LES POELES | F72: SSR | G72: 9 - GHT Groupe Hospitalier Mont Saint Michel | I72: X | M72: 3 | N72: 3 | O72: 4 | P72: 4 | Q72: 3 | R72: 3 | S72: 3 | T72: =IF((M72+N72+O72+P72+Q72+R72+S72)/28<>0,(M72+N72+O72+P72+Q72+R72+S72)/28,"") -> 0.82142857 | U72: =IF(T72<0.4,"Réserve",IF(AND(T72>=0.4,T72<0.6),"Obligation d'amélioration",IF(AND(T72>=0.6,T72<0.75),"Recommandation d'amélioration",IF(T72>=0.75,"Exigence atteinte","")))) -> Exigence atteinte | V72: Exigence atteinte | W72: A : Certification | Y72: Lien Rapport de certification | Z72: https://www.has-sante.fr/portail/jcms/c_263862/fr/centre-hospitalier-de-villedieu-les-poeles
B73: =1+B72 -> 55 | C73: 50 | D73: 500000435 | E73: HOPITAL DE SAINT JAMES | F73: CH < 100 lits | G73: 9 - GHT Groupe Hospitalier Mont Saint Michel | H73: X | I73: X | M73: 3 | N73: 1 | O73: 3 | P73: 3 | Q73: 3 | R73: 3 | S73: 3 | T73: =IF((M73+N73+O73+P73+Q73+R73+S73)/28<>0,(M73+N73+O73+P73+Q73+R73+S73)/28,"") -> 0.67857143 | U73: =IF(T73<0.4,"Réserve",IF(AND(T73>=0.4,T73<0.6),"Obligation d'amélioration",IF(AND(T73>=0.6,T73<0.75),"Recommandation d'amélioration",IF(T73>=0.75,"Exigence atteinte","")))) -> Recommandation d'amélioration | V73: Recommandation d'amélioration | W73: B : Certification avec recommandation d'amélioration | Y73: Lien Rapport de certification | Z73: https://www.has-sante.fr/portail/jcms/c_261800/fr/hopital-de-saint-james
B74: =1+B73 -> 56 | C74: 50 | D74: 500000419 | E74: KORIAN L'ESTRAN | F74: SSR | G74: Aucun | I74: X | M74: 3 | N74: 1 | O74: 3 | P74: 3 | Q74: 3 | R74: 3 | S74: 3 | T74: =IF((M74+N74+O74+P74+Q74+R74+S74)/28<>0,(M74+N74+O74+P74+Q74+R74+S74)/28,"") -> 0.67857143 | U74: =IF(T74<0.4,"Réserve",IF(AND(T74>=0.4,T74<0.6),"Obligation d'amélioration",IF(AND(T74>=0.6,T74<0.75),"Recommandation d'amélioration",IF(T74>=0.75,"Exigence atteinte","")))) -> Recommandation d'amélioration | V74: Recommandation d'amélioration | W74: B : Certification avec recommandation d'amélioration | Y74: Lien Rapport de certification | Z74: https://www.has-sante.fr/portail/jcms/c_259301/fr/korian-l-estran
B75: =1+B74 -> 57 | C75: 50 | D75: 500012687 | E75: KORIAN WILLIAM HARVEY | F75: SSR | G75: Aucun | I75: X | M75: 3 | N75: 3 | O75: 3 | P75: 1 | Q75: 3 | R75: 3 | S75: 3 | T75: =IF((M75+N75+O75+P75+Q75+R75+S75)/28<>0,(M75+N75+O75+P75+Q75+R75+S75)/28,"") -> 0.67857143 | U75: =IF(T75<0.4,"Réserve",IF(AND(T75>=0.4,T75<0.6),"Obligation d'amélioration",IF(AND(T75>=0.6,T75<0.75),"Recommandation d'amélioration",IF(T75>=0.75,"Exigence atteinte","")))) -> Recommandation d'amélioration | V75: Recommandation d'amélioration | W75: B : Certification avec recommandation d'amélioration | Y75: Lien Rapport de certification | Z75: https://www.has-sante.fr/portail/jcms/c_260066/fr/centre-william-harvey
B76: =1+B75 -> 58 | C76: 50 | D76: 500000146 | E76: POLYCLINIQUE DE LA BAIE | F76: Clinique > 100 lits | G76: Aucun | H76: X | I76: X | M76: 3 | N76: 3 | O76: 3 | P76: 3 | Q76: 3 | R76: 3 | S76: 3 | T76: =IF((M76+N76+O76+P76+Q76+R76+S76)/28<>0,(M76+N76+O76+P76+Q76+R76+S76)/28,"") -> 0.75 | U76: =IF(T76<0.4,"Réserve",IF(AND(T76>=0.4,T76<0.6),"Obligation d'amélioration",IF(AND(T76>=0.6,T76<0.75),"Recommandation d'amélioration",IF(T76>=0.75,"Exigence atteinte","")))) -> Exigence atteinte | V76: Exigence atteinte | W76: C : Certification avec obligation d'amélioration | X76: A : Certification | Y76: Lien Rapport de certification | Z76: https://www.has-sante.fr/portail/jcms/c_263298/fr/polyclinique-de-la-baie
B77: =1+B76 -> 59 | C77: 50 | D77: 500000575 | E77: CH DE L'ESTRAN | F77: PSY | G77: 9 - GHT Groupe Hospitalier Mont Saint Michel | I77: X | J77: X | M77: 3 | N77: 3 | O77: 3 | P77: 3 | Q77: 3 | R77: 3 | S77: 3 | T77: =IF((M77+N77+O77+P77+Q77+R77+S77)/28<>0,(M77+N77+O77+P77+Q77+R77+S77)/28,"") -> 0.75 | U77: =IF(T77<0.4,"Réserve",IF(AND(T77>=0.4,T77<0.6),"Obligation d'amélioration",IF(AND(T77>=0.6,T77<0.75),"Recommandation d'amélioration",IF(T77>=0.75,"Exigence atteinte","")))) -> Exigence atteinte | V77: Exigence atteinte | W77: B : Certification avec recommandation d'amélioration | Y77: Lien Rapport de certification | Z77: https://www.has-sante.fr/portail/jcms/c_447992/fr/centre-hospitalier-de-l-estran
B78: =1+B77 -> 60 | C78: 50 | D78: 500000203 | E78: POLYCLINIQUE DE LA MANCHE-SAINT LO | F78: Clinique < 100 lits | G78: Aucun | H78: X | I78: X | M78: 3 | N78: 3 | O78: 3 | P78: 3 | Q78: 1 | R78: 3 | S78: 3 | T78: =IF((M78+N78+O78+P78+Q78+R78+S78)/28<>0,(M78+N78+O78+P78+Q78+R78+S78)/28,"") -> 0.67857143 | U78: =IF(T78<0.4,"Réserve",IF(AND(T78>=0.4,T78<0.6),"Obligation d'amélioration",IF(AND(T78>=0.6,T78<0.75),"Recommandation d'amélioration",IF(T78>=0.75,"Exigence atteinte","")))) -> Recommandation d'amélioration | V78: Recommandation d'amélioration | W78: D : Sursis à statuer | Y78: Lien Rapport de certification | Z78: https://www.has-sante.fr/portail/jcms/c_264243/fr/polyclinique-de-la-manche-saint-lo
B79: =1+B78 -> 61 | C79: 50 | D79: 500002357 | E79: POLYCLINIQUE DU COTENTIN | F79: Clinique > 100 lits | G79: Aucun | H79: X | I79: X | M79: 3 | N79: 3 | O79: 3 | P79: 3 | Q79: 3 | R79: 3 | S79: 3 | T79: =IF((M79+N79+O79+P79+Q79+R79+S79)/28<>0,(M79+N79+O79+P79+Q79+R79+S79)/28,"") -> 0.75 | U79: =IF(T79<0.4,"Réserve",IF(AND(T79>=0.4,T79<0.6),"Obligation d'amélioration",IF(AND(T79>=0.6,T79<0.75),"Recommandation d'amélioration",IF(T79>=0.75,"Exigence atteinte","")))) -> Exigence atteinte | V79: Exigence atteinte | W79: B : Certification avec recommandation d'amélioration | Y79: Lien Rapport de certification | Z79: https://www.has-sante.fr/portail/jcms/c_264906/fr/polyclinique-du-cotentin
B80: =1+B79 -> 62 | C80: 61 | D80: 610000069 | E80: CH ARGENTAN | F80: CH 100 - 300 lits | G80: 6 - GHT Normandie Centre | H80: X | I80: X | M80: 4 | N80: 4 | O80: 4 | P80: 4 | Q80: 3 | R80: 3 | S80: 3 | T80: =IF((M80+N80+O80+P80+Q80+R80+S80)/28<>0,(M80+N80+O80+P80+Q80+R80+S80)/28,"") -> 0.89285714 | U80: =IF(T80<0.4,"Réserve",IF(AND(T80>=0.4,T80<0.6),"Obligation d'amélioration",IF(AND(T80>=0.6,T80<0.75),"Recommandation d'amélioration",IF(T80>=0.75,"Exigence atteinte","")))) -> Exigence atteinte | V80: Exigence atteinte | W80: B : Certification avec recommandation d'amélioration | Y80: Lien Rapport de certification | Z80: https://www.has-sante.fr/portail/jcms/c_259409/fr/centre-hospitalier-d-argentan
B81: =1+B80 -> 63 | C81: 61 | D81: 610006256 | E81: HAD ORNE EST | F81: HAD | G81: Aucun | K81: X | M81: 3 | N81: 1 | O81: 3 | P81: 1 | Q81: 1 | R81: 3 | S81: 3 | T81: =IF((M81+N81+O81+P81+Q81+R81+S81)/28<>0,(M81+N81+O81+P81+Q81+R81+S81)/28,"") -> 0.53571429 | U81: =IF(T81<0.4,"Réserve",IF(AND(T81>=0.4,T81<0.6),"Obligation d'amélioration",IF(AND(T81>=0.6,T81<0.75),"Recommandation d'amélioration",IF(T81>=0.75,"Exigence atteinte","")))) -> Obligation d'amélioration | V81: Réserves | W81: C : Certification avec obligation d'amélioration | X81: B : Certification avec recommandation d'amélioration | Y81: Lien Rapport de certification | Z81: https://www.has-sante.fr/portail/jcms/c_2619158/fr/hospitalisation-a-domicile-orne-est
B82: =1+B81 -> 64 | C82: 61 | D82: 610000119 | E82: CH FLERS | F82: CH 100 - 300 lits | G82: 8 - GHT Les Collines de Normandie | H82: X | J82: X | M82: 3 | N82: 3 | O82: 4 | P82: 3 | Q82: 1 | R82: 3 | S82: 3 | T82: =IF((M82+N82+O82+P82+Q82+R82+S82)/28<>0,(M82+N82+O82+P82+Q82+R82+S82)/28,"") -> 0.71428571 | U82: =IF(T82<0.4,"Réserve",IF(AND(T82>=0.4,T82<0.6),"Obligation d'amélioration",IF(AND(T82>=0.6,T82<0.75),"Recommandation d'amélioration",IF(T82>=0.75,"Exigence atteinte","")))) -> Recommandation d'amélioration | V82: Recommandation d'amélioration | W82: B : Certification avec recommandation d'amélioration | Y82: Lien Rapport de certification | Z82: https://www.has-sante.fr/portail/jcms/c_259766/fr/centre-hospitalier-de-flers
B83: =1+B82 -> 65 | C83: 61 | D83: 610784423 | E83: CMPR BAGNOLES DE L'ORNE | F83: SSR | G83: Aucun | I83: X | M83: 3 | N83: 3 | O83: 3 | P83: 3 | Q83: 3 | R83: 4 | S83: 4 | T83: =IF((M83+N83+O83+P83+Q83+R83+S83)/28<>0,(M83+N83+O83+P83+Q83+R83+S83)/28,"") -> 0.82142857 | U83: =IF(T83<0.4,"Réserve",IF(AND(T83>=0.4,T83<0.6),"Obligation d'amélioration",IF(AND(T83>=0.6,T83<0.75),"Recommandation d'amélioration",IF(T83>=0.75,"Exigence atteinte","")))) -> Exigence atteinte | V83: Exigence atteinte | W83: A : Certification | Y83: Lien Rapport de certification | Z83: https://www.has-sante.fr/portail/jcms/c_259244/fr/centre-de-medecine-physique-et-de-readaptation-de-bagnoles-de-l-orne
B84: =1+B83 -> 66 | C84: 61 | D84: 610780371 | E84: SSR LE PARC | F84: SSR | G84: Aucun | I84: X | M84: 3 | N84: 1 | O84: 3 | P84: 3 | Q84: 3 | R84: 3 | S84: 3 | T84: =IF((M84+N84+O84+P84+Q84+R84+S84)/28<>0,(M84+N84+O84+P84+Q84+R84+S84)/28,"") -> 0.67857143 | U84: =IF(T84<0.4,"Réserve",IF(AND(T84>=0.4,T84<0.6),"Obligation d'amélioration",IF(AND(T84>=0.6,T84<0.75),"Recommandation d'amélioration",IF(T84>=0.75,"Exigence atteinte","")))) -> Recommandation d'amélioration | V84: Recommandation d'amélioration | W84: B : Certification avec recommandation d'amélioration | Y84: Lien Rapport de certification | Z84: https://www.has-sante.fr/portail/jcms/c_261508/fr/centre-de-soins-de-suite-le-parc
B85: =1+B84 -> 67 | C85: 61 | D85: 610780025 | E85: CENTRE PSYCHOTHERAPIQUE DE L'ORNE | F85: PSY | G85: 7 - GHT Orne Perche Saosnois | J85: X | M85: 3 | N85: 3 | O85: 3 | P85: 3 | Q85: 1 | R85: 3 | S85: 3 | T85: =IF((M85+N85+O85+P85+Q85+R85+S85)/28<>0,(M85+N85+O85+P85+Q85+R85+S85)/28,"") -> 0.67857143 | U85: =IF(T85<0.4,"Réserve",IF(AND(T85>=0.4,T85<0.6),"Obligation d'amélioration",IF(AND(T85>=0.6,T85<0.75),"Recommandation d'amélioration",IF(T85>=0.75,"Exigence atteinte","")))) -> Recommandation d'amélioration | V85: Recommandation d'amélioration | W85: B : Certification avec recommandation d'amélioration | Y85: Lien Rapport de certification | Z85: https://www.has-sante.fr/portail/jcms/c_260039/fr/centre-psychotherapique-de-l-orne
B86: =1+B85 -> 68 | C86: 61 | D86: 610000077 | E86: CH MARGUERITE DE LORRAINE | F86: CH < 100 lits | G86: 7 - GHT Orne Perche Saosnois | H86: X | I86: X | M86: 3 | N86: 3 | O86: 3 | P86: 4 | Q86: 3 | R86: 3 | S86: 3 | T86: =IF((M86+N86+O86+P86+Q86+R86+S86)/28<>0,(M86+N86+O86+P86+Q86+R86+S86)/28,"") -> 0.78571429 | U86: =IF(T86<0.4,"Réserve",IF(AND(T86>=0.4,T86<0.6),"Obligation d'amélioration",IF(AND(T86>=0.6,T86<0.75),"Recommandation d'amélioration",IF(T86>=0.75,"Exigence atteinte","")))) -> Exigence atteinte | V86: Exigence atteinte | W86: A : Certification | Y86: Lien Rapport de certification | Z86: https://www.has-sante.fr/portail/jcms/c_265775/fr/centre-hospitalier-marguerite-de-lorraine
B87: =1+B86 -> 69 | C87: 61 | D87: 610000093 | E87: HOPITAL LOCAL SEES | F87: CH < 100 lits | G87: 7 - GHT Orne Perche Saosnois | H87: X | I87: X | M87: 4 | N87: 4 | O87: 3 | P87: 4 | Q87: 3 | R87: 4 | S87: 3 | T87: =IF((M87+N87+O87+P87+Q87+R87+S87)/28<>0,(M87+N87+O87+P87+Q87+R87+S87)/28,"") -> 0.89285714 | U87: =IF(T87<0.4,"Réserve",IF(AND(T87>=0.4,T87<0.6),"Obligation d'amélioration",IF(AND(T87>=0.6,T87<0.75),"Recommandation d'amélioration",IF(T87>=0.75,"Exigence atteinte","")))) -> Exigence atteinte | V87: Exigence atteinte | W87: A : Certification | Y87: Lien Rapport de certification | Z87: https://www.has-sante.fr/portail/jcms/c_263337/fr/centre-hospitalier-de-sees
B88: =1+B87 -> 70 | C88: 61 | D88: 610000085 | E88: CH DE BELLEME | F88: SSR | G88: 7 - GHT Orne Perche Saosnois | I88: X | M88: 4 | N88: 4 | O88: 4 | P88: 4 | Q88: 4 | R88: 4 | S88: 4 | T88: =IF((M88+N88+O88+P88+Q88+R88+S88)/28<>0,(M88+N88+O88+P88+Q88+R88+S88)/28,"") -> 1 | U88: =IF(T88<0.4,"Réserve",IF(AND(T88>=0.4,T88<0.6),"Obligation d'amélioration",IF(AND(T88>=0.6,T88<0.75),"Recommandation d'amélioration",IF(T88>=0.75,"Exigence atteinte","")))) -> Exigence atteinte | V88: Exigence atteinte | W88: A : Certification | Y88: Lien Rapport de certification | Z88: https://www.has-sante.fr/portail/jcms/c_418895/fr/hopital-local-de-belleme
B89: =1+B88 -> 71 | C89: 61 | D89: 610000051 | E89: CHIC ALENCON-MAMERS | F89: CH > 300 lits | G89: 7 - GHT Orne Perche Saosnois | H89: X | I89: X | M89: 3 | N89: 3 | O89: 3 | P89: 3 | Q89: 3 | R89: 4 | S89: 4 | T89: =IF((M89+N89+O89+P89+Q89+R89+S89)/28<>0,(M89+N89+O89+P89+Q89+R89+S89)/28,"") -> 0.82142857 | U89: =IF(T89<0.4,"Réserve",IF(AND(T89>=0.4,T89<0.6),"Obligation d'amélioration",IF(AND(T89>=0.6,T89<0.75),"Recommandation d'amélioration",IF(T89>=0.75,"Exigence atteinte","")))) -> Exigence atteinte | V89: Exigence atteinte | W89: C : Certification avec obligation d'amélioration | X89: B : Certification avec recommandation d'amélioration | Y89: Lien Rapport de certification | Z89: https://www.has-sante.fr/portail/jcms/c_266243/fr/centre-hospitalier-intercommunal-chic-alencon-mamers
B90: =1+B89 -> 72 | C90: 61 | D90: 610004269 | E90: HAD ARGENTAN | F90: HAD | G90: Aucun | K90: X | M90: 3 | N90: 3 | O90: 3 | P90: 3 | Q90: 3 | R90: 1 | S90: 3 | T90: =IF((M90+N90+O90+P90+Q90+R90+S90)/28<>0,(M90+N90+O90+P90+Q90+R90+S90)/28,"") -> 0.67857143 | U90: =IF(T90<0.4,"Réserve",IF(AND(T90>=0.4,T90<0.6),"Obligation d'amélioration",IF(AND(T90>=0.6,T90<0.75),"Recommandation d'amélioration",IF(T90>=0.75,"Exigence atteinte","")))) -> Recommandation d'amélioration | V90: Recommandation d'amélioration | W90: D : Sursis à statuer | X90: C : Certification avec obligation d'amélioration | Y90: Lien Rapport de certification | Z90: https://www.has-sante.fr/portail/jcms/c_1054089/fr/service-d-hospitalisation-a-domicile-argentan
B91: =1+B90 -> 73 | C91: 61 | D91: 610000044 | E91: CH DE L'AIGLE | F91: CH 100 - 300 lits | G91: 5 - GHT Eure-Seine | H91: X | I91: X | M91: 3 | N91: 3 | O91: 3 | P91: 1 | Q91: 1 | R91: 1 | S91: 1 | T91: =IF((M91+N91+O91+P91+Q91+R91+S91)/28<>0,(M91+N91+O91+P91+Q91+R91+S91)/28,"") -> 0.46428571 | U91: =IF(T91<0.4,"Réserve",IF(AND(T91>=0.4,T91<0.6),"Obligation d'amélioration",IF(AND(T91>=0.6,T91<0.75),"Recommandation d'amélioration",IF(T91>=0.75,"Exigence atteinte","")))) -> Obligation d'amélioration | V91: Obligation d'amélioration | W91: D : Sursis à statuer | Y91: Lien Rapport de certification | Z91: https://www.has-sante.fr/portail/jcms/c_264303/fr/centre-hospitalier-de-l-aigle
B92: =1+B91 -> 74 | C92: 61 | D92: 610780389 | E92: CENTRE DE MEDECINE PHYSIQUE ET DE READAPTATION LA CLAIRIERE | F92: SSR | G92: Aucun | I92: X | M92: 1 | N92: 1 | O92: 3 | P92: 3 | Q92: 3 | R92: 3 | S92: 3 | T92: =IF((M92+N92+O92+P92+Q92+R92+S92)/28<>0,(M92+N92+O92+P92+Q92+R92+S92)/28,"") -> 0.60714286 | U92: =IF(T92<0.4,"Réserve",IF(AND(T92>=0.4,T92<0.6),"Obligation d'amélioration",IF(AND(T92>=0.6,T92<0.75),"Recommandation d'amélioration",IF(T92>=0.75,"Exigence atteinte","")))) -> Recommandation d'amélioration | V92: Recommandation d'amélioration | W92: B : Certification avec recommandation d'amélioration | Y92: Lien Rapport de certification | Z92: https://www.has-sante.fr/portail/jcms/c_264813/fr/centre-de-medecine-physique-et-de-readaptation-la-clairiere
B93: =1+B92 -> 75 | C93: 61 | E93: HOSPITALISATION A DOMICILE 61 | F93: HAD | G93: Aucun | K93: X | T93: =IF((M93+N93+O93+P93+Q93+R93+S93)/28<>0,(M93+N93+O93+P93+Q93+R93+S93)/28,"") | U93: =IF(T93<0.4,"Réserve",IF(AND(T93>=0.4,T93<0.6),"Obligation d'amélioration",IF(AND(T93>=0.6,T93<0.75),"Recommandation d'amélioration",IF(T93>=0.75,"Exigence atteinte","")))) -> Exigence atteinte | Y93: Lien Rapport de certification | Z93: https://www.has-sante.fr/portail/jcms/c_1048891/fr/hospitalisation-a-domicile-61-had-61
B94: =1+B93 -> 76 | C94: 61 | D94: 610780108 | E94: CHIC DES ANDAINES | F94: CH < 100 lits | G94: 8 - GHT Les Collines de Normandie | H94: X | I94: X | M94: 3 | N94: 1 | O94: 3 | P94: 1 | Q94: 1 | R94: 3 | S94: 3 | T94: =IF((M94+N94+O94+P94+Q94+R94+S94)/28<>0,(M94+N94+O94+P94+Q94+R94+S94)/28,"") -> 0.53571429 | U94: =IF(T94<0.4,"Réserve",IF(AND(T94>=0.4,T94<0.6),"Obligation d'amélioration",IF(AND(T94>=0.6,T94<0.75),"Recommandation d'amélioration",IF(T94>=0.75,"Exigence atteinte","")))) -> Obligation d'amélioration | V94: Obligation d'amélioration | W94: C : Certification avec obligation d'amélioration | Y94: Lien Rapport de certification | Z94: https://www.has-sante.fr/portail/jcms/c_458822/fr/centre-hospitalier-intercommunal-des-andaines
B95: =1+B94 -> 77 | C95: 61 | D95: 610780157 | E95: HOPITAL MARESCOT | F95: SSR | G95: 6 - GHT Normandie Centre | I95: X | M95: 3 | N95: 3 | O95: 3 | P95: 3 | Q95: 3 | R95: 3 | S95: 3 | T95: =IF((M95+N95+O95+P95+Q95+R95+S95)/28<>0,(M95+N95+O95+P95+Q95+R95+S95)/28,"") -> 0.75 | U95: =IF(T95<0.4,"Réserve",IF(AND(T95>=0.4,T95<0.6),"Obligation d'amélioration",IF(AND(T95>=0.6,T95<0.75),"Recommandation d'amélioration",IF(T95>=0.75,"Exigence atteinte","")))) -> Exigence atteinte | V95: =IF(U95<0.4,"Réserve",IF(AND(U95>=0.4,U95<0.6),"Obligation d'amélioration",IF(AND(U95>=0.6,U95<0.75),"Recommandation d'amélioration",IF(U95>=0.75,"Exigence atteinte","")))) -> Exigence atteinte | W95: A : Certification | Y95: Lien Rapport de certification | Z95: https://www.has-sante.fr/portail/jcms/c_456954/fr/hopital-marescot
B96: =1+B95 -> 78 | C96: 61 | D96: 610006421 | E96: CLINIQUE D'ALENCON | F96: Clinique < 100 lits | G96: Aucun | H96: X | I96: X | M96: 4 | N96: 3 | O96: 4 | P96: 3 | Q96: 3 | R96: 3 | S96: 3 | T96: =IF((M96+N96+O96+P96+Q96+R96+S96)/28<>0,(M96+N96+O96+P96+Q96+R96+S96)/28,"") -> 0.82142857 | U96: =IF(T96<0.4,"Réserve",IF(AND(T96>=0.4,T96<0.6),"Obligation d'amélioration",IF(AND(T96>=0.6,T96<0.75),"Recommandation d'amélioration",IF(T96>=0.75,"Exigence atteinte","")))) -> Exigence atteinte | V96: Exigence atteinte | W96: B : Certification avec recommandation d'amélioration | Y96: Lien Rapport de certification | Z96: https://www.has-sante.fr/portail/jcms/c_266144/fr/clinique-d-alencon
B97: =1+B96 -> 79 | C97: 61 | D97: 610006371 | E97: CLINIQUE SAINT DOMINIQUE | F97: Clinique < 100 lits | G97: Aucun | H97: X | I97: X | M97: 4 | N97: 4 | O97: 4 | P97: 4 | Q97: 4 | R97: 4 | S97: 4 | T97: =IF((M97+N97+O97+P97+Q97+R97+S97)/28<>0,(M97+N97+O97+P97+Q97+R97+S97)/28,"") -> 1 | U97: =IF(T97<0.4,"Réserve",IF(AND(T97>=0.4,T97<0.6),"Obligation d'amélioration",IF(AND(T97>=0.6,T97<0.75),"Recommandation d'amélioration",IF(T97>=0.75,"Exigence atteinte","")))) -> Exigence atteinte | V97: Exigence atteinte | W97: A : Certification | Y97: Lien Rapport de certification | Z97: https://www.has-sante.fr/portail/jcms/c_265952/fr/clinique-saint-dominique-flers
B98: =1+B97 -> 80 | C98: 76 | D98: 760000018 | E98: CH DE DIEPPE | F98: CH > 300 lits | G98: 2 - GHT Caux Maritime | H98: X | I98: X | J98: X | M98: 3 | N98: 3 | O98: 3 | P98: 3 | Q98: 1 | R98: 1 | S98: 1 | T98: =IF((M98+N98+O98+P98+Q98+R98+S98)/28<>0,(M98+N98+O98+P98+Q98+R98+S98)/28,"") -> 0.53571429 | U98: =IF(T98<0.4,"Réserve",IF(AND(T98>=0.4,T98<0.6),"Obligation d'amélioration",IF(AND(T98>=0.6,T98<0.75),"Recommandation d'amélioration",IF(T98>=0.75,"Exigence atteinte","")))) -> Obligation d'amélioration | V98: Obligation d'amélioration | W98: D : Sursis à statuer | X98: C : Certification avec obligation d'amélioration | Y98: Lien Rapport de certification | Z98: https://www.has-sante.fr/portail/jcms/c_259475/fr/centre-hospitalier-de-dieppe
B99: =1+B98 -> 81 | C99: 76 | D99: 760780197 | E99: CLINIQUE DES AUBEPINES | F99: Clinique < 100 lits | G99: Aucun | H99: X | M99: 1 | N99: 1 | O99: 3 | P99: 3 | Q99: 1 | R99: 1 | S99: 1 | T99: =IF((M99+N99+O99+P99+Q99+R99+S99)/28<>0,(M99+N99+O99+P99+Q99+R99+S99)/28,"") -> 0.39285714 | U99: =IF(T99<0.4,"Réserve",IF(AND(T99>=0.4,T99<0.6),"Obligation d'amélioration",IF(AND(T99>=0.6,T99<0.75),"Recommandation d'amélioration",IF(T99>=0.75,"Exigence atteinte","")))) -> Réserve | V99: Réserves | W99: E : Non certification | Y99: Lien Rapport de certification | Z99: https://www.has-sante.fr/portail/jcms/c_264369/fr/clinique-les-aubepines
B100: =1+B99 -> 82 | C100: 76 | D100: 760029017 | E100: CLINIQUE GUILLAUME | F100: SSR | G100: Aucun | I100: X | M100: 3 | N100: 3 | O100: 3 | P100: 4 | Q100: 3 | R100: 3 | S100: 3 | T100: =IF((M100+N100+O100+P100+Q100+R100+S100)/28<>0,(M100+N100+O100+P100+Q100+R100+S100)/28,"") -> 0.78571429 | U100: =IF(T100<0.4,"Réserve",IF(AND(T100>=0.4,T100<0.6),"Obligation d'amélioration",IF(AND(T100>=0.6,T100<0.75),"Recommandation d'amélioration",IF(T100>=0.75,"Exigence atteinte","")))) -> Exigence atteinte | V100: Exigence atteinte | W100: A : Certification | Y100: Lien Rapport de certification | Z100: https://www.has-sante.fr/portail/jcms/c_2843665/fr/clinique-guillaume
B101: =1+B100 -> 83 | C101: 76 | D101: 760780205 | E101: CLINIQUE SAINT ANTOINE | F101: Clinique < 100 lits | G101: Aucun | H101: X | M101: 3 | N101: 4 | O101: 4 | P101: 4 | Q101: 3 | R101: 4 | S101: 4 | T101: =IF((M101+N101+O101+P101+Q101+R101+S101)/28<>0,(M101+N101+O101+P101+Q101+R101+S101)/28,"") -> 0.92857143 | U101: =IF(T101<0.4,"Réserve",IF(AND(T101>=0.4,T101<0.6),"Obligation d'amélioration",IF(AND(T101>=0.6,T101<0.75),"Recommandation d'amélioration",IF(T101>=0.75,"Exigence atteinte","")))) -> Exigence atteinte | V101: Exigence atteinte | W101: A : Certification | Y101: Lien Rapport de certification | Z101: https://www.has-sante.fr/portail/jcms/c_262317/fr/clinique-saint-antoine-bois-guillaume
...

Sheet Médianes
B3: Médiane | C3: Définition de la stratégie | D3: Organisation interne | E3: Mobilisation des équipes | F3: Disponibilité des ressources | G3: Effectivité de la mise en œuvre | H3: Evaluation du fonctionnement | I3: Mise en place des actions d'amélioration
B4: CH < 100 lits | C4: {=MEDIAN(IF(DataBase!$F$19:$F$499=$B4,DataBase!$M$19:$M$499))} -> 3 | D4: {=MEDIAN(IF(DataBase!$F$19:$F$499=$B4,DataBase!$M$19:$M$499))} -> 3 | E4: {=MEDIAN(IF(DataBase!$F$19:$F$499=$B4,DataBase!$M$19:$M$499))} -> 3 | F4: {=MEDIAN(IF(DataBase!$F$19:$F$499=$B4,DataBase!$M$19:$M$499))} -> 3 | G4: {=MEDIAN(IF(DataBase!$F$19:$F$499=$B4,DataBase!$M$19:$M$499))} -> 3 | H4: {=MEDIAN(IF(DataBase!$F$19:$F$499=$B4,DataBase!$M$19:$M$499))} -> 3 | I4: {=MEDIAN(IF(DataBase!$F$19:$F$499=$B4,DataBase!$M$19:$M$499))} -> 3
B5: CH 100 - 300 lits | C5: {=MEDIAN(IF(DataBase!$F$19:$F$499=$B5,DataBase!$M$19:$M$499))} -> 3 | D5: {=MEDIAN(IF(DataBase!$F$19:$F$499=$B5,DataBase!$M$19:$M$499))} -> 3 | E5: {=MEDIAN(IF(DataBase!$F$19:$F$499=$B5,DataBase!$M$19:$M$499))} -> 3 | F5: {=MEDIAN(IF(DataBase!$F$19:$F$499=$B5,DataBase!$M$19:$M$499))} -> 3 | G5: {=MEDIAN(IF(DataBase!$F$19:$F$499=$B5,DataBase!$M$19:$M$499))} -> 3 | H5: {=MEDIAN(IF(DataBase!$F$19:$F$499=$B5,DataBase!$M$19:$M$499))} -> 3 | I5: {=MEDIAN(IF(DataBase!$F$19:$F$499=$B5,DataBase!$M$19:$M$499))} -> 3
B6: CH > 300 lits | C6: {=MEDIAN(IF(DataBase!$F$19:$F$499=$B6,DataBase!$M$19:$M$499))} -> 3 | D6: {=MEDIAN(IF(DataBase!$F$19:$F$499=$B6,DataBase!$M$19:$M$499))} -> 3 | E6: {=MEDIAN(IF(DataBase!$F$19:$F$499=$B6,DataBase!$M$19:$M$499))} -> 3 | F6: {=MEDIAN(IF(DataBase!$F$19:$F$499=$B6,DataBase!$M$19:$M$499))} -> 3 | G6: {=MEDIAN(IF(DataBase!$F$19:$F$499=$B6,DataBase!$M$19:$M$499))} -> 3 | H6: {=MEDIAN(IF(DataBase!$F$19:$F$499=$B6,DataBase!$M$19:$M$499))} -> 3 | I6: {=MEDIAN(IF(DataBase!$F$19:$F$499=$B6,DataBase!$M$19:$M$499))} -> 3
B7: Clinique < 100 lits | C7: {=MEDIAN(IF(DataBase!$F$19:$F$499=$B7,DataBase!$M$19:$M$499))} -> 3 | D7: {=MEDIAN(IF(DataBase!$F$19:$F$499=$B7,DataBase!$M$19:$M$499))} -> 3 | E7: {=MEDIAN(IF(DataBase!$F$19:$F$499=$B7,DataBase!$M$19:$M$499))} -> 3 | F7: {=MEDIAN(IF(DataBase!$F$19:$F$499=$B7,DataBase!$M$19:$M$499))} -> 3 | G7: {=MEDIAN(IF(DataBase!$F$19:$F$499=$B7,DataBase!$M$19:$M$499))} -> 3 | H7: {=MEDIAN(IF(DataBase!$F$19:$F$499=$B7,DataBase!$M$19:$M$499))} -> 3 | I7: {=MEDIAN(IF(DataBase!$F$19:$F$499=$B7,DataBase!$M$19:$M$499))} -> 3
B8: Clinique > 100 lits | C8: {=MEDIAN(IF(DataBase!$F$19:$F$499=$B8,DataBase!$M$19:$M$499))} -> 3 | D8: {=MEDIAN(IF(DataBase!$F$19:$F$499=$B8,DataBase!$M$19:$M$499))} -> 3 | E8: {=MEDIAN(IF(DataBase!$F$19:$F$499=$B8,DataBase!$M$19:$M$499))} -> 3 | F8: {=MEDIAN(IF(DataBase!$F$19:$F$499=$B8,DataBase!$M$19:$M$499))} -> 3 | G8: {=MEDIAN(IF(DataBase!$F$19:$F$499=$B8,DataBase!$M$19:$M$499))} -> 3 | H8: {=MEDIAN(IF(DataBase!$F$19:$F$499=$B8,DataBase!$M$19:$M$499))} -> 3 | I8: {=MEDIAN(IF(DataBase!$F$19:$F$499=$B8,DataBase!$M$19:$M$499))} -> 3
B9: SSR | C9: {=MEDIAN(IF(DataBase!$F$19:$F$499=$B9,DataBase!$M$19:$M$499))} -> 3 | D9: {=MEDIAN(IF(DataBase!$F$19:$F$499=$B9,DataBase!$M$19:$M$499))} -> 3 | E9: {=MEDIAN(IF(DataBase!$F$19:$F$499=$B9,DataBase!$M$19:$M$499))} -> 3 | F9: {=MEDIAN(IF(DataBase!$F$19:$F$499=$B9,DataBase!$M$19:$M$499))} -> 3 | G9: {=MEDIAN(IF(DataBase!$F$19:$F$499=$B9,DataBase!$M$19:$M$499))} -> 3 | H9: {=MEDIAN(IF(DataBase!$F$19:$F$499=$B9,DataBase!$M$19:$M$499))} -> 3 | I9: {=MEDIAN(IF(DataBase!$F$19:$F$499=$B9,DataBase!$M$19:$M$499))} -> 3
B10: HAD | C10: {=MEDIAN(IF(DataBase!$F$19:$F$499=$B10,DataBase!$M$19:$M$499))} -> 2 | D10: {=MEDIAN(IF(DataBase!$F$19:$F$499=$B10,DataBase!$M$19:$M$499))} -> 2 | E10: {=MEDIAN(IF(DataBase!$F$19:$F$499=$B10,DataBase!$M$19:$M$499))} -> 2 | F10: {=MEDIAN(IF(DataBase!$F$19:$F$499=$B10,DataBase!$M$19:$M$499))} -> 2 | G10: {=MEDIAN(IF(DataBase!$F$19:$F$499=$B10,DataBase!$M$19:$M$499))} -> 2 | H10: {=MEDIAN(IF(DataBase!$F$19:$F$499=$B10,DataBase!$M$19:$M$499))} -> 2 | I10: {=MEDIAN(IF(DataBase!$F$19:$F$499=$B10,DataBase!$M$19:$M$499))} -> 2
B11: PSY | C11: {=MEDIAN(IF(DataBase!$F$19:$F$499=$B11,DataBase!$M$19:$M$499))} -> 3 | D11: {=MEDIAN(IF(DataBase!$F$19:$F$499=$B11,DataBase!$M$19:$M$499))} -> 3 | E11: {=MEDIAN(IF(DataBase!$F$19:$F$499=$B11,DataBase!$M$19:$M$499))} -> 3 | F11: {=MEDIAN(IF(DataBase!$F$19:$F$499=$B11,DataBase!$M$19:$M$499))} -> 3 | G11: {=MEDIAN(IF(DataBase!$F$19:$F$499=$B11,DataBase!$M$19:$M$499))} -> 3 | H11: {=MEDIAN(IF(DataBase!$F$19:$F$499=$B11,DataBase!$M$19:$M$499))} -> 3 | I11: {=MEDIAN(IF(DataBase!$F$19:$F$499=$B11,DataBase!$M$19:$M$499))} -> 3
B12: Dialyse | C12: {=MEDIAN(IF(DataBase!$F$19:$F$499=$B12,DataBase!$M$19:$M$499))} -> 3 | D12: {=MEDIAN(IF(DataBase!$F$19:$F$499=$B12,DataBase!$M$19:$M$499))} -> 3 | E12: {=MEDIAN(IF(DataBase!$F$19:$F$499=$B12,DataBase!$M$19:$M$499))} -> 3 | F12: {=MEDIAN(IF(DataBase!$F$19:$F$499=$B12,DataBase!$M$19:$M$499))} -> 3 | G12: {=MEDIAN(IF(DataBase!$F$19:$F$499=$B12,DataBase!$M$19:$M$499))} -> 3 | H12: {=MEDIAN(IF(DataBase!$F$19:$F$499=$B12,DataBase!$M$19:$M$499))} -> 3 | I12: {=MEDIAN(IF(DataBase!$F$19:$F$499=$B12,DataBase!$M$19:$M$499))} -> 3
B19: Médiane | C19: Définition de la stratégie | D19: Organisation interne | E19: Mobilisation des équipes | F19: Disponibilité des ressources | G19: Effectivité de la mise en œuvre | H19: Evaluation du fonctionnement | I19: Mise en place des actions d'amélioration
B20: 1 - GHT Rouen Cœur de Seine | C20: {=MEDIAN(IF(DataBase!$G$19:$G$499=$B20,DataBase!$M$19:$M$499))} -> 3 | D20: {=MEDIAN(IF(DataBase!$G$19:$G$499=$B20,DataBase!$M$19:$M$499))} -> 3 | E20: {=MEDIAN(IF(DataBase!$G$19:$G$499=$B20,DataBase!$M$19:$M$499))} -> 3 | F20: {=MEDIAN(IF(DataBase!$G$19:$G$499=$B20,DataBase!$M$19:$M$499))} -> 3 | G20: {=MEDIAN(IF(DataBase!$G$19:$G$499=$B20,DataBase!$M$19:$M$499))} -> 3 | H20: {=MEDIAN(IF(DataBase!$G$19:$G$499=$B20,DataBase!$M$19:$M$499))} -> 3 | I20: {=MEDIAN(IF(DataBase!$G$19:$G$499=$B20,DataBase!$M$19:$M$499))} -> 3
B21: 2 - GHT Caux Maritime | C21: {=MEDIAN(IF(DataBase!$G$19:$G$499=$B21,DataBase!$M$19:$M$499))} -> 3 | D21: {=MEDIAN(IF(DataBase!$G$19:$G$499=$B21,DataBase!$M$19:$M$499))} -> 3 | E21: {=MEDIAN(IF(DataBase!$G$19:$G$499=$B21,DataBase!$M$19:$M$499))} -> 3 | F21: {=MEDIAN(IF(DataBase!$G$19:$G$499=$B21,DataBase!$M$19:$M$499))} -> 3 | G21: {=MEDIAN(IF(DataBase!$G$19:$G$499=$B21,DataBase!$M$19:$M$499))} -> 3 | H21: {=MEDIAN(IF(DataBase!$G$19:$G$499=$B21,DataBase!$M$19:$M$499))} -> 3 | I21: {=MEDIAN(IF(DataBase!$G$19:$G$499=$B21,DataBase!$M$19:$M$499))} -> 3
B22: 3 - GHT Val de Seine et plateaux de l'Eure | C22: {=MEDIAN(IF(DataBase!$G$19:$G$499=$B22,DataBase!$M$19:$M$499))} -> 3 | D22: {=MEDIAN(IF(DataBase!$G$19:$G$499=$B22,DataBase!$M$19:$M$499))} -> 3 | E22: {=MEDIAN(IF(DataBase!$G$19:$G$499=$B22,DataBase!$M$19:$M$499))} -> 3 | F22: {=MEDIAN(IF(DataBase!$G$19:$G$499=$B22,DataBase!$M$19:$M$499))} -> 3 | G22: {=MEDIAN(IF(DataBase!$G$19:$G$499=$B22,DataBase!$M$19:$M$499))} -> 3 | H22: {=MEDIAN(IF(DataBase!$G$19:$G$499=$B22,DataBase!$M$19:$M$499))} -> 3 | I22: {=MEDIAN(IF(DataBase!$G$19:$G$499=$B22,DataBase!$M$19:$M$499))} -> 3
B23: 4 - GHT Estuaire de la Seine | C23: {=MEDIAN(IF(DataBase!$G$19:$G$499=$B23,DataBase!$M$19:$M$499))} -> 3 | D23: {=MEDIAN(IF(DataBase!$G$19:$G$499=$B23,DataBase!$M$19:$M$499))} -> 3 | E23: {=MEDIAN(IF(DataBase!$G$19:$G$499=$B23,DataBase!$M$19:$M$499))} -> 3 | F23: {=MEDIAN(IF(DataBase!$G$19:$G$499=$B23,DataBase!$M$19:$M$499))} -> 3 | G23: {=MEDIAN(IF(DataBase!$G$19:$G$499=$B23,DataBase!$M$19:$M$499))} -> 3 | H23: {=MEDIAN(IF(DataBase!$G$19:$G$499=$B23,DataBase!$M$19:$M$499))} -> 3 | I23: {=MEDIAN(IF(DataBase!$G$19:$G$499=$B23,DataBase!$M$19:$M$499))} -> 3
B24: 5 - GHT Eure-Seine | C24: {=MEDIAN(IF(DataBase!$G$19:$G$499=$B24,DataBase!$M$19:$M$499))} -> 3 | D24: {=MEDIAN(IF(DataBase!$G$19:$G$499=$B24,DataBase!$M$19:$M$499))} -> 3 | E24: {=MEDIAN(IF(DataBase!$G$19:$G$499=$B24,DataBase!$M$19:$M$499))} -> 3 | F24: {=MEDIAN(IF(DataBase!$G$19:$G$499=$B24,DataBase!$M$19:$M$499))} -> 3 | G24: {=MEDIAN(IF(DataBase!$G$19:$G$499=$B24,DataBase!$M$19:$M$499))} -> 3 | H24: {=MEDIAN(IF(DataBase!$G$19:$G$499=$B24,DataBase!$M$19:$M$499))} -> 3 | I24: {=MEDIAN(IF(DataBase!$G$19:$G$499=$B24,DataBase!$M$19:$M$499))} -> 3
B25: 6 - GHT Normandie Centre | C25: {=MEDIAN(IF(DataBase!$G$19:$G$499=$B25,DataBase!$M$19:$M$499))} -> 3 | D25: {=MEDIAN(IF(DataBase!$G$19:$G$499=$B25,DataBase!$M$19:$M$499))} -> 3 | E25: {=MEDIAN(IF(DataBase!$G$19:$G$499=$B25,DataBase!$M$19:$M$499))} -> 3 | F25: {=MEDIAN(IF(DataBase!$G$19:$G$499=$B25,DataBase!$M$19:$M$499))} -> 3 | G25: {=MEDIAN(IF(DataBase!$G$19:$G$499=$B25,DataBase!$M$19:$M$499))} -> 3 | H25: {=MEDIAN(IF(DataBase!$G$19:$G$499=$B25,DataBase!$M$19:$M$499))} -> 3 | I25: {=MEDIAN(IF(DataBase!$G$19:$G$499=$B25,DataBase!$M$19:$M$499))} -> 3
B26: 7 - GHT Orne Perche Saosnois | C26: {=MEDIAN(IF(DataBase!$G$19:$G$499=$B26,DataBase!$M$19:$M$499))} -> 3 | D26: {=MEDIAN(IF(DataBase!$G$19:$G$499=$B26,DataBase!$M$19:$M$499))} -> 3 | E26: {=MEDIAN(IF(DataBase!$G$19:$G$499=$B26,DataBase!$M$19:$M$499))} -> 3 | F26: {=MEDIAN(IF(DataBase!$G$19:$G$499=$B26,DataBase!$M$19:$M$499))} -> 3 | G26: {=MEDIAN(IF(DataBase!$G$19:$G$499=$B26,DataBase!$M$19:$M$499))} -> 3 | H26: {=MEDIAN(IF(DataBase!$G$19:$G$499=$B26,DataBase!$M$19:$M$499))} -> 3 | I26: {=MEDIAN(IF(DataBase!$G$19:$G$499=$B26,DataBase!$M$19:$M$499))} -> 3
B27: 8 - GHT Les Collines de Normandie | C27: {=MEDIAN(IF(DataBase!$G$19:$G$499=$B27,DataBase!$M$19:$M$499))} -> 3 | D27: {=MEDIAN(IF(DataBase!$G$19:$G$499=$B27,DataBase!$M$19:$M$499))} -> 3 | E27: {=MEDIAN(IF(DataBase!$G$19:$G$499=$B27,DataBase!$M$19:$M$499))} -> 3 | F27: {=MEDIAN(IF(DataBase!$G$19:$G$499=$B27,DataBase!$M$19:$M$499))} -> 3 | G27: {=MEDIAN(IF(DataBase!$G$19:$G$499=$B27,DataBase!$M$19:$M$499))} -> 3 | H27: {=MEDIAN(IF(DataBase!$G$19:$G$499=$B27,DataBase!$M$19:$M$499))} -> 3 | I27: {=MEDIAN(IF(DataBase!$G$19:$G$499=$B27,DataBase!$M$19:$M$499))} -> 3
B28: 9 - GHT Groupe Hospitalier Mont Saint Michel | C28: {=MEDIAN(IF(DataBase!$G$19:$G$499=$B28,DataBase!$M$19:$M$499))} -> 3.5 | D28: {=MEDIAN(IF(DataBase!$G$19:$G$499=$B28,DataBase!$M$19:$M$499))} -> 3.5 | E28: {=MEDIAN(IF(DataBase!$G$19:$G$499=$B28,DataBase!$M$19:$M$499))} -> 3.5 | F28: {=MEDIAN(IF(DataBase!$G$19:$G$499=$B28,DataBase!$M$19:$M$499))} -> 3.5 | G28: {=MEDIAN(IF(DataBase!$G$19:$G$499=$B28,DataBase!$M$19:$M$499))} -> 3.5 | H28: {=MEDIAN(IF(DataBase!$G$19:$G$499=$B28,DataBase!$M$19:$M$499))} -> 3.5 | I28: {=MEDIAN(IF(DataBase!$G$19:$G$499=$B28,DataBase!$M$19:$M$499))} -> 3.5
B29: 10 - GHT Centre Manche | C29: {=MEDIAN(IF(DataBase!$G$19:$G$499=$B29,DataBase!$M$19:$M$499))} -> 4 | D29: {=MEDIAN(IF(DataBase!$G$19:$G$499=$B29,DataBase!$M$19:$M$499))} -> 4 | E29: {=MEDIAN(IF(DataBase!$G$19:$G$499=$B29,DataBase!$M$19:$M$499))} -> 4 | F29: {=MEDIAN(IF(DataBase!$G$19:$G$499=$B29,DataBase!$M$19:$M$499))} -> 4 | G29: {=MEDIAN(IF(DataBase!$G$19:$G$499=$B29,DataBase!$M$19:$M$499))} -> 4 | H29: {=MEDIAN(IF(DataBase!$G$19:$G$499=$B29,DataBase!$M$19:$M$499))} -> 4 | I29: {=MEDIAN(IF(DataBase!$G$19:$G$499=$B29,DataBase!$M$19:$M$499))} -> 4
B30: 11 - GHT Cotentin | C30: {=MEDIAN(IF(DataBase!$G$19:$G$499=$B30,DataBase!$M$19:$M$499))} -> 3 | D30: {=MEDIAN(IF(DataBase!$G$19:$G$499=$B30,DataBase!$M$19:$M$499))} -> 3 | E30: {=MEDIAN(IF(DataBase!$G$19:$G$499=$B30,DataBase!$M$19:$M$499))} -> 3 | F30: {=MEDIAN(IF(DataBase!$G$19:$G$499=$B30,DataBase!$M$19:$M$499))} -> 3 | G30: {=MEDIAN(IF(DataBase!$G$19:$G$499=$B30,DataBase!$M$19:$M$499))} -> 3 | H30: {=MEDIAN(IF(DataBase!$G$19:$G$499=$B30,DataBase!$M$19:$M$499))} -> 3 | I30: {=MEDIAN(IF(DataBase!$G$19:$G$499=$B30,DataBase!$M$19:$M$499))} -> 3
