Workbook

Sheet Lisez-moi
B6: Etat des lieux de l'utilisation des IMMUNOGLOBULINES HUMAINES NORMALES dans les établissements de santé
B9: Dans le contexte de tensions d’approvisionnement en immunoglobulines humaines polyvalentes persistantes, compte tenu notamment d’une pénurie mondiale en matière première, l'ANSM a élaboré des recommandations de hiérarchisation des indications.
B10: https://ansm.sante.fr/actualites/tensions-dapprovisionnement-en-immunoglobulines-humaines-rappel-de-la-hierarchisation-des-indications
B11: Dans ce contexte, un suivi de l'utilisation des immunoglobulines humaines normales (en lien avec la fonction codage de la liste en sus) est proposé aux établissements de santé de la région Normandie.
B13: Le présent outil Excel® proposé par l'OMéDIT Normandie doit permettre de structurer le recueil des données et de faciliter l'analyse régionale.
B15: Il est demandé aux établissements de santé de renseigner le nombre de patients traités par immunoglobulines humaines normales sur la période du 1er janvier au 31 décembre et cela pour chaque spécialité référencée dans l'établissement. Ce tableau est à retourner semestriellement à l'OMéDIT Normandie en vue d'un suivi régional par le comité technique "Innovation Thérapeutique".
B17: Ne pas transmettre de fichier au format PDF
B19: Onglet "Tableau de Recueil"
B21: Abbréviations : | D21: AMM : Autorisation de Mise sur le Marché
D22: AAC : Autorisation d'Accès Compassionnel
D23: [P] : Indication Prioritaire
D24: [UF] : Indication réservée aux urgences fonctionnelles et/ou en cas d'échec des alternatives thérapeutiques
D25: [NP] : Indication Non Prioritaire
D26: [NJ/NA] : Indication Non Justifiée/Non Acceptable
D27: [NH] : Indication Non Hiérarchisée
E28: Code LES mais pas de prise en charge financière par l'assurance maladie
B29: Attention, chaque patient ne doit être compté qu'une fois sauf si changement de traitement.
B30: Dans le cas des Indications Non Hiérachisées, si des patients sont comptabilisés dans l'indication "Autres", il est demandé aux établissements de santé de détailler le plus précisément possible chaque situation clinique dans le tableau (insertion de ligne possible). En cas de justification bibliographique, joindre impérativement la référence bibliographique.
B31: Pour rappel, aucun codage LES possible pour les indications AMM non prises en charge en sus et hors AMM faisant l’objet d’une hiérarchisation des indications
B32: https://sante.gouv.fr/IMG/pdf/notice_explicative_relative_au_referentiel_administratif_portant_la_codification_des_indications_des_specialites_inscrites_sur_la_liste_en_sus-2025_vf.pdf
B33: Onglet "Synthèse des résultats"
B34: La synthèse est renseignée automatiquement selon les degrés de priorisation de l'ANSM

Sheet Fiche signalétique ES
B6: Etat des lieux de l'utilisation des IMMUNOGLOBULINES HUMAINES NORMALES dans les établissements de santé
B9: Nom de l'établissement :
B11: Date :

Sheet Tableau de recueil
A6: Etat des lieux de l'utilisation des IMMUNOGLOBULINES HUMAINES NORMALES dans les établissements de santé
A9: Degré de priorité ANSM | B9: Indications | F9: CLAIRYG | H9: GAMMAGARD | J9: GAMMANORN | L9: HIZENTRA | N9: HYQVIA | P9: KIOVIG | R9: OCTAGAM | T9: PANZYGA | V9: PRIVIGEN | X9: TEGELINE | Z9: CUVITRU | AB9: CUTAQUIG | AD9: FLEBOGAMMA | AF9: INTRATECT | AH9: IG VENA | AJ9: XEMBIFY | AL9: GAMUNEX | AN9: HUMAGLOBIN | AP9: PENTAGLOBIN
F10: AMM | G10: Nombre de patients | H10: AMM | I10: Nombre de patients | J10: AMM | K10: Nombre de patients | L10: AMM | M10: Nombre de patients | N10: AMM | O10: Nombre de patients | P10: AMM | Q10: Nombre de patients | R10: AMM | S10: Nombre de patients | T10: AMM | U10: Nombre de patients | V10: AMM | W10: Nombre de patients | X10: AMM | Y10: Nombre de patients | Z10: AMM | AA10: Nombre de patients | AB10: AMM | AC10: Nombre de patients | AD10: AMM | AE10: Nombre de patients | AF10: AMM | AG10: Nombre de patients | AH10: AMM | AI10: Nombre de patients | AJ10: AMM | AK10: Nombre de patients | AL10: AMM | AM10: Nombre de patients | AN10: AMM | AO10: Nombre de patients | AP10: AAC | AQ10: Nombre de patients
F11: Code LES | H11: Code LES | J11: Code LES | L11: Code LES | N11: Code LES | P11: Code LES | R11: Code LES | T11: Code LES | V11: Code LES | X11: Code LES | Z11: Code LES | AB11: Code LES | AD11: Code LES | AF11: Code LES | AH11: Code LES | AJ11: Code LES | AL11: Code LES | AN11: Code LES | AP11: Code AAC
A12: Indications prioritaires [P] | B12: Chez l'adulte, dans le traitement de substitution des déficits immunitaires primitifs (DIP) avec production défaillante d'anticorps ou atteinte fonctionnelle de l'immunité humorale (Agammaglobulinémie congénitale, Hypogammaglobulinémie congénitale, Déficit immunitaire combiné sévère (DICS), Déficit immunitaire commun variable (DICV), Syndrôme de Wiskott-Aldrich (WAS), ...) | F12: OUI | H12: OUI | J12: OUI | L12: OUI | N12: OUI | P12: OUI | R12: OUI | T12: OUI | V12: OUI | X12: OUI | Z12: OUI | AB12: OUI | AD12: OUI | AF12: OUI | AH12: OUI | AJ12: OUI | AL12: OUI | AN12: OUI | AP12: OUI
F13: I000069 | H13: I000140 | J13: I000148 | L13: I000168 | N13: I000184 | P13: I000546 | R13: I000253 | T13: _ | V13: I000546 | X13: I000336 | Z13: I000438 | AB13: I000565 | AD13: I000122 | AF13: I000546 | AH13: I000546 | AJ13: I000546 | AL13: I000481 | AN13: I000546 | AP13: NIMMU01
B14: Chez l'enfant et l'adolescent (agés de 0 à 18 ans), dans le traitement de substitution des déficits immunitaires primitifs avec production défaillante d'anticorps ou atteinte fonctionnelle de l'immunité humorale (Agammaglobulinémie congénitale, Hypogammaglobulinémie congénitale, Déficit immunitaire combiné sévère (DICS), Déficit immunitaire commun variable (DICV), Syndrôme de Wiskott-Aldrich (WAS), ...) | F14: OUI | H14: OUI | J14: OUI | L14: OUI | N14: OUI | P14: OUI | R14: OUI | T14: OUI | V14: OUI | X14: OUI | Z14: OUI | AB14: OUI | AD14: OUI | AF14: OUI | AH14: OUI | AJ14: OUI | AL14: OUI | AN14: OUI | AP14: OUI
F15: I000069 | H15: I000140 | J15: I000148 | L15: I000168 | N15: I000435 | P15: I000546 | R15: I000253 | T15: _ | V15: I000546 | X15: I000336 | Z15: I000438 | AB15: I000565 | AD15: I000122 | AF15: I000546 | AH15: I000546 | AJ15: I000546 | AL15: I000481 | AN15: I000546 | AP15: NIMMU01
B16: Syndrome de Guillain-Barré chez l’enfant ou chez l’adulte si contre indication ou impossibilité de recourir à des échanges plasmatiques dans l'immédiat | F16: OUI | H16: OUI | J16: NON | L16: NON | N16: NON | P16: OUI | R16: OUI | T16: OUI | V16: OUI | X16: OUI | Z16: NON | AB16: NON | AD16: OUI | AF16: OUI | AH16: OUI | AJ16: NON | AL16: OUI | AN16: OUI | AP16: NON
F17: I000073 | H17: I000146 | J17: _ | L17: _ | N17: _ | P17: I000218 | R17: I000258 | T17: _ | V17: I000278 | X17: I000342 | Z17: _ | AB17: _ | AD17: I000128 | AF17: I000553 | AH17: I000553 | AJ17: _ | AL17: I000487 | AN17: I000553 | AP17: _
B18: Syndrome de Miller-Fischer (ou variantes) chez l’enfant ou chez l’adulte si contre indication ou impossibilité de recourir à des échanges plasmatiques dans l'immédiat | F18: NON | H18: NON | J18: NON | L18: NON | N18: NON | P18: NON | R18: NON | T18: NON | V18: NON | X18: NON | Z18: NON | AB18: NON | AD18: NON | AF18: NON | AH18: NON | AJ18: NON | AL18: NON | AN18: NON | AP18: NON
F19: _ | H19: _ | J19: _ | L19: _ | N19: _ | P19: _ | R19: _ | T19: _ | V19: _ | X19: _ | Z19: _ | AB19: _ | AD19: _ | AF19: _ | AH19: _ | AJ19: _ | AL19: _ | AN19: _ | AP19: _
B20: Neuropathie motrice multifocale (NMM) cliniquement évolutive nouvellement diagnostiquée ou en cours de traitement et répondant aux IgIV | F20: OUI | H20: NON | J20: NON | L20: NON | N20: NON | P20: OUI | R20: OUI | T20: NON | V20: OUI | X20: OUI | Z20: NON | AB20: NON | AD20: OUI | AF20: OUI | AH20: OUI | AJ20: NON | AL20: OUI | AN20: OUI | AP20: NON
F21: I000475 | H21: _ | J21: _ | L21: _ | N21: _ | P21: I000220 | R21: I000599 | T21: _ | V21: I000474 | X21: I000343 | Z21: _ | AB21: _ | AD21: I000492 | AF21: I000556 | AH21: I000556 | AJ21: _ | AL21: I000527 | AN21: I000556 | AP21: _
B22: Neuropathie sensitive et motrice multifocale avec bloc de conduction (syndrome de Lewis et Sumner) cliniquement évolutive nouvellement diagnostiquée ou en cours de traitement et répondant aux IgIV | F22: NON | H22: NON | J22: NON | L22: NON | N22: NON | P22: NON | R22: NON | T22: NON | V22: NON | X22: NON | Z22: NON | AB22: NON | AD22: NON | AF22: NON | AH22: NON | AJ22: NON | AL22: NON | AN22: NON | AP22: NON
F23: _ | H23: _ | J23: _ | L23: _ | N23: _ | P23: _ | R23: _ | T23: _ | V23: _ | X23: _ | Z23: _ | AB23: _ | AD23: _ | AF23: _ | AH23: _ | AJ23: _ | AL23: _ | AN23: _ | AP23: _
B24: Myasthénie auto-immune grave en décompensation aiguë en cas d'échec, de contre indication, ou impossibilité de recourir à des échanges plasmatiques dans l'immédiat | F24: NON | H24: NON | J24: NON | L24: NON | N24: NON | P24: NON | R24: NON | T24: NON | V24: NON | X24: OUI | Z24: NON | AB24: NON | AD24: NON | AF24: NON | AH24: NON | AJ24: NON | AL24: OUI | AN24: NON | AP24: NON
F25: _ | H25: _ | J25: _ | L25: _ | N25: _ | P25: _ | R25: _ | T25: _ | V25: _ | X25: I000398 | Z25: _ | AB25: _ | AD25: _ | AF25: _ | AH25: _ | AJ25: _ | AL25: _ | AN25: _ | AP25: _
B26: Syndrome de l'homme raide | F26: NON | H26: NON | J26: NON | L26: NON | N26: NON | P26: NON | R26: NON | T26: NON | V26: NON | X26: NON | Z26: NON | AB26: NON | AD26: NON | AF26: NON | AH26: NON | AJ26: NON | AL26: NON | AN26: NON | AP26: NON
F27: _ | H27: _ | J27: _ | L27: _ | N27: _ | P27: _ | R27: _ | T27: _ | V27: _ | X27: _ | Z27: _ | AB27: _ | AD27: _ | AF27: _ | AH27: _ | AJ27: _ | AL27: _ | AN27: _ | AP27: _
B28: Purpura thrombopénique idiopathique sévère de l'adulte : - avec un score de Khellaf > 8 et toujours en association avec les corticoïdes (sauf contre-indication absolue), en situation d'urgence - ou formes très rares avec mise en jeu du pronostic vital (saignement intracérébral ou viscéral avec déglobulisation) | F28: OUI | H28: OUI | J28: NON | L28: NON | N28: NON | P28: OUI | R28: OUI | T28: OUI | V28: OUI | X28: OUI | Z28: NON | AB28: NON | AD28: OUI | AF28: OUI | AH28: OUI | AJ28: NON | AL28: OUI | AN28: OUI | AP28: NON
F29: I000072 | H29: I000145 | J29: _ | L29: _ | N29: _ | P29: I000217 | R29: I000257 | T29: _ | V29: I000277 | X29: I000340 | Z29: _ | AB29: _ | AD29: I000127 | AF29: I000551 | AH29: I000551 | AJ29: _ | AL29: I000486 | AN29: I000551 | AP29: _
B30: Purpura thrombopénique idiopathique sévère de l'enfant et l'adolescent : - avec un score hémorragique de Buchanan-Adix ≥ 3 et/ou plaquettes < 10 g/L - ou formes très rares avec mise en jeu du pronostic vital (saignement intracérébral ou viscéral avec déglobulisation) | F30: OUI | H30: OUI | J30: NON | L30: NON | N30: NON | P30: OUI | R30: OUI | T30: OUI | V30: OUI | X30: OUI | Z30: NON | AB30: NON | AD30: OUI | AF30: OUI | AH30: OUI | AJ30: NON | AL30: OUI | AN30: OUI | AP30: NON
F31: I000072 | H31: I000145 | J31: _ | L31: _ | N31: _ | P31: I000217 | R31: I000257 | T31: _ | V31: I000277 | X31: I000340 | Z31: _ | AB31: _ | AD31: I000127 | AF31: I000551 | AH31: I000551 | AJ31: _ | AL31: I000486 | AN31: I000551 | AP31: _
B32: Erythroblastopénie associée à une infection chronique par le parvovirus B19 (PCR > 104 et/ou IgM positives) chez les immunodéprimés et responsable d'une anémie sévère <8 g/dL (réticulocytes < 10000/mm3) confirmée par le myélogramme et dans un contexte d’immuno-dépression (VIH, tumeur solide, traitement immuno-suppresseur, etc…) | F32: NON | H32: NON | J32: NON | L32: NON | N32: NON | P32: NON | R32: NON | T32: NON | V32: NON | X32: NON | Z32: NON | AB32: NON | AD32: NON | AF32: NON | AH32: NON | AJ32: NON | AL32: NON | AN32: NON | AP32: NON
F33: _ | H33: _ | J33: _ | L33: _ | N33: _ | P33: _ | R33: _ | T33: _ | V33: _ | X33: _ | Z33: _ | AB33: _ | AD33: _ | AF33: _ | AH33: _ | AJ33: _ | AL33: _ | AN33: _ | AP33: _
B34: Maladie de Willebrand acquise associée à une gammapathie monoclonale IgG (MGUS IgG) nécessitant : - une procédure invasive urgente engageant le pronostic vital ou fonctionnel - ou une procédure invasive programmée ne pouvant être reportée sans mettre en danger la santé du patient - ou un traitement curatif ou préventif pour un syndrome hémorragique sévère et échec ou intolérance aux concentrés de vWF | F34: NON | H34: NON | J34: NON | L34: NON | N34: NON | P34: NON | R34: NON | T34: NON | V34: NON | X34: NON | Z34: NON | AB34: NON | AD34: NON | AF34: NON | AH34: NON | AJ34: NON | AL34: NON | AN34: NON | AP34: NON
F35: _ | H35: _ | J35: _ | L35: _ | N35: _ | P35: _ | R35: _ | T35: _ | V35: _ | X35: _ | Z35: _ | AB35: _ | AD35: _ | AF35: _ | AH35: _ | AJ35: _ | AL35: _ | AN35: _ | AP35: _
B36: Traitement de l’allo-immunisation fœto-maternelle plaquettaire avec antécédent avéré de thrombopénie néonatale | F36: NON | H36: NON | J36: NON | L36: NON | N36: NON | P36: NON | R36: NON | T36: NON | V36: NON | X36: NON | Z36: NON | AB36: NON | AD36: NON | AF36: NON | AH36: NON | AJ36: NON | AL36: NON | AN36: NON | AP36: NON
F37: _ | H37: _ | J37: _ | L37: _ | N37: _ | P37: _ | R37: _ | T37: _ | V37: _ | X37: _ | Z37: _ | AB37: _ | AD37: _ | AF37: _ | AH37: _ | AJ37: _ | AL37: _ | AN37: _ | AP37: _
B38: Prophylaxie pré- et post-exposition après exposition à un cas confirmé de rougeole chez : - les femmes enceintes non vaccinées et sans antécédent de rougeole - ou les sujets immunodéprimés quel que soit son statut vaccinal et ses antécédents avérés de rougeole - ou les enfants de moins de 6 mois dont la mère présente une rougeole - ou les enfants de moins de 6 mois dont la mère n’a pas d’antécédent de rougeole et n’a pas été vaccinée (dans le doute une sérologie maternelle IgG peut être demandée en urgence) - ou les enfants âgés de 6 à 11 mois non vaccinés en post-exposition dans les 72h après contact quel que soit le statut vaccinal de la mère ou ses antécédents de rougeole | F38: NON | H38: NON | J38: NON | L38: NON | N38: NON | P38: NON | R38: OUI | T38: NON | V38: NON | X38: NON | Z38: NON | AB38: NON | AD38: OUI | AF38: NON | AH38: NON | AJ38: NON | AL38: NON | AN38: NON | AP38: NON
F39: _ | H39: _ | J39: _ | L39: _ | N39: _ | P39: _ | R39: _ | T39: _ | V39: _ | X39: _ | Z39: _ | AB39: _ | AD39: _ | AF39: _ | AH39: _ | AJ39: _ | AL39: _ | AN39: _ | AP39: _
B40: Traitement du rejet de greffe médié par Ac | F40: NON | H40: NON | J40: NON | L40: NON | N40: NON | P40: NON | R40: NON | T40: NON | V40: NON | X40: NON | Z40: NON | AB40: NON | AD40: NON | AF40: NON | AH40: NON | AJ40: NON | AL40: NON | AN40: NON | AP40: NON
F41: _ | H41: _ | J41: _ | L41: _ | N41: _ | P41: _ | R41: _ | T41: _ | V41: _ | X41: _ | Z41: _ | AB41: _ | AD41: _ | AF41: _ | AH41: _ | AJ41: _ | AL41: _ | AN41: _ | AP41: _
B42: Prophylaxie des rejets médiés par Ac chez les patients traités par les plasmaphérèses chez les patients avec un (ou plusieurs) Ac contre le donneur (avec une MFI > 2000) après la greffe | F42: NON | H42: NON | J42: NON | L42: NON | N42: NON | P42: NON | R42: NON | T42: NON | V42: NON | X42: NON | Z42: NON | AB42: NON | AD42: NON | AF42: NON | AH42: NON | AJ42: NON | AL42: NON | AN42: NON | AP42: NON
F43: _ | H43: _ | J43: _ | L43: _ | N43: _ | P43: _ | R43: _ | T43: _ | V43: _ | X43: _ | Z43: _ | AB43: _ | AD43: _ | AF43: _ | AH43: _ | AJ43: _ | AL43: _ | AN43: _ | AP43: _
B44: Dermatomyosite avec graves troubles de la déglutition | F44: NON | H44: NON | J44: NON | L44: NON | N44: NON | P44: NON | R44: OUI | T44: NON | V44: NON | X44: NON | Z44: NON | AB44: NON | AD44: NON | AF44: NON | AH44: NON | AJ44: NON | AL44: NON | AN44: NON | AP44: NON
F45: _ | H45: _ | J45: _ | L45: _ | N45: _ | P45: _ | R45: I000619 | T45: _ | V45: _ | X45: _ | Z45: _ | AB45: _ | AD45: _ | AF45: _ | AH45: _ | AJ45: _ | AL45: _ | AN45: _ | AP45: _
B46: Myopathie nécrosante et syndrome des antisynthétases et myosites associées à d’autres connectivites avec graves troubles de la déglutition | F46: NON | H46: NON | J46: NON | L46: NON | N46: NON | P46: NON | R46: NON | T46: NON | V46: NON | X46: NON | Z46: NON | AB46: NON | AD46: NON | AF46: NON | AH46: NON | AJ46: NON | AL46: NON | AN46: NON | AP46: NON
F47: _ | H47: _ | J47: _ | L47: _ | N47: _ | P47: _ | R47: _ | T47: _ | V47: _ | X47: _ | Z47: _ | AB47: _ | AD47: _ | AF47: _ | AH47: _ | AJ47: _ | AL47: _ | AN47: _ | AP47: _
...

Sheet Situations hors-AMM&reco
B2: Objectif 2 : Repérage de situations hors-AMM d'IgIV non mentionnées dans les recommandations ANSM* et dont les utilisations sont significatives, avec éléments bibliographiques
B5: Résultats
B7: Indication | C7: Existence d’un DP spécifique permettant un suivi des consommations via le PMSI (cf. onglet "Méthodologie analyse conso IgIV") | D7: Titre référence bibliographique | E7: Lien web / DOI | F7: Type de références bibliographiques associé à l'indication : études (type), revues de littérature, recommandations, autres | G7: Date publication | H7: Nombre de patients | I7: Extrait de la conclusion des auteurs | J7: Commentaires OMEDIT
B8: Choc septique/ toxique (notamment staphylococcique et streptococcique) | C8: R57 : CHOC, NCA A40 : SEPSIS A STREPTOCOQUES A41 : AUTRES SEPSIS | D8: Neutralization of Staphylococcus aureus Panton Valentine leukocidin by intravenous immunoglobulin in vitro+D10:D21D10:D26D10:D29B125D10:D111 | E8: 10.1086/380909 | F8: Etude : Recherche fondamentale | G8: 2004 | H8: NC | I8: 2 objectifs pour cette étude: 1/ vérifier si les IgIV commercialisées (test réalisé sur Tegeline) contiennent des anticorps spécifiques anti-PVL 2/ vérifier si les IgIV peuvent prévenir les effets cytopathique de PVL in vitro. "Specific enzyme-linked immunosorbent assays based on purified recombinant PVL (rPVL) showed that IVIg contained specific anti-PVL antibodies." "IVIg was found to neutralize pore formation and the cytopathic effect of both rPVL and S. aureus culture supernatants."
B9: Choc septique/ toxique (notamment staphylococcique et streptococcique) | C9: R57 : CHOC, NCA A40 : SEPSIS A STREPTOCOQUES A41 : AUTRES SEPSIS | D9: Successful treatment of life-threatening Panton-Valentine leucocidin positive Staphylococcus aureus pneumonia with antibiotics and immunoglobulins targeting the toxin production | E9: 10.1016/j.revmed.2008.11.014 | F9: Etude : Case report | G9: 2009 | H9: 1 | I9: "Nous rapportons une observation de pneumopathie nécrosante à Staphylococcus aureus sensible à la méticilline sécréteur de la toxine de Panton-Valentine compliqué de défaillance multiviscérale incluant un syndrome de détresse respiratoire aiguë (SDRA), une défaillance cardiaque, une insuffisance rénale aiguë et une coagulation intravasculaire disséminée (CIVD). L’évolution clinique et biologique sous traitement probabiliste inhibant la sécrétion de toxine (linézolide, clindamycine et immunoglobulines) a été rapidement efficace"
B10: Choc septique/ toxique (notamment staphylococcique et streptococcique) | C10: R57 : CHOC, NCA A40 : SEPSIS A STREPTOCOQUES A41 : AUTRES SEPSIS | D10: Higher levels of IgA and IgG at sepsis onset are associated with higher mortality: results from the Albumin Italian Outcome Sepsis (ALBIOS) trial | E10: https://pubmed.ncbi.nlm.nih.gov/34825972/ | F10: Etude : Etude de cohorte prospective issue d'un essai contrôlé randomisé Analyse secondaire, réalisée à partir de l'étude italienne ALBIOS : étude de phase 3, prospective, multicentrique, controlée, randomisée, en ouvert | G10: 2021 | H10: 956 | I10: Analyse secondaire réalisée à partir de l'étude de l'étude italienne ALBIOS (Albumine Italian Outcome Sepsis) : étude de phase 3, prospective, multicentrique,controlée, randomisée, en ouvert, menée chez 1818 patients avec sepsis sévère ou choc septique. L'analyse secondaire a été réalisée à partir d'un sous-groupe de patients (n=956) chez lesquels des prélèvements sériques ont été réalisés à J1, J2 et J7 après inclusion. L'objectif étant de déterminer l'association entre taux sérique d'Ig et l'issue clinique. "we found that high levels of IgA and IgG on the first day of diagnosis were associated with a decreased 90-day survival. No association was found between IgM levels and survival. As such, the assessment of endogenous immunoglobulins could be a useful tool to identify septic patients at high risk of mortality."
B11: Choc septique/ toxique (notamment staphylococcique et streptococcique) | C11: R57 : CHOC, NCA A40 : SEPSIS A STREPTOCOQUES A41 : AUTRES SEPSIS | D11: Intravenous immunoglobulin G therapy in streptococcal toxic shock syndrome: a European randomized, double-blind, placebo-controlled trial | E11: 10.1086/376630 | F11: Etude : Essai contrôlé vs placebo, randomisé, en double aveugle & multicentrique | G11: 2003 | H11: 10 dans le bras IGIV | I11: "Although statistical significance was not reached in the primary end point, the trial provides further support for IVIG as an efficacious adjunctive therapy in STSS."
B12: Choc septique/ toxique (notamment staphylococcique et streptococcique) | C12: R57 : CHOC, NCA A40 : SEPSIS A STREPTOCOQUES A41 : AUTRES SEPSIS | D12: Score based immunoglobulin G therapy of patients with sepsis: the SBITS study | E12: https://pubmed.ncbi.nlm.nih.gov/18074471/ | F12: Etude : Essai randomisé, vs placebo, en double aveugle et multicentrique | G12: 2007 | H12: ivIgG group, n = 321 | I12: "In patients with score-defined severe sepsis, ivIgG with a total dose of 0.9 g/kg body weight does not reduce mortality."
B13: Choc septique/ toxique (notamment staphylococcique et streptococcique) | C13: R57 : CHOC, NCA A40 : SEPSIS A STREPTOCOQUES A41 : AUTRES SEPSIS | D13: Differences in potency of intravenous polyspecific immunoglobulin G against streptococcal and staphylococcal superantigens:implications for therapy of toxic shock syndrome | E13: 10.1086/381979 | F13: Etude : Recherche fondamentale | G13: 2004 | H13: NC | I13: "The findings demonstrate that staphylococcal superantigens are not inhibited as efficiently as streptococcal superantigens by IVIG, and, hence, a higher dose of IVIG may be required for therapy of staphylococcal toxic shock syndrome in order to achieve protective titers and clinical efficacy."
B14: Choc septique/ toxique (notamment staphylococcique et streptococcique) | C14: R57 : CHOC, NCA A40 : SEPSIS A STREPTOCOQUES A41 : AUTRES SEPSIS | D14: IVIG-mediated protection against necrotizing pneumonia caused by MRSA | E14: 10.1126/scitranslmed.aag1153 | F14: Etude : Recherche fondamentale | G14: 2016 | H14: NC | I14: "These results demonstrate the potential clinical utility of IVIG in the treatment of severe pneumonia induced by S. aureus."
B15: Choc septique/ toxique (notamment staphylococcique et streptococcique) | C15: R57 : CHOC, NCA A40 : SEPSIS A STREPTOCOQUES A41 : AUTRES SEPSIS | D15: Polyspecific Intravenous Immunoglobulin in Clindamycin-treated Patients With Streptococcal Toxic Shock Syndrome: A Systematic Review and Meta-analysis | E15: 10.1093/cid/ciy401 | F15: Revue de littérature : Méta-analyse : 4 études non randomisées + 1 randomisée | G15: 2018 | H15: 70 traités par IGIV + clindamycin | I15: "In conclusion, our study helps address doubt surrounding the use of IVIG in STSS. It also highlights the utility of synthesizing findings from small nonrandomized studies in the absence of large-scale trials. Overall, given the high morbidity and mortality rates associated with STSS, we support the use of IVIG as an adjunctive treatment for STSS, a recommendation that applies to the vast majority of patients with IGAS infection complicated by shock."
B16: Choc septique/ toxique (notamment staphylococcique et streptococcique) | C16: R57 : CHOC, NCA A40 : SEPSIS A STREPTOCOQUES A41 : AUTRES SEPSIS | D16: Intravenous Immunoglobulin Therapy for Streptococcal Toxic Shock Syndrome—A Comparative Observational Study. | E16: 10.1086/515199 | F16: Etude : Observationnelle comparative | G16: 1999 | H16: 21 traités par IGIV | I16: "the odds ratio for survival associated with IVIG therapy was 8.1 (95% confidence interval, 1.6–45; P Å .009). IVIG therapy enhanced the ability of patient plasma to neutralize bacterial mitogenicity and reduced T cell production of interleukin-6 and tumor necrosis factor a. IVIG may be an effective adjunctive therapy for streptococcal TSS, possibly because of its ability to neutralize bacterial exotoxins."
B17: Choc septique/ toxique (notamment staphylococcique et streptococcique) | C17: R57 : CHOC, NCA A40 : SEPSIS A STREPTOCOQUES A41 : AUTRES SEPSIS | D17: Clinical efficacy of polyspecific intravenous immunoglobulin therapy in patients with streptococcal toxic shock syndrome - a comparative observational study. | E17: 10.1093/cid/ciu449 | F17: Etude : Observationnelle comparative | G17: 2014 | H17: 23 traités par IGIV (44 témoins) | I17: "This comparative observational study of prospectively identified STSS patients demonstrates that both IVIG and clindamycin therapy contribute to a significantly improved survival in STSS."
B18: Choc septique/ toxique (notamment staphylococcique et streptococcique) | C18: R57 : CHOC, NCA A40 : SEPSIS A STREPTOCOQUES A41 : AUTRES SEPSIS | D18: Chocs toxiques dans les infections à cocci à Gram positif | E18: https://doi.org/10.1007/s13546-012-0460-2 | F18: Recommandations : Mise au point | G18: 2012 | H18: NC | I18: "Avec les mesures classiques de prise en charge du sepsis, il est recommandé d’utiliser les thérapeutiques antitoxiniques (clindamycine, IgIV si choc réfractaire), même si ces dernières n’ont pas à ce jour formellement prouvé leur efficacité."
B19: Choc septique/ toxique (notamment staphylococcique et streptococcique) | C19: R57 : CHOC, NCA A40 : SEPSIS A STREPTOCOQUES A41 : AUTRES SEPSIS | D19: Use of polyclonal immunoglobulins as adjunctive therapy for sepsis or septic shock | E19: https://pubmed.ncbi.nlm.nih.gov/18074464/ pas d'accè trouvé à l'article complet | F19: Etude : Meta-analyse d'éssais controlés randomisés (15 essais portant sur un total de 1492 adultes + 12 sur 710 nouveaux-nés) | G19: 2007 | H19: 2202 | I19: "Polyvalent immunoglobulins exert a significant effect on mortality in sepsis and septic shock, with a trend in favor of IgGAM."
B20: Choc septique/ toxique (notamment staphylococcique et streptococcique) | C20: R57 : CHOC, NCA A40 : SEPSIS A STREPTOCOQUES A41 : AUTRES SEPSIS | D20: Intravenous immunoglobulin for treating sepsis, severe sepsis and septic shock | E20: 10.1002/14651858.CD001090.pub2 | F20: Revue de littérature : Revue Cochrane | G20: 2013 | H20: Subgroup analysis of 10 polyclonal IVIG trials (n = 1430) and seven trials on IgM‐enriched polyclonal IVIG (n = 528) | I20: Update of a Cochrane review that was originally published in 1999 and updated in 2002 and 2010. "Polyclonal IVIG reduced mortality among adults with sepsis but this benefit was not seen in trials with low risk of bias. Among neonates with sepsis, there is sufficient evidence that standard polyclonal IVIG, as adjunctive therapy, does not reduce mortality based on the inclusion of the large polyclonal IVIG trial on neonates. For Ig-M enriched IVIG, the trials on neonates and adults were small and the totality of the evidence is still insufficient to support a robust conclusion of benefit. Adjunctive therapy with monoclonal IVIGs remains experimental."
B21: Syndrome néphrotique / DIS associé à un syndrome néphrotique | C21: N04 : SYND. NEPHROTIQUE | D21: Nephrotic syndrome associated with acquired immunodeficiency syndrome in children | E21: 10.1016/s0022-3476(05)80284-7 | F21: Etude : Série de cas | G21: 1991 | H21: NC | I21: ici cas de syndromes néphrotiques associés au SIDA (pédiatrie) : il y est mentionné que l'incidence du syndrome néphrotique était significativement superieure chez les individus ayant reçu des IgIV ou d'albumine que chez ceux n'en ayant pas reçu
B22: Syndrome néphrotique / DIS associé à un syndrome néphrotique | C22: N04 : SYND. NEPHROTIQUE | D22: Interventions for preventing infection in nephrotic syndrome | E22: 10.1002/14651858.CD003964.pub3 | F22: Revue de littérature : Revue Cochrane | G22: 2012 | H22: NC | I22: "IVIG, thymosin, oral transfer factor, BCG vaccine, Huangqi granules and TIAOJINING may have positive effects on the prevention of nosocomial or unspecified infection with no obvious serious adverse events in children with nephrotic syndrome. However the methodological quality of all studies was poor, the sample sizes small, and all studies were from China, and thus there is no strong evidence on the effectiveness of these interventions. "
B23: Syndrome néphrotique / DIS associé à un syndrome néphrotique | C23: N04 : SYND. NEPHROTIQUE | D23: Centre de Référence Syndrome Néphrotique Idiopathique - Protocole National de Diagnostic et de Soins (PNDS) "Syndrome néphrotique idiopathique de l’enfant" | E23: https://www.has-sante.fr/jcms/c_2628561/fr/syndrome-nephrotique-idiopathique-de-l-enfant | F23: Recommandations : Recommandations groupe d'experts (PNDS) | G23: 2016 | H23: NC | I23: "Chez l’enfant sous fortes doses de corticoïdes, inhibiteur des calcineurines (Ciclosporine ou Tacrolimus) ou mycophenolate mofetil, des immunoglobulines spécifiques antivaricelle (VARITECT®) peuvent être obtenues sur ATU (de cohorte) pour un traitement dans les 48-96h. suivant le contage. [Varicelle]" + dans la partie ESI et leur surveillance : "Une substitution en immunoglobulines peut être nécessaire en cas d’hypogammaglobulinémie secondaire."
B24: Syndrome néphrotique / DIS associé à un syndrome néphrotique | C24: N04 : SYND. NEPHROTIQUE | D24: IPNA clinical practice recommendations for the diagnosis and management of children with steroid-resistant nephrotic syndrome | E24: 10.1007/s00467-020-04519-1 | F24: Recommandations : Recommandations groupe d'experts | G24: 43952 | H24: NC | I24: International Pediatric Nephrology Association : "We thus suggest considering prophylactic IgG substitution as in other cases of secondary hypogammaglobulinemia in patients presenting with recurrent and/or severe infections " + "We recommend treating susceptible patients (i.e., those not or inadequately immunized to varicella and exposed to chickenpox) with varicella-zoster immunoglobulin (VZIG) (grade A, strong recommendation)" + "We suggest that immunoglobulin substitution be considered in cases of low serum IgG levels AND recurrent and/or severe infections (grade D, weak recommendation)."
B25: Epilepsie auto-immune chez l'enfant | C25: G40 : EPILEP. G41 : ETAT DE MAL EPILEP. A noter : Pas de possibilité de distinguer les épilepsies auto-immunes à l'aide d'un DP spécifique | D25: The recognition and treatment of autoimmune epilepsy in children | E25: https://doi.org/10.1111/dmcn.12647 | F25: Recommandations /Revue de littérature | G25: 2014 | H25: NC | I25: When autoimmune epilepsy is suspected, first-line immune therapy with corticosteroids in addition to intravenous immunoglobulin or plasma exchange should be considered.
B26: Epilepsie auto-immune chez l'enfant | C26: G40 : EPILEP. G41 : ETAT DE MAL EPILEP. A noter : Pas de possibilité de distinguer les épilepsies auto-immunes à l'aide d'un DP spécifique | D26: Treating Immune-Related Epilepsy | E26: 10.1007/s11910-018-0821-y | F26: Revue de littérature | G26: 2018 | H26: NC | I26: Autoimmune epilepsy is an increasingly recognized entity. Conventional treatments for epilepsy, such as antiseizure medications and epilepsy surgery, are less successful in treating epilepsy caused by autoimmune disease. Immunomodulatory therapies such as corticosteroids, intravenous immunoglobulin, and plasma exchange are generally more successful in treating immune-mediated epilepsy than conventional epilepsy therapies.
B27: Epilepsie résistante de l'enfant / Syndrome de Dravet | C27: G40 : EPILEP. G41 : ETAT DE MAL EPILEP. A noter : Pas de possibilité de distinguer les épilepsies auto-immunes à l'aide d'un DP spécifique | D27: Efficacy of Intravenous Immunoglobulin in a Cohort of Children With Drug-Resistant Epilepsy | E27: 10.1016/j.pediatrneurol.2014.11.011 | F27: Etude : Etude de cohorte rétrospective | G27: 2015 | H27: 27 | I27: "Following treatment with intravenous immunoglobulin, the following outcomes were noted: four were seizure-free, eight had 90% reduction, five had 75% reduction, and five had 50% reduction. A total of 22 (81%) patients had a positive clinical response to treatment from baseline. Five patients (19%) were not responsive. No clear relationship of responsiveness to intravenous immunoglobulin with regard to age, gender, or epilepsy syndrome was apparent; however, the small numbers in each category precluded meaningful statistical analysis." "Our findings and those of others suggest that intravenous immunoglobulin is a potentially high efficacy, low side effect profile therapy in the treatment of children with drug-resistant epilepsies. Intravenous immunoglobulin was able to reduce multiple seizure types in a variety of epilepsy etiologies, including those of unknown cause." | J27: Un PNDS "syndrome de Dravet" élaboré par le centre de référence des épilepsies rares a été publié en septembre 2021 : Pas de mention des Ig dans le PNDS pour cette pathologie.
B28: Epilepsie résistante de l'enfant / Syndrome de Dravet | C28: G40 : EPILEP. G41 : ETAT DE MAL EPILEP. A noter : Pas de possibilité de distinguer les épilepsies auto-immunes à l'aide d'un DP spécifique | D28: * Mohamad A. Mikati *, Rana Kurdi, Ziad El-Khoury, Amal Rahi, Wissam Raad. Intravenous immunoglobulin therapy in intractable childhood epilepsy: Open-label study and review of the literature. Epilepsy & Behavior 17 (2010) 90–94 | E28: 10.1016/j.yebeh.2009.10.020 | F28: Etude et revue : Etude prospective en ouvert + revue de littérature | G28: 2010 | H28: 37 | I28: "Of thirty-seven 9.9 ± 0.9-year-old patients (11 with partial seizures, 26 with generalized seizures of whom 9 had West syndrome and 17 Lennox–Gastaut syndrome) followed for 15 ± 3 months, 43% had a >50% decrease in seizures (including 15% seizure free, 229 ± 58 compared with 104 ± 3 seizures/month, P = 0.035: generalized 246 ± 318 to 117 ± 200, P = 0.025, partial 191 ± 437 to 72 ± 179, P > 0.05; power = 0.2). Males were more likely to respond than females (P = 0.011, odds ratio = 9.3). Review of the literature revealed nine other articles reporting efficacy of IVIG against epileptic seizures. Only one other used statistical methods and, unlike ours, showed only a trend toward seizure frequency reduction without achieving statistical significance, presumably because it was underpowered. These results indicate large-scale controlled studies of IVIG in epilepsy are still needed."
B29: Ictère néonatal / allo-immunisation maternofoetale (AIMF) érythrocytaire | C29: P59 : ICTERE NEONAT. DU A DES CAUSES NCA OU SAI P58 : ICTERE NEONAT. DU A D'AUTRES HEMOLYSES EXCESSIVES P55 : MAL. HEMOLYTIQUE DU N.N. | D29: High dose intravenous immunoglobulin therapy and neonatal jaundice due to red blood cell alloimmunization | E29: 10.1016/j.arcped.2009.05.015 | F29: Recommandations : Mise au point | G29: 2009 | H29: NC | I29: "Les IgIV conjuguées à la Pt sont efficaces dans la prise en charge des ictères sévères du nouveau-né liés à une incompatibilité érythrocytaire. Leur tolérance est excellente. Plusieurs travaux ont montré qu’elles réduisaient la nécessité du recours à l’EST, la durée de Pt et d’hospitalisation."
B30: Ictère néonatal / allo-immunisation maternofoetale (AIMF) érythrocytaire | C30: P59 : ICTERE NEONAT. DU A DES CAUSES NCA OU SAI P58 : ICTERE NEONAT. DU A D'AUTRES HEMOLYSES EXCESSIVES P55 : MAL. HEMOLYTIQUE DU N.N. | D30: Systematic review of intravenous immunoglobulin in haemolytic disease of the newborn. | E30: 10.1136/fn.88.1.F6 | F30: Revue de la littérature : Revue systématique | G30: 2003 | H30: 226 | I30: Systematic review of randomised and quasi-randomised controlled trials comparing HDIVIG and phototherapy with phototherapy alone in neonates with Rh and/or ABO incompatibility. "Significantly fewer infants required exchange transfusion in the HDIVIG group (relative risk (RR) 0.28 (95% confidence interval (CI) 0.17 to 0.47); number needed to treat 2.7 (95% CI 2.0 to 3.8)). Also hospital stay and duration of phototherapy were significantly reduced." + "HDIVIG is an effective treatment"
B31: Ictère néonatal / allo-immunisation maternofoetale (AIMF) érythrocytaire | C31: P59 : ICTERE NEONAT. DU A DES CAUSES NCA OU SAI P58 : ICTERE NEONAT. DU A D'AUTRES HEMOLYSES EXCESSIVES P55 : MAL. HEMOLYTIQUE DU N.N. | D31: Efficacy and safety of intravenous immunoglobulins in the management of neonatal hyperbilirubinemia due to ABO incompatibility: A meta-analysis. | E31: 10.1016/j.arcped.2014.02.005 | F31: Revue de la littérature : Meta-analyse essais cliniques randomisés et contrôlés comparant l’efficacité de la PT (groupe PT) à celle de la PT associée aux IgIV (groupe IgIV) sur le recours aux EST dans l’IFME ABO néonatale | G31: 2014 | H31: NC | I31: "Les IgIV associées à la PT permettent une réduction du recours aux EST et de la durée de PT. Elles sont bien tolérées et peuvent être un adjuvant thérapeutique dans l’ictère néonatal sévère par IFME ABO."
B32: Ictère néonatal / allo-immunisation maternofoetale (AIMF) érythrocytaire | C32: P59 : ICTERE NEONAT. DU A DES CAUSES NCA OU SAI P58 : ICTERE NEONAT. DU A D'AUTRES HEMOLYSES EXCESSIVES P55 : MAL. HEMOLYTIQUE DU N.N. | D32: Ictere a bilirubine non conjuguée du nouveau-né de 35 semaines et plus : du dépistage au suivi après sortie de la maternité . Recommandations pour la pratique clinique. | E32: https://doi.org/10.1016/j.arcped.2016.11.011 | F32: Recommandations : RPC | G32: 2017 | H32: NC | I32: "Les immunoglobulines polyvalentes administrées par voie intraveineuse (IgIV) à la dose de 1 g/kg sont recommandées comme adjuvant à une PTI bien conduite dans les hyperbilirubinémies par immunohémolyse documentée, donc les IFME rhésus ou ABO. Les indications doivent être restreintes aux cas où la BTS progresse de 8 à 10 μmol/L/h sous PTI dans le seul but d’éviter le recours à une EST."
B33: Ictère néonatal / allo-immunisation maternofoetale (AIMF) érythrocytaire | C33: P59 : ICTERE NEONAT. DU A DES CAUSES NCA OU SAI P58 : ICTERE NEONAT. DU A D'AUTRES HEMOLYSES EXCESSIVES P55 : MAL. HEMOLYTIQUE DU N.N. | D33: Management of Hyperbilirubinemia in the Newborn Infant 35 or More Weeks of Gestation. | E33: 10.1542/peds.114.1.297 | F33: Recommandations : RPC | G33: 2004 | H33: NC | I33: "In infants with isoimmune hemolytic disease and TSB level rising in spite of intensive phototherapy or within 2–3 mg/dL (34–51 μmol/L) of exchange level (Fig 4), administer intravenous immunoglobulin 0.5–1 g/kg over 2 h and repeat in 12 h if necessary "
B34: Ictère néonatal / allo-immunisation maternofoetale (AIMF) érythrocytaire | C34: P59 : ICTERE NEONAT. DU A DES CAUSES NCA OU SAI P58 : ICTERE NEONAT. DU A D'AUTRES HEMOLYSES EXCESSIVES P55 : MAL. HEMOLYTIQUE DU N.N. | D34: Intravenous immune globulin in neonatal immune hemolytic disease: does it reduce hemolysis? | E34: 10.1111/j.1651-2227.1996.tb13924.x | F34: Etude : Etude observationnelle | G34: 1996 | H34: 19 | I34: "We conclude that IVIG, when successful, inhibits hemolysis in these infants."
B35: Ictère néonatal / allo-immunisation maternofoetale (AIMF) érythrocytaire | C35: P59 : ICTERE NEONAT. DU A DES CAUSES NCA OU SAI P58 : ICTERE NEONAT. DU A D'AUTRES HEMOLYSES EXCESSIVES P55 : MAL. HEMOLYTIQUE DU N.N. | D35: Immunoglobulines polyvalentes intraveineuses et ictère néonatal par allo-immunisation érythrocytaire, | E35: https://doi.org/10.1016/j.arcped.2009.05.015 | F35: Recommandations : Mise au point | G35: 2009 | H35: NC | I35: "La revue de la littérature montre que leur utilisation précoce chez les nouveau-nés atteints d’ictère par allo-immunisation érythrocytaire permet, sans effet indésirable, une diminution significative du nombre d’EST ainsi qu’une réduction significative de la durée de la photothérapie et de l’hospitalisation. Les données concernant l’augmentation du risque de transfusion tardive qu’elles occasionneraient sont controversées."
B36: Ictère néonatal / allo-immunisation maternofoetale (AIMF) érythrocytaire | C36: P59 : ICTERE NEONAT. DU A DES CAUSES NCA OU SAI P58 : ICTERE NEONAT. DU A D'AUTRES HEMOLYSES EXCESSIVES P55 : MAL. HEMOLYTIQUE DU N.N. | D36: Immunoglobulin infusion for isoimmune haemolytic jaundice in neonates. Cochrane Database Syst Rev. | E36: 10.1002/14651858.CD003313 | F36: Revue de la littérature : Revue Cochrane | G36: 2002 | H36: NC | I36: "Although the results show a significant reduction in the need for exchange transfusion in those treated with intravenous immunoglobulin, the applicability of the results is limited. The number of studies and infants included is small and none of the three included studies was of high quality. The protocols of two of the studies mandated the use of early exchange transfusion, limiting the generalizability of the results. Further well designed studies are needed before routine use of intravenous immunoglobulin can be recommended for the treatment of isoimmune haemolytic jaundice."
B37: Ictère néonatal / allo-immunisation maternofoetale (AIMF) érythrocytaire | C37: P59 : ICTERE NEONAT. DU A DES CAUSES NCA OU SAI P58 : ICTERE NEONAT. DU A D'AUTRES HEMOLYSES EXCESSIVES P55 : MAL. HEMOLYTIQUE DU N.N. | D37: Therapeutic management of fetal anemia:review of standard practice and alternative treatment option. | E37: 10.1515/jpm-2012-0093 | F37: Revue de la littérature : Revue Cochrane | G37: 2012 | H37: NC | I37: "Clinical indications for use of IVIG are derived from isolated case reports or small case series, which might be because severe fetal anemia before 15 weeks is exceptional or unsuccess-ful cases are not published. Strict protocols should be stan-dardized and should specify several aspects of alternative treatment modalities such as the onset and intervals between interventions, the optimal dosage of IVIG administration, the indications for combination with plasmapheresis, and the end point of the therapy. "
B38: Ictère néonatal / allo-immunisation maternofoetale (AIMF) érythrocytaire | C38: P59 : ICTERE NEONAT. DU A DES CAUSES NCA OU SAI P58 : ICTERE NEONAT. DU A D'AUTRES HEMOLYSES EXCESSIVES P55 : MAL. HEMOLYTIQUE DU N.N. | D38: Therapeutic plasma exchange and intravenous immunoglobulin as primary therapy for D alloimmunization in pregnancy precludes the need for intrauterine transfusion | E38: 10.1111/trf.12633 | F38: Etude : Case report | G38: 2014 | H38: 1 | I38: "Our unique TPE-IVIG protocol was successful at preventing the onset of severe fetal anemia in a patient with high titer anti-D. Since IUT may be fatal, our approach offers a safer and less-invasive treatment regime that can adequately sustain a fetus until term."
B39: Ictère néonatal / allo-immunisation maternofoetale (AIMF) érythrocytaire | C39: P59 : ICTERE NEONAT. DU A DES CAUSES NCA OU SAI P58 : ICTERE NEONAT. DU A D'AUTRES HEMOLYSES EXCESSIVES P55 : MAL. HEMOLYTIQUE DU N.N. | D39: Antenatal immunoglobulin for fetal red blood cell alloimmunization (Review) | E39: 10.1002/14651858.CD008267.pub2 | F39: Revue de la littérature : Revue Cochrane | G39: 2013 | H39: NC | I39: "No information is available from randomized trials to indicate whether the antenatal use of intravenous immunoglobulin is effective in the management of fetal red blood cell alloimmunization. Several case series suggest a beneficial role in delaying the onset of fetal anaemia requiring invasive intrauterine transfusion."
B40: Infection à BK Polyomavirus chez une greffé rénale | D40: BK Polyomavirus in Solid Organ Transplantation | E40: 10.1111/ajt.12110 | F40: Revue de la littérature | G40: 2013 | H40: NC | I40: "Intravenous immunoglobulin (IVIG) preparations have been administered in doses ranging from 0.2 to 2.0 g/kg in conjunction with reduced immunosuppression 100. Commercially available IVIG preparations contain high titers of potent BKV neutralizing antibodies . IVIG does not penetrate the intracellular compartment, but its direct neutralizing activity and plethora of indirect immunomodulatory effects could contribute to an improved resolution of active disease."
B41: Infection à BK Polyomavirus chez une greffé rénale | D41: Intravenous Immunoglobulin as a Treatment for BK Virus Associated Nephropathy: One-Year Follow-Up of Renal Allograft Recipients | E41: 10.1097/01.tp.0000181096.14257.c2 | F41: Etude : Série de cas | G41: 2006 | H41: 8 | I41: "n addition to a reduction of immunosuppressive therapy, patients received 2 g/kg IVIG. After a mean follow-up of 15 months, all except one patient are currently off dialysis. In summary, after IVIG therapy, 88% of patients still have functioning grafts, although renal function continues to be impaired. The benefit of concomitant IVIG and reduction of immunosuppressive therapy in BKVAN needs to be further addressed in randomized, multicentered trials."
B42: Infection à BK Polyomavirus chez une greffé rénale | D42: Polyomavirus BK Neutralizing Activity in Human Immunoglobulin Preparations | E42: 10.1097/tp.0b013e3181daaaf1 | F42: Etude : Recherche fondamentale | G42: 2011 | H42: NC | I42: "Human IVIG preparations contain BKV neutralizing antibodies. Data on neutralizing capacity of these antibodies are presented to aid dose exploration in clinical trials seeking to validate the use of IVIG in patients with BKV infection."
B43: Infection à BK Polyomavirus chez une greffé rénale | D43: Intravenous immunoglobulin as rescue therapy for BK virus nephropathy | E43: 10.1111/j.1399-3046.2008.00958.x | F43: Etude : Case report | G43: 2009 | H43: 1 | I43: "In conclusion, IVIg may provide an additional treatment option among the limited therapeutic approaches available for the rising threat of BKVN. Future studies involving more patients, with longer follow-ups, are needed to evaluate this issue."
B44: Infection à BK Polyomavirus chez une greffé rénale | D44: Commercially Available Immunoglobulins ContainVirus Neutralizing Antibodies Against All Major Genotypes of Polyomavirus BK | E44: 10.1111/ajt.13083 | F44: Autre : Editorial | G44: 2015 | H44: NC | I44: IG contains potent NAbs capable of neutralizing all major BKV genotypes. Clinical trials based on sound pharmacokinetic principles are needed to explore prophylactic and therapeutic applications of these anti-viral effects, until effective small molecule inhibitors of BKV replication can be developed.
...

Sheet Synthèse des résultats
B6: Etat des lieux de l'utilisation des IMMUNOGLOBULINES HUMAINES NORMALES dans les établissements de santé
B10: Nom de l'établissement : | F10: ='Fiche signalétique ES'!F9 -> 0
B12: Date : | F12: ='Fiche signalétique ES'!F11 -> 0
B14: Répartition selon les degrés de priorisation de l'ANSM
E16: % [P] | G16: % [UF] | I16: % [NP] | K16: % [NJ-NA] | M16: % [NH]
C17: CLAIRYG | E17: =IFERROR('Tableau de recueil'!F52/'Tableau de recueil'!F161,"") | G17: =IFERROR('Tableau de recueil'!F104/'Tableau de recueil'!F161,"") | I17: =IFERROR('Tableau de recueil'!F112/'Tableau de recueil'!F161,"") | K17: =IFERROR('Tableau de recueil'!F145/'Tableau de recueil'!F161,"") | M17: =IFERROR('Tableau de recueil'!F160/'Tableau de recueil'!F161,"")
C18: GAMMAGARD | E18: =IFERROR('Tableau de recueil'!H52/'Tableau de recueil'!H161,"") | G18: =IFERROR('Tableau de recueil'!H104/'Tableau de recueil'!H161,"") | I18: =IFERROR('Tableau de recueil'!H112/'Tableau de recueil'!H161,"") | K18: =IFERROR('Tableau de recueil'!H145/'Tableau de recueil'!H161,"") | M18: =IFERROR('Tableau de recueil'!H160/'Tableau de recueil'!H161,"")
C19: GAMMANORM | E19: =IFERROR('Tableau de recueil'!J52/'Tableau de recueil'!J161,"") | G19: =IFERROR('Tableau de recueil'!J104/'Tableau de recueil'!J161,"") | I19: =IFERROR('Tableau de recueil'!J112/'Tableau de recueil'!J161,"") | K19: =IFERROR('Tableau de recueil'!J145/'Tableau de recueil'!J161,"") | M19: =IFERROR('Tableau de recueil'!J160/'Tableau de recueil'!J161,"")
C20: HIZENTRA | E20: =IFERROR('Tableau de recueil'!L52/'Tableau de recueil'!L161,"") | G20: =IFERROR('Tableau de recueil'!L104/'Tableau de recueil'!L161,"") | I20: =IFERROR('Tableau de recueil'!L112/'Tableau de recueil'!L161,"") | K20: =IFERROR('Tableau de recueil'!L145/'Tableau de recueil'!L161,"") | M20: =IFERROR('Tableau de recueil'!L160/'Tableau de recueil'!L161,"")
C21: HYQVIA | E21: =IFERROR('Tableau de recueil'!N52/'Tableau de recueil'!N161,"") | G21: =IFERROR('Tableau de recueil'!N104/'Tableau de recueil'!N161,"") | I21: =IFERROR('Tableau de recueil'!N112/'Tableau de recueil'!N161,"") | K21: =IFERROR('Tableau de recueil'!N145/'Tableau de recueil'!N161,"") | M21: =IFERROR('Tableau de recueil'!N160/'Tableau de recueil'!N161,"")
C22: KIOVIG | E22: =IFERROR('Tableau de recueil'!P52/'Tableau de recueil'!P161,"") | G22: =IFERROR('Tableau de recueil'!P104/'Tableau de recueil'!P161,"") | I22: =IFERROR('Tableau de recueil'!P112/'Tableau de recueil'!P161,"") | K22: =IFERROR('Tableau de recueil'!P145/'Tableau de recueil'!P161,"") | M22: =IFERROR('Tableau de recueil'!P160/'Tableau de recueil'!P161,"")
C23: OCTAGAM | E23: =IFERROR('Tableau de recueil'!R52/'Tableau de recueil'!R161,"") | G23: =IFERROR('Tableau de recueil'!R104/'Tableau de recueil'!R161,"") | I23: =IFERROR('Tableau de recueil'!R112/'Tableau de recueil'!R161,"") | K23: =IFERROR('Tableau de recueil'!R145/'Tableau de recueil'!R161,"") | M23: =IFERROR('Tableau de recueil'!R160/'Tableau de recueil'!R161,"")
C24: PANZYGA | E24: =IFERROR('Tableau de recueil'!T52/'Tableau de recueil'!T161,"") | G24: =IFERROR('Tableau de recueil'!T104/'Tableau de recueil'!T161,"") | I24: =IFERROR('Tableau de recueil'!T112/'Tableau de recueil'!T161,"") | K24: =IFERROR('Tableau de recueil'!T145/'Tableau de recueil'!T161,"") | M24: =IFERROR('Tableau de recueil'!T160/'Tableau de recueil'!T161,"")
C25: PRIVIGEN | E25: =IFERROR('Tableau de recueil'!V52/'Tableau de recueil'!V161,"") | G25: =IFERROR('Tableau de recueil'!V104/'Tableau de recueil'!V161,"") | I25: =IFERROR('Tableau de recueil'!V112/'Tableau de recueil'!V161,"") | K25: =IFERROR('Tableau de recueil'!V145/'Tableau de recueil'!V161,"") | M25: =IFERROR('Tableau de recueil'!V160/'Tableau de recueil'!V161,"")
C26: TEGELINE | E26: =IFERROR('Tableau de recueil'!X52/'Tableau de recueil'!X161,"") | G26: =IFERROR('Tableau de recueil'!X104/'Tableau de recueil'!X161,"") | I26: =IFERROR('Tableau de recueil'!X112/'Tableau de recueil'!X161,"") | K26: =IFERROR('Tableau de recueil'!X145/'Tableau de recueil'!X161,"") | M26: =IFERROR('Tableau de recueil'!X160/'Tableau de recueil'!X161,"")
C27: CUVITRU | E27: =IFERROR('Tableau de recueil'!Z52/'Tableau de recueil'!Z161,"") | G27: =IFERROR('Tableau de recueil'!Z104/'Tableau de recueil'!Z161,"") | I27: =IFERROR('Tableau de recueil'!Z112/'Tableau de recueil'!Z161,"") | K27: =IFERROR('Tableau de recueil'!Z145/'Tableau de recueil'!Z161,"") | M27: =IFERROR('Tableau de recueil'!Z160/'Tableau de recueil'!Z161,"")
C28: CUTAQUIG | E28: =IFERROR('Tableau de recueil'!AB52/'Tableau de recueil'!AB161,"") | G28: =IFERROR('Tableau de recueil'!AB104/'Tableau de recueil'!AB161,"") | I28: =IFERROR('Tableau de recueil'!AB112/'Tableau de recueil'!AB161,"") | K28: =IFERROR('Tableau de recueil'!AB145/'Tableau de recueil'!AB161,"") | M28: =IFERROR('Tableau de recueil'!AB160/'Tableau de recueil'!AB161,"")
C29: FLEBOGAMMA | E29: =IFERROR('Tableau de recueil'!AD52/'Tableau de recueil'!AD161,"") | G29: =IFERROR('Tableau de recueil'!AD104/'Tableau de recueil'!AD161,"") | I29: =IFERROR('Tableau de recueil'!AD112/'Tableau de recueil'!AD161,"") | K29: =IFERROR('Tableau de recueil'!AD145/'Tableau de recueil'!AD161,"") | M29: =IFERROR('Tableau de recueil'!AD160/'Tableau de recueil'!AD161,"")
C30: INTRATECT | E30: =IFERROR('Tableau de recueil'!AF52/'Tableau de recueil'!AF161,"") | G30: =IFERROR('Tableau de recueil'!AF104/'Tableau de recueil'!AF161,"") | I30: =IFERROR('Tableau de recueil'!AF112/'Tableau de recueil'!AF161,"") | K30: =IFERROR('Tableau de recueil'!AF145/'Tableau de recueil'!AF161,"") | M30: =IFERROR('Tableau de recueil'!AF160/'Tableau de recueil'!AF161,"")
C31: IG VENA | E31: =IFERROR('Tableau de recueil'!AH52/'Tableau de recueil'!AH161,"") | G31: =IFERROR('Tableau de recueil'!AH104/'Tableau de recueil'!AH161,"") | I31: =IFERROR('Tableau de recueil'!AH112/'Tableau de recueil'!AH161,"") | K31: =IFERROR('Tableau de recueil'!AH145/'Tableau de recueil'!AH161,"") | M31: =IFERROR('Tableau de recueil'!AH160/'Tableau de recueil'!AH161,"")
C32: XEMBIFY | E32: =IFERROR('Tableau de recueil'!AJ52/'Tableau de recueil'!AJ161,"") | G32: =IFERROR('Tableau de recueil'!AJ104/'Tableau de recueil'!AJ161,"") | I32: =IFERROR('Tableau de recueil'!AJ112/'Tableau de recueil'!AJ161,"") | K32: =IFERROR('Tableau de recueil'!AJ145/'Tableau de recueil'!AJ161,"") | M32: =IFERROR('Tableau de recueil'!AJ160/'Tableau de recueil'!AJ161,"")
C33: GAMUNEX | E33: =IFERROR('Tableau de recueil'!AL52/'Tableau de recueil'!AL161,"") | G33: =IFERROR('Tableau de recueil'!AL104/'Tableau de recueil'!AL161,"") | I33: =IFERROR('Tableau de recueil'!AL112/'Tableau de recueil'!AL161,"") | K33: =IFERROR('Tableau de recueil'!AL145/'Tableau de recueil'!AL161,"") | M33: =IFERROR('Tableau de recueil'!AL160/'Tableau de recueil'!AL161,"")
C34: HUMAGLOBIN | E34: =IFERROR('Tableau de recueil'!AN52/'Tableau de recueil'!AL161,"") | G34: =IFERROR('Tableau de recueil'!AN104/'Tableau de recueil'!AN161,"") | I34: =IFERROR('Tableau de recueil'!AN112/'Tableau de recueil'!AN161,"") | K34: =IFERROR('Tableau de recueil'!AN145/'Tableau de recueil'!AN161,"") | M34: =IFERROR('Tableau de recueil'!AN160/'Tableau de recueil'!AN161,"")
C35: PENTAGLOBIN | E35: =IFERROR('Tableau de recueil'!AP52/'Tableau de recueil'!AP161,"") | G35: =IFERROR('Tableau de recueil'!AP104/'Tableau de recueil'!AP161,"") | I35: =IFERROR('Tableau de recueil'!AP112/'Tableau de recueil'!AP161,"") | K35: =IFERROR('Tableau de recueil'!AP145/'Tableau de recueil'!AP161,"") | M35: =IFERROR('Tableau de recueil'!AP160/'Tableau de recueil'!AP161,"")
C37: TOTAL GENERAL | E37: =IFERROR('Tableau de recueil'!E52/'Tableau de recueil'!E161,"") | G37: =IFERROR('Tableau de recueil'!E104/'Tableau de recueil'!E161,"") | I37: =IFERROR('Tableau de recueil'!E112/'Tableau de recueil'!E161,"") | K37: =IFERROR('Tableau de recueil'!E145/'Tableau de recueil'!E161,"") | M37: =IFERROR('Tableau de recueil'!E160/'Tableau de recueil'!E161,"")
