Workbook

Sheet Lisez-moi
B2: Grille d'auto-évaluation de la gestion pharmaceutique des essais cliniques
B4: Cette grille doit impérativement être enregistrée au format Excel.
B6: Avant-propos
B7: Les bonnes pratiques cliniques (BPC) imposent une méthodologie rigoureuse dans la conduite des essais cliniques (EC). Elles fixent les responsabilités et les fonctions de tous les acteurs. Cela concerne notamment le pharmacien hospitalier, « collaborateur de l’investigateur », qui est responsable de la gestion des produits de santé expérimentaux (PSE). Le pharmacien est donc chargé d’organiser le circuit de ces produits particuliers, qui comprend la logistique et la prise en charge thérapeutique du patient, ainsi que des activités annexes : gestion du double aveugle, gestion des retours, contrôle de l’observance, participation active aux monitorings, audits… Le pharmacien responsable des essais cliniques est tenu de mettre en place un système qualité pour la gestion des produits de santé expérimentaux, en cohérence avec celui de la pharmacie à usage intérieur (PUI) et de l’établissement. Les médicaments et dispositifs médicaux (DM) expérimentaux présentent des risques spécifiques, liés à leurs conditions particulières de conditionnement, d’approvisionnement, de détention, de conservation et de dispensation. De plus, les enjeux du circuit portent non seulement sur la sécurité des soins, mais aussi sur la qualité des essais cliniques et l’intégrité des données. Le circuit des produits de santé expérimentaux doit donc être fonctionnel, évalué et faire l’objet d’une gestion des risques adaptée. En janvier 2020, une enquête nationale a été adressée aux pharmaciens responsables des essais cliniques dans les établissements de santé investigateurs français. Cette enquête a permis d'établir un état des lieux national sur le management du circuit des produits de santé expérimentaux dans les établissements de santé menant des essais cliniques. Parmi plusieurs outils proposés pour améliorer la qualité du circuit du PSE, la grille d'auto-évaluation des risques a été jugée utile par plus de 90% des participants. La présente grille d'auto-évaluation a donc été élaborée afin d'accompagner le personnel pharmaceutique dans le management du circuit des produits de santé expérimentaux (PSE), garantir la sécurité des patients, protéger l'intégrité des données d'étude, tout en maintenant la conformité réglementaire. L'objectif secondaire est de favoriser la normalisation des processus de gestion des PSE. Si cette normalisation est particulièrement importante pour les établissements avec une forte activité de gestion d’essais cliniques, elle peut aussi donner une orientation à ceux qui sont moins familiers avec le circuit des PSE. Seuls les aspects spécifiques au circuit des PSE sont abordés dans cette grille. Elle porte uniquement sur la gestion des EC en investigation (hors processus de promotion) et n'inclut pas de critères sur les cas particuliers des essais cliniques de promotion interne et des médicaments de thérapie innovante.
B8: Cet outil a été conçu par les professionnels et pour les professionnels. Il n'a en aucun cas vocation à être utilisé à des fins de contrôle par des autorités de santé.
B10: Mode d'emploi
B12: Cet outil s'adresse au secteur essais cliniques de la PUI.
B13: Vous pouvez compléter cette auto-évaluation en plusieurs fois si vous le souhaitez. Comptez 1h à 3h pour compléter entièrement la grille.
B15: Pour commencer l'auto-évaluation, cliquez sur l'onglet "Grille"
B16: La grille est constituée d'un ensemble de critères représentant les principaux processus de la gestion pharmaceutique des essais cliniques.
B18: Passer le pointeur sur les critères marqués d'un coin rouge pour consulter l'aide :
B24: La plupart des critères sont associés à des éléments de preuve qui doivent être pris en compte dans l'évaluation.
... B63: Références
A64: - | B64: Décision du 24 novembre 2006 fixant les règles de bonnes pratiques cliniques pour les recherches biomédicales portant sur des médicaments à usage humain.
A65: - | B65: Guide professionnel - Activités pharmaceutiques relatives aux essais cliniques de médicaments et de dispositifs médicaux réalisés au sein des établissements de santé. Sous l’égide de la Commission des Pharmaciens de CHU, avec le partenariat de la Société Française de Pharmacie Clinique. 2020;
A66: - | B66: Guérin A, Tanguay C, Lebel D, Bussières J-F. Création d’une grille d’autoévaluation du soutien pharmaceutique aux essais cliniques. Can J Hosp Pharm. 2012;65(6):450‑7.
A67: - | B67: Manuel d’auto-évaluation de Pharmacie hospitalière. Société Française de Pharmacie Clinique. 1998;
B69: Ce travail a été mené dans le cadre d'une thèse d'interne en pharmacie, présentée par Elodie DELAVOIPIÈRE et dirigée par Antoine ALIX (2020) Titre : "Management du circuit des produits de santé expérimentaux dans les pharmacies hospitalières : état des lieux au niveau national et proposition d’outils standardisés" Disponible dans la boîte à outils "Essais cliniques" de l'OMéDIT : cliquez ici.

Sheet Valid données
A1: Oui
A2: En grande partie
A3: Partiellement
A4: Non
A5: Non applicable

Sheet Grille
B4: Grille d'auto-évaluation de la gestion pharmaceutique des essais cliniques
B6: Critères | D6: Oui/ En grande partie/ Partiellement/ Non/ +/- Non applicable | F6: Eléments de preuve | H6: Commentaires
B8: I. | C8: Organisation générale et fonctions supports
B10: A. | C10: Organisation générale
A11: =IF(D11<>"Non applicable",1,0) -> 1 | B11: 1 | C11: Les essais cliniques déclarés dans l’établissement de santé et incluant des produits de santé sont gérés par la PUI (gestion, approvisionnement, préparation si applicable, contrôle, détention, dispensation). | E11: =IF(OR(D11="",D11="Non"),0,IF(D11="Oui",1,IF(D11="Partiellement",0.33,IF(D11="En grande partie",0.67,"")))) -> 0 | F11: Lettres de déclarations d'intention d'essais adressées au pharmacien (Article R1123-70 du CSP - Obligation du promoteur d'infomer la PUI) | H11: Si "non" à la question 1 : Cette grille d'auto-évaluation ne s'applique pas à une PUI qui ne gère aucun EC incluant des produits de santé. Réglementation : En cas d'EC menés dans un établissement de santé, le pharmacien hospitalier est chargé, selon le CSP (art. L5126-5), d’assurer la gestion, l’approvisionnement, la préparation, le contrôle, la détention, la dispensation des PSE, et d’en assurer la qualité. Le pharmacien hospitalier peut être amené à réaliser les préparations rendues nécessaires par l’essai. Sources utiles : Guide professionnel de la CPCHU. La présente grille peut également aider à mettre en place les activités de gestion pharmaceutique des EC
A12: =IF(D12<>"Non applicable",1,0) -> 1 | B12: 2 | C12: Une procédure dégradée en cas de panne des enceintes de stockage à température contrôlée (température ambiante, enceintes réfrigérées, congélateurs) est disponible, mise à jour et appliquée | E12: =IF(OR(D12="",D12="Non"),0,IF(D12="Oui",1,IF(D12="Partiellement",0.33,IF(D12="En grande partie",0.67,"")))) -> 0 | F12: - Procédure dégradée qui mentionne la personne à contacter, le délai pour entamer les procédures, les procédures à suivre (ex : procédure spécifique aux EC ou procédure générale de la PUI avec un chapitre dédié aux EC) - Document de traçabilité du recours à cette procédure dégradée et des actions posées (description de l’incident, personne impliquée, date, corrections, statut)
B14: B. | C14: Ressources humaines
A15: =IF(D15<>"Non applicable",1,0) -> 1 | B15: 3 | C15: Un pharmacien est désigné comme responsable des EC au sein de la PUI et ses responsabilités/ missions sont définies. | E15: =IF(OR(D15="",D15="Non"),0,IF(D15="Oui",1,IF(D15="Partiellement",0.33,IF(D15="En grande partie",0.67,"")))) -> 0 | F15: Fiche de poste, CV et attestations de formation (BPC 2006, ICH 2015 E6R2, formation spécifique à chaque essai)
A16: =IF(D16<>"Non applicable",1,0) -> 1 | B16: 4 | C16: Les tâches/ opérations accomplies par chaque agent intervenant dans les EC à la PUI (excluant le pharmacien responsable) sont définies. | E16: =IF(OR(D16="",D16="Non"),0,IF(D16="Oui",1,IF(D16="Partiellement",0.33,IF(D16="En grande partie",0.67,"")))) -> 0 | F16: - Document mentionnant les tâches accomplies par chaque agent (ex : feuille de délégation interne des tâches complétée et signée par chaque agent) - Fiches de poste ou de mission pour chaque agent
A17: =IF(D17<>"Non applicable",1,0) -> 1 | B17: 5 | C17: Le personnel pharmaceutique intervenant dans les EC reçoit une formation générale initiale et continue (connaissance des BPC, notion de confidentialité, organisation interne du secteur des EC) et spécifique pour chaque EC. | E17: =IF(OR(D17="",D17="Non"),0,IF(D17="Oui",1,IF(D17="Partiellement",0.33,IF(D17="En grande partie",0.67,"")))) -> 0 | F17: - Plan de formation (avec périodicité de la formation continue) et support(s) de formation générale (ex : livret d'accueil du nouvel arrivant) et spécifique pour chaque EC (ex : fiche synthèse ou résumé décrite en critère 15) - Attestation de formation (sujet, date, paraphe) de chaque agent par le pharmacien responsable (ex : intégration à la feuille de délégation interne des tâches, attestation de lecture de la fiche synthèse ou résumé pour chaque EC)
A18: =IF(D18<>"Non applicable",1,0) -> 1 | B18: 6 | C18: Le personnel pharmaceutique intervenant dans les EC est évalué et habilité au terme de la formation. | E18: =IF(OR(D18="",D18="Non"),0,IF(D18="Oui",1,IF(D18="Partiellement",0.33,IF(D18="En grande partie",0.67,"")))) -> 0 | F18: Attestation d'habilitation (sujet, date, paraphe) de chaque agent par le pharmacien responsable (ex : intégration à la feuille de délégation des tâches) datant de moins de 2 ans (ou périodicité définie dans le plan de formation) et adaptée pour chaque statut (selon fiches de poste)
A19: =IF(D19<>"Non applicable",1,0) -> 1 | B19: 7 | C19: Le pharmacien responsable des EC définit sa politique de formation, en cohérence avec celle de la PUI et de l’établissement, et rédige un plan pluriannuel de formation avec suivi des formations des personnels du secteur. | E19: =IF(OR(D19="",D19="Non"),0,IF(D19="Oui",1,IF(D19="Partiellement",0.33,IF(D19="En grande partie",0.67,"")))) -> 0 | F19: - Politique de formation adaptée pour chaque statut (selon fiches de poste) - Plan pluriannuel de formation avec suivi des formations des agents
B21: C. | C21: Ressources matérielles
A22: =IF(D22<>"Non applicable",1,0) -> 1 | B22: 8 | C22: L’accès aux PSE et à la documentation (classeurs des EC, armoires, sites Internet de gestion d'EC, répertoire informatique) est sécurisé et restreint au personnel autorisé. | E22: =IF(OR(D22="",D22="Non"),0,IF(D22="Oui",1,IF(D22="Partiellement",0.33,IF(D22="En grande partie",0.67,"")))) -> 0 | F22: - Règles d'accès aux locaux et aux documents (ex : clés, badges, identifiants et mots de passe) - Liste des personnels autorisés (professionnels de santé et promoteurs), avec dates de début et de fin
A23: =IF(D23<>"Non applicable",1,0) -> 1 | B23: 9 | C23: Les PSE sont stockés dans une zone dédiée (séparée du stock classique des médicaments référencés à la PUI). | E23: =IF(OR(D23="",D23="Non"),0,IF(D23="Oui",1,IF(D23="Partiellement",0.33,IF(D23="En grande partie",0.67,"")))) -> 0 | F23: Plan de la PUI matérialisant les zones dédiées aux EC
A24: =IF(D24<>"Non applicable",1,0) -> 1 | B24: 10 | C24: La maintenance des enceintes de stockage (température ambiante, enceintes réfrigérées, congélateurs/ surgélateurs), du système de ventilation et de climatisation, de l’équipement d'enregistrement de température est réalisée aux intervalles requis par le fabriquant. | E24: =IF(OR(D24="",D24="Non"),0,IF(D24="Oui",1,IF(D24="Partiellement",0.33,IF(D24="En grande partie",0.67,"")))) -> 0 | F24: Document de traçabilité des opérations de maintenance (date, heure, identité de l'opérateur, tâche)
B26: D. | C26: Système d'informations et gestion documentaire
A27: =IF(D27<>"Non applicable",1,0) -> 1 | B27: 11 | C27: Le circuit des PSE est informatisé. | E27: =IF(OR(D27="",D27="Non"),0,IF(D27="Oui",1,IF(D27="Partiellement",0.33,IF(D27="En grande partie",0.67,"")))) -> 0 | F27: Logiciel de gestion pharmaceutique des essais cliniques
A28: =IF(D28<>"Non applicable",1,0) -> 1 | B28: 12 | C28: Des Procédures Opératoires Standardisées (POS) générales décrivent les modalités d'organisation des opérations de gestion pharmaceutique des EC. | E28: =IF(OR(D28="",D28="Non"),0,IF(D28="Oui",1,IF(D28="Partiellement",0.33,IF(D28="En grande partie",0.67,"")))) -> 0 | F28: - Procédures conformes (date de publication et de mise à jour, nom et signature des personnes compétentes l'ayant rédigé, validé et approuvé) décrivant l'ensemble des processus de réalisation de la gestion pharmaceutique des EC : initiation d'un EC, approvisionnement, réception, stockage, dispensation (y compris en garde si applicable), préparation, retours, destruction, clôture et archivage - Liste des procédures applicables (titre, dates de mises à jour, auteurs)
A29: =IF(D29<>"Non applicable",1,0) -> 1 | B29: 13 | C29: Une liste des EC en cours est disponible et mise à jour. | E29: =IF(OR(D29="",D29="Non"),0,IF(D29="Oui",1,IF(D29="Partiellement",0.33,IF(D29="En grande partie",0.67,"")))) -> 0 | F29: Liste des EC en cours et historique des listes (ex : tableur / extraction d'un logiciel)
A30: =IF(D30<>"Non applicable",1,0) -> 1 | B30: 14 | C30: Toute documentation concernant un EC fait l'objet d'un classement, avec constitution d'un dossier individuel par essai. | E30: =IF(OR(D30="",D30="Non"),0,IF(D30="Oui",1,IF(D30="Partiellement",0.33,IF(D30="En grande partie",0.67,"")))) -> 0 | F30: Classeur pharmacie (ou dossier pharmaceutique) pour chaque EC
A31: =IF(D31<>"Non applicable",1,0) -> 1 | B31: 15 | C31: Des documents élaborés pour chaque EC décrivent les spécificités des modalités organisationnelles et de gestion des PSE dans cet EC (ex: fiche synthèse ou résumé) | E31: =IF(OR(D31="",D31="Non"),0,IF(D31="Oui",1,IF(D31="Partiellement",0.33,IF(D31="En grande partie",0.67,"")))) -> 0 | F31: Documents spécifiques pour chaque EC, comprenant, par exemple, les informations suivantes : dénomination du PSE, forme, dosage, posologie, voie d’administration, indication, effets indésirables, interactions, contre-indications, modalités d'approvisionnement et de réception, de conservation, de préparation, de dispensation, d’administration, de destruction, instructions en cas de saut de prise, n° d'identification du protocole, version du protocole, coordonnées de l’investigateur, du promoteur
B33: E. | C33: Communication et confidentialité
A34: =IF(D34<>"Non applicable",1,0) -> 1 | B34: 16 | C34: La documentation des communications (courriels, appels téléphoniques importants, rencontres) est disponible, mise à jour et archivée. | E34: =IF(OR(D34="",D34="Non"),0,IF(D34="Oui",1,IF(D34="Partiellement",0.33,IF(D34="En grande partie",0.67,"")))) -> 0 | F34: Documents de traçabilité ou comptes-rendus des communications classés et archivés (impression, sauvegarde électronique)
A35: =IF(D35<>"Non applicable",1,0) -> 1 | B35: 17 | C35: Le respect de la confidentialité des données est organisé (anonymisation, restriction des conversations dans les lieux publics). | E35: =IF(OR(D35="",D35="Non"),0,IF(D35="Oui",1,IF(D35="Partiellement",0.33,IF(D35="En grande partie",0.67,"")))) -> 0 | F35: Documents anonymisés transmis par la PUI au promoteur (courriers, fax, mails)
A36: =IF(D36<>"Non applicable",1,0) -> 1 | B36: 18 | C36: La liste des personnels responsables de chaque EC et leurs coordonnées sont disponibles et mises à jour. | E36: =IF(OR(D36="",D36="Non"),0,IF(D36="Oui",1,IF(D36="Partiellement",0.33,IF(D36="En grande partie",0.67,"")))) -> 0 | F36: Liste des personnels responsables de chaque EC (ex : médecins investigateurs, attachés de recherche clinique promoteurs et investigateurs, personnes responsables de garde), avec les prénoms, noms et coordonnées de chacun (ex : n° de téléphone, bip, courriel) (ex : liste intégrée à la fiche synthèse ou résumé de chaque EC)
A37: =IF(D37<>"Non applicable",1,0) -> 1 | B37: 19 | C37: Les interfaces nécessaires avec la Direction de la Recherche Clinique et de l'Innovation (DRCI), quand elle existe, sont définies. | E37: =IF(OR(D37="",D37="Non"),0,IF(D37="Oui",1,IF(D37="Partiellement",0.33,IF(D37="En grande partie",0.67,"")))) -> 0 | F37: Conventions hospitalières ou contrat de fonctionnement inter-service définissant les rôles de chacun et le périmètre de la coopération du pharmacien pour chaque activité
B39: II. | C39: Gestion pharmaceutique des essais cliniques
B41: A. | C41: Initiation de l'essai clinique
A42: =IF(D42<>"Non applicable",1,0) -> 1 | B42: 20 | C42: La PUI est associée aux visites de sélection et de mise en place des EC gérés par la PUI au sein de l'établissement de santé. | E42: =IF(OR(D42="",D42="Non"),0,IF(D42="Oui",1,IF(D42="Partiellement",0.33,IF(D42="En grande partie",0.67,"")))) -> 0 | F42: Documents de traçabilité d'organisation (entre le promoteur et la PUI) ou comptes-rendus des visites de sélection et de mise en place
A43: =IF(D43<>"Non applicable",1,0) -> 1 | B43: 21 | C43: Avant la signature de la convention hospitalière, le pharmacien évalue la faisabilité de l'EC (locaux, matériel, personnel), valide les termes de la convention hospitalière et de la grille des surcoûts pour la partie pharmacie. | E43: =IF(OR(D43="",D43="Non"),0,IF(D43="Oui",1,IF(D43="Partiellement",0.33,IF(D43="En grande partie",0.67,"")))) -> 0 | F43: - Procédure ou check-list d'analyse de la faisabilité (documents nécessaires transmis par le promoteur, éventuelle expertise des secteurs pharmacotechnie et contrôle, évaluation de la capacité de respecter la répartition aléatoire et le maintien de l’insu, de la capacité de préparation et de stockage, évaluation du financement et du temps requis pour les services pharmaceutiques, nécessité d’une garde pharmaceutique), de la convention hospitalière et de la grille des surcoûts - Documents de traçabilité des analyses de faisabilité communiquées au promoteur et à l'investigateur
A44: =IF(D44<>"Non applicable",1,0) -> 1 | B44: 22 | C44: Un mode opératoire ou une grille de renseignements (check-list) est utilisée lors de la mise en place pour recueillir toute l'information nécessaire à la gestion pharmaceutique de l'EC. | E44: =IF(OR(D44="",D44="Non"),0,IF(D44="Oui",1,IF(D44="Partiellement",0.33,IF(D44="En grande partie",0.67,"")))) -> 0 | F44: Mode opératoire ou grille de renseignement (check-list) de mise en place, couvrant l’ensemble des étapes du circuit des PSE
A45: =IF(D45<>"Non applicable",1,0) -> 1 | B45: 23 | C45: Le pharmacien informe le promoteur des modalités opératoires qu'il prévoit de mettre en place pour la gestion des PSE. | E45: =IF(OR(D45="",D45="Non"),0,IF(D45="Oui",1,IF(D45="Partiellement",0.33,IF(D45="En grande partie",0.67,"")))) -> 0 | F45: Courriers, courriels ou support d'information au promoteur (ex : plaquette d’informations) listant les prestations, organisations, activités pharmaceutiques locales liées aux EC (éléments de preuves non indispensables si le promoteur se déplace à la PUI lors de la visite de sélection)
B47: B. | C47: Traçabilité et comptabilité
A48: =IF(D48<>"Non applicable",1,0) -> 1 | B48: 24 | C48: La traçabilité des PSE est réalisée à chaque étape du circuit pharmaceutique des EC, de la réception jusqu'à la réconciliation finale. | E48: =IF(OR(D48="",D48="Non"),0,IF(D48="Oui",1,IF(D48="Partiellement",0.33,IF(D48="En grande partie",0.67,"")))) -> 0 | F48: Supports (internes ou du promoteur, papier et/ou informatique) de comptabilité globale et/ou nominative (par patient), permettant la traçabilité des renseignements nécessaires (identité patient, date, identité de l’opérateur, quantité, produit, n° de lot, n° de traitement, date de péremption) à chacune de ces étapes : réception / préparation / dispensation / mise en dotation / retour / devenir du retour ou du produit non dispensé (destruction sur site ou retour au promoteur)
B50: C. | C50: Approvisionnement, réception et stockage
A51: =IF(D51<>"Non applicable",1,0) -> 1 | B51: 25 | C51: Les modalités d’approvisionnement des PSE sont définies par une procédure spécifique pour chaque EC, conformément aux exigences requises par le promoteur pour chaque EC et aux capacités de stockage et d’équipement de la PUI. | E51: =IF(OR(D51="",D51="Non"),0,IF(D51="Oui",1,IF(D51="Partiellement",0.33,IF(D51="En grande partie",0.67,"")))) -> 0 | F51: Procédure spécifique pour chaque EC (ex : fiche synthèse ou résumé) décrivant les modalités d'approvisionnement, par exemple : niveau des stocks à conserver, personne désignée, méthode de commande, adresse de livraison, délai de réception, coordonnées du contact promoteur
A52: =IF(D52<>"Non applicable",1,0) -> 1 | B52: 26 | C52: La réception des PSE fait l'objet d'une POS générale, d'une procédure spécifique pour chaque EC et d'une traçabilité systématique dans le dossier de chaque EC, conformément aux exigences requises par le promoteur pour chaque EC et aux capacités de stockage et d’équipement de la PUI. | E52: =IF(OR(D52="",D52="Non"),0,IF(D52="Oui",1,IF(D52="Partiellement",0.33,IF(D52="En grande partie",0.67,"")))) -> 0 | F52: - POS décrivant les modalités de réception, par exemple : transport interne si multi-site, ouverture du colis, contrôle des unités thérapeutiques (conformité par rapport au bon de commande/ livraison, étiquetage conforme à l'arrêté du 24 mai 2006, certificats d'analyse/ de libération de lots, intégrité, respect des conditions de conservation lors du transport), rangement des PSE, traçabilité de l'entrée en stock, confirmation de réception au promoteur, archivage des documents, retour éventuel de l'emballage vide, conduite à tenir en cas de non-conformité - Procédure spécifique pour chaque EC (ex : fiche synthèse ou résumé) décrivant les modalités de réception - Supports (papier et/ou informatique) de comptabilité permettant la traçabilité de l'entrée en stock : date de réception, quantité, produit, n° de lot, n° de traitement, date de péremption, identité de l'opérateur
A53: =IF(D53<>"Non applicable",1,0) -> 1 | B53: 27 | C53: Les modalités de stockage des PSE sont définies par une POS générale et par une procédure spécifique pour chaque EC, conformément aux exigences requises par le promoteur pour chaque EC et aux capacités de stockage et d’équipement de la PUI, selon une organisation permettant d'identifier et de séparer les produits en différentes zones : PSE d'EC ouverts actifs (avec identification de chaque essai et des PSE associés), PSE en quarantaine, PSE retournés par les patients ou utilisés. | E53: =IF(OR(D53="",D53="Non"),0,IF(D53="Oui",1,IF(D53="Partiellement",0.33,IF(D53="En grande partie",0.67,"")))) -> 0 | F53: - POS décrivant les modalités de stockage - Procédure spécifique pour chaque EC (ex : fiche synthèse ou résumé) décrivant les modalités de stockage - Etiquettes identifiant chaque zone et chaque EC (éventuel code couleur)
A54: =IF(D54<>"Non applicable",1,0) -> 1 | B54: 28 | C54: Un système de mesure de la température des zones de stockage est utilisé (relevé journalier a minima) et calibré selon les normes en vigueur. | E54: =IF(OR(D54="",D54="Non"),0,IF(D54="Oui",1,IF(D54="Partiellement",0.33,IF(D54="En grande partie",0.67,"")))) -> 0 | F54: - POS décrivant le suivi, l'enregistrement des températures et la gestion des excursions de température - Documents de traçabilité des températures, comprenant au moins une mesure/un relevé par jour (date, valeurs de température, localisation des systèmes de mesure) - Notifications d'excursions de température - Constats de vérification annuels fournis par un laboratoire de métrologie accrédité COFRAC - Système d'enregistrement en continu bénéficiant d'une alarme dont le report permet la gestion de toute excursion de température, y compris en dehors des horaires ouvrables de la PUI
...

Sheet Synthèse
B2: Grille d'auto-évaluation de la gestion pharmaceutique des essais cliniques
B4: >> Pourcentage de conformité globale : | D4: =D43 -> 0
B6: Date :
B8: Nom de l'établissement :
B11: Diagramme Radar avec niveau de conformité pour chaque partie : | E11: Zone 4 | F11: Zone 3 | G11: Zone 2 | H11: Zone 1
B12: Organisation générale, RH et matériel | D12: =SUM(Grille!E11:E24)/SUM(Grille!A11:A24) -> 0 | E12: 1 | F12: 0.9 | G12: 0.6 | H12: 0.3
B13: Gestion documentaire, communication et confidentialité | D13: =SUM(Grille!E27:E37)/SUM(Grille!A27:A37) -> 0 | E13: 1 | F13: 0.9 | G13: 0.6 | H13: 0.3
B14: Initiation de l'EC, traçabilité, approvisionnement, réception et stockage | D14: =SUM(Grille!E42:E55)/SUM(Grille!A42:A55) -> 0 | E14: 1 | F14: 0.9 | G14: 0.6 | H14: 0.3
B15: Prescription, dispensation et préparation | D15: =SUM(Grille!E58:E69)/SUM(Grille!A58:A69) -> 0 | E15: 1 | F15: 0.9 | G15: 0.6 | H15: 0.3
B16: Retours, destruction, clôture, gestion de l'aveugle | D16: =SUM(Grille!E72:E84)/SUM(Grille!A72:A84) -> 0 | E16: 1 | F16: 0.9 | G16: 0.6 | H16: 0.3
B17: Evaluation et gestion des risques | D17: =SUM(Grille!E89:E108)/SUM(Grille!A89:A108) -> 0 | E17: 1 | F17: 0.9 | G17: 0.6 | H17: 0.3
D19: Niveau de conformité
A20: I. | B20: Organisation générale et fonctions supports | D20: =SUM(Grille!E11:E37)/SUM(Grille!A11:A37) -> 0
A21: A. | B21: Organisation générale | D21: =(COUNTIF(Grille!$D$11:$D$12,"oui")+COUNTIF(Grille!$D$11:$D$12,"En grande partie")*0.67+COUNTIF(Grille!$D$11:$D$12,"partiellement")*0.33)/SUM(Grille!A11:A12) -> 0
A22: B. | B22: Ressources humaines | D22: =(COUNTIF(Grille!$D$15:$D$19,"oui")+COUNTIF(Grille!$D$15:$D$19,"En grande partie")*0.67+COUNTIF(Grille!$D$15:$D$19,"partiellement")*0.33)/SUM(Grille!A15:A19) -> 0
A23: C. | B23: Ressources matérielles | D23: =(COUNTIF(Grille!$D$22:$D$24,"oui")+COUNTIF(Grille!$D$22:$D$24,"En grande partie")*0.67+COUNTIF(Grille!$D$22:$D$24,"partiellement")*0.33)/SUM(Grille!A22:A24) -> 0
A24: D. | B24: Système d'informations et gestion documentaire | D24: =(COUNTIF(Grille!$D$27:$D$31,"oui")+COUNTIF(Grille!$D$27:$D$31,"En grande partie")*0.67+COUNTIF(Grille!$D$27:$D$31,"partiellement")*0.33)/SUM(Grille!A27:A31) -> 0
A25: E. | B25: Communication et confidentialité | D25: =(COUNTIF(Grille!$D$34:$D$37,"oui")+COUNTIF(Grille!$D$34:$D$37,"En grande partie")*0.67+COUNTIF(Grille!$D$34:$D$37,"partiellement")*0.33)/SUM(Grille!A34:A37) -> 0
A27: II. | B27: Gestion pharmaceutique des essais cliniques | D27: =SUM(Grille!E42:E84)/SUM(Grille!A42:A84) -> 0
A28: A. | B28: Initiation de l'essai clinique | D28: =(COUNTIF(Grille!$D$42:$D$45,"oui")+COUNTIF(Grille!$D$42:$D$45,"En grande partie")*0.67+COUNTIF(Grille!$D$42:$D$45,"partiellement")*0.33)/SUM(Grille!A42:A45) -> 0
A29: B. | B29: Traçabilité et comptabilité | D29: =(COUNTIF(Grille!$D$48:$D$48,"oui")+COUNTIF(Grille!$D$48:$D$48,"En grande partie")*0.67+COUNTIF(Grille!$D$48:$D$48,"partiellement")*0.33)/SUM(Grille!A48:A48) -> 0
A30: C. | B30: Approvisionnement, réception et stockage | D30: =(COUNTIF(Grille!$D$51:$D$55,"oui")+COUNTIF(Grille!$D$51:$D$55,"En grande partie")*0.67+COUNTIF(Grille!$D$51:$D$55,"partiellement")*0.33)/SUM(Grille!A51:A55) -> 0
A31: D. | B31: Prescription et dispensation | D31: =(COUNTIF(Grille!$D$58:$D$65,"oui")+COUNTIF(Grille!$D$58:$D$65,"En grande partie")*0.67+COUNTIF(Grille!$D$58:$D$65,"partiellement")*0.33)/SUM(Grille!A58:A65) -> 0
A32: E. | B32: Préparation des produits expérimentaux | D32: =IFERROR((COUNTIF(Grille!$D$68:$D$69,"oui")+COUNTIF(Grille!$D$68:$D$69,"En grande partie")*0.67+COUNTIF(Grille!$D$68:$D$69,"partiellement")*0.33)/SUM(Grille!A68:A69),"Non applicable") -> 0
A33: F. | B33: Retours et destruction | D33: =(COUNTIF(Grille!$D$72:$D$75,"oui")+COUNTIF(Grille!$D$72:$D$75,"En grande partie")*0.67+COUNTIF(Grille!$D$72:$D$75,"partiellement")*0.33)/SUM(Grille!A72:A75) -> 0
A34: G. | B34: Clôture, facturation et archivage | D34: =(COUNTIF(Grille!$D$78:$D$80,"oui")+COUNTIF(Grille!$D$78:$D$80,"En grande partie")*0.67+COUNTIF(Grille!$D$78:$D$80,"partiellement")*0.33)/SUM(Grille!A78:A80) -> 0
A35: H. | B35: Gestion de l'aveugle | D35: =IFERROR((COUNTIF(Grille!$D$83:$D$84,"oui")+COUNTIF(Grille!$D$83:$D$84,"En grande partie")*0.67+COUNTIF(Grille!$D$83:$D$84,"partiellement")*0.33)/SUM(Grille!A83:A84),"Non applicable") -> 0
A37: III. | B37: Evaluation et gestion des risques | D37: =SUM(Grille!E89:E108)/SUM(Grille!A89:A108) -> 0
A38: A. | B38: Evaluation du circuit | D38: =(COUNTIF(Grille!$D$89:$D$93,"oui")+COUNTIF(Grille!$D$89:$D$93,"En grande partie")*0.67+COUNTIF(Grille!$D$89:$D$93,"partiellement")*0.33)/SUM(Grille!A89:A93) -> 0
A39: B. | B39: Gestion des risques a posteriori | D39: =(COUNTIF(Grille!$D$96:$D$99,"oui")+COUNTIF(Grille!$D$96:$D$99,"En grande partie")*0.67+COUNTIF(Grille!$D$96:$D$99,"partiellement")*0.33)/SUM(Grille!A96:A99) -> 0
A40: C. | B40: Gestion des risques a priori | D40: =(COUNTIF(Grille!$D$102:$D$103,"oui")+COUNTIF(Grille!$D$102:$D$103,"En grande partie")*0.67+COUNTIF(Grille!$D$102:$D$103,"partiellement")*0.33)/SUM(Grille!A102:A103) -> 0
A41: D. | B41: Actions d'amélioration | D41: =(COUNTIF(Grille!$D$106:$D$108,"oui")+COUNTIF(Grille!$D$106:$D$108,"En grande partie")*0.67+COUNTIF(Grille!$D$106:$D$108,"partiellement")*0.33)/SUM(Grille!A106:A108) -> 0
B43: Pourcentage de conformité globale : | D43: =SUM(Grille!E11:E108)/SUM(Grille!A11:A108) -> 0

Sheet Résultat détaillé
B4: Grille d'auto-évaluation de la gestion pharmaceutique des essais cliniques - Résultat détaillé
B6: Critères | D6: Oui/ En grande partie/ Partiellement/ Non/ +/- Non applicable | E6: Pistes de progrès | G6: Commentaires
B8: I. | C8: Organisation générale et fonctions supports
B10: A. | C10: Organisation générale
B11: 1 | C11: Les essais cliniques déclarés dans l’établissement de santé et incluant des produits de santé sont gérés par la PUI (gestion, approvisionnement, préparation si applicable, contrôle, détention, dispensation). | D11: =IF(Grille!D11<>"",Grille!D11,"") | E11: Demander à ce que les lettres de déclarations d'intention d'essais soient adressées au pharmacien (Article R1123-70 du CSP - Obligation du promoteur d'infomer la PUI) Se mettre en conformité avec la réglementation pour tous les EC menés dans l'établissement : le pharmacien hospitalier est chargé, selon le CSP (art. L5126-5), d’assurer la gestion, l’approvisionnement, la préparation, le contrôle, la détention, la dispensation des PSE, et d’en assurer la qualité. Le pharmacien hospitalier peut être amené à réaliser les préparations rendues nécessaires par l’essai. Sources utiles : Guide professionnel de la CPCHU. La présente grille peut également aider à mettre en place les activités de gestion pharmaceutique des EC | G11: =IF(Grille!H11<>"",Grille!H11,"") -> Si "non" à la question 1 : Cette grille d'auto-évaluation ne s'applique pas à une PUI qui ne gère aucun EC incluant des produits de santé. Réglementation : En cas d'EC menés dans un établissement de santé, le pharmacien hospitalier est chargé, selon le CSP (art. L5126-5), d’assurer la gestion, l’approvisionnement, la préparation, le contrôle, la détention, la dispensation des PSE, et d’en assurer la qualité. Le pharmacien hospitalier peut être amené à réaliser les préparations rendues nécessaires par l’essai. Sources utiles : Guide professionnel de la CPCHU. La présente grille peut également aider à mettre en place les activités de gestion pharmaceutique des EC
B12: 2 | C12: Une procédure dégradée en cas de panne des enceintes de stockage à température contrôlée (température ambiante, enceintes réfrigérées, congélateurs) est disponible, mise à jour et appliquée | D12: =IF(Grille!D12<>"",Grille!D12,"") | E12: Elaborer, diffuser et/ou mettre à jour les documents manquants ou obsolètes : - Procédure dégradée qui mentionne la personne à contacter, le délai pour entamer les procédures, les procédures à suivre (ex : procédure spécifique aux EC ou procédure générale de la PUI avec un chapitre dédié aux EC) - Document de traçabilité du recours à cette procédure dégradée et des actions posées (description de l’incident, personne impliquée, date, corrections, statut) | G12: =IF(Grille!H12<>"",Grille!H12,"")
B14: B. | C14: Ressources humaines
B15: 3 | C15: Un pharmacien est désigné comme responsable des EC au sein de la PUI et ses responsabilités/ missions sont définies. | D15: =IF(Grille!D15<>"",Grille!D15,"") | E15: Désigner un pharmacien responsable des EC Elaborer, diffuser et/ou mettre à jour les documents manquants ou obsolètes : Fiche de poste, CV et attestations de formation (BPC 2006, ICH 2015 E6R2, formation spécifique à chaque essai) | G15: =IF(Grille!H15<>"",Grille!H15,"")
B16: 4 | C16: Les tâches/ opérations accomplies par chaque agent intervenant dans les EC à la PUI (excluant le pharmacien responsable) sont définies. | D16: =IF(Grille!D16<>"",Grille!D16,"") | E16: Elaborer, diffuser et/ou mettre à jour les documents manquants ou obsolètes : - Document mentionnant les tâches accomplies par chaque agent (ex : feuille de délégation interne des tâches complétée et signée par chaque agent) - Fiches de poste ou de mission pour chaque agent | G16: =IF(Grille!H16<>"",Grille!H16,"")
B17: 5 | C17: Le personnel pharmaceutique intervenant dans les EC reçoit une formation générale initiale et continue (connaissance des BPC, notion de confidentialité, organisation interne du secteur des EC) et spécifique pour chaque EC. | D17: =IF(Grille!D17<>"",Grille!D17,"") | E17: Former chaque professionnel intervenant dans les EC, dont le personnel non dédié aux EC : unité de production, logistique, personnel de garde… Elaborer, diffuser et/ou mettre à jour les documents manquants ou obsolètes : - Plan de formation (avec périodicité de la formation continue) et support(s) de formation générale (ex : livret d'accueil du nouvel arrivant) et spécifique pour chaque EC (ex : fiche synthèse ou résumé décrite en critère 15) - Attestation de formation (sujet, date, paraphe) de chaque agent par le pharmacien responsable (ex : intégration à la feuille de délégation interne des tâches, attestation de lecture de la fiche synthèse ou résumé pour chaque EC) | G17: =IF(Grille!H17<>"",Grille!H17,"")
B18: 6 | C18: Le personnel pharmaceutique intervenant dans les EC est évalué et habilité au terme de la formation. | D18: =IF(Grille!D18<>"",Grille!D18,"") | E18: Evaluer et habiliter chaque professionnel au terme de la formation Elaborer, diffuser et/ou mettre à jour les documents manquants ou obsolètes : Attestation d'habilitation (sujet, date, paraphe) de chaque agent par le pharmacien responsable (ex : intégration à la feuille de délégation des tâches) datant de moins de 2 ans (ou périodicité définie dans le plan de formation) et adaptée pour chaque statut (selon fiches de poste) | G18: =IF(Grille!H18<>"",Grille!H18,"")
B19: 7 | C19: Le pharmacien responsable des EC définit sa politique de formation, en cohérence avec celle de la PUI et de l’établissement, et rédige un plan pluriannuel de formation avec suivi des formations des personnels du secteur. | D19: =IF(Grille!D19<>"",Grille!D19,"") | E19: Elaborer, diffuser et/ou mettre à jour les documents manquants ou obsolètes : - Politique de formation adaptée pour chaque statut (selon fiches de poste) - Plan pluriannuel de formation avec suivi des formations des agents | G19: =IF(Grille!H19<>"",Grille!H19,"")
B21: C. | C21: Ressources matérielles
B22: 8 | C22: L’accès aux PSE et à la documentation (classeurs des EC, armoires, sites Internet de gestion d'EC, répertoire informatique) est sécurisé et restreint au personnel autorisé. | D22: =IF(Grille!D22<>"",Grille!D22,"") | E22: (Re)définir et mettre en place les modalités d'accès aux PSE et à la documentation Elaborer, diffuser et/ou mettre à jour les documents manquants ou obsolètes : - Règles d'accès aux locaux et aux documents (ex : clés, badges, identifiants et mots de passe) - Liste des personnels autorisés (professionnels de santé et promoteurs), avec dates de début et de fin | G22: =IF(Grille!H22<>"",Grille!H22,"")
B23: 9 | C23: Les PSE sont stockés dans une zone dédiée (séparée du stock classique des médicaments référencés à la PUI). | D23: =IF(Grille!D23<>"",Grille!D23,"") | E23: Définir et mettre en place une zone dédiée au stockage des PSE Elaborer, diffuser et/ou mettre à jour les documents manquants ou obsolètes : Plan de la PUI matérialisant les zones dédiées aux EC | G23: =IF(Grille!H23<>"",Grille!H23,"")
B24: 10 | C24: La maintenance des enceintes de stockage (température ambiante, enceintes réfrigérées, congélateurs/ surgélateurs), du système de ventilation et de climatisation, de l’équipement d'enregistrement de température est réalisée aux intervalles requis par le fabriquant. | D24: =IF(Grille!D24<>"",Grille!D24,"") | E24: Organiser la maintenance de ces équipements, aux intervalles requis par le fabriquant Elaborer, diffuser et/ou mettre à jour les documents manquants ou obsolètes : Document de traçabilité des opérations de maintenance (date, heure, identité de l'opérateur, tâche) | G24: =IF(Grille!H24<>"",Grille!H24,"")
B26: D. | C26: Système d'informations et gestion documentaire
B27: 11 | C27: Le circuit des PSE est informatisé. | D27: =IF(Grille!D27<>"",Grille!D27,"") | E27: Informatiser le circuit des PSE via un logiciel de gestion pharmaceutique des essais cliniques | G27: =IF(Grille!H27<>"",Grille!H27,"")
B28: 12 | C28: Des Procédures Opératoires Standardisées (POS) générales décrivent les modalités d'organisation des opérations de gestion pharmaceutique des EC. | D28: =IF(Grille!D28<>"",Grille!D28,"") | E28: Elaborer, diffuser et/ou mettre à jour les documents manquants ou obsolètes (avec double vérification) : - Procédures conformes (date de publication et de mise à jour, nom et signature des personnes compétentes l'ayant rédigé, validé et approuvé) décrivant l'ensemble des processus de réalisation de la gestion pharmaceutique des EC : initiation d'un EC, approvisionnement, réception, stockage, dispensation (y compris en garde si applicable), préparation, retours, destruction, clôture et archivage - Liste des procédures applicables (titre, dates de mises à jour, auteurs) Recommandation : Une procédure doit être courte, concise et explicite. Privilégier les phrases courtes. Les illustrations et les logigrammes peuvent permettre de clarifier un processus. Sources utiles : BPC, Guide professionnel de la CPCHU (recommandations à chaque étape) | G28: =IF(Grille!H28<>"",Grille!H28,"")
B29: 13 | C29: Une liste des EC en cours est disponible et mise à jour. | D29: =IF(Grille!D29<>"",Grille!D29,"") | E29: Elaborer, diffuser et/ou mettre à jour les documents manquants ou obsolètes : Liste des EC en cours et historique des listes (ex : tableur / extraction d'un logiciel) | G29: =IF(Grille!H29<>"",Grille!H29,"")
B30: 14 | C30: Toute documentation concernant un EC fait l'objet d'un classement, avec constitution d'un dossier individuel par essai. | D30: =IF(Grille!D30<>"",Grille!D30,"") | E30: Elaborer, diffuser et/ou mettre à jour les documents manquants ou obsolètes : Classeur pharmacie (ou dossier pharmaceutique) pour chaque EC | G30: =IF(Grille!H30<>"",Grille!H30,"")
B31: 15 | C31: Des documents élaborés pour chaque EC décrivent les spécificités des modalités organisationnelles et de gestion des PSE dans cet EC (ex: fiche synthèse ou résumé) | D31: =IF(Grille!D31<>"",Grille!D31,"") | E31: Elaborer, diffuser et/ou mettre à jour les documents manquants ou obsolètes : Documents spécifiques pour chaque EC, comprenant, par exemple, les informations suivantes : dénomination du PSE, forme, dosage, posologie, voie d’administration, indication, effets indésirables, interactions, contre-indications, modalités d'approvisionnement et de réception, de conservation, de préparation, de dispensation, d’administration, de destruction, instructions en cas de saut de prise, n° d'identification du protocole, version du protocole, coordonnées de l’investigateur, du promoteur | G31: =IF(Grille!H31<>"",Grille!H31,"")
B33: E. | C33: Communication et confidentialité
B34: 16 | C34: La documentation des communications (courriels, appels téléphoniques importants, rencontres) est disponible, mise à jour et archivée. | D34: =IF(Grille!D34<>"",Grille!D34,"") | E34: Tracer, classer et archiver les communications (impression, sauvegarde électronique) | G34: =IF(Grille!H34<>"",Grille!H34,"")
B35: 17 | C35: Le respect de la confidentialité des données est organisé (anonymisation, restriction des conversations dans les lieux publics). | D35: =IF(Grille!D35<>"",Grille!D35,"") | E35: Elaborer, diffuser et/ou mettre à jour les documents manquants ou obsolètes : Documents anonymisés transmis par la PUI au promoteur (courriers, fax, mails) | G35: =IF(Grille!H35<>"",Grille!H35,"")
B36: 18 | C36: La liste des personnels responsables de chaque EC et leurs coordonnées sont disponibles et mises à jour. | D36: =IF(Grille!D36<>"",Grille!D36,"") | E36: Elaborer, diffuser et/ou mettre à jour les documents manquants ou obsolètes : Liste des personnels responsables de chaque EC (ex : médecins investigateurs, attachés de recherche clinique, personnes responsables de garde), avec les prénoms, noms et coordonnées de chacun (ex : n° de téléphone, bip, courriel) (ex : liste intégrée à la fiche synthèse ou résumé de chaque EC) | G36: =IF(Grille!H36<>"",Grille!H36,"")
B37: 19 | C37: Les interfaces nécessaires avec la Direction de la Recherche Clinique et de l'Innovation (DRCI), quand elle existe, sont définies. | D37: =IF(Grille!D37<>"",Grille!D37,"") | E37: Définir les interfaces avec la DRCI Elaborer, diffuser et/ou mettre à jour les documents manquants ou obsolètes : Conventions hospitalières ou contrat de fonctionnement inter-service définissant les rôles de chacun et le périmètre de la coopération du pharmacien pour chaque activité | G37: =IF(Grille!H37<>"",Grille!H37,"")
B39: II. | C39: Gestion pharmaceutique des essais cliniques
B41: A. | C41: Initiation de l'essai clinique
B42: 20 | C42: La PUI est associée aux visites de sélection et de mise en place des EC gérés par la PUI au sein de l'établissement de santé. | D42: =IF(Grille!D42<>"",Grille!D42,"") | E42: Associer la PUI aux visites de sélection et de mise en place des EC Elaborer, diffuser et/ou mettre à jour les documents manquants ou obsolètes : Documents de traçabilité d'organisation (entre le promoteur et la PUI) ou comptes-rendus des visites de sélection et de mise en place | G42: =IF(Grille!H42<>"",Grille!H42,"")
B43: 21 | C43: Avant la signature de la convention hospitalière, le pharmacien évalue la faisabilité de l'EC (locaux, matériel, personnel), valide les termes de la convention hospitalière et de la grille des surcoûts pour la partie pharmacie. | D43: =IF(Grille!D43<>"",Grille!D43,"") | E43: Elaborer, diffuser et/ou mettre à jour les documents manquants ou obsolètes : - Procédure ou check-list d'analyse de la faisabilité (documents nécessaires transmis par le promoteur, éventuelle expertise des secteurs pharmacotechnie et contrôle, évaluation de la capacité de respecter la répartition aléatoire et le maintien de l’insu, de la capacité de préparation et de stockage, évaluation du financement et du temps requis pour les services pharmaceutiques, nécessité d’une garde pharmaceutique), de la convention hospitalière et de la grille des surcoûts - Documents de traçabilité des analyses de faisabilité communiquées au promoteur et à l'investigateur | G43: =IF(Grille!H43<>"",Grille!H43,"")
B44: 22 | C44: Un mode opératoire ou une grille de renseignements (check-list) est utilisée lors de la mise en place pour recueillir toute l'information nécessaire à la gestion pharmaceutique de l'EC. | D44: =IF(Grille!D44<>"",Grille!D44,"") | E44: Elaborer, diffuser et/ou mettre à jour les documents manquants ou obsolètes : Mode opératoire ou grille de renseignement (check-list) de mise en place, couvrant l’ensemble des étapes du circuit des PSE | G44: =IF(Grille!H44<>"",Grille!H44,"")
B45: 23 | C45: Le pharmacien informe le promoteur des modalités opératoires qu'il prévoit de mettre en place pour la gestion des PSE. | D45: =IF(Grille!D45<>"",Grille!D45,"") | E45: Elaborer, diffuser et/ou mettre à jour les documents manquants ou obsolètes : Courriers, courriels ou support d'information au promoteur (ex : plaquette d’informations) listant les prestations, organisations, activités pharmaceutiques locales liées aux EC (éléments de preuves non indispensables si le promoteur se déplace à la PUI lors de la visite de sélection) | G45: =IF(Grille!H45<>"",Grille!H45,"")
B47: B. | C47: Traçabilité et comptabilité
B48: 24 | C48: La traçabilité des PSE est réalisée à chaque étape du circuit pharmaceutique des EC, de la réception jusqu'à la réconciliation finale. | D48: =IF(Grille!D48<>"",Grille!D48,"") | E48: Elaborer, diffuser et/ou mettre à jour les documents manquants ou obsolètes : Supports (internes ou du promoteur, papier et/ou informatique) de comptabilité globale et/ou nominative (par patient), permettant la traçabilité des renseignements nécessaires (identité patient, date, identité de l’opérateur, quantité, produit, n° de lot, n° de traitement, date de péremption) à chacune de ces étapes : réception / préparation / dispensation / mise en dotation / retour / devenir du retour ou du produit non dispensé (destruction sur site ou retour au promoteur) | G48: =IF(Grille!H48<>"",Grille!H48,"")
B50: C. | C50: Approvisionnement, réception et stockage
B51: 25 | C51: Les modalités d’approvisionnement des PSE sont définies par une procédure spécifique pour chaque EC, conformément aux exigences requises par le promoteur pour chaque EC et aux capacités de stockage et d’équipement de la PUI. | D51: =IF(Grille!D51<>"",Grille!D51,"") | E51: Elaborer, diffuser et/ou mettre à jour les documents manquants ou obsolètes : Procédure spécifique pour chaque EC (ex : fiche synthèse ou résumé) décrivant les modalités d'approvisionnement, par exemple : niveau des stocks à conserver, personne désignée, méthode de commande, adresse de livraison, délai de réception, coordonnées du contact promoteur | G51: =IF(Grille!H51<>"",Grille!H51,"")
B52: 26 | C52: La réception des PSE fait l'objet d'une POS générale, d'une procédure spécifique pour chaque EC et d'une traçabilité systématique dans le dossier de chaque EC, conformément aux exigences requises par le promoteur pour chaque EC et aux capacités de stockage et d’équipement de la PUI. | D52: =IF(Grille!D52<>"",Grille!D52,"") | E52: Elaborer, diffuser et/ou mettre à jour les documents manquants ou obsolètes : - POS décrivant les modalités de réception, par exemple : transport interne si multi-site, ouverture du colis, contrôle des unités thérapeutiques (conformité par rapport au bon de commande/ livraison, étiquetage conforme à l'arrêté du 24 mai 2006, certificats d'analyse/ de libération de lots, intégrité, respect des conditions de conservation lors du transport), rangement des PSE, traçabilité de l'entrée en stock, confirmation de réception au promoteur, archivage des documents, retour éventuel de l'emballage vide, conduite à tenir en cas de non-conformité - Procédure spécifique pour chaque EC (ex : fiche synthèse ou résumé) décrivant les modalités de réception - Supports (papier et/ou informatique) de comptabilité permettant la traçabilité de l'entrée en stock : date de réception, quantité, produit, n° de lot, n° de traitement, date de péremption, identité de l'opérateur | G52: =IF(Grille!H52<>"",Grille!H52,"")
B53: 27 | C53: Les modalités de stockage des PSE sont définies par une POS générale et par une procédure spécifique pour chaque EC, conformément aux exigences requises par le promoteur pour chaque EC et aux capacités de stockage et d’équipement de la PUI, selon une organisation permettant d'identifier et de séparer les produits en différentes zones : PSE d'EC ouverts actifs (avec identification de chaque essai et des PSE associés), PSE en quarantaine, PSE retournés par les patients ou utilisés. | D53: =IF(Grille!D53<>"",Grille!D53,"") | E53: Elaborer, diffuser et/ou mettre à jour les documents manquants ou obsolètes : - POS décrivant les modalités de stockage - Procédure spécifique pour chaque EC (ex : fiche synthèse ou résumé) décrivant les modalités de stockage - Etiquettes identifiant chaque zone et chaque EC (éventuel code couleur) | G53: =IF(Grille!H53<>"",Grille!H53,"")
B54: 28 | C54: Un système de mesure de la température des zones de stockage est utilisé (relevé journalier a minima) et calibré selon les normes en vigueur. | D54: =IF(Grille!D54<>"",Grille!D54,"") | E54: Définir et mettre en place un système de mesure de la température des zones de stockage (relevé journalier a minima). Idéalement, il s'agit d'un système d'enregistrement en continu bénéficiant d'une alarme dont le report permet la gestion de toute excursion de température, y compris en dehors des horaires ouvrables de la PUI. Organiser la calibration du système selon les normes en vigueur et archiver les constats de vérification annuels fournis par le laboratoire de métrologie accrédité COFRAC. Elaborer, diffuser et/ou mettre à jour les documents manquants ou obsolètes : - POS décrivant le suivi, l'enregistrement des températures et la gestion des excursions de température - Documents de traçabilité des températures, comprenant au moins une mesure/un relevé par jour (date, valeurs de température, localisation des systèmes de mesure) - Notifications d'excursions de température - Constats de vérification annuels fournis par un laboratoire de métrologie accrédité COFRAC - Système d'enregistrement en continu bénéficiant d'une alarme dont le report permet la gestion de toute excursion de température, y compris en dehors des horaires ouvrables de la PUI | G54: =IF(Grille!H54<>"",Grille!H54,"")
...
