Workbook
Name Fiches: Fiches!$A$2:$DY$52
Name Fiches2: Calculs!#REF!
Name nbcas: Rapport!$I$9
Name nbecoli: Rapport!$D$105

Sheet Intro
E2: Audit URI-ES
E3: Saisie et résultats
C6: Etablissement
C7: Nom
C8: Code Postal
C10: Responsable de l'audit
C11: Mail
C12: Date de début de l'audit
B14: Ouvrir chaque onglet, ou cliquer sur les liens =====> | I14: Saisie des fiches
B15: Une fois la saisie terminée, envoyer le fichier à : | I15: Poster des résultats
B16: omedit.normandie@chu-rouen.fr | I16: Rapport complet (5 pages)
I17: Annexes "Liste des traitements antibiotiques"
A42: Version 1.2

Sheet Fiches
A1: PATIENT | M1: SIGNES CLINIQUES (laisser vide si le signe est absent) | AC1: EXAMENS COMPLEMENTAIRES | AG1: GERME 1 | AK1: ANTIBIOGRAMME GERME 1 | BB1: GERME 2 | BE1: ANTIBIOGRAMME GERME 2 | BV1: BIOLOGIE ET AUTRES EXAMENS | BY1: DIAGNOSTIC | BZ1: ANTIBIOTIQUE 1 | CG1: ANTIBIOTIQUE 2 | CN1: ANTIBIOTIQUE 3 | CV1: REEVALUATION, CONTRÔLE APRES TRAITEMENT (NE : non évaluable) | DD1: SIGNES CLINIQUES A LA FIN DU TRAITEMENT (laisser vide si absent) | DO1: EVALUATION DE LA PERTINENCE DE LA PRISE EN CHARGE
A2: Numéro du cas | B2: Age | C2: Fried | D2: Sexe | E2: Poids (en Kg) | F2: Créatinine | G2: Clairance (calculé) | H2: Allergie aux ATB | I2: Allergie : préciser | J2: Anomalie organique ou fonctionnelle de l'arbre urinaire | K2: Immuno-dépression | L2: Dispositif urinaire | M2: Aucun | N2: Pollak | O2: Br mict | P2: Dysur | Q2: Dlr lomb | R2: Héma-turie | S2: Fièvre | T2: Friss | U2: Hypo-th | V2: Dlr sus pub | W2: Incont ur récente | X2: ur troubles +/- malod | Y2: Confusion… | Z2: Résidu mict. | AA2: Autre signe | AB2: Autre signe clinique : préciser | AC2: BU | AD2: ECBU | AE2: Date du prélèvement | AF2: Leucocytes/ ml | AG2: Germe 1 | AH2: Si autre germe, précisez | AI2: Date du résultat définitif | AJ2: G1 : numération/ ml | AK2: Ampi | AL2: Amox-ac. clav. | AM2: Pipé | AN2: Pipé-tazo | AO2: Céfotaxime | AP2: Céfépime | AQ2: Imi | AR2: Erta | AS2: Genta | AT2: Amika | AU2: Sulf-trim | AV2: Oflo | AW2: Cipro | AX2: Fosfo | AY2: Piv | AZ2: Fura | BA2: BMR | BB2: Germe 2 | BC2: G2-Si autre germe, précisez | BD2: G2 : numération/ml | BE2: G2 Ampi | BF2: G2 Amox-ac. clav. | BG2: G2 Pipé | BH2: G2 Pipé-tazo | BI2: G2 Céfotaxime | BJ2: G2 Céfépime | BK2: G2 Imi | BL2: G2 Erta | BM2: G2 Genta | BN2: G2 Amika | BO2: G2 Sulf-trim | BP2: G2 Oflo | BQ2: G2 Cipro | BR2: G2 Fosfo | BS2: G2 Piv | BT2: G2 Fura | BU2: G2 BMR | BV2: Biologie (avec CRP, urée, créatinine) | BW2: Autres examens compl. | BX2: Autres examens compl. : précisez | BY2: Diagnostic | BZ2: ATB1 : mlc | CA2: ATB1 : poso (dose et nb de prises) | CB2: AB1 : probabiliste | CC2: AB1 : date début | CD2: AB1 : date fin | CE2: AB1 : durée (calculé) | CF2: AB1 : voie | CG2: ATB2 : mlc | CH2: ATB2 : poso (dose et nb de prises) | CI2: AB2 : probabiliste | CJ2: AB2 : date début | CK2: AB2 : date fin | CL2: AB2 : durée (calculé) | CM2: AB2 : voie | CN2: ATB3 : mlc | CO2: ATB3 : poso (dose et nb de prises) | CP2: AB3 : probabiliste | CQ2: AB3 : date début | CR2: AB3 : date fin | CS2: AB3 : durée (calculé) | CT2: AB3 : voie | CU2: ATB : durée totale (calculé) | CV2: Rééval. H72 | CW2: Rééval. J7-J10 | CX2: Si sonde vésicale, retrait ? | CY2: Si sonde vésicale retirée, à quelle date ? | CZ2: Contrôle : BU | DA2: Contrôle : ECBU | DB2: Contrôle : Autre | DC2: Si autre contrôle après traitement, précisez | DD2: (fin) Aucun | DE2: (fin) non évaluable | DF2: (fin) Pollak | DG2: (fin) Br mict | DH2: (fin) Dysur | DI2: (fin) Dlr lomb | DJ2: (fin) Héma-turie | DK2: (fin) Dlr sus pub | DL2: (fin) Incont ur récente | DM2: (fin) ur troubles +/- malod | DN2: (fin) Résidu mict. | DO2: Moyens diagnostiques adaptés | DP2: Indication de l'ABthérapie pertinente | DQ2: Choix molécule pertinent | DR2: Posologie pertinente | DS2: Durée pertinente | DT2: Voie pertinente | DU2: Réévaluation H72 réalisée | DV2: Réévaluation J7-J10 réalisée | DW2: Contrôle après traitement pertinent | DX2: Bilan étiologique pertinent | DY2: Commentaire général sur cet épisode
G3: =IF(F3="","",IF(OR(E3="",B3="",D3=""),"",IF(D3="Femme",(1.04*E3*(140-B3))/F3,(1.23*E3*(140-B3))/F3))) | CE3: =IF(OR(CC3="",CD3=""),"",CD3-CC3+1) | CL3: =IF(OR(CJ3="",CK3=""),"",CK3-CJ3+1) | CS3: =IF(OR(CQ3="",CR3=""),"",CR3-CQ3+1) | CU3: =IF(BZ3="","",MAX(CD3,CK3,CR3)-MIN(CC3,CJ3,CQ3)+1)
G4: =IF(F4="","",IF(OR(E4="",B4="",D4=""),"",IF(D4="Femme",(1.04*E4*(140-B4))/F4,(1.23*E4*(140-B4))/F4))) | CE4: =IF(OR(CC4="",CD4=""),"",CD4-CC4+1) | CL4: =IF(OR(CJ4="",CK4=""),"",CK4-CJ4+1) | CS4: =IF(OR(CQ4="",CR4=""),"",CR4-CQ4+1) | CU4: =IF(BZ4="","",MAX(CD4,CK4,CR4)-MIN(CC4,CJ4,CQ4)+1)
G5: =IF(F5="","",IF(OR(E5="",B5="",D5=""),"",IF(D5="Femme",(1.04*E5*(140-B5))/F5,(1.23*E5*(140-B5))/F5))) | CE5: =IF(OR(CC5="",CD5=""),"",CD5-CC5+1) | CL5: =IF(OR(CJ5="",CK5=""),"",CK5-CJ5+1) | CS5: =IF(OR(CQ5="",CR5=""),"",CR5-CQ5+1) | CU5: =IF(BZ5="","",MAX(CD5,CK5,CR5)-MIN(CC5,CJ5,CQ5)+1)
G6: =IF(F6="","",IF(OR(E6="",B6="",D6=""),"",IF(D6="Femme",(1.04*E6*(140-B6))/F6,(1.23*E6*(140-B6))/F6))) | CE6: =IF(OR(CC6="",CD6=""),"",CD6-CC6+1) | CL6: =IF(OR(CJ6="",CK6=""),"",CK6-CJ6+1) | CS6: =IF(OR(CQ6="",CR6=""),"",CR6-CQ6+1) | CU6: =IF(BZ6="","",MAX(CD6,CK6,CR6)-MIN(CC6,CJ6,CQ6)+1)
G7: =IF(F7="","",IF(OR(E7="",B7="",D7=""),"",IF(D7="Femme",(1.04*E7*(140-B7))/F7,(1.23*E7*(140-B7))/F7))) | CE7: =IF(OR(CC7="",CD7=""),"",CD7-CC7+1) | CL7: =IF(OR(CJ7="",CK7=""),"",CK7-CJ7+1) | CS7: =IF(OR(CQ7="",CR7=""),"",CR7-CQ7+1) | CU7: =IF(BZ7="","",MAX(CD7,CK7,CR7)-MIN(CC7,CJ7,CQ7)+1)
G8: =IF(F8="","",IF(OR(E8="",B8="",D8=""),"",IF(D8="Femme",(1.04*E8*(140-B8))/F8,(1.23*E8*(140-B8))/F8))) | CE8: =IF(OR(CC8="",CD8=""),"",CD8-CC8+1) | CL8: =IF(OR(CJ8="",CK8=""),"",CK8-CJ8+1) | CS8: =IF(OR(CQ8="",CR8=""),"",CR8-CQ8+1) | CU8: =IF(BZ8="","",MAX(CD8,CK8,CR8)-MIN(CC8,CJ8,CQ8)+1)
G9: =IF(F9="","",IF(OR(E9="",B9="",D9=""),"",IF(D9="Femme",(1.04*E9*(140-B9))/F9,(1.23*E9*(140-B9))/F9))) | CE9: =IF(OR(CC9="",CD9=""),"",CD9-CC9+1) | CL9: =IF(OR(CJ9="",CK9=""),"",CK9-CJ9+1) | CS9: =IF(OR(CQ9="",CR9=""),"",CR9-CQ9+1) | CU9: =IF(BZ9="","",MAX(CD9,CK9,CR9)-MIN(CC9,CJ9,CQ9)+1)
G10: =IF(F10="","",IF(OR(E10="",B10="",D10=""),"",IF(D10="Femme",(1.04*E10*(140-B10))/F10,(1.23*E10*(140-B10))/F10))) | CE10: =IF(OR(CC10="",CD10=""),"",CD10-CC10+1) | CL10: =IF(OR(CJ10="",CK10=""),"",CK10-CJ10+1) | CS10: =IF(OR(CQ10="",CR10=""),"",CR10-CQ10+1) | CU10: =IF(BZ10="","",MAX(CD10,CK10,CR10)-MIN(CC10,CJ10,CQ10)+1)
G11: =IF(F11="","",IF(OR(E11="",B11="",D11=""),"",IF(D11="Femme",(1.04*E11*(140-B11))/F11,(1.23*E11*(140-B11))/F11))) | CE11: =IF(OR(CC11="",CD11=""),"",CD11-CC11+1) | CL11: =IF(OR(CJ11="",CK11=""),"",CK11-CJ11+1) | CS11: =IF(OR(CQ11="",CR11=""),"",CR11-CQ11+1) | CU11: =IF(BZ11="","",MAX(CD11,CK11,CR11)-MIN(CC11,CJ11,CQ11)+1)
G12: =IF(F12="","",IF(OR(E12="",B12="",D12=""),"",IF(D12="Femme",(1.04*E12*(140-B12))/F12,(1.23*E12*(140-B12))/F12))) | CE12: =IF(OR(CC12="",CD12=""),"",CD12-CC12+1) | CL12: =IF(OR(CJ12="",CK12=""),"",CK12-CJ12+1) | CS12: =IF(OR(CQ12="",CR12=""),"",CR12-CQ12+1) | CU12: =IF(BZ12="","",MAX(CD12,CK12,CR12)-MIN(CC12,CJ12,CQ12)+1)
G13: =IF(F13="","",IF(OR(E13="",B13="",D13=""),"",IF(D13="Femme",(1.04*E13*(140-B13))/F13,(1.23*E13*(140-B13))/F13))) | CE13: =IF(OR(CC13="",CD13=""),"",CD13-CC13+1) | CL13: =IF(OR(CJ13="",CK13=""),"",CK13-CJ13+1) | CS13: =IF(OR(CQ13="",CR13=""),"",CR13-CQ13+1) | CU13: =IF(BZ13="","",MAX(CD13,CK13,CR13)-MIN(CC13,CJ13,CQ13)+1)
G14: =IF(F14="","",IF(OR(E14="",B14="",D14=""),"",IF(D14="Femme",(1.04*E14*(140-B14))/F14,(1.23*E14*(140-B14))/F14))) | CE14: =IF(OR(CC14="",CD14=""),"",CD14-CC14+1) | CL14: =IF(OR(CJ14="",CK14=""),"",CK14-CJ14+1) | CS14: =IF(OR(CQ14="",CR14=""),"",CR14-CQ14+1) | CU14: =IF(BZ14="","",MAX(CD14,CK14,CR14)-MIN(CC14,CJ14,CQ14)+1)
... G52: =IF(F52="","",IF(OR(E52="",B52="",D52=""),"",IF(D52="Femme",(1.04*E52*(140-B52))/F52,(1.23*E52*(140-B52))/F52))) | CE52: =IF(OR(CC52="",CD52=""),"",CD52-CC52+1) | CL52: =IF(OR(CJ52="",CK52=""),"",CK52-CJ52+1) | CS52: =IF(OR(CQ52="",CR52=""),"",CR52-CQ52+1) | CU52: =IF(BZ52="","",MAX(CD52,CK52,CR52)-MIN(CC52,CJ52,CQ52)+1)

Sheet Poster
L1: =Rapport!C2 -> ()
L3: URI-ES - Audit de la prise en charge des infections urinaires
L5: ="Audit réalisé du "&DAY(Rapport!C9)&"/"&MONTH(Rapport!C9)&"/"&YEAR(Rapport!C9)&" au "&DAY(Rapport!C10)&"/"&MONTH(Rapport!C10)&"/"&YEAR(Rapport!C10) -> #VALUE! | U5: =nbcas & IF(nbcas=1," cas audité"," cas audités") -> 0 cas audités
A7: Les patients | I7: Les infections urinaires | R7: Les germes | V7: 1er germe identifié
I9: =Rapport!D130 -> 0 | J9: =IF(Rapport!D130<2,Poster!AI9,Poster!AJ9) -> cystite simple | T9: Escherichia coli | U9: =Rapport!D76 -> 0 | V9: =IFERROR(U9/nbcas,0) -> 0 | AH9: =Rapport!D130 -> 0 | AI9: cystite simple | AJ9: cystites simples
I10: =Rapport!D131 -> 0 | J10: =IF(Rapport!D131<2,Poster!AI10,Poster!AJ10) -> cystite à risque de complication | T10: Proteus mirabilis | U10: =Rapport!D77 -> 0 | V10: =IFERROR(U10/nbcas,0) -> 0 | AH10: =Rapport!D131 -> 0 | AI10: cystite à risque de complication | AJ10: cystites à risque de complication
I11: =Rapport!D132 -> 0 | J11: =IF(Rapport!D132<2,Poster!AI11,Poster!AJ11) -> pyélonéphrite simple sans signe de gravité | T11: Enterococcus faecalis | U11: =Rapport!D78 -> 0 | V11: =IFERROR(U11/nbcas,0) -> 0 | AH11: =Rapport!D132 -> 0 | AI11: pyélonéphrite simple sans signe de gravité | AJ11: pyélonéphrites simples sans signe de gravité
I12: =Rapport!D133 -> 0 | J12: =IF(Rapport!D133<2,Poster!AI12,Poster!AJ12) -> pyélonéphrite à risque de compl. sans signe de gravité | T12: Klebsiella pneumoniae | U12: =Rapport!D79 -> 0 | V12: =IFERROR(U12/nbcas,0) -> 0 | AH12: =Rapport!D133 -> 0 | AI12: pyélonéphrite à risque de compl. sans signe de gravité | AJ12: pyélonéphrites à risque de compl. sans signe de gravité
I13: =Rapport!D134 -> 0 | J13: =IF(Rapport!D134<2,Poster!AI13,Poster!AJ13) -> pyélonéphrite grave | T13: Staphylococcus aureus | U13: =Rapport!D80 -> 0 | V13: =IFERROR(U13/nbcas,0) -> 0 | AH13: =Rapport!D134 -> 0 | AI13: pyélonéphrite grave | AJ13: pyélonéphrites graves
I14: =Rapport!D135 -> 0 | J14: =IF(Rapport!D135<2,Poster!AI14,Poster!AJ14) -> infection urinaire masculine | T14: Enterobacter cloacae | U14: =Rapport!D81 -> 0 | V14: =IFERROR(U14/nbcas,0) -> 0 | AH14: =Rapport!D135 -> 0 | AI14: infection urinaire masculine | AJ14: infections urinaires masculines
I15: =Rapport!D136 -> 0 | J15: =IF(Rapport!D136<2,Poster!AI15,Poster!AJ15) -> colonisation avec indication retenue à une antibiothérapie | T15: Pseudomonas aeruginosa | U15: =Rapport!D82 -> 0 | V15: =IFERROR(U15/nbcas,0) -> 0 | AH15: =Rapport!D136 -> 0 | AI15: colonisation avec indication retenue à une antibiothérapie | AJ15: colonisations avec indication retenue à une antibiothérapie
A16: ="Age moyen : "&FIXED(Rapport!C18,1)&" ans" -> #VALUE! | I16: =Rapport!D137 -> 0 | J16: =IF(Rapport!D137<2,Poster!AI16,Poster!AJ16) -> infection urinaire, sans précision | T16: Klebsiella oxytoca | U16: =Rapport!D83 -> 0 | V16: =IFERROR(U16/nbcas,0) -> 0 | AH16: =Rapport!D137 -> 0 | AI16: infection urinaire, sans précision | AJ16: infections urinaires, sans précision
A17: ="Dispositif urinaire : "&Rapport!H28 -> Dispositif urinaire : 0 | T17: Morganella | U17: =Rapport!D84 -> 0 | V17: =IFERROR(U17/nbcas,0) -> 0
I18: Le diagnostic | T18: Autre | U18: =Rapport!D85 -> 0 | V18: =IFERROR(U18/nbcas,0) -> 0
A20: Les signes cliniques | E20: ="(aucun : "&Rapport!D41&" fois)" -> (aucun : 0 fois) | L20: Bandelette urinaire : | M20: ="faite "&Rapport!D62&" fois ("&FIXED(Rapport!D62/nbcas*100,1)&"%)" -> #DIV/0! | V20: ="Plurimicrobien : "&Rapport!D101&" fois" -> Plurimicrobien : 0 fois
D22: Pollakiurie | E22: =COUNTIF(Fiches!N:N,"Oui") -> 0 | F22: =IFERROR(E22/nbcas,0) -> 0 | L22: ECBU : | M22: ="fait "&Rapport!D67&" fois ("&FIXED(Rapport!D67/nbcas*100,1)&"%)" -> #DIV/0! | V22: ="BMR : "&Rapport!D103&" "&Rapport!F103 -> BMR : 0 des 0 germes identifiés
D23: Brûlures mictionnelles | E23: =COUNTIF(Fiches!O:O,"Oui") -> 0 | F23: =IFERROR(E23/nbcas,0) -> 0
D24: Dysurie | E24: =COUNTIF(Fiches!P:P,"Oui") -> 0 | F24: =IFERROR(E24/nbcas,0) -> 0 | I24: Evaluation de la pertinence de la prise en charge
D25: Douleurs lombaires | E25: =COUNTIF(Fiches!Q:Q,"Oui") -> 0 | F25: =IFERROR(E25/nbcas,0) -> 0
D26: Hématurie | E26: =COUNTIF(Fiches!R:R,"Oui") -> 0 | F26: =IFERROR(E26/nbcas,0) -> 0
D27: Fièvre | E27: =COUNTIF(Fiches!S:S,"Oui") -> 0 | F27: =IFERROR(E27/nbcas,0) -> 0
D28: Frissons | E28: =COUNTIF(Fiches!T:T,"Oui") -> 0 | F28: =IFERROR(E28/nbcas,0) -> 0
D29: Hypothermie | E29: =COUNTIF(Fiches!U:U,"Oui") -> 0 | F29: =IFERROR(E29/nbcas,0) -> 0
D30: Douleur sus-pubienne | E30: =COUNTIF(Fiches!V:V,"Oui") -> 0 | F30: =IFERROR(E30/nbcas,0) -> 0
D31: Incontinence urinaire récente | E31: =COUNTIF(Fiches!W:W,"Oui") -> 0 | F31: =IFERROR(E31/nbcas,0) -> 0
D32: Urines troubles/malodorantes | E32: =COUNTIF(Fiches!X:X,"Oui") -> 0 | F32: =IFERROR(E32/nbcas,0) -> 0
D33: Confusion, chute… | E33: =COUNTIF(Fiches!Y:Y,"Oui") -> 0 | F33: =IFERROR(E33/nbcas,0) -> 0
D34: Résidu mictionnel | E34: =COUNTIF(Fiches!Z:Z,"Oui") -> 0 | F34: =IFERROR(E34/nbcas,0) -> 0
A38: Poster v1

Sheet Rapport
C2: =Intro!E7 & " ("&Intro!E8&")" -> ()
F5: URI-ES
F6: Audit de la prise en charge des infections urinaires
F7: de l'adulte en établissements de soins
B9: Date de début de l'audit : | C9: =IF(Intro!E12<>"",Intro!E12,"-") -> - | H9: Nombre de cas audités : | I9: =COUNT(Fiches!A:A) -> 0
B10: Date de fin de l'audit : | C10: =IF(C9<>"-",C9+180,"-") -> -
J11: Rapport v1
B12: Les patients
B14: Sexe : | D14: N | E14: %
C15: Femme | D15: =COUNTIF(Fiches!D:D,Rapport!C15) -> 0 | E15: =IFERROR(D15/nbcas,0) -> 0
C16: Homme | D16: =COUNTIF(Fiches!D:D,Rapport!C16) -> 0 | E16: =IFERROR(D16/nbcas,0) -> 0
B18: Age moyen (écart-type) : | C18: =IFERROR(AVERAGE(Fiches!B:B),"-") -> - | D18: =IFERROR("ans (+/- "&FIXED(STDEV(Fiches!B:B),1)&")","-") -> -
B20: Classes d'âge : | D20: N | E20: %
C21: [18-25[ | D21: =Calculs!C7 -> 0 | E21: =IFERROR(D21/nbcas,0) -> 0
C22: [25-45[ | D22: =Calculs!C8 -> 0 | E22: =IFERROR(D22/nbcas,0) -> 0
C23: [45-65[ | D23: =Calculs!C9 -> 0 | E23: =IFERROR(D23/nbcas,0) -> 0
C24: [65-75[ | D24: =Calculs!C10 -> 0 | E24: =IFERROR(D24/nbcas,0) -> 0
C25: [75-85[ | D25: =Calculs!C11 -> 0 | E25: =IFERROR(D25/nbcas,0) -> 0
C26: ≥85 | D26: =Calculs!C12 -> 0 | E26: =IFERROR(D26/nbcas,0) -> 0
B28: Allergie aux antibiotiques : | C28: =COUNTIF(Fiches!H:H,"Oui") -> 0 | D28: =IFERROR(C28/nbcas,0) -> 0 | G28: Dispositif urinaire : | H28: =COUNTIF(Fiches!L:L,"Oui") -> 0 | I28: =IFERROR(H28/nbcas,0) -> 0
B30: Facteurs de risque de complication
G32: N | H32: %*
F33: Anomalie organique ou fonctionnelle de l'arbre urinaire | G33: =COUNTIF(Fiches!J:J,"Oui") -> 0 | H33: =IFERROR(G33/nbcas,0) -> 0
F34: Age >75 ans ou [65-75 ans[ avec >=3 critères de fragilité | G34: =Calculs!C25 -> 0 | H34: =IFERROR(G34/nbcas,0) -> 0
F35: Immunodépression grave | G35: =COUNTIF(Fiches!K:K,"Oui") -> 0 | H35: =IFERROR(G35/nbcas,0) -> 0
F36: Insuffisance rénale chronique sévère (clairance <30) | G36: =COUNTIF(Fiches!G:G,"<30") -> 0 | H36: =IFERROR(G36/nbcas,0) -> 0
F37: Sexe masculin | G37: =D16 -> 0 | H37: =IFERROR(G37/nbcas,0) -> 0
B39: Au moins 1 facteur : | C39: =Calculs!C29 -> 0 | D39: =IFERROR(C39/nbcas,0) -> 0
B41: Signes cliniques | C41: (Aucun : | D41: =COUNTIF(Fiches!M:M,"Oui") -> 0 | E41: )
D43: N | E43: %*
C44: Pollakiurie | D44: =COUNTIF(Fiches!N:N,"Oui") -> 0 | E44: =IFERROR(D44/nbcas,0) -> 0
C45: Brûlures mictionnelles | D45: =COUNTIF(Fiches!O:O,"Oui") -> 0 | E45: =IFERROR(D45/nbcas,0) -> 0
C46: Dysurie | D46: =COUNTIF(Fiches!P:P,"Oui") -> 0 | E46: =IFERROR(D46/nbcas,0) -> 0
C47: Douleurs lombaires | D47: =COUNTIF(Fiches!Q:Q,"Oui") -> 0 | E47: =IFERROR(D47/nbcas,0) -> 0
C48: Hématurie | D48: =COUNTIF(Fiches!R:R,"Oui") -> 0 | E48: =IFERROR(D48/nbcas,0) -> 0
C49: Fièvre | D49: =COUNTIF(Fiches!S:S,"Oui") -> 0 | E49: =IFERROR(D49/nbcas,0) -> 0
C50: Frissons | D50: =COUNTIF(Fiches!T:T,"Oui") -> 0 | E50: =IFERROR(D50/nbcas,0) -> 0
C51: Hypothermie | D51: =COUNTIF(Fiches!U:U,"Oui") -> 0 | E51: =IFERROR(D51/nbcas,0) -> 0
C52: Douleur sus-pubienne | D52: =COUNTIF(Fiches!V:V,"Oui") -> 0 | E52: =IFERROR(D52/nbcas,0) -> 0
C53: Incontinence urinaire récente | D53: =COUNTIF(Fiches!W:W,"Oui") -> 0 | E53: =IFERROR(D53/nbcas,0) -> 0
C54: Urines troubles/malodorantes | D54: =COUNTIF(Fiches!X:X,"Oui") -> 0 | E54: =IFERROR(D54/nbcas,0) -> 0 | G54: * un patient pouvant cumuler
C55: Confusion, chute… | D55: =COUNTIF(Fiches!Y:Y,"Oui") -> 0 | E55: =IFERROR(D55/nbcas,0) -> 0 | G55: plusieurs signes cliniques la somme
C56: Résidu mictionnel | D56: =COUNTIF(Fiches!Z:Z,"Oui") -> 0 | E56: =IFERROR(D56/nbcas,0) -> 0 | G56: des % peut être > 100
C57: Autre signe | D57: =COUNTIF(Fiches!AA:AA,"Oui") -> 0 | E57: =IFERROR(D57/nbcas,0) -> 0
B59: Examens complémentaires | C59: (Aucun : | D59: =Calculs!C75 -> 0 | E59: )
D61: N | E61: % | G61: Résultats : | I61: Leucocytes
B62: 1-Bandelette urinaire | C62: Faite | D62: =nbcas-D63 -> 0 | E62: =IFERROR(D62/nbcas,0) -> 0 | I62: + | J62: -
C63: Non faite | D63: =COUNTIF(Fiches!AC:AC,C63) -> 0 | E63: =IFERROR(D63/nbcas,0) -> 0 | G63: Nitrites | H63: + | I63: =COUNTIF(Fiches!AC:AC,"N+ L+") -> 0 | J63: =COUNTIF(Fiches!AD:AD,"N+ L-") -> 0
H64: - | I64: =COUNTIF(Fiches!AC:AC,"N- L+") -> 0 | J64: =COUNTIF(Fiches!AD:AD,"N- L-") -> 0
B66: 2-ECBU | D66: N | E66: %
C67: Fait | D67: =COUNTIF(Fiches!AD:AD,C67) -> 0 | E67: =IFERROR(D67/nbcas,0) -> 0
C68: Non fait | D68: =COUNTIF(Fiches!AD:AD,C68) -> 0 | E68: =IFERROR(D68/nbcas,0) -> 0
B70: Résultats : | F70: N | G70: %
B71: Leucocytes/ml | E71: <104 | F71: =COUNTIF(Fiches!AF:AF,"_<10p4") -> 0 | G71: =IFERROR(F71/nbcas,0) -> 0
E72: > ou égal à 104 | F72: =COUNTIF(Fiches!AF:AF,"_>=10p4") -> 0 | G72: =IFERROR(F72/nbcas,0) -> 0
B74: Germes et numération/ml
B75: (1er germe si plurimicrobien) | D75: N | E75: % | F75: <103 | G75: ≥103 / <104 | H75: ≥104 / <105 | I75: ≥105 | J75: BMR*
C76: Escherichia coli | D76: =COUNTIF(Fiches!AG:AG,C76) -> 0 | E76: =IFERROR(D76/nbcas,0) -> 0 | F76: =IF(Calculs!C60=0,"-",Calculs!C60) -> - | G76: =IF(Calculs!D60=0,"-",Calculs!D60) -> - | H76: =IF(Calculs!E60=0,"-",Calculs!E60) -> - | I76: =IF(Calculs!F60=0,"-",Calculs!F60) -> - | J76: =IF(Calculs!C94=0,"-",Calculs!C94) -> -
C77: Proteus mirabilis | D77: =COUNTIF(Fiches!AG:AG,C77) -> 0 | E77: =IFERROR(D77/nbcas,0) -> 0 | F77: =IF(Calculs!C61=0,"-",Calculs!C61) -> - | G77: =IF(Calculs!D61=0,"-",Calculs!D61) -> - | H77: =IF(Calculs!E61=0,"-",Calculs!E61) -> - | I77: =IF(Calculs!F61=0,"-",Calculs!F61) -> - | J77: -
C78: Enterococcus faecalis | D78: =COUNTIF(Fiches!AG:AG,C78) -> 0 | E78: =IFERROR(D78/nbcas,0) -> 0 | F78: =IF(Calculs!C62=0,"-",Calculs!C62) -> - | G78: =IF(Calculs!D62=0,"-",Calculs!D62) -> - | H78: =IF(Calculs!E62=0,"-",Calculs!E62) -> - | I78: =IF(Calculs!F62=0,"-",Calculs!F62) -> - | J78: -
C79: Klebsiella pneumoniae | D79: =COUNTIF(Fiches!AG:AG,C79) -> 0 | E79: =IFERROR(D79/nbcas,0) -> 0 | F79: =IF(Calculs!C63=0,"-",Calculs!C63) -> - | G79: =IF(Calculs!D63=0,"-",Calculs!D63) -> - | H79: =IF(Calculs!E63=0,"-",Calculs!E63) -> - | I79: =IF(Calculs!F63=0,"-",Calculs!F63) -> - | J79: =IF(Calculs!C97=0,"-",Calculs!C97) -> -
C80: Staphylococcus aureus | D80: =COUNTIF(Fiches!AG:AG,C80) -> 0 | E80: =IFERROR(D80/nbcas,0) -> 0 | F80: =IF(Calculs!C64=0,"-",Calculs!C64) -> - | G80: =IF(Calculs!D64=0,"-",Calculs!D64) -> - | H80: =IF(Calculs!E64=0,"-",Calculs!E64) -> - | I80: =IF(Calculs!F64=0,"-",Calculs!F64) -> - | J80: =IF(Calculs!C98=0,"-",Calculs!C98) -> -
C81: Enterobacter cloacae | D81: =COUNTIF(Fiches!AG:AG,C81) -> 0 | E81: =IFERROR(D81/nbcas,0) -> 0 | F81: =IF(Calculs!C65=0,"-",Calculs!C65) -> - | G81: =IF(Calculs!D65=0,"-",Calculs!D65) -> - | H81: =IF(Calculs!E65=0,"-",Calculs!E65) -> - | I81: =IF(Calculs!F65=0,"-",Calculs!F65) -> - | J81: =IF(Calculs!C99=0,"-",Calculs!C99) -> -
C82: Pseudomonas aeruginosa | D82: =COUNTIF(Fiches!AG:AG,C82) -> 0 | E82: =IFERROR(D82/nbcas,0) -> 0 | F82: =IF(Calculs!C66=0,"-",Calculs!C66) -> - | G82: =IF(Calculs!D66=0,"-",Calculs!D66) -> - | H82: =IF(Calculs!E66=0,"-",Calculs!E66) -> - | I82: =IF(Calculs!F66=0,"-",Calculs!F66) -> - | J82: =IF(Calculs!C100=0,"-",Calculs!C100) -> -
C83: Klebsiella oxytoca | D83: =COUNTIF(Fiches!AG:AG,C83) -> 0 | E83: =IFERROR(D83/nbcas,0) -> 0 | F83: =IF(Calculs!C67=0,"-",Calculs!C67) -> - | G83: =IF(Calculs!D67=0,"-",Calculs!D67) -> - | H83: =IF(Calculs!E67=0,"-",Calculs!E67) -> - | I83: =IF(Calculs!F67=0,"-",Calculs!F67) -> - | J83: =IF(Calculs!C101=0,"-",Calculs!C101) -> -
C84: Morganella | D84: =COUNTIF(Fiches!AG:AG,C84) -> 0 | E84: =IFERROR(D84/nbcas,0) -> 0 | F84: =IF(Calculs!C68=0,"-",Calculs!C68) -> - | G84: =IF(Calculs!D68=0,"-",Calculs!D68) -> - | H84: =IF(Calculs!E68=0,"-",Calculs!E68) -> - | I84: =IF(Calculs!F68=0,"-",Calculs!F68) -> - | J84: =IF(Calculs!C102=0,"-",Calculs!C102) -> -
C85: Autre | D85: =COUNTIF(Fiches!AG:AG,C85) -> 0 | E85: =IFERROR(D85/nbcas,0) -> 0 | F85: =IF(Calculs!C69=0,"-",Calculs!C69) -> - | G85: =IF(Calculs!D69=0,"-",Calculs!D69) -> - | H85: =IF(Calculs!E69=0,"-",Calculs!E69) -> - | I85: =IF(Calculs!F69=0,"-",Calculs!F69) -> - | J85: =IF(Calculs!C103=0,"-",Calculs!C103) -> -
D86: *BMR : bactérie multi-résistante
C101: Prélèv. Plurimicrobien : | D101: =COUNTIF(Fiches!BB:BB,">''")-2 -> 0 | E101: =IFERROR(D101/nbcas,0) -> 0
C103: Nombre de BMR, tous germes identifiés : | D103: =COUNTIF(Fiches!BA:BA,"Oui")+COUNTIF(Fiches!BU:BU,"Oui") -> 0 | E103: =IFERROR(D103/(nbcas+D101),0) -> 0 | F103: ="des "&nbcas+D101&" germes identifiés" -> des 0 germes identifiés
B105: Antibiogramme pour E.coli : | C105: N= | D105: =D76 -> 0 | I105: % Résistance
C106: (pour les E.coli notés en 1er germe) | D106: S | E106: I-R | F106: %I-R | G106: ND
C107: Ampicilline | D107: =Calculs!C79 -> 0 | E107: =Calculs!D79 -> 0 | F107: =IFERROR(E107/(nbecoli-G107),0) -> 0 | G107: =Calculs!E79 -> 0
C108: Amoxicilline-acide clav. | D108: =Calculs!C80 -> 0 | E108: =Calculs!D80 -> 0 | F108: =IFERROR(E108/(nbecoli-G108),0) -> 0 | G108: =Calculs!E80 -> 0
C109: Céfotaxime | D109: =Calculs!C81 -> 0 | E109: =Calculs!D81 -> 0 | F109: =IFERROR(E109/(nbecoli-G109),0) -> 0 | G109: =Calculs!E81 -> 0
C110: Céfépime | D110: =Calculs!C82 -> 0 | E110: =Calculs!D82 -> 0 | F110: =IFERROR(E110/(nbecoli-G110),0) -> 0 | G110: =Calculs!E82 -> 0
C111: Pivmécillinam | D111: =Calculs!C83 -> 0 | E111: =Calculs!D83 -> 0 | F111: =IFERROR(E111/(nbecoli-G111),0) -> 0 | G111: =Calculs!E83 -> 0
C112: Gentamicine | D112: =Calculs!C84 -> 0 | E112: =Calculs!D84 -> 0 | F112: =IFERROR(E112/(nbecoli-G112),0) -> 0 | G112: =Calculs!E84 -> 0
C113: Amikacine | D113: =Calculs!C85 -> 0 | E113: =Calculs!D85 -> 0 | F113: =IFERROR(E113/(nbecoli-G113),0) -> 0 | G113: =Calculs!E85 -> 0
C114: Ofloxacine | D114: =Calculs!C86 -> 0 | E114: =Calculs!D86 -> 0 | F114: =IFERROR(E114/(nbecoli-G114),0) -> 0 | G114: =Calculs!E86 -> 0
C115: Ciprofloxacine | D115: =Calculs!C87 -> 0 | E115: =Calculs!D87 -> 0 | F115: =IFERROR(E115/(nbecoli-G115),0) -> 0 | G115: =Calculs!E87 -> 0
C116: Triméthoprime+sufamides | D116: =Calculs!C88 -> 0 | E116: =Calculs!D88 -> 0 | F116: =IFERROR(E116/(nbecoli-G116),0) -> 0 | G116: =Calculs!E88 -> 0
C117: Fosfomycine | D117: =Calculs!C89 -> 0 | E117: =Calculs!D89 -> 0 | F117: =IFERROR(E117/(nbecoli-G117),0) -> 0 | G117: =Calculs!E89 -> 0
C118: Furanes | D118: =Calculs!C90 -> 0 | E118: =Calculs!D90 -> 0 | F118: =IFERROR(E118/(nbecoli-G118),0) -> 0 | G118: =Calculs!E90 -> 0
G119: ND : non disponible
B121: 3-Biologie | C121: =COUNTIF(Fiches!BV:BV,"Oui") -> 0 | D121: =IFERROR(C121/nbcas,0) -> 0 | F121: (comportant CRP, urée, créatinine)
B123: 4-Autre examen | C123: =COUNTIF(Fiches!BW:BW,"Oui") -> 0 | D123: =IFERROR(C123/nbcas,0) -> 0
B127: Diagnostics
D129: N | E129: %
B130: Cystite simple | D130: =COUNTIF(Fiches!BY:BY,B130) -> 0 | E130: =IFERROR(D130/nbcas,0) -> 0
B131: Cystite à risque de complication | D131: =COUNTIF(Fiches!BY:BY,B131) -> 0 | E131: =IFERROR(D131/nbcas,0) -> 0
B132: Pyélonéphrite simple sans signe de gravité | D132: =COUNTIF(Fiches!BY:BY,B132) -> 0 | E132: =IFERROR(D132/nbcas,0) -> 0
B133: Pyélonéphrite à risque de complication sans signe de gravité | D133: =COUNTIF(Fiches!BY:BY,B133) -> 0 | E133: =IFERROR(D133/nbcas,0) -> 0
B134: Pyélonéphrite grave | D134: =COUNTIF(Fiches!BY:BY,B134) -> 0 | E134: =IFERROR(D134/nbcas,0) -> 0
B135: Infection urinaire masculine | D135: =COUNTIF(Fiches!BY:BY,B135) -> 0 | E135: =IFERROR(D135/nbcas,0) -> 0
B136: Colonisation avec indication retenue à une antibiothérapie | D136: =COUNTIF(Fiches!BY:BY,B136) -> 0 | E136: =IFERROR(D136/nbcas,0) -> 0
B137: Infection urinaire, sans précision | D137: =COUNTIF(Fiches!BY:BY,B137) -> 0 | E137: =IFERROR(D137/nbcas,0) -> 0
B154: Traitements antibiotiques, réévaluation du traitement, suites
B156: Le listing des traitements est présenté en annexe.
B158: Réévaluation à H72 | F158: Réévaluation à J7-J10
...

Sheet Listing des TT
A1: Annexe : liste des traitements | O1: Note : seuls les 2 premiers traitements sont présentés
A2: CAS | B2: Diagnostic | C2: Germe | D2: Pluri-micr.? | E2: Nb TRT | F2: ATB 1 | G2: Voie | H2: Proba? | I2: Début | J2: Fin | K2: ATB 2 | L2: Voie | M2: Proba? | N2: Début | O2: Fin
A3: =IF(Fiches!A3="","",Fiches!A3) | B3: =IF(A3="","",Fiches!BY3) | C3: =IF(A3="","",IF(Fiches!AG3<>"Autres",Fiches!AG3,Fiches!AH3)&IF(Fiches!BB3="","",IF(Fiches!BB3<>"Autres"," + "&Fiches!BB3," + "&Fiches!BC3))) | D3: =IF(A3="","",IF(Fiches!BB3<>"","Oui","Non")) | E3: =IF(Fiches!BZ3="","",(Fiches!BZ3<>"")+(Fiches!CG3<>"")+(Fiches!CN3<>"")) | F3: =IF(Fiches!BZ3="","",Fiches!BZ3& " - "&Fiches!CA3) | G3: =IF(Fiches!BZ3="","",Fiches!CF3) | H3: =IF(Fiches!BZ3="","",Fiches!CB3) | I3: =IF(Fiches!BZ3="","",DAY(Fiches!CC3)&"/"&MONTH(Fiches!CC3)) | J3: =IF(Fiches!BZ3="","",DAY(Fiches!CD3)&"/"&MONTH(Fiches!CD3)) | K3: =IF(Fiches!CG3="","",Fiches!CG3 & " - "&Fiches!CH3) | L3: =IF(Fiches!CG3="","",Fiches!CM3) | M3: =IF(Fiches!CG3="","",Fiches!CI3) | N3: =IF(Fiches!CG3="","",DAY(Fiches!CJ3)&"/"&MONTH(Fiches!CJ3)) | O3: =IF(Fiches!CG3="","",DAY(Fiches!CK3)&"/"&MONTH(Fiches!CK3))
A4: =IF(Fiches!A4="","",Fiches!A4) | B4: =IF(A4="","",Fiches!BY4) | C4: =IF(A4="","",IF(Fiches!AG4<>"Autres",Fiches!AG4,Fiches!AH4)&IF(Fiches!BB4="","",IF(Fiches!BB4<>"Autres"," + "&Fiches!BB4," + "&Fiches!BC4))) | D4: =IF(A4="","",IF(Fiches!BB4<>"","Oui","Non")) | E4: =IF(Fiches!BZ4="","",(Fiches!BZ4<>"")+(Fiches!CG4<>"")+(Fiches!CN4<>"")) | F4: =IF(Fiches!BZ4="","",Fiches!BZ4& " - "&Fiches!CA4) | G4: =IF(Fiches!BZ4="","",Fiches!CF4) | H4: =IF(Fiches!BZ4="","",Fiches!CB4) | I4: =IF(Fiches!BZ4="","",DAY(Fiches!CC4)&"/"&MONTH(Fiches!CC4)) | J4: =IF(Fiches!BZ4="","",DAY(Fiches!CD4)&"/"&MONTH(Fiches!CD4)) | K4: =IF(Fiches!CG4="","",Fiches!CG4 & " - "&Fiches!CH4) | L4: =IF(Fiches!CG4="","",Fiches!CM4) | M4: =IF(Fiches!CG4="","",Fiches!CI4) | N4: =IF(Fiches!CG4="","",DAY(Fiches!CJ4)&"/"&MONTH(Fiches!CJ4)) | O4: =IF(Fiches!CG4="","",DAY(Fiches!CK4)&"/"&MONTH(Fiches!CK4))
A5: =IF(Fiches!A5="","",Fiches!A5) | B5: =IF(A5="","",Fiches!BY5) | C5: =IF(A5="","",IF(Fiches!AG5<>"Autres",Fiches!AG5,Fiches!AH5)&IF(Fiches!BB5="","",IF(Fiches!BB5<>"Autres"," + "&Fiches!BB5," + "&Fiches!BC5))) | D5: =IF(A5="","",IF(Fiches!BB5<>"","Oui","Non")) | E5: =IF(Fiches!BZ5="","",(Fiches!BZ5<>"")+(Fiches!CG5<>"")+(Fiches!CN5<>"")) | F5: =IF(Fiches!BZ5="","",Fiches!BZ5& " - "&Fiches!CA5) | G5: =IF(Fiches!BZ5="","",Fiches!CF5) | H5: =IF(Fiches!BZ5="","",Fiches!CB5) | I5: =IF(Fiches!BZ5="","",DAY(Fiches!CC5)&"/"&MONTH(Fiches!CC5)) | J5: =IF(Fiches!BZ5="","",DAY(Fiches!CD5)&"/"&MONTH(Fiches!CD5)) | K5: =IF(Fiches!CG5="","",Fiches!CG5 & " - "&Fiches!CH5) | L5: =IF(Fiches!CG5="","",Fiches!CM5) | M5: =IF(Fiches!CG5="","",Fiches!CI5) | N5: =IF(Fiches!CG5="","",DAY(Fiches!CJ5)&"/"&MONTH(Fiches!CJ5)) | O5: =IF(Fiches!CG5="","",DAY(Fiches!CK5)&"/"&MONTH(Fiches!CK5))
A6: =IF(Fiches!A6="","",Fiches!A6) | B6: =IF(A6="","",Fiches!BY6) | C6: =IF(A6="","",IF(Fiches!AG6<>"Autres",Fiches!AG6,Fiches!AH6)&IF(Fiches!BB6="","",IF(Fiches!BB6<>"Autres"," + "&Fiches!BB6," + "&Fiches!BC6))) | D6: =IF(A6="","",IF(Fiches!BB6<>"","Oui","Non")) | E6: =IF(Fiches!BZ6="","",(Fiches!BZ6<>"")+(Fiches!CG6<>"")+(Fiches!CN6<>"")) | F6: =IF(Fiches!BZ6="","",Fiches!BZ6& " - "&Fiches!CA6) | G6: =IF(Fiches!BZ6="","",Fiches!CF6) | H6: =IF(Fiches!BZ6="","",Fiches!CB6) | I6: =IF(Fiches!BZ6="","",DAY(Fiches!CC6)&"/"&MONTH(Fiches!CC6)) | J6: =IF(Fiches!BZ6="","",DAY(Fiches!CD6)&"/"&MONTH(Fiches!CD6)) | K6: =IF(Fiches!CG6="","",Fiches!CG6 & " - "&Fiches!CH6) | L6: =IF(Fiches!CG6="","",Fiches!CM6) | M6: =IF(Fiches!CG6="","",Fiches!CI6) | N6: =IF(Fiches!CG6="","",DAY(Fiches!CJ6)&"/"&MONTH(Fiches!CJ6)) | O6: =IF(Fiches!CG6="","",DAY(Fiches!CK6)&"/"&MONTH(Fiches!CK6))
A7: =IF(Fiches!A7="","",Fiches!A7) | B7: =IF(A7="","",Fiches!BY7) | C7: =IF(A7="","",IF(Fiches!AG7<>"Autres",Fiches!AG7,Fiches!AH7)&IF(Fiches!BB7="","",IF(Fiches!BB7<>"Autres"," + "&Fiches!BB7," + "&Fiches!BC7))) | D7: =IF(A7="","",IF(Fiches!BB7<>"","Oui","Non")) | E7: =IF(Fiches!BZ7="","",(Fiches!BZ7<>"")+(Fiches!CG7<>"")+(Fiches!CN7<>"")) | F7: =IF(Fiches!BZ7="","",Fiches!BZ7& " - "&Fiches!CA7) | G7: =IF(Fiches!BZ7="","",Fiches!CF7) | H7: =IF(Fiches!BZ7="","",Fiches!CB7) | I7: =IF(Fiches!BZ7="","",DAY(Fiches!CC7)&"/"&MONTH(Fiches!CC7)) | J7: =IF(Fiches!BZ7="","",DAY(Fiches!CD7)&"/"&MONTH(Fiches!CD7)) | K7: =IF(Fiches!CG7="","",Fiches!CG7 & " - "&Fiches!CH7) | L7: =IF(Fiches!CG7="","",Fiches!CM7) | M7: =IF(Fiches!CG7="","",Fiches!CI7) | N7: =IF(Fiches!CG7="","",DAY(Fiches!CJ7)&"/"&MONTH(Fiches!CJ7)) | O7: =IF(Fiches!CG7="","",DAY(Fiches!CK7)&"/"&MONTH(Fiches!CK7))
A8: =IF(Fiches!A8="","",Fiches!A8) | B8: =IF(A8="","",Fiches!BY8) | C8: =IF(A8="","",IF(Fiches!AG8<>"Autres",Fiches!AG8,Fiches!AH8)&IF(Fiches!BB8="","",IF(Fiches!BB8<>"Autres"," + "&Fiches!BB8," + "&Fiches!BC8))) | D8: =IF(A8="","",IF(Fiches!BB8<>"","Oui","Non")) | E8: =IF(Fiches!BZ8="","",(Fiches!BZ8<>"")+(Fiches!CG8<>"")+(Fiches!CN8<>"")) | F8: =IF(Fiches!BZ8="","",Fiches!BZ8& " - "&Fiches!CA8) | G8: =IF(Fiches!BZ8="","",Fiches!CF8) | H8: =IF(Fiches!BZ8="","",Fiches!CB8) | I8: =IF(Fiches!BZ8="","",DAY(Fiches!CC8)&"/"&MONTH(Fiches!CC8)) | J8: =IF(Fiches!BZ8="","",DAY(Fiches!CD8)&"/"&MONTH(Fiches!CD8)) | K8: =IF(Fiches!CG8="","",Fiches!CG8 & " - "&Fiches!CH8) | L8: =IF(Fiches!CG8="","",Fiches!CM8) | M8: =IF(Fiches!CG8="","",Fiches!CI8) | N8: =IF(Fiches!CG8="","",DAY(Fiches!CJ8)&"/"&MONTH(Fiches!CJ8)) | O8: =IF(Fiches!CG8="","",DAY(Fiches!CK8)&"/"&MONTH(Fiches!CK8))
A9: =IF(Fiches!A9="","",Fiches!A9) | B9: =IF(A9="","",Fiches!BY9) | C9: =IF(A9="","",IF(Fiches!AG9<>"Autres",Fiches!AG9,Fiches!AH9)&IF(Fiches!BB9="","",IF(Fiches!BB9<>"Autres"," + "&Fiches!BB9," + "&Fiches!BC9))) | D9: =IF(A9="","",IF(Fiches!BB9<>"","Oui","Non")) | E9: =IF(Fiches!BZ9="","",(Fiches!BZ9<>"")+(Fiches!CG9<>"")+(Fiches!CN9<>"")) | F9: =IF(Fiches!BZ9="","",Fiches!BZ9& " - "&Fiches!CA9) | G9: =IF(Fiches!BZ9="","",Fiches!CF9) | H9: =IF(Fiches!BZ9="","",Fiches!CB9) | I9: =IF(Fiches!BZ9="","",DAY(Fiches!CC9)&"/"&MONTH(Fiches!CC9)) | J9: =IF(Fiches!BZ9="","",DAY(Fiches!CD9)&"/"&MONTH(Fiches!CD9)) | K9: =IF(Fiches!CG9="","",Fiches!CG9 & " - "&Fiches!CH9) | L9: =IF(Fiches!CG9="","",Fiches!CM9) | M9: =IF(Fiches!CG9="","",Fiches!CI9) | N9: =IF(Fiches!CG9="","",DAY(Fiches!CJ9)&"/"&MONTH(Fiches!CJ9)) | O9: =IF(Fiches!CG9="","",DAY(Fiches!CK9)&"/"&MONTH(Fiches!CK9))
A10: =IF(Fiches!A10="","",Fiches!A10) | B10: =IF(A10="","",Fiches!BY10) | C10: =IF(A10="","",IF(Fiches!AG10<>"Autres",Fiches!AG10,Fiches!AH10)&IF(Fiches!BB10="","",IF(Fiches!BB10<>"Autres"," + "&Fiches!BB10," + "&Fiches!BD10))) | D10: =IF(A10="","",IF(Fiches!BB10<>"","Oui","Non")) | E10: =IF(Fiches!BZ10="","",(Fiches!BZ10<>"")+(Fiches!CG10<>"")+(Fiches!CN10<>"")) | F10: =IF(Fiches!BZ10="","",Fiches!BZ10& " - "&Fiches!CA10) | G10: =IF(Fiches!BZ10="","",Fiches!CF10) | H10: =IF(Fiches!BZ10="","",Fiches!CB10) | I10: =IF(Fiches!BZ10="","",DAY(Fiches!CC10)&"/"&MONTH(Fiches!CC10)) | J10: =IF(Fiches!BZ10="","",DAY(Fiches!CD10)&"/"&MONTH(Fiches!CD10)) | K10: =IF(Fiches!CG10="","",Fiches!CG10 & " - "&Fiches!CH10) | L10: =IF(Fiches!CG10="","",Fiches!CM10) | M10: =IF(Fiches!CG10="","",Fiches!CI10) | N10: =IF(Fiches!CG10="","",DAY(Fiches!CJ10)&"/"&MONTH(Fiches!CJ10)) | O10: =IF(Fiches!CG10="","",DAY(Fiches!CK10)&"/"&MONTH(Fiches!CK10))
A11: =IF(Fiches!A11="","",Fiches!A11) | B11: =IF(A11="","",Fiches!BY11) | C11: =IF(A11="","",IF(Fiches!AG11<>"Autres",Fiches!AG11,Fiches!AH11)&IF(Fiches!BB11="","",IF(Fiches!BB11<>"Autres"," + "&Fiches!BB11," + "&Fiches!BC11))) | D11: =IF(A11="","",IF(Fiches!BB11<>"","Oui","Non")) | E11: =IF(Fiches!BZ11="","",(Fiches!BZ11<>"")+(Fiches!CG11<>"")+(Fiches!CN11<>"")) | F11: =IF(Fiches!BZ11="","",Fiches!BZ11& " - "&Fiches!CA11) | G11: =IF(Fiches!BZ11="","",Fiches!CF11) | H11: =IF(Fiches!BZ11="","",Fiches!CB11) | I11: =IF(Fiches!BZ11="","",DAY(Fiches!CC11)&"/"&MONTH(Fiches!CC11)) | J11: =IF(Fiches!BZ11="","",DAY(Fiches!CD11)&"/"&MONTH(Fiches!CD11)) | K11: =IF(Fiches!CG11="","",Fiches!CG11 & " - "&Fiches!CH11) | L11: =IF(Fiches!CG11="","",Fiches!CM11) | M11: =IF(Fiches!CG11="","",Fiches!CI11) | N11: =IF(Fiches!CG11="","",DAY(Fiches!CJ11)&"/"&MONTH(Fiches!CJ11)) | O11: =IF(Fiches!CG11="","",DAY(Fiches!CK11)&"/"&MONTH(Fiches!CK11))
A12: =IF(Fiches!A12="","",Fiches!A12) | B12: =IF(A12="","",Fiches!BY12) | C12: =IF(A12="","",IF(Fiches!AG12<>"Autres",Fiches!AG12,Fiches!AH12)&IF(Fiches!BB12="","",IF(Fiches!BB12<>"Autres"," + "&Fiches!BB12," + "&Fiches!BC12))) | D12: =IF(A12="","",IF(Fiches!BB12<>"","Oui","Non")) | E12: =IF(Fiches!BZ12="","",(Fiches!BZ12<>"")+(Fiches!CG12<>"")+(Fiches!CN12<>"")) | F12: =IF(Fiches!BZ12="","",Fiches!BZ12& " - "&Fiches!CA12) | G12: =IF(Fiches!BZ12="","",Fiches!CF12) | H12: =IF(Fiches!BZ12="","",Fiches!CB12) | I12: =IF(Fiches!BZ12="","",DAY(Fiches!CC12)&"/"&MONTH(Fiches!CC12)) | J12: =IF(Fiches!BZ12="","",DAY(Fiches!CD12)&"/"&MONTH(Fiches!CD12)) | K12: =IF(Fiches!CG12="","",Fiches!CG12 & " - "&Fiches!CH12) | L12: =IF(Fiches!CG12="","",Fiches!CM12) | M12: =IF(Fiches!CG12="","",Fiches!CI12) | N12: =IF(Fiches!CG12="","",DAY(Fiches!CJ12)&"/"&MONTH(Fiches!CJ12)) | O12: =IF(Fiches!CG12="","",DAY(Fiches!CK12)&"/"&MONTH(Fiches!CK12))
A13: =IF(Fiches!A13="","",Fiches!A13) | B13: =IF(A13="","",Fiches!BY13) | C13: =IF(A13="","",IF(Fiches!AG13<>"Autres",Fiches!AG13,Fiches!AH13)&IF(Fiches!BB13="","",IF(Fiches!BB13<>"Autres"," + "&Fiches!BB13," + "&Fiches!BC13))) | D13: =IF(A13="","",IF(Fiches!BB13<>"","Oui","Non")) | E13: =IF(Fiches!BZ13="","",(Fiches!BZ13<>"")+(Fiches!CG13<>"")+(Fiches!CN13<>"")) | F13: =IF(Fiches!BZ13="","",Fiches!BZ13& " - "&Fiches!CA13) | G13: =IF(Fiches!BZ13="","",Fiches!CF13) | H13: =IF(Fiches!BZ13="","",Fiches!CB13) | I13: =IF(Fiches!BZ13="","",DAY(Fiches!CC13)&"/"&MONTH(Fiches!CC13)) | J13: =IF(Fiches!BZ13="","",DAY(Fiches!CD13)&"/"&MONTH(Fiches!CD13)) | K13: =IF(Fiches!CG13="","",Fiches!CG13 & " - "&Fiches!CH13) | L13: =IF(Fiches!CG13="","",Fiches!CM13) | M13: =IF(Fiches!CG13="","",Fiches!CI13) | N13: =IF(Fiches!CG13="","",DAY(Fiches!CJ13)&"/"&MONTH(Fiches!CJ13)) | O13: =IF(Fiches!CG13="","",DAY(Fiches!CK13)&"/"&MONTH(Fiches!CK13))
A14: =IF(Fiches!A14="","",Fiches!A14) | B14: =IF(A14="","",Fiches!BY14) | C14: =IF(A14="","",IF(Fiches!AG14<>"Autres",Fiches!AG14,Fiches!AH14)&IF(Fiches!BB14="","",IF(Fiches!BB14<>"Autres"," + "&Fiches!BB14," + "&Fiches!BC14))) | D14: =IF(A14="","",IF(Fiches!BB14<>"","Oui","Non")) | E14: =IF(Fiches!BZ14="","",(Fiches!BZ14<>"")+(Fiches!CG14<>"")+(Fiches!CN14<>"")) | F14: =IF(Fiches!BZ14="","",Fiches!BZ14& " - "&Fiches!CA14) | G14: =IF(Fiches!BZ14="","",Fiches!CF14) | H14: =IF(Fiches!BZ14="","",Fiches!CB14) | I14: =IF(Fiches!BZ14="","",DAY(Fiches!CC14)&"/"&MONTH(Fiches!CC14)) | J14: =IF(Fiches!BZ14="","",DAY(Fiches!CD14)&"/"&MONTH(Fiches!CD14)) | K14: =IF(Fiches!CG14="","",Fiches!CG14 & " - "&Fiches!CH14) | L14: =IF(Fiches!CG14="","",Fiches!CM14) | M14: =IF(Fiches!CG14="","",Fiches!CI14) | N14: =IF(Fiches!CG14="","",DAY(Fiches!CJ14)&"/"&MONTH(Fiches!CJ14)) | O14: =IF(Fiches!CG14="","",DAY(Fiches!CK14)&"/"&MONTH(Fiches!CK14))
A15: =IF(Fiches!A15="","",Fiches!A15) | B15: =IF(A15="","",Fiches!BY15) | C15: =IF(A15="","",IF(Fiches!AG15<>"Autres",Fiches!AG15,Fiches!AH15)&IF(Fiches!BB15="","",IF(Fiches!BB15<>"Autres"," + "&Fiches!BB15," + "&Fiches!BC15))) | D15: =IF(A15="","",IF(Fiches!BB15<>"","Oui","Non")) | E15: =IF(Fiches!BZ15="","",(Fiches!BZ15<>"")+(Fiches!CG15<>"")+(Fiches!CN15<>"")) | F15: =IF(Fiches!BZ15="","",Fiches!BZ15& " - "&Fiches!CA15) | G15: =IF(Fiches!BZ15="","",Fiches!CF15) | H15: =IF(Fiches!BZ15="","",Fiches!CB15) | I15: =IF(Fiches!BZ15="","",DAY(Fiches!CC15)&"/"&MONTH(Fiches!CC15)) | J15: =IF(Fiches!BZ15="","",DAY(Fiches!CD15)&"/"&MONTH(Fiches!CD15)) | K15: =IF(Fiches!CG15="","",Fiches!CG15 & " - "&Fiches!CH15) | L15: =IF(Fiches!CG15="","",Fiches!CM15) | M15: =IF(Fiches!CG15="","",Fiches!CI15) | N15: =IF(Fiches!CG15="","",DAY(Fiches!CJ15)&"/"&MONTH(Fiches!CJ15)) | O15: =IF(Fiches!CG15="","",DAY(Fiches!CK15)&"/"&MONTH(Fiches!CK15))
A16: =IF(Fiches!A16="","",Fiches!A16) | B16: =IF(A16="","",Fiches!BY16) | C16: =IF(A16="","",IF(Fiches!AG16<>"Autres",Fiches!AG16,Fiches!AH16)&IF(Fiches!BB16="","",IF(Fiches!BB16<>"Autres"," + "&Fiches!BB16," + "&Fiches!BC16))) | D16: =IF(A16="","",IF(Fiches!BB16<>"","Oui","Non")) | E16: =IF(Fiches!BZ16="","",(Fiches!BZ16<>"")+(Fiches!CG16<>"")+(Fiches!CN16<>"")) | F16: =IF(Fiches!BZ16="","",Fiches!BZ16& " - "&Fiches!CA16) | G16: =IF(Fiches!BZ16="","",Fiches!CF16) | H16: =IF(Fiches!BZ16="","",Fiches!CB16) | I16: =IF(Fiches!BZ16="","",DAY(Fiches!CC16)&"/"&MONTH(Fiches!CC16)) | J16: =IF(Fiches!BZ16="","",DAY(Fiches!CD16)&"/"&MONTH(Fiches!CD16)) | K16: =IF(Fiches!CG16="","",Fiches!CG16 & " - "&Fiches!CH16) | L16: =IF(Fiches!CG16="","",Fiches!CM16) | M16: =IF(Fiches!CG16="","",Fiches!CI16) | N16: =IF(Fiches!CG16="","",DAY(Fiches!CJ16)&"/"&MONTH(Fiches!CJ16)) | O16: =IF(Fiches!CG16="","",DAY(Fiches!CK16)&"/"&MONTH(Fiches!CK16))
A17: =IF(Fiches!A17="","",Fiches!A17) | B17: =IF(A17="","",Fiches!BY17) | C17: =IF(A17="","",IF(Fiches!AG17<>"Autres",Fiches!AG17,Fiches!AH17)&IF(Fiches!BB17="","",IF(Fiches!BB17<>"Autres"," + "&Fiches!BB17," + "&Fiches!BC17))) | D17: =IF(A17="","",IF(Fiches!BB17<>"","Oui","Non")) | E17: =IF(Fiches!BZ17="","",(Fiches!BZ17<>"")+(Fiches!CG17<>"")+(Fiches!CN17<>"")) | F17: =IF(Fiches!BZ17="","",Fiches!BZ17& " - "&Fiches!CA17) | G17: =IF(Fiches!BZ17="","",Fiches!CF17) | H17: =IF(Fiches!BZ17="","",Fiches!CB17) | I17: =IF(Fiches!BZ17="","",DAY(Fiches!CC17)&"/"&MONTH(Fiches!CC17)) | J17: =IF(Fiches!BZ17="","",DAY(Fiches!CD17)&"/"&MONTH(Fiches!CD17)) | K17: =IF(Fiches!CG17="","",Fiches!CG17 & " - "&Fiches!CH17) | L17: =IF(Fiches!CG17="","",Fiches!CM17) | M17: =IF(Fiches!CG17="","",Fiches!CI17) | N17: =IF(Fiches!CG17="","",DAY(Fiches!CJ17)&"/"&MONTH(Fiches!CJ17)) | O17: =IF(Fiches!CG17="","",DAY(Fiches!CK17)&"/"&MONTH(Fiches!CK17))
A18: =IF(Fiches!A18="","",Fiches!A18) | B18: =IF(A18="","",Fiches!BY18) | C18: =IF(A18="","",IF(Fiches!AG18<>"Autres",Fiches!AG18,Fiches!AH18)&IF(Fiches!BB18="","",IF(Fiches!BB18<>"Autres"," + "&Fiches!BB18," + "&Fiches!BC18))) | D18: =IF(A18="","",IF(Fiches!BB18<>"","Oui","Non")) | E18: =IF(Fiches!BZ18="","",(Fiches!BZ18<>"")+(Fiches!CG18<>"")+(Fiches!CN18<>"")) | F18: =IF(Fiches!BZ18="","",Fiches!BZ18& " - "&Fiches!CA18) | G18: =IF(Fiches!BZ18="","",Fiches!CF18) | H18: =IF(Fiches!BZ18="","",Fiches!CB18) | I18: =IF(Fiches!BZ18="","",DAY(Fiches!CC18)&"/"&MONTH(Fiches!CC18)) | J18: =IF(Fiches!BZ18="","",DAY(Fiches!CD18)&"/"&MONTH(Fiches!CD18)) | K18: =IF(Fiches!CG18="","",Fiches!CG18 & " - "&Fiches!CH18) | L18: =IF(Fiches!CG18="","",Fiches!CM18) | M18: =IF(Fiches!CG18="","",Fiches!CI18) | N18: =IF(Fiches!CG18="","",DAY(Fiches!CJ18)&"/"&MONTH(Fiches!CJ18)) | O18: =IF(Fiches!CG18="","",DAY(Fiches!CK18)&"/"&MONTH(Fiches!CK18))
A19: =IF(Fiches!A19="","",Fiches!A19) | B19: =IF(A19="","",Fiches!BY19) | C19: =IF(A19="","",IF(Fiches!AG19<>"Autres",Fiches!AG19,Fiches!AH19)&IF(Fiches!BB19="","",IF(Fiches!BB19<>"Autres"," + "&Fiches!BB19," + "&Fiches!BC19))) | D19: =IF(A19="","",IF(Fiches!BB19<>"","Oui","Non")) | E19: =IF(Fiches!BZ19="","",(Fiches!BZ19<>"")+(Fiches!CG19<>"")+(Fiches!CN19<>"")) | F19: =IF(Fiches!BZ19="","",Fiches!BZ19& " - "&Fiches!CA19) | G19: =IF(Fiches!BZ19="","",Fiches!CF19) | H19: =IF(Fiches!BZ19="","",Fiches!CB19) | I19: =IF(Fiches!BZ19="","",DAY(Fiches!CC19)&"/"&MONTH(Fiches!CC19)) | J19: =IF(Fiches!BZ19="","",DAY(Fiches!CD19)&"/"&MONTH(Fiches!CD19)) | K19: =IF(Fiches!CG19="","",Fiches!CG19 & " - "&Fiches!CH19) | L19: =IF(Fiches!CG19="","",Fiches!CM19) | M19: =IF(Fiches!CG19="","",Fiches!CI19) | N19: =IF(Fiches!CG19="","",DAY(Fiches!CJ19)&"/"&MONTH(Fiches!CJ19)) | O19: =IF(Fiches!CG19="","",DAY(Fiches!CK19)&"/"&MONTH(Fiches!CK19))
A20: =IF(Fiches!A20="","",Fiches!A20) | B20: =IF(A20="","",Fiches!BY20) | C20: =IF(A20="","",IF(Fiches!AG20<>"Autres",Fiches!AG20,Fiches!AH20)&IF(Fiches!BB20="","",IF(Fiches!BB20<>"Autres"," + "&Fiches!BB20," + "&Fiches!BC20))) | D20: =IF(A20="","",IF(Fiches!BB20<>"","Oui","Non")) | E20: =IF(Fiches!BZ20="","",(Fiches!BZ20<>"")+(Fiches!CG20<>"")+(Fiches!CN20<>"")) | F20: =IF(Fiches!BZ20="","",Fiches!BZ20& " - "&Fiches!CA20) | G20: =IF(Fiches!BZ20="","",Fiches!CF20) | H20: =IF(Fiches!BZ20="","",Fiches!CB20) | I20: =IF(Fiches!BZ20="","",DAY(Fiches!CC20)&"/"&MONTH(Fiches!CC20)) | J20: =IF(Fiches!BZ20="","",DAY(Fiches!CD20)&"/"&MONTH(Fiches!CD20)) | K20: =IF(Fiches!CG20="","",Fiches!CG20 & " - "&Fiches!CH20) | L20: =IF(Fiches!CG20="","",Fiches!CM20) | M20: =IF(Fiches!CG20="","",Fiches!CI20) | N20: =IF(Fiches!CG20="","",DAY(Fiches!CJ20)&"/"&MONTH(Fiches!CJ20)) | O20: =IF(Fiches!CG20="","",DAY(Fiches!CK20)&"/"&MONTH(Fiches!CK20))
A21: =IF(Fiches!A21="","",Fiches!A21) | B21: =IF(A21="","",Fiches!BY21) | C21: =IF(A21="","",IF(Fiches!AG21<>"Autres",Fiches!AG21,Fiches!AH21)&IF(Fiches!BB21="","",IF(Fiches!BB21<>"Autres"," + "&Fiches!BB21," + "&Fiches!BD21))) | D21: =IF(A21="","",IF(Fiches!BB21<>"","Oui","Non")) | E21: =IF(Fiches!BZ21="","",(Fiches!BZ21<>"")+(Fiches!CG21<>"")+(Fiches!CN21<>"")) | F21: =IF(Fiches!BZ21="","",Fiches!BZ21& " - "&Fiches!CA21) | G21: =IF(Fiches!BZ21="","",Fiches!CF21) | H21: =IF(Fiches!BZ21="","",Fiches!CB21) | I21: =IF(Fiches!BZ21="","",DAY(Fiches!CC21)&"/"&MONTH(Fiches!CC21)) | J21: =IF(Fiches!BZ21="","",DAY(Fiches!CD21)&"/"&MONTH(Fiches!CD21)) | K21: =IF(Fiches!CG21="","",Fiches!CG21 & " - "&Fiches!CH21) | L21: =IF(Fiches!CG21="","",Fiches!CM21) | M21: =IF(Fiches!CG21="","",Fiches!CI21) | N21: =IF(Fiches!CG21="","",DAY(Fiches!CJ21)&"/"&MONTH(Fiches!CJ21)) | O21: =IF(Fiches!CG21="","",DAY(Fiches!CK21)&"/"&MONTH(Fiches!CK21))
A22: =IF(Fiches!A22="","",Fiches!A22) | B22: =IF(A22="","",Fiches!BY22) | C22: =IF(A22="","",IF(Fiches!AG22<>"Autres",Fiches!AG22,Fiches!AH22)&IF(Fiches!BB22="","",IF(Fiches!BB22<>"Autres"," + "&Fiches!BB22," + "&Fiches!BC22))) | D22: =IF(A22="","",IF(Fiches!BB22<>"","Oui","Non")) | E22: =IF(Fiches!BZ22="","",(Fiches!BZ22<>"")+(Fiches!CG22<>"")+(Fiches!CN22<>"")) | F22: =IF(Fiches!BZ22="","",Fiches!BZ22& " - "&Fiches!CA22) | G22: =IF(Fiches!BZ22="","",Fiches!CF22) | H22: =IF(Fiches!BZ22="","",Fiches!CB22) | I22: =IF(Fiches!BZ22="","",DAY(Fiches!CC22)&"/"&MONTH(Fiches!CC22)) | J22: =IF(Fiches!BZ22="","",DAY(Fiches!CD22)&"/"&MONTH(Fiches!CD22)) | K22: =IF(Fiches!CG22="","",Fiches!CG22 & " - "&Fiches!CH22) | L22: =IF(Fiches!CG22="","",Fiches!CM22) | M22: =IF(Fiches!CG22="","",Fiches!CI22) | N22: =IF(Fiches!CG22="","",DAY(Fiches!CJ22)&"/"&MONTH(Fiches!CJ22)) | O22: =IF(Fiches!CG22="","",DAY(Fiches!CK22)&"/"&MONTH(Fiches!CK22))
A23: =IF(Fiches!A23="","",Fiches!A23) | B23: =IF(A23="","",Fiches!BY23) | C23: =IF(A23="","",IF(Fiches!AG23<>"Autres",Fiches!AG23,Fiches!AH23)&IF(Fiches!BB23="","",IF(Fiches!BB23<>"Autres"," + "&Fiches!BB23," + "&Fiches!BC23))) | D23: =IF(A23="","",IF(Fiches!BB23<>"","Oui","Non")) | E23: =IF(Fiches!BZ23="","",(Fiches!BZ23<>"")+(Fiches!CG23<>"")+(Fiches!CN23<>"")) | F23: =IF(Fiches!BZ23="","",Fiches!BZ23& " - "&Fiches!CA23) | G23: =IF(Fiches!BZ23="","",Fiches!CF23) | H23: =IF(Fiches!BZ23="","",Fiches!CB23) | I23: =IF(Fiches!BZ23="","",DAY(Fiches!CC23)&"/"&MONTH(Fiches!CC23)) | J23: =IF(Fiches!BZ23="","",DAY(Fiches!CD23)&"/"&MONTH(Fiches!CD23)) | K23: =IF(Fiches!CG23="","",Fiches!CG23 & " - "&Fiches!CH23) | L23: =IF(Fiches!CG23="","",Fiches!CM23) | M23: =IF(Fiches!CG23="","",Fiches!CI23) | N23: =IF(Fiches!CG23="","",DAY(Fiches!CJ23)&"/"&MONTH(Fiches!CJ23)) | O23: =IF(Fiches!CG23="","",DAY(Fiches!CK23)&"/"&MONTH(Fiches!CK23))
A24: =IF(Fiches!A24="","",Fiches!A24) | B24: =IF(A24="","",Fiches!BY24) | C24: =IF(A24="","",IF(Fiches!AG24<>"Autres",Fiches!AG24,Fiches!AH24)&IF(Fiches!BB24="","",IF(Fiches!BB24<>"Autres"," + "&Fiches!BB24," + "&Fiches!BC24))) | D24: =IF(A24="","",IF(Fiches!BB24<>"","Oui","Non")) | E24: =IF(Fiches!BZ24="","",(Fiches!BZ24<>"")+(Fiches!CG24<>"")+(Fiches!CN24<>"")) | F24: =IF(Fiches!BZ24="","",Fiches!BZ24& " - "&Fiches!CA24) | G24: =IF(Fiches!BZ24="","",Fiches!CF24) | H24: =IF(Fiches!BZ24="","",Fiches!CB24) | I24: =IF(Fiches!BZ24="","",DAY(Fiches!CC24)&"/"&MONTH(Fiches!CC24)) | J24: =IF(Fiches!BZ24="","",DAY(Fiches!CD24)&"/"&MONTH(Fiches!CD24)) | K24: =IF(Fiches!CG24="","",Fiches!CG24 & " - "&Fiches!CH24) | L24: =IF(Fiches!CG24="","",Fiches!CM24) | M24: =IF(Fiches!CG24="","",Fiches!CI24) | N24: =IF(Fiches!CG24="","",DAY(Fiches!CJ24)&"/"&MONTH(Fiches!CJ24)) | O24: =IF(Fiches!CG24="","",DAY(Fiches!CK24)&"/"&MONTH(Fiches!CK24))
A25: =IF(Fiches!A25="","",Fiches!A25) | B25: =IF(A25="","",Fiches!BY25) | C25: =IF(A25="","",IF(Fiches!AG25<>"Autres",Fiches!AG25,Fiches!AH25)&IF(Fiches!BB25="","",IF(Fiches!BB25<>"Autres"," + "&Fiches!BB25," + "&Fiches!BC25))) | D25: =IF(A25="","",IF(Fiches!BB25<>"","Oui","Non")) | E25: =IF(Fiches!BZ25="","",(Fiches!BZ25<>"")+(Fiches!CG25<>"")+(Fiches!CN25<>"")) | F25: =IF(Fiches!BZ25="","",Fiches!BZ25& " - "&Fiches!CA25) | G25: =IF(Fiches!BZ25="","",Fiches!CF25) | H25: =IF(Fiches!BZ25="","",Fiches!CB25) | I25: =IF(Fiches!BZ25="","",DAY(Fiches!CC25)&"/"&MONTH(Fiches!CC25)) | J25: =IF(Fiches!BZ25="","",DAY(Fiches!CD25)&"/"&MONTH(Fiches!CD25)) | K25: =IF(Fiches!CG25="","",Fiches!CG25 & " - "&Fiches!CH25) | L25: =IF(Fiches!CG25="","",Fiches!CM25) | M25: =IF(Fiches!CG25="","",Fiches!CI25) | N25: =IF(Fiches!CG25="","",DAY(Fiches!CJ25)&"/"&MONTH(Fiches!CJ25)) | O25: =IF(Fiches!CG25="","",DAY(Fiches!CK25)&"/"&MONTH(Fiches!CK25))
A26: =IF(Fiches!A26="","",Fiches!A26) | B26: =IF(A26="","",Fiches!BY26) | C26: =IF(A26="","",IF(Fiches!AG26<>"Autres",Fiches!AG26,Fiches!AH26)&IF(Fiches!BB26="","",IF(Fiches!BB26<>"Autres"," + "&Fiches!BB26," + "&Fiches!BC26))) | D26: =IF(A26="","",IF(Fiches!BB26<>"","Oui","Non")) | E26: =IF(Fiches!BZ26="","",(Fiches!BZ26<>"")+(Fiches!CG26<>"")+(Fiches!CN26<>"")) | F26: =IF(Fiches!BZ26="","",Fiches!BZ26& " - "&Fiches!CA26) | G26: =IF(Fiches!BZ26="","",Fiches!CF26) | H26: =IF(Fiches!BZ26="","",Fiches!CB26) | I26: =IF(Fiches!BZ26="","",DAY(Fiches!CC26)&"/"&MONTH(Fiches!CC26)) | J26: =IF(Fiches!BZ26="","",DAY(Fiches!CD26)&"/"&MONTH(Fiches!CD26)) | K26: =IF(Fiches!CG26="","",Fiches!CG26 & " - "&Fiches!CH26) | L26: =IF(Fiches!CG26="","",Fiches!CM26) | M26: =IF(Fiches!CG26="","",Fiches!CI26) | N26: =IF(Fiches!CG26="","",DAY(Fiches!CJ26)&"/"&MONTH(Fiches!CJ26)) | O26: =IF(Fiches!CG26="","",DAY(Fiches!CK26)&"/"&MONTH(Fiches!CK26))
A27: =IF(Fiches!A27="","",Fiches!A27) | B27: =IF(A27="","",Fiches!BY27) | C27: =IF(A27="","",IF(Fiches!AG27<>"Autres",Fiches!AG27,Fiches!AH27)&IF(Fiches!BB27="","",IF(Fiches!BB27<>"Autres"," + "&Fiches!BB27," + "&Fiches!BC27))) | D27: =IF(A27="","",IF(Fiches!BB27<>"","Oui","Non")) | E27: =IF(Fiches!BZ27="","",(Fiches!BZ27<>"")+(Fiches!CG27<>"")+(Fiches!CN27<>"")) | F27: =IF(Fiches!BZ27="","",Fiches!BZ27& " - "&Fiches!CA27) | G27: =IF(Fiches!BZ27="","",Fiches!CF27) | H27: =IF(Fiches!BZ27="","",Fiches!CB27) | I27: =IF(Fiches!BZ27="","",DAY(Fiches!CC27)&"/"&MONTH(Fiches!CC27)) | J27: =IF(Fiches!BZ27="","",DAY(Fiches!CD27)&"/"&MONTH(Fiches!CD27)) | K27: =IF(Fiches!CG27="","",Fiches!CG27 & " - "&Fiches!CH27) | L27: =IF(Fiches!CG27="","",Fiches!CM27) | M27: =IF(Fiches!CG27="","",Fiches!CI27) | N27: =IF(Fiches!CG27="","",DAY(Fiches!CJ27)&"/"&MONTH(Fiches!CJ27)) | O27: =IF(Fiches!CG27="","",DAY(Fiches!CK27)&"/"&MONTH(Fiches!CK27))
A28: =IF(Fiches!A28="","",Fiches!A28) | B28: =IF(A28="","",Fiches!BY28) | C28: =IF(A28="","",IF(Fiches!AG28<>"Autres",Fiches!AG28,Fiches!AH28)&IF(Fiches!BB28="","",IF(Fiches!BB28<>"Autres"," + "&Fiches!BB28," + "&Fiches!BC28))) | D28: =IF(A28="","",IF(Fiches!BB28<>"","Oui","Non")) | E28: =IF(Fiches!BZ28="","",(Fiches!BZ28<>"")+(Fiches!CG28<>"")+(Fiches!CN28<>"")) | F28: =IF(Fiches!BZ28="","",Fiches!BZ28& " - "&Fiches!CA28) | G28: =IF(Fiches!BZ28="","",Fiches!CF28) | H28: =IF(Fiches!BZ28="","",Fiches!CB28) | I28: =IF(Fiches!BZ28="","",DAY(Fiches!CC28)&"/"&MONTH(Fiches!CC28)) | J28: =IF(Fiches!BZ28="","",DAY(Fiches!CD28)&"/"&MONTH(Fiches!CD28)) | K28: =IF(Fiches!CG28="","",Fiches!CG28 & " - "&Fiches!CH28) | L28: =IF(Fiches!CG28="","",Fiches!CM28) | M28: =IF(Fiches!CG28="","",Fiches!CI28) | N28: =IF(Fiches!CG28="","",DAY(Fiches!CJ28)&"/"&MONTH(Fiches!CJ28)) | O28: =IF(Fiches!CG28="","",DAY(Fiches!CK28)&"/"&MONTH(Fiches!CK28))
A29: =IF(Fiches!A29="","",Fiches!A29) | B29: =IF(A29="","",Fiches!BY29) | C29: =IF(A29="","",IF(Fiches!AG29<>"Autres",Fiches!AG29,Fiches!AH29)&IF(Fiches!BB29="","",IF(Fiches!BB29<>"Autres"," + "&Fiches!BB29," + "&Fiches!BC29))) | D29: =IF(A29="","",IF(Fiches!BB29<>"","Oui","Non")) | E29: =IF(Fiches!BZ29="","",(Fiches!BZ29<>"")+(Fiches!CG29<>"")+(Fiches!CN29<>"")) | F29: =IF(Fiches!BZ29="","",Fiches!BZ29& " - "&Fiches!CA29) | G29: =IF(Fiches!BZ29="","",Fiches!CF29) | H29: =IF(Fiches!BZ29="","",Fiches!CB29) | I29: =IF(Fiches!BZ29="","",DAY(Fiches!CC29)&"/"&MONTH(Fiches!CC29)) | J29: =IF(Fiches!BZ29="","",DAY(Fiches!CD29)&"/"&MONTH(Fiches!CD29)) | K29: =IF(Fiches!CG29="","",Fiches!CG29 & " - "&Fiches!CH29) | L29: =IF(Fiches!CG29="","",Fiches!CM29) | M29: =IF(Fiches!CG29="","",Fiches!CI29) | N29: =IF(Fiches!CG29="","",DAY(Fiches!CJ29)&"/"&MONTH(Fiches!CJ29)) | O29: =IF(Fiches!CG29="","",DAY(Fiches!CK29)&"/"&MONTH(Fiches!CK29))
A30: =IF(Fiches!A30="","",Fiches!A30) | B30: =IF(A30="","",Fiches!BY30) | C30: =IF(A30="","",IF(Fiches!AG30<>"Autres",Fiches!AG30,Fiches!AH30)&IF(Fiches!BB30="","",IF(Fiches!BB30<>"Autres"," + "&Fiches!BB30," + "&Fiches!BC30))) | D30: =IF(A30="","",IF(Fiches!BB30<>"","Oui","Non")) | E30: =IF(Fiches!BZ30="","",(Fiches!BZ30<>"")+(Fiches!CG30<>"")+(Fiches!CN30<>"")) | F30: =IF(Fiches!BZ30="","",Fiches!BZ30& " - "&Fiches!CA30) | G30: =IF(Fiches!BZ30="","",Fiches!CF30) | H30: =IF(Fiches!BZ30="","",Fiches!CB30) | I30: =IF(Fiches!BZ30="","",DAY(Fiches!CC30)&"/"&MONTH(Fiches!CC30)) | J30: =IF(Fiches!BZ30="","",DAY(Fiches!CD30)&"/"&MONTH(Fiches!CD30)) | K30: =IF(Fiches!CG30="","",Fiches!CG30 & " - "&Fiches!CH30) | L30: =IF(Fiches!CG30="","",Fiches!CM30) | M30: =IF(Fiches!CG30="","",Fiches!CI30) | N30: =IF(Fiches!CG30="","",DAY(Fiches!CJ30)&"/"&MONTH(Fiches!CJ30)) | O30: =IF(Fiches!CG30="","",DAY(Fiches!CK30)&"/"&MONTH(Fiches!CK30))
A31: =IF(Fiches!A31="","",Fiches!A31) | B31: =IF(A31="","",Fiches!BY31) | C31: =IF(A31="","",IF(Fiches!AG31<>"Autres",Fiches!AG31,Fiches!AH31)&IF(Fiches!BB31="","",IF(Fiches!BB31<>"Autres"," + "&Fiches!BB31," + "&Fiches!BC31))) | D31: =IF(A31="","",IF(Fiches!BB31<>"","Oui","Non")) | E31: =IF(Fiches!BZ31="","",(Fiches!BZ31<>"")+(Fiches!CG31<>"")+(Fiches!CN31<>"")) | F31: =IF(Fiches!BZ31="","",Fiches!BZ31& " - "&Fiches!CA31) | G31: =IF(Fiches!BZ31="","",Fiches!CF31) | H31: =IF(Fiches!BZ31="","",Fiches!CB31) | I31: =IF(Fiches!BZ31="","",DAY(Fiches!CC31)&"/"&MONTH(Fiches!CC31)) | J31: =IF(Fiches!BZ31="","",DAY(Fiches!CD31)&"/"&MONTH(Fiches!CD31)) | K31: =IF(Fiches!CG31="","",Fiches!CG31 & " - "&Fiches!CH31) | L31: =IF(Fiches!CG31="","",Fiches!CM31) | M31: =IF(Fiches!CG31="","",Fiches!CI31) | N31: =IF(Fiches!CG31="","",DAY(Fiches!CJ31)&"/"&MONTH(Fiches!CJ31)) | O31: =IF(Fiches!CG31="","",DAY(Fiches!CK31)&"/"&MONTH(Fiches!CK31))
A32: =IF(Fiches!A32="","",Fiches!A32) | B32: =IF(A32="","",Fiches!BY32) | C32: =IF(A32="","",IF(Fiches!AG32<>"Autres",Fiches!AG32,Fiches!AH32)&IF(Fiches!BB32="","",IF(Fiches!BB32<>"Autres"," + "&Fiches!BB32," + "&Fiches!BC32))) | D32: =IF(A32="","",IF(Fiches!BB32<>"","Oui","Non")) | E32: =IF(Fiches!BZ32="","",(Fiches!BZ32<>"")+(Fiches!CG32<>"")+(Fiches!CN32<>"")) | F32: =IF(Fiches!BZ32="","",Fiches!BZ32& " - "&Fiches!CA32) | G32: =IF(Fiches!BZ32="","",Fiches!CF32) | H32: =IF(Fiches!BZ32="","",Fiches!CB32) | I32: =IF(Fiches!BZ32="","",DAY(Fiches!CC32)&"/"&MONTH(Fiches!CC32)) | J32: =IF(Fiches!BZ32="","",DAY(Fiches!CD32)&"/"&MONTH(Fiches!CD32)) | K32: =IF(Fiches!CG32="","",Fiches!CG32 & " - "&Fiches!CH32) | L32: =IF(Fiches!CG32="","",Fiches!CM32) | M32: =IF(Fiches!CG32="","",Fiches!CI32) | N32: =IF(Fiches!CG32="","",DAY(Fiches!CJ32)&"/"&MONTH(Fiches!CJ32)) | O32: =IF(Fiches!CG32="","",DAY(Fiches!CK32)&"/"&MONTH(Fiches!CK32))
A33: =IF(Fiches!A33="","",Fiches!A33) | B33: =IF(A33="","",Fiches!BY33) | C33: =IF(A33="","",IF(Fiches!AG33<>"Autres",Fiches!AG33,Fiches!AH33)&IF(Fiches!BB33="","",IF(Fiches!BB33<>"Autres"," + "&Fiches!BB33," + "&Fiches!BC33))) | D33: =IF(A33="","",IF(Fiches!BB33<>"","Oui","Non")) | E33: =IF(Fiches!BZ33="","",(Fiches!BZ33<>"")+(Fiches!CG33<>"")+(Fiches!CN33<>"")) | F33: =IF(Fiches!BZ33="","",Fiches!BZ33& " - "&Fiches!CA33) | G33: =IF(Fiches!BZ33="","",Fiches!CF33) | H33: =IF(Fiches!BZ33="","",Fiches!CB33) | I33: =IF(Fiches!BZ33="","",DAY(Fiches!CC33)&"/"&MONTH(Fiches!CC33)) | J33: =IF(Fiches!BZ33="","",DAY(Fiches!CD33)&"/"&MONTH(Fiches!CD33)) | K33: =IF(Fiches!CG33="","",Fiches!CG33 & " - "&Fiches!CH33) | L33: =IF(Fiches!CG33="","",Fiches!CM33) | M33: =IF(Fiches!CG33="","",Fiches!CI33) | N33: =IF(Fiches!CG33="","",DAY(Fiches!CJ33)&"/"&MONTH(Fiches!CJ33)) | O33: =IF(Fiches!CG33="","",DAY(Fiches!CK33)&"/"&MONTH(Fiches!CK33))
... A52: =IF(Fiches!A52="","",Fiches!A52) | B52: =IF(A52="","",Fiches!BY52) | C52: =IF(A52="","",IF(Fiches!AG52<>"Autres",Fiches!AG52,Fiches!AH52)&IF(Fiches!BB52="","",IF(Fiches!BB52<>"Autres"," + "&Fiches!BB52," + "&Fiches!BC52))) | D52: =IF(A52="","",IF(Fiches!BB52<>"","Oui","Non")) | E52: =IF(Fiches!BZ52="","",(Fiches!BZ52<>"")+(Fiches!CG52<>"")+(Fiches!CN52<>"")) | F52: =IF(Fiches!BZ52="","",Fiches!BZ52& " - "&Fiches!CA52) | G52: =IF(Fiches!BZ52="","",Fiches!CF52) | H52: =IF(Fiches!BZ52="","",Fiches!CB52) | I52: =IF(Fiches!BZ52="","",DAY(Fiches!CC52)&"/"&MONTH(Fiches!CC52)) | J52: =IF(Fiches!BZ52="","",DAY(Fiches!CD52)&"/"&MONTH(Fiches!CD52)) | K52: =IF(Fiches!CG52="","",Fiches!CG52 & " - "&Fiches!CH52) | L52: =IF(Fiches!CG52="","",Fiches!CM52) | M52: =IF(Fiches!CG52="","",Fiches!CI52) | N52: =IF(Fiches!CG52="","",DAY(Fiches!CJ52)&"/"&MONTH(Fiches!CJ52)) | O52: =IF(Fiches!CG52="","",DAY(Fiches!CK52)&"/"&MONTH(Fiches!CK52))

Sheet Labels
A1: Onglet masqué
J2: (liste ENP 2017)
A3: Sexe | B3: ON | C3: BU | D3: ECBU | E3: LEUCO | F3: GERME | G3: NUMER | H3: IR | I3: Diagnostic | J3: mlc | K3: atc5 | L3: voie
A4: Femme | B4: Oui | C4: N+ L+ | D4: Fait | E4: _<10p4 | F4: Escherichia coli | G4: _<10p3 | H4: S | I4: Cystite simple | J4: ABBOTICINE | K4: J01FA01 | L4: PO
A5: Homme | B5: Non | C5: N+ L- | D5: Non fait | E5: _>=10p4 | F5: Pseudomonas aeruginosa | G5: _>=10p3 et <10p4 | H5: I-R | I5: Cystite à risque de complication | J5: ABELCET | K5: J02AA01 | L5: IM
B6: NSP | C6: N- L+ | F6: Klebsiella pneumoniae | G6: _>=10p4 et <10p5 | H6: ND | I6: Pyélonéphrite simple sans signe de gravité | J6: ACIDE FUSIDIQUE | K6: J01XC01 | L6: IV
C7: N- L- | F7: Klebsiella oxytoca | G7: _>=10p5 | I7: Pyélonéphrite à risque de complication sans signe de gravité | J7: ACIDE PIPEMIDIQUE | K7: J01MB04 | L7: SC
B8: ON2 | C8: Non faite | F8: Enterococcus faecalis | I8: Pyélonéphrite grave | J8: ADIAZINE | K8: J01EC02
B9: Oui | F9: Proteus mirabilis | I9: Infection urinaire masculine | J9: ALFATIL | K9: J01DC04
B10: Non | F10: Staphylococcus aureus | I10: Colonisation avec indication retenue à une antibiothérapie | J10: ALKONATREM | K10: J01AA01
B11: NA | F11: Enterobacter cloacae | I11: Infection urinaire, sans précision | J11: AMBISOME | K11: J02AA01
F12: Morganella | J12: AMIKACINE | K12: J01GB06
B13: ON3 | F13: Autre | J13: AMIKLIN | K13: J01GB06
B14: Oui | J14: AMODEX | K14: J01CA04
B15: Non | J15: AMOXICILLINE | K15: J01CA04
B16: NE | J16: AMOXICILLINE/AC.CLAVULANIQUE | K16: J01CR02
J17: AMPHOTERICINE B | K17: J02AA01
J18: AMPICILLINE | K18: J01CA01
J19: AMPICILLINE SULBACTAM | K19: J01CR01
J20: ANCOTIL | K20: J02AX01
J21: ANIDULAFUNGINE | K21: J02AX06
J22: ANSATIPINE | K22: J04AB04
J23: APURONE | K23: J01MB07
J24: AUGMENTIN | K24: J01CR02
J25: AXEPIM | K25: J01DE01
J26: AZACTAM | K26: J01DF01
J27: AZADOSE | K27: J01FA10
J28: AZITHROMYCINE | K28: J01FA10
... J249: ZYVOXID | K249: J01XX08

Sheet Calculs
O1: Onglet masqué
B3: Score FRIED >=65 ans et <75
D4: age | E4: age
B5: nb [65-75[ | C5: =DCOUNT(Fiches,1,D4:E5) -> 0 | D5: >=65 | E5: <75
D6: age | E6: age
B7: [18-25[ | C7: =DCOUNT(Fiches,1,D6:E7) -> 0 | D7: >=18 | E7: <25 | F7: age | G7: age
B8: [25-45[ | C8: =DCOUNT(Fiches,1,F7:G8) -> 0 | D8: age | E8: age | F8: >=25 | G8: <45
B9: [45-65[ | C9: =DCOUNT(Fiches,1,D8:E9) -> 0 | D9: >=45 | E9: <65 | F9: age | G9: age
B10: [65-75[ | C10: =DCOUNT(Fiches,1,F9:G10) -> 0 | D10: age | E10: age | F10: >=65 | G10: <75
B11: [75-85[ | C11: =DCOUNT(Fiches,1,D10:E11) -> 0 | D11: >=75 | E11: <85 | F11: age
B12: ≥85 | C12: =DCOUNT(Fiches,1,F11:F12) -> 0 | F12: >=85
B14: Fried | D14: age | E14: age | F14: fried
B15: 0 | C15: =DCOUNT(Fiches,1,D14:F15) -> 0 | D15: >=65 | E15: <75 | F15: =B15 -> 0 | G15: age | H15: age | I15: fried
B16: 1 | C16: =DCOUNT(Fiches,1,G15:I16) -> 0 | G16: >=65 | H16: <75 | I16: =B16 -> 1 | J16: age | K16: age | L16: fried
B17: 2 | C17: =DCOUNT(Fiches,1,J16:L17) -> 0 | D17: age | E17: age | F17: fried | J17: >=65 | K17: <75 | L17: =B17 -> 2
B18: 3 | C18: =DCOUNT(Fiches,1,D17:F18) -> 0 | D18: >=65 | E18: <75 | F18: =B18 -> 3 | G18: age | H18: age | I18: fried
B19: 4 | C19: =DCOUNT(Fiches,1,G18:I19) -> 0 | G19: >=65 | H19: <75 | I19: =B19 -> 4 | J19: age | K19: age | L19: fried
B20: 5 | C20: =DCOUNT(Fiches,1,J19:L20) -> 0 | J20: >=65 | K20: <75 | L20: =B20 -> 5
B23: AGE > 75 ou >=3 critères fried
D24: age | E24: age | F24: fried
C25: =DCOUNT(Fiches,1,D24:F26) -> 0 | D25: >=65 | E25: <75 | F25: >=3
D26: >=75
B28: FDR complication | E28: age | F28: age | G28: fried | H28: Anomalie organique ou fonctionnelle de l'arbre urinaire | I28: Immuno-dépression | J28: clairance | K28: sexe
B29: Au moins 1 | C29: =DCOUNT(Fiches,1,E28:K34) -> 0 | E29: >=65 | F29: <75 | G29: >=3
B30: anom urinre | E30: >=75
B31: age ou fried | H31: 1
B32: immuno | I32: 1
B33: irc | J33: <30
B34: masculin | K34: Homme
B37: GERMES
C39: germe 1 | D39: G1 : numération/ ml | E39: germe 1 | F39: G1 : numération/ ml | G39: germe 1 | H39: G1 : numération/ ml | I39: germe 1 | J39: G1 : numération/ ml
C40: =B60 -> Escherichia coli | D40: _<10p3 | E40: =B60 -> Escherichia coli | F40: _>=10p3 et <10p4 | G40: =B60 -> Escherichia coli | H40: _>=10p4 et <10p5 | I40: =B60 -> Escherichia coli | J40: _>=10p5
C41: germe 1 | D41: G1 : numération/ ml | E41: germe 1 | F41: G1 : numération/ ml | G41: germe 1 | H41: G1 : numération/ ml | I41: germe 1 | J41: G1 : numération/ ml | O41: _<10p3
C42: =B61 -> Proteus mirabilis | D42: _<10p3 | E42: =B61 -> Proteus mirabilis | F42: _>=10p3 et <10p4 | G42: =B61 -> Proteus mirabilis | H42: _>=10p4 et <10p5 | I42: =B61 -> Proteus mirabilis | J42: _>=10p5 | O42: _>=10p3 et <10p4
C43: germe 1 | D43: G1 : numération/ ml | E43: germe 1 | F43: G1 : numération/ ml | G43: germe 1 | H43: G1 : numération/ ml | I43: germe 1 | J43: G1 : numération/ ml | O43: _>=10p4 et <10p5
C44: =B62 -> Enterococcus faecalis | D44: _<10p3 | E44: =B62 -> Enterococcus faecalis | F44: _>=10p3 et <10p4 | G44: =B62 -> Enterococcus faecalis | H44: _>=10p4 et <10p5 | I44: =B62 -> Enterococcus faecalis | J44: _>=10p5 | O44: _>=10p5
C45: germe 1 | D45: G1 : numération/ ml | E45: germe 1 | F45: G1 : numération/ ml | G45: germe 1 | H45: G1 : numération/ ml | I45: germe 1 | J45: G1 : numération/ ml
C46: =B63 -> Klebsiella pneumoniae | D46: _<10p3 | E46: =B63 -> Klebsiella pneumoniae | F46: _>=10p3 et <10p4 | G46: =B63 -> Klebsiella pneumoniae | H46: _>=10p4 et <10p5 | I46: =B63 -> Klebsiella pneumoniae | J46: _>=10p5
C47: germe 1 | D47: G1 : numération/ ml | E47: germe 1 | F47: G1 : numération/ ml | G47: germe 1 | H47: G1 : numération/ ml | I47: germe 1 | J47: G1 : numération/ ml
C48: =B64 -> Staphylococcus aureus | D48: _<10p3 | E48: =B64 -> Staphylococcus aureus | F48: _>=10p3 et <10p4 | G48: =B64 -> Staphylococcus aureus | H48: _>=10p4 et <10p5 | I48: =B64 -> Staphylococcus aureus | J48: _>=10p5
C49: germe 1 | D49: G1 : numération/ ml | E49: germe 1 | F49: G1 : numération/ ml | G49: germe 1 | H49: G1 : numération/ ml | I49: germe 1 | J49: G1 : numération/ ml
C50: =B65 -> Enterobacter cloacae | D50: _<10p3 | E50: =B65 -> Enterobacter cloacae | F50: _>=10p3 et <10p4 | G50: =B65 -> Enterobacter cloacae | H50: _>=10p4 et <10p5 | I50: =B65 -> Enterobacter cloacae | J50: _>=10p5
C51: germe 1 | D51: G1 : numération/ ml | E51: germe 1 | F51: G1 : numération/ ml | G51: germe 1 | H51: G1 : numération/ ml | I51: germe 1 | J51: G1 : numération/ ml
C52: =B66 -> Pseudomonas aeruginosa | D52: _<10p3 | E52: =B66 -> Pseudomonas aeruginosa | F52: _>=10p3 et <10p4 | G52: =B66 -> Pseudomonas aeruginosa | H52: _>=10p4 et <10p5 | I52: =B66 -> Pseudomonas aeruginosa | J52: _>=10p5
C53: germe 1 | D53: G1 : numération/ ml | E53: germe 1 | F53: G1 : numération/ ml | G53: germe 1 | H53: G1 : numération/ ml | I53: germe 1 | J53: G1 : numération/ ml
C54: =B67 -> Klebsiella oxytoca | D54: _<10p3 | E54: =B67 -> Klebsiella oxytoca | F54: _>=10p3 et <10p4 | G54: =B67 -> Klebsiella oxytoca | H54: _>=10p4 et <10p5 | I54: =B67 -> Klebsiella oxytoca | J54: _>=10p5
C55: germe 1 | D55: G1 : numération/ ml | E55: germe 1 | F55: G1 : numération/ ml | G55: germe 1 | H55: G1 : numération/ ml | I55: germe 1 | J55: G1 : numération/ ml
C56: =B68 -> Morganella | D56: _<10p3 | E56: =B68 -> Morganella | F56: _>=10p3 et <10p4 | G56: =B68 -> Morganella | H56: _>=10p4 et <10p5 | I56: =B68 -> Morganella | J56: _>=10p5
C57: germe 1 | D57: G1 : numération/ ml | E57: germe 1 | F57: G1 : numération/ ml | G57: germe 1 | H57: G1 : numération/ ml | I57: germe 1 | J57: G1 : numération/ ml
C58: =B69 -> Autre | D58: _<10p3 | E58: =B69 -> Autre | F58: _>=10p3 et <10p4 | G58: =B69 -> Autre | H58: _>=10p4 et <10p5 | I58: =B69 -> Autre | J58: _>=10p5
B60: Escherichia coli | C60: =DCOUNT(Fiches,1,C39:D40) -> 0 | D60: =DCOUNT(Fiches,1,E39:F40) -> 0 | E60: =DCOUNT(Fiches,1,G39:H40) -> 0 | F60: =DCOUNT(Fiches,1,I39:J40) -> 0
B61: Proteus mirabilis | C61: =DCOUNT(Fiches,1,C41:D42) -> 0 | D61: =DCOUNT(Fiches,1,E41:F42) -> 0 | E61: =DCOUNT(Fiches,1,G41:H42) -> 0 | F61: =DCOUNT(Fiches,1,I41:J42) -> 0
B62: Enterococcus faecalis | C62: =DCOUNT(Fiches,1,C43:D44) -> 0 | D62: =DCOUNT(Fiches,1,E43:F44) -> 0 | E62: =DCOUNT(Fiches,1,G43:H44) -> 0 | F62: =DCOUNT(Fiches,1,I43:J44) -> 0
B63: Klebsiella pneumoniae | C63: =DCOUNT(Fiches,1,C45:D46) -> 0 | D63: =DCOUNT(Fiches,1,E45:F46) -> 0 | E63: =DCOUNT(Fiches,1,G45:H46) -> 0 | F63: =DCOUNT(Fiches,1,I45:J46) -> 0
B64: Staphylococcus aureus | C64: =DCOUNT(Fiches,1,C47:D48) -> 0 | D64: =DCOUNT(Fiches,1,E47:F48) -> 0 | E64: =DCOUNT(Fiches,1,G47:H48) -> 0 | F64: =DCOUNT(Fiches,1,I47:J48) -> 0
B65: Enterobacter cloacae | C65: =DCOUNT(Fiches,1,C49:D50) -> 0 | D65: =DCOUNT(Fiches,1,E49:F50) -> 0 | E65: =DCOUNT(Fiches,1,G49:H50) -> 0 | F65: =DCOUNT(Fiches,1,I49:J50) -> 0
B66: Pseudomonas aeruginosa | C66: =DCOUNT(Fiches,1,C51:D52) -> 0 | D66: =DCOUNT(Fiches,1,E51:F52) -> 0 | E66: =DCOUNT(Fiches,1,G51:H52) -> 0 | F66: =DCOUNT(Fiches,1,I51:J52) -> 0
B67: Klebsiella oxytoca | C67: =DCOUNT(Fiches,1,C53:D54) -> 0 | D67: =DCOUNT(Fiches,1,E53:F54) -> 0 | E67: =DCOUNT(Fiches,1,G53:H54) -> 0 | F67: =DCOUNT(Fiches,1,I53:J54) -> 0
B68: Morganella | C68: =DCOUNT(Fiches,1,C55:D56) -> 0 | D68: =DCOUNT(Fiches,1,E55:F56) -> 0 | E68: =DCOUNT(Fiches,1,G55:H56) -> 0 | F68: =DCOUNT(Fiches,1,I55:J56) -> 0
B69: Autre | C69: =DCOUNT(Fiches,1,C57:D58) -> 0 | D69: =DCOUNT(Fiches,1,E57:F58) -> 0 | E69: =DCOUNT(Fiches,1,G57:H58) -> 0 | F69: =DCOUNT(Fiches,1,I57:J58) -> 0
B72: Aucun ex compl
C73: bu | D73: ecbu | E73: Biologie (avec CRP, urée, créatinine) | F73: Autres examens compl.
C74: Non faite | D74: Non fait | E74: Non | F74: Non
B75: Aucun | C75: =DCOUNT(Fiches,2,C73:F74) -> 0
B77: ABGRAMME E.COLI
B79: Ampi | C79: =DCOUNT(Fiches,2,G79:H80) -> 0 | D79: =DCOUNT(Fiches,2,I79:J80) -> 0 | E79: =DCOUNT(Fiches,2,K79:L80) -> 0 | G79: germe 1 | H79: =B79 -> Ampi | I79: germe 1 | J79: =H79 -> Ampi | K79: germe 1 | L79: =H79 -> Ampi
B80: Amox-ac. clav. | C80: =DCOUNT(Fiches,2,M80:N81) -> 0 | D80: =DCOUNT(Fiches,2,O80:P81) -> 0 | E80: =DCOUNT(Fiches,2,Q80:R81) -> 0 | G80: Escherichia coli | H80: S | I80: Escherichia coli | J80: I-R | K80: Escherichia coli | L80: ND | M80: germe 1 | N80: =B80 -> Amox-ac. clav. | O80: germe 1 | P80: =N80 -> Amox-ac. clav. | Q80: germe 1 | R80: =N80 -> Amox-ac. clav.
B81: Céfotaxime | C81: =DCOUNT(Fiches,2,G81:H82) -> 0 | D81: =DCOUNT(Fiches,2,I81:J82) -> 0 | E81: =DCOUNT(Fiches,2,K81:L82) -> 0 | G81: germe 1 | H81: =B81 -> Céfotaxime | I81: germe 1 | J81: =H81 -> Céfotaxime | K81: germe 1 | L81: =H81 -> Céfotaxime | M81: Escherichia coli | N81: S | O81: Escherichia coli | P81: I-R | Q81: Escherichia coli | R81: ND
B82: Céfépime | C82: =DCOUNT(Fiches,2,M82:N83) -> 0 | D82: =DCOUNT(Fiches,2,O82:P83) -> 0 | E82: =DCOUNT(Fiches,2,Q82:R83) -> 0 | G82: Escherichia coli | H82: S | I82: Escherichia coli | J82: I-R | K82: Escherichia coli | L82: ND | M82: germe 1 | N82: =B82 -> Céfépime | O82: germe 1 | P82: =N82 -> Céfépime | Q82: germe 1 | R82: =N82 -> Céfépime
B83: Piv | C83: =DCOUNT(Fiches,2,G83:H84) -> 0 | D83: =DCOUNT(Fiches,2,I83:J84) -> 0 | E83: =DCOUNT(Fiches,2,K83:L84) -> 0 | G83: germe 1 | H83: =B83 -> Piv | I83: germe 1 | J83: =H83 -> Piv | K83: germe 1 | L83: =H83 -> Piv | M83: Escherichia coli | N83: S | O83: Escherichia coli | P83: I-R | Q83: Escherichia coli | R83: ND
B84: Genta | C84: =DCOUNT(Fiches,2,M84:N85) -> 0 | D84: =DCOUNT(Fiches,2,O84:P85) -> 0 | E84: =DCOUNT(Fiches,2,Q84:R85) -> 0 | G84: Escherichia coli | H84: S | I84: Escherichia coli | J84: I-R | K84: Escherichia coli | L84: ND | M84: germe 1 | N84: =B84 -> Genta | O84: germe 1 | P84: =N84 -> Genta | Q84: germe 1 | R84: =N84 -> Genta
B85: Amika | C85: =DCOUNT(Fiches,2,G85:H86) -> 0 | D85: =DCOUNT(Fiches,2,I85:J86) -> 0 | E85: =DCOUNT(Fiches,2,K85:L86) -> 0 | G85: germe 1 | H85: =B85 -> Amika | I85: germe 1 | J85: =H85 -> Amika | K85: germe 1 | L85: =H85 -> Amika | M85: Escherichia coli | N85: S | O85: Escherichia coli | P85: I-R | Q85: Escherichia coli | R85: ND
B86: Oflo | C86: =DCOUNT(Fiches,2,M86:N87) -> 0 | D86: =DCOUNT(Fiches,2,O86:P87) -> 0 | E86: =DCOUNT(Fiches,2,Q86:R87) -> 0 | G86: Escherichia coli | H86: S | I86: Escherichia coli | J86: I-R | K86: Escherichia coli | L86: ND | M86: germe 1 | N86: =B86 -> Oflo | O86: germe 1 | P86: =N86 -> Oflo | Q86: germe 1 | R86: =N86 -> Oflo
B87: Cipro | C87: =DCOUNT(Fiches,2,G87:H88) -> 0 | D87: =DCOUNT(Fiches,2,I87:J88) -> 0 | E87: =DCOUNT(Fiches,2,K87:L88) -> 0 | G87: germe 1 | H87: =B87 -> Cipro | I87: germe 1 | J87: =H87 -> Cipro | K87: germe 1 | L87: =H87 -> Cipro | M87: Escherichia coli | N87: S | O87: Escherichia coli | P87: I-R | Q87: Escherichia coli | R87: ND
B88: Sulf-trim | C88: =DCOUNT(Fiches,2,M88:N89) -> 0 | D88: =DCOUNT(Fiches,2,O88:P89) -> 0 | E88: =DCOUNT(Fiches,2,Q88:R89) -> 0 | G88: Escherichia coli | H88: S | I88: Escherichia coli | J88: I-R | K88: Escherichia coli | L88: ND | M88: germe 1 | N88: =B88 -> Sulf-trim | O88: germe 1 | P88: =N88 -> Sulf-trim | Q88: germe 1 | R88: =N88 -> Sulf-trim
B89: Fosfo | C89: =DCOUNT(Fiches,2,G89:H90) -> 0 | D89: =DCOUNT(Fiches,2,I89:J90) -> 0 | E89: =DCOUNT(Fiches,2,K89:L90) -> 0 | G89: germe 1 | H89: =B89 -> Fosfo | I89: germe 1 | J89: =H89 -> Fosfo | K89: germe 1 | L89: =H89 -> Fosfo | M89: Escherichia coli | N89: S | O89: Escherichia coli | P89: I-R | Q89: Escherichia coli | R89: ND
B90: Fura | C90: =DCOUNT(Fiches,2,M90:N91) -> 0 | D90: =DCOUNT(Fiches,2,O90:P91) -> 0 | E90: =DCOUNT(Fiches,2,Q90:R91) -> 0 | G90: Escherichia coli | H90: S | I90: Escherichia coli | J90: I-R | K90: Escherichia coli | L90: ND | M90: germe 1 | N90: =B90 -> Fura | O90: germe 1 | P90: =N90 -> Fura | Q90: germe 1 | R90: =N90 -> Fura
M91: Escherichia coli | N91: S | O91: Escherichia coli | P91: I-R | Q91: Escherichia coli | R91: ND
B93: BMR G1 | G93: germe 1 | H93: bmr
B94: Escherichia coli | C94: =DCOUNT(Fiches,2,G93:H94) -> 0 | G94: =B94 -> Escherichia coli | H94: Oui | I94: germe 1 | J94: bmr
B95: Proteus mirabilis | C95: =DCOUNT(Fiches,2,I94:J95) -> 0 | G95: germe 1 | H95: bmr | I95: =B95 -> Proteus mirabilis | J95: Oui
B96: Enterococcus faecalis | C96: =DCOUNT(Fiches,2,G95:H96) -> 0 | G96: =B96 -> Enterococcus faecalis | H96: Oui | I96: germe 1 | J96: bmr
B97: Klebsiella pneumoniae | C97: =DCOUNT(Fiches,2,I96:J97) -> 0 | G97: germe 1 | H97: bmr | I97: =B97 -> Klebsiella pneumoniae | J97: Oui
B98: Staphylococcus aureus | C98: =DCOUNT(Fiches,2,G97:H98) -> 0 | G98: =B98 -> Staphylococcus aureus | H98: Oui | I98: germe 1 | J98: bmr
B99: Enterobacter cloacae | C99: =DCOUNT(Fiches,2,I98:J99) -> 0 | G99: germe 1 | H99: bmr | I99: =B99 -> Enterobacter cloacae | J99: Oui
B100: Pseudomonas aeruginosa | C100: =DCOUNT(Fiches,2,G99:H100) -> 0 | G100: =B100 -> Pseudomonas aeruginosa | H100: Oui | I100: germe 1 | J100: bmr
B101: Klebsiella oxytoca | C101: =DCOUNT(Fiches,2,I100:J101) -> 0 | G101: germe 1 | H101: bmr | I101: =B101 -> Klebsiella oxytoca | J101: Oui
B102: Morganella | C102: =DCOUNT(Fiches,2,G101:H102) -> 0 | G102: =B102 -> Morganella | H102: Oui | I102: germe 1 | J102: bmr
B103: Autre | C103: =DCOUNT(Fiches,2,I102:J103) -> 0 | I103: =B103 -> Autre | J103: Oui
B105: Réévaluation
B106: trt >2j | C106: =COUNTIF(Fiches!CU:CU,">2") -> 0 | G106: ATB : durée totale (calculé) | H106: Rééval. H72
B107: Rééval | C107: =DCOUNT(Fiches,1,G106:H107) -> 0 | G107: >2 | H107: Oui
B108: trt >7j | C108: =COUNTIF(Fiches!CU:CU,">7") -> 0 | G108: ATB : durée totale (calculé) | H108: Rééval. J7-J10
B109: Rééval | C109: =DCOUNT(Fiches,1,G108:H109) -> 0 | G109: >7 | H109: Oui
B111: Retrait sonde
B112: nb sondés | C112: =COUNTIF(Fiches!L:L,"Oui") -> 0 | G112: Dispositif urinaire | H112: Si sonde vésicale, retrait ?
B113: retraits | C113: =DCOUNT(Fiches,2,G112:H113) -> 0 | G113: Oui | H113: Oui
B115: Contrôle après tt
C116: Contrôle : BU | D116: Contrôle : ECBU | E116: Contrôle : Autre
C117: Non | D117: Non | E117: Non
...
